Workbook
Name AP_Available: Table1[AP Available]
Name Buy_out_months: Codes!$D$7:$D$8
Name Contribution_period: Codes!$D$13:$D$32
Name Existing_AP: Codes!$B$13:$B$41
Name Form_of_AP: Codes!$D$2:$D$3
Name Oldest_allowed: Codes!$B$2
Name Payment_type: Codes!$C$2:$C$3
Name Years: Codes!$C$7:$C$10
Name Yes_No: Codes!$B$7:$B$8
Name Youngest_allowed: Codes!$B$3

Sheet Contributions calculator
B3: Teachers Additional Pension Benefit Cost Calculator
C4: Member Details
C5: Date of Birth: | E5: SPA | I5: =IF(I6="Election must start before normal pension age","Error","")
C6: Date of AP election: | I6: =IF(OR(D9=""),"",IF(D8>=Codes!E8,"Election must start before normal pension age",""))
C7: Prospective Normal Pension Age: | D7: =VLOOKUP(D5,'State pension age'!B4:E50,3,TRUE) -> 65 | E7: =IF(OR(D7="",D7=0),"","Years") -> Years | F7: =VLOOKUP(D5,'State pension age'!B4:E50,4,TRUE) -> 0 | G7: Months
C8: Age at start of agreement: | D8: =IF(OR(D5="",D6=""),"",ROUNDDOWN((D6-D5+1)/365.25,0)) | E8: =IF(OR(D8="",D8=0),"","Years") | I8: =IF(D8<16,"Error","")
C9: Years to NPA | D9: =IF(OR(E7="",D8=""),"",Codes!E8-D8) | E9: =IF(D7="","",IF(D8="","","Years"))
C10: Additional pension contract details
C11: Maximum additional pension: | D11: =Codes!P14 -> 8900
C12: How much additional pension do you wish to purchase? | I12: =IF(D12>D11, "Error","")
C13: Please select your payment method: | I13: =IF(D13=Codes!C2,"",IF(D9=1,"Payment can only be made by lump sum",""))
C14: =IF(D13="Regular contributions","Regular payments over how many years?","")
C15: Would you like to buy dependants benefits? | I15: =IF(D9<2,"",IF(I14="Error","Payments can be made over a maximum of "&D9-1&" years",""))
C18: Results
B19: =IF($D$13=Codes!$C$2,"A lump sum payment of:-",IF($D$13=Codes!$C$3,"Monthly payment amount:-","")) | D19: =IF(ISERROR(Codes!J20),"",IF(OR($D$12="",Codes!J20="",$I$12="Error",$I$8="Error"),"",($D$12/250)*Codes!J20))
B20: =IF(D13="Regular contributions","Annual payment amount:-","") | D20: =IF(OR(D13="",D13="Lump sum",D12="",D14="",D15="",ISERROR(Codes!J20)),"",IF(D13="Regular contributions",D19*12,""))
B21: =IF(D13="Regular contributions","Total amount payable over selected period:-","") | D21: =IF(OR(D13="",D13="Lump sum",D14="",D15="",D12="",ISERROR(Codes!J20)),"",IF(D13="Regular contributions",D20*D14,""))

Sheet Guidance notes
B2: Additional Pension guidance notes
B3: Disclaimer: This calculation is intended for illustrative purposes only. This is not a statement of you legal entitlement. While every care has been taken in the preparation of this calculator the Scottish Public Pension Agency will accept no responsibility for the accuracy of the information it provides. Please refer to pages on the SPPA website for points of contact and other benefits available.
B4: Using the calculator This calculator is for active members of the Teachers’ Pension Scheme (Scotland) 2015 who are considering purchasing Additional Pension to increase their retirement benefits. Additional Pension can only be purchased in relation to benefits built up in the 2015 Career Average Revalued Earnings (CARE) Scheme. Additional pension can be bought at any time during the year. This can be just for you or it can also provide benefits for your dependants after you die. It does not include an automatic lump sum on retirement, but you can exchange some of your additional pension to provide a lump sum on retirement. Additional Pension can be purchased by either: a) a one-off lump sum payment, or b) regular monthly contributions over an agreed period. Regular contribution elections must be for a period of whole years and cannot extend beyond your Normal Pension Age. The cost of purchasing Additional Pension depends on your age, the amount of Additional Pension you wish to buy, the type of cover selected, and your prospective Normal Pension Age. For new Additional Pension elections, your cost is calculated by reference to your prospective Normal Pension Age in the Teachers’ Pension Scheme (Scotland) 2015. This is normally your State Pension Age, subject to a minimum age of 65. Additional Pension is payable unreduced from your actual Normal Pension Age. If you take your benefits before or after your Normal Pension Age, early or late retirement adjustments may apply. Additional Pension may be purchased in multiples of £250 per year and is subject to the scheme maximum for the relevant scheme year. Any existing Additional Pension and any Early Retirement Reduction Buy Out (ERRBO) agreement may reduce the amount of Additional Pension you can buy. Additional pension purchased in the 2015 Scheme is revalued by a Treasury Order each year before the additional pension comes into payment and increased in accordance with Pensions Increase legislation whilst it is being paid. This calculator provides an illustration only. It is not a statement of entitlement and does not override the Teachers' Pension Scheme (Scotland) Regulations, actuarial guidance, or any decision made by the scheme administrator.
B6: SPPA 7 Tweedside Park Galashiels TD1 3TE Telephone: 01896 893000
F40: G

Sheet Illustration and Guidance
B2: ILLUSTRATION OF ADDITIONAL PENSION COST
B4: YOUR DETAILS
B5: Date of Birth: | C5: =IF('Contributions calculator'!D5="","",'Contributions calculator'!D5)
B6: State Pension Age: | C6: =IF('Contributions calculator'!D5="","",'Contributions calculator'!D7&" years "&'Contributions calculator'!F7&" months")
B7: Date of Election: | C7: =IF('Contributions calculator'!D6="","",'Contributions calculator'!D6)
B8: Age at Election: | C8: =IF('Contributions calculator'!D8="","",'Contributions calculator'!D8&" years")
B10: ADDITIONAL PENSION ELECTION
B11: Additional Pension Selected: | C11: =IF('Contributions calculator'!D12="","","£"&'Contributions calculator'!D12&" per year")
B12: Payment Method: | C12: =IF('Contributions calculator'!D13="","",'Contributions calculator'!D13)
B13: Contribution Term: | C13: =IF('Contributions calculator'!D14="","",'Contributions calculator'!D14&" years")
B14: Dependant Benefits Included: | C14: =IF('Contributions calculator'!D15="","",'Contributions calculator'!D15)
B16: ESTIMATED COST
B17: Estimated Cost: | C17: =IF('Contributions calculator'!D13=Codes!C2,"A lump sum payment of £"&'Contributions calculator'!D19,IF('Contributions calculator'!D13=Codes!C3,"£"&'Contributions calculator'!D19&" per month payable for "&'Contributions calculator'!D14&" years",""))
B18: =IF('Contributions calculator'!D13=Codes!C3,"Total payable:","") | C18: ='Contributions calculator'!D21
B19: Calculation Produced: | C19: =TODAY() -> 46294
B21: ABOUT ADDITIONAL PENSION Additional Pension allows active members of the Teachers' Pension Scheme (Scotland) 2015 to increase the retirement benefits they build up in the 2015 Career Average Revalued Earnings (CARE) Scheme. Additional Pension can be purchased: • For the member only, or with dependant benefits included • As a one-off lump sum payment, or through regular monthly contributions over an agreed period The cost depends on your age at election, Normal Pension Age, the amount of Additional Pension selected, the payment method chosen and whether dependant benefits are included. Regular contribution elections must be for a period of whole years and cannot extend beyond the member's Normal Pension Age. Additional Pension is payable in full from the member's Normal Pension Age. If benefits are taken before or after Normal Pension Age, actuarial reductions or increases may apply. Any existing Additional Pension and any Early Retirement Reduction Buy Out (ERRBO) agreement may reduce the amount of Additional Pension available for purchase. Additional Pension purchased is revalued annually in accordance with the applicable Treasury Order before it comes into payment and is subsequently increased in line with Pensions Increase legislation while in payment.
B23: IMPORTANT INFORMATION This calculator is intended for active members of the Teachers' Pension Scheme (Scotland) 2015 who are considering the purchase of Additional Pension. The figures provided are estimates for illustrative purposes only and should not be regarded as a statement of entitlement. The actual cost of purchasing Additional Pension will be determined in accordance with the scheme regulations, actuarial guidance, and administrative procedures applicable at the time an election is processed. This illustration does not override the relevant scheme regulations, actuarial guidance, or administrative decisions. While every effort has been made to ensure the accuracy of the information provided, no responsibility can be accepted for any loss, cost, inconvenience, or other consequence arising from reliance on these estimates.
B25: SPPA 7 Tweedside Park Galashiels TD1 3TE Telephone: 01896 893000
D27: Return to Calculator

Sheet Codes
A1: Factors date | B1: DOB between | C1: Payment | D1: Form of AP | E1: NPA Options | F1: Lump sum table | I1: AP Table results
B2: =TODAY()-365.25*85 -> 15247.75 | C2: Lump Sum | D2: Member only | E2: 60 | F2: =IF('Contributions calculator'!E5=60,"APS60",IF('Contributions calculator'!E5=65,"APS65",IF('Contributions calculator'!E5="SPA","APS"&'Contributions calculator'!D7,""))) -> APS65 | H2: APS60 | I2: Lump sum NPA 60 | J2: =IF('Contributions calculator'!D15=Codes!D2,VLOOKUP('Contributions calculator'!D8,'Lump Sum'!B9:D60,2,FALSE),IF('Contributions calculator'!D15=Codes!D3,VLOOKUP('Contributions calculator'!D8,'Lump Sum'!B9:D60,3,FALSE),""))
A3: 46235 | B3: =TODAY()-365.25*18 -> 39719.5 | C3: =IF(OR('Contributions calculator'!D9=0,'Contributions calculator'!D9=1),"","Regular contributions") -> Regular contributions | D3: Member and dependant | E3: 65 | H3: APS65 | I3: Lump sum NPA 65 | J3: =IF('Contributions calculator'!D15=Codes!D2,VLOOKUP('Contributions calculator'!D8,'Lump Sum'!F9:H60,2,FALSE),IF('Contributions calculator'!D15=Codes!D3,VLOOKUP('Contributions calculator'!D8,'Lump Sum'!F9:H60,3,FALSE),""))
E4: State Pension Age | H4: APS66 | I4: Lump sum NPA 66 | J4: =IF('Contributions calculator'!D15=Codes!D2,VLOOKUP('Contributions calculator'!D8,'Lump Sum'!J9:L60,2,FALSE),IF('Contributions calculator'!D15=Codes!D3,VLOOKUP('Contributions calculator'!D8,'Lump Sum'!J9:L60,3,FALSE),""))
H5: APS67 | I5: Lump sum NPA 67 | J5: =IF('Contributions calculator'!D15=Codes!D2,VLOOKUP('Contributions calculator'!D8,'Lump Sum'!N9:P60,2,FALSE),IF('Contributions calculator'!D15=Codes!D3,VLOOKUP('Contributions calculator'!D8,'Lump Sum'!N9:P60,3,FALSE),""))
B6: Yes/No | C6: Years (N) | E6: Chosen NPA | H6: APS68 | I6: Lump sum NPA 68 | J6: =IF('Contributions calculator'!D15=Codes!D2,VLOOKUP('Contributions calculator'!D8,'Lump Sum'!R9:T60,2,FALSE),IF('Contributions calculator'!D15=Codes!D3,VLOOKUP('Contributions calculator'!D8,'Lump Sum'!R9:T60,3,FALSE),""))
B7: Yes | C7: 0 | E7: Years | F7: Months | H7: P60 | I7: Regular conts for personal AP of £250 with PNPA 60 | J7: =INDEX('NRA60'!$W$6:$AQ$58,MATCH('Contributions calculator'!$D$8,'NRA60'!$W$6:$W$58,0),MATCH('Contributions calculator'!$D$14,'NRA60'!$W$6:$AQ$6,0)) -> #N/A
B8: No | C8: =IF(OR('Contributions calculator'!D7=66,'Contributions calculator'!D7=67,'Contributions calculator'!D7=68),1,"") | E8: =IF('Contributions calculator'!E5=60,60,IF('Contributions calculator'!E5=65,65,IF(OR('Contributions calculator'!E5="SPA",'Contributions calculator'!E5=""),'Contributions calculator'!D7,""))) -> 65 | F8: =IF('Contributions calculator'!E5=60,0,IF('Contributions calculator'!E5=65,0,IF('Contributions calculator'!E5="SPA",'Contributions calculator'!F7,""))) -> 0 | H8: P65 | I8: Regular conts for personal AP of £250 with PNPA 65 | J8: =INDEX('NRA65'!$W$6:$AQ$58,MATCH('Contributions calculator'!$D$8,'NRA65'!$W$6:$W$58,0),MATCH('Contributions calculator'!$D$14,'NRA65'!$W$6:$AQ$6,0)) -> #N/A
C9: =IF(OR('Contributions calculator'!D7=67,'Contributions calculator'!D7=68),2,"") | H9: P66 | I9: Regular conts for personal AP of £250 with PNPA 66 | J9: =INDEX('NRA66'!$W$6:$AQ$58,MATCH('Contributions calculator'!$D$8,'NRA66'!$W$6:$W$58,0),MATCH('Contributions calculator'!$D$14,'NRA66'!$W$6:$AQ$6,0)) -> #N/A
C10: =IF(OR('Contributions calculator'!D7=68),3,"") | H10: P67 | I10: Regular conts for personal AP of £250 with PNPA 67 | J10: =INDEX('NRA67'!$W$6:$AQ$58,MATCH('Contributions calculator'!$D$8,'NRA67'!$W$6:$W$58,0),MATCH('Contributions calculator'!$D$14,'NRA67'!$W$6:$AQ$6,0)) -> #N/A
H11: P68 | I11: Regular conts for personal AP of £250 with PNPA 68 | J11: =INDEX('NRA68'!$W$6:$AQ$58,MATCH('Contributions calculator'!$D$8,'NRA68'!$W$6:$W$58,0),MATCH('Contributions calculator'!$D$14,'NRA68'!$W$6:$AQ$6,0)) -> #N/A | M11: AP Limits
B12: Existing AP | C12: AP Available | D12: Contribution period | H12: D60 | I12: Regular conts for personal AP of £250 with PNPA 60 + dependants AP | J12: =INDEX('NRA60'!$A$6:$U$58,MATCH('Contributions calculator'!$D$8,'NRA60'!$A$6:$A$58,0),MATCH('Contributions calculator'!$D$14,'NRA60'!$A$6:$U$6,0)) -> #N/A | M12: • Scottish Teacgers Superannuation Scheme (Scotland) | P12: 6800
B13: 0 | C13: =IF('Contributions calculator'!$D$11="","",250) -> 250 | D13: 1 | H13: D65 | I13: Regular conts for personal AP of £250 with PNPA 65 + dependants AP | J13: =INDEX('NRA65'!$A$6:$U$58,MATCH('Contributions calculator'!$D$8,'NRA65'!$A$6:$A$58,0),MATCH('Contributions calculator'!$D$14,'NRA65'!$A$6:$U$6,0)) -> #N/A | M13: • Teachers Pension Scheme (Scotland) 2013 | P13: 8900
B14: =IF(B13<(Codes!$P$14),Codes!B13+250,"") -> 250 | C14: =IF('Contributions calculator'!$D$11="","",IF(C13<('Contributions calculator'!$D$11-249),Codes!C13+250,"")) -> 500 | D14: =IF(D13="","",IF(Codes!D13+1<'Contributions calculator'!$D$9,Codes!D13+1,"")) -> 2 | H14: D66 | I14: Regular conts for personal AP of £250 with PNPA 66 + dependants AP | J14: =INDEX('NRA66'!$A$6:$U$58,MATCH('Contributions calculator'!$D$8,'NRA66'!$A$6:$A$58,0),MATCH('Contributions calculator'!$D$14,'NRA66'!$A$6:$U$6,0)) -> #N/A | O14: Applicable Limit | P14: =IF(OR('Contributions calculator'!E5=60,'Contributions calculator'!E5=65),Codes!P12,IF('Contributions calculator'!E5="SPA",Codes!P13,"")) -> 8900
B15: =IF(B14<(Codes!$P$14),Codes!B14+250,"") -> 500 | C15: =IF('Contributions calculator'!$D$11="","",IF(C14<('Contributions calculator'!$D$11-249),Codes!C14+250,"")) -> 750 | D15: =IF(D14="","",IF(Codes!D14+1<'Contributions calculator'!$D$9,Codes!D14+1,"")) -> 3 | H15: D67 | I15: Regular conts for personal AP of £250 with PNPA 67 + dependants AP | J15: =INDEX('NRA67'!$A$6:$U$58,MATCH('Contributions calculator'!$D$8,'NRA67'!$A$6:$A$58,0),MATCH('Contributions calculator'!$D$14,'NRA67'!$A$6:$U$6,0)) -> #N/A
B16: =IF(B15<(Codes!$P$14),Codes!B15+250,"") -> 750 | C16: =IF('Contributions calculator'!$D$11="","",IF(C15<('Contributions calculator'!$D$11-249),Codes!C15+250,"")) -> 1000 | D16: =IF(D15="","",IF(Codes!D15+1<'Contributions calculator'!$D$9,Codes!D15+1,"")) -> 4 | H16: D68 | I16: Regular conts for personal AP of £250 with PNPA 68 + dependants AP | J16: =INDEX('NRA68'!$A$6:$U$58,MATCH('Contributions calculator'!$D$8,'NRA68'!$A$6:$A$58,0),MATCH('Contributions calculator'!$D$14,'NRA68'!$A$6:$U$6,0)) -> #N/A
B17: =IF(B16<(Codes!$P$14),Codes!B16+250,"") -> 1000 | C17: =IF('Contributions calculator'!$D$11="","",IF(C16<('Contributions calculator'!$D$11-249),Codes!C16+250,"")) -> 1250 | D17: =IF(D16="","",IF(Codes!D16+1<'Contributions calculator'!$D$9,Codes!D16+1,"")) -> 5
B18: =IF(B17<(Codes!$P$14),Codes!B17+250,"") -> 1250 | C18: =IF('Contributions calculator'!$D$11="","",IF(C17<('Contributions calculator'!$D$11-249),Codes!C17+250,"")) -> 1500 | D18: =IF(D17="","",IF(Codes!D17+1<'Contributions calculator'!$D$9,Codes!D17+1,"")) -> 6 | I18: =IF(AND('Contributions calculator'!D13=C3,'Contributions calculator'!F7<>0),"Relevent tables are "&H27&" & "&H28,"Relevent table is "&H27&"") -> Relevent table is 65
B19: =IF(B18<(Codes!$P$14),Codes!B18+250,"") -> 1500 | C19: =IF('Contributions calculator'!$D$11="","",IF(C18<('Contributions calculator'!$D$11-249),Codes!C18+250,"")) -> 1750 | D19: =IF(D18="","",IF(Codes!D18+1<'Contributions calculator'!$D$9,Codes!D18+1,"")) -> 7
B20: =IF(B19<(Codes!$P$14),Codes!B19+250,"") -> 1750 | C20: =IF('Contributions calculator'!$D$11="","",IF(C19<('Contributions calculator'!$D$11-249),Codes!C19+250,"")) -> 2000 | D20: =IF(D19="","",IF(Codes!D19+1<'Contributions calculator'!$D$9,Codes!D19+1,"")) -> 8 | I20: Cost of £250 of AP | J20: =IF(H28="",I27,((I28-I27)*I25+I27)) -> #N/A
B21: =IF(B20<(Codes!$P$14),Codes!B20+250,"") -> 2000 | C21: =IF('Contributions calculator'!$D$11="","",IF(C20<('Contributions calculator'!$D$11-249),Codes!C20+250,"")) -> 2250 | D21: =IF(D20="","",IF(Codes!D20+1<'Contributions calculator'!$D$9,Codes!D20+1,"")) -> 9
B22: =IF(B21<(Codes!$P$14),Codes!B21+250,"") -> 2250 | C22: =IF('Contributions calculator'!$D$11="","",IF(C21<('Contributions calculator'!$D$11-249),Codes!C21+250,"")) -> 2500 | D22: =IF(D21="","",IF(Codes!D21+1<'Contributions calculator'!$D$9,Codes!D21+1,"")) -> 10 | I22: Interpolation for monthly contributions for non-integer NPA
B23: =IF(B22<(Codes!$P$14),Codes!B22+250,"") -> 2500 | C23: =IF('Contributions calculator'!$D$11="","",IF(C22<('Contributions calculator'!$D$11-249),Codes!C22+250,"")) -> 2750 | D23: =IF(D22="","",IF(Codes!D22+1<'Contributions calculator'!$D$9,Codes!D22+1,"")) -> 11
B24: =IF(B23<(Codes!$P$14),Codes!B23+250,"") -> 2750 | C24: =IF('Contributions calculator'!$D$11="","",IF(C23<('Contributions calculator'!$D$11-249),Codes!C23+250,"")) -> 3000 | D24: =IF(D23="","",IF(Codes!D23+1<'Contributions calculator'!$D$9,Codes!D23+1,"")) -> 12 | H24: NPA: | I24: =E8&" Years "&F8&" months" -> 65 Years 0 months
B25: =IF(B24<(Codes!$P$14),Codes!B24+250,"") -> 3000 | C25: =IF('Contributions calculator'!$D$11="","",IF(C24<('Contributions calculator'!$D$11-249),Codes!C24+250,"")) -> 3250 | D25: =IF(D24="","",IF(Codes!D24+1<'Contributions calculator'!$D$9,Codes!D24+1,"")) -> 13 | H25: Part years | I25: ='Contributions calculator'!F7/12 -> 0
B26: =IF(B25<(Codes!$P$14),Codes!B25+250,"") -> 3250 | C26: =IF('Contributions calculator'!$D$11="","",IF(C25<('Contributions calculator'!$D$11-249),Codes!C25+250,"")) -> 3500 | D26: =IF(D25="","",IF(Codes!D25+1<'Contributions calculator'!$D$9,Codes!D25+1,"")) -> 14
B27: =IF(B26<(Codes!$P$14),Codes!B26+250,"") -> 3500 | C27: =IF('Contributions calculator'!$D$11="","",IF(C26<('Contributions calculator'!$D$11-249),Codes!C26+250,"")) -> 3750 | D27: =IF(D26="","",IF(Codes!D26+1<'Contributions calculator'!$D$9,Codes!D26+1,"")) -> 15 | H27: =IF('Contributions calculator'!D13=Codes!C2,F2,IF('Contributions calculator'!D15=D2,"P",IF('Contributions calculator'!D15=D3,"D",""))&Codes!E8) -> 65 | I27: =VLOOKUP(H27,H2:J16,3,FALSE) -> #N/A
B28: =IF(B27<(Codes!$P$14),Codes!B27+250,"") -> 3750 | C28: =IF('Contributions calculator'!$D$11="","",IF(C27<('Contributions calculator'!$D$11-249),Codes!C27+250,"")) -> 4000 | D28: =IF(D27="","",IF(Codes!D27+1<'Contributions calculator'!$D$9,Codes!D27+1,"")) -> 16 | H28: =IF(OR(F8="",F8=0),"", IF(AND('Contributions calculator'!D13="Regular contributions",'Contributions calculator'!D15=D2),"P"&E8+1, IF(AND('Contributions calculator'!D13="Regular contributions",'Contributions calculator'!D15=D3),"D"&E8+1, IF(AND('Contributions calculator'!D13="Lump Sum"),"APS"&E8+1,"") ))) | I28: =VLOOKUP(H28,H4:J16,3,FALSE) -> #N/A
B29: =IF(B28<(Codes!$P$14),Codes!B28+250,"") -> 4000 | C29: =IF('Contributions calculator'!$D$11="","",IF(C28<('Contributions calculator'!$D$11-249),Codes!C28+250,"")) -> 4250 | D29: =IF(D28="","",IF(Codes!D28+1<'Contributions calculator'!$D$9,Codes!D28+1,"")) -> 17
B30: =IF(B29<(Codes!$P$14),Codes!B29+250,"") -> 4250 | C30: =IF('Contributions calculator'!$D$11="","",IF(C29<('Contributions calculator'!$D$11-249),Codes!C29+250,"")) -> 4500 | D30: =IF(D29="","",IF(Codes!D29+1<'Contributions calculator'!$D$9,Codes!D29+1,"")) -> 18 | I30: ="Interpolation for NPA of "&I24 -> Interpolation for NPA of 65 Years 0 months
B31: =IF(B30<(Codes!$P$14),Codes!B30+250,"") -> 4500 | C31: =IF('Contributions calculator'!$D$11="","",IF(C30<('Contributions calculator'!$D$11-249),Codes!C30+250,"")) -> 4750 | D31: =IF(D30="","",IF(Codes!D30+1<'Contributions calculator'!$D$9,Codes!D30+1,"")) -> 19 | H31: = | I31: ="("&H28&" figure - "&H27&" figure) x months/12 + "&H28&" figure" -> ( figure - 65 figure) x months/12 + figure
B32: =IF(B31<(Codes!$P$14),Codes!B31+250,"") -> 4750 | C32: =IF('Contributions calculator'!$D$11="","",IF(C31<('Contributions calculator'!$D$11-249),Codes!C31+250,"")) -> 5000 | D32: =IF(D31="","",IF(Codes!D31+1<'Contributions calculator'!$D$9,Codes!D31+1,"")) -> 20 | H32: = | I32: ="("&I28&" - "&I27&") x "&I25&" + "&I28 -> #N/A
B33: =IF(B32<(Codes!$P$14),Codes!B32+250,"") -> 5000 | C33: =IF('Contributions calculator'!$D$11="","",IF(C32<('Contributions calculator'!$D$11-249),Codes!C32+250,"")) -> 5250 | H33: = | I33: =J20 -> #N/A
B34: =IF(B33<(Codes!$P$14),Codes!B33+250,"") -> 5250 | C34: =IF('Contributions calculator'!$D$11="","",IF(C33<('Contributions calculator'!$D$11-249),Codes!C33+250,"")) -> 5500
B35: =IF(B34<(Codes!$P$14),Codes!B34+250,"") -> 5500 | C35: =IF('Contributions calculator'!$D$11="","",IF(C34<('Contributions calculator'!$D$11-249),Codes!C34+250,"")) -> 5750
B36: =IF(B35<(Codes!$P$14),Codes!B35+250,"") -> 5750 | C36: =IF('Contributions calculator'!$D$11="","",IF(C35<('Contributions calculator'!$D$11-249),Codes!C35+250,"")) -> 6000
B37: =IF(B36<(Codes!$P$14),Codes!B36+250,"") -> 6000 | C37: =IF('Contributions calculator'!$D$11="","",IF(C36<('Contributions calculator'!$D$11-249),Codes!C36+250,"")) -> 6250
B38: =IF(B37<(Codes!$P$14),Codes!B37+250,"") -> 6250 | C38: =IF('Contributions calculator'!$D$11="","",IF(C37<('Contributions calculator'!$D$11-249),Codes!C37+250,"")) -> 6500
B39: =IF(B38<(Codes!$P$14),Codes!B38+250,"") -> 6500 | C39: =IF('Contributions calculator'!$D$11="","",IF(C38<('Contributions calculator'!$D$11-249),Codes!C38+250,"")) -> 6750
B40: =IF(B39<(Codes!$P$14),Codes!B39+250,"") -> 6750 | C40: =IF('Contributions calculator'!$D$11="","",IF(C39<('Contributions calculator'!$D$11-249),Codes!C39+250,"")) -> 7000
B41: =IF(B40<(Codes!$P$14),Codes!B40+250,"") -> 7000 | C41: =IF('Contributions calculator'!$D$11="","",IF(C40<('Contributions calculator'!$D$11-249),Codes!C40+250,"")) -> 7250
B42: =IF(B41<(Codes!$P$14),Codes!B41+250,"") -> 7250 | C42: =IF('Contributions calculator'!$D$11="","",IF(C41<('Contributions calculator'!$D$11-249),Codes!C41+250,"")) -> 7500
B43: =IF(B42<(Codes!$P$14),Codes!B42+250,"") -> 7500 | C43: =IF('Contributions calculator'!$D$11="","",IF(C42<('Contributions calculator'!$D$11-249),Codes!C42+250,"")) -> 7750
B44: =IF(B43<(Codes!$P$14),Codes!B43+250,"") -> 7750 | C44: =IF('Contributions calculator'!$D$11="","",IF(C43<('Contributions calculator'!$D$11-249),Codes!C43+250,"")) -> 8000
B45: =IF(B44<(Codes!$P$14),Codes!B44+250,"") -> 8000 | C45: =IF('Contributions calculator'!$D$11="","",IF(C44<('Contributions calculator'!$D$11-249),Codes!C44+250,"")) -> 8250
... B74: =IF(B73<(Codes!$P$14),Codes!B73+250,"") | C74: =IF('Contributions calculator'!$D$11="","",IF(C73<('Contributions calculator'!$D$11-249),Codes!C73+250,""))
B75: =IF(B74<(Codes!$P$14),Codes!B74+250,"")
B76: =IF(B75<(Codes!$P$14),Codes!B75+250,"")
B77: =IF(B76<(Codes!$P$14),Codes!B76+250,"")
B78: =IF(B77<(Codes!$P$14),Codes!B77+250,"")
B79: =IF(B78<(Codes!$P$14),Codes!B78+250,"")
B80: =IF(B79<(Codes!$P$14),Codes!B79+250,"")

Sheet State pension age
D2: SPA
B3: Date of birth | C3: Total whole Months | D3: Years | E3: Months- altair rounding-up | F3: Months | G3: Days | H3: DOB from | J3: DOB to | K3: SPA date
B4: =IF('Contributions calculator'!$D$5<H5,'Contributions calculator'!$D$5,"") -> 0 | D4: 65
A5: Increase from 65 to 66 | B5: =IF(AND('Contributions calculator'!$D$5>=H5,'Contributions calculator'!$D$5<=J5),'Contributions calculator'!$D$5,"") | C5: =IF(B5="","",IF(DAY(K5)>=DAY(B5),0,-1)+(YEAR(K5)-YEAR(B5))*12+MONTH(K5)-MONTH(B5)) | D5: =IF(B5="","",ROUNDDOWN(C5/12,0)) | E5: =IF(OR(G5="",G5=0),F5,F5+1) | F5: =IF(B5="","",C5-(65*12)) | G5: =IF(B5="","",K5-M5) | H5: 19699 | J5: 19729 | K5: 43530 | M5: =IF(B5="","",DATE(YEAR(B5)+65,MONTH(B5)+F5,DAY(B5)))
B6: =IF(AND('Contributions calculator'!$D$5>=H6,'Contributions calculator'!$D$5<=J6),'Contributions calculator'!$D$5,"") | C6: =IF(B6="","",IF(DAY(K6)>=DAY(B6),0,-1)+(YEAR(K6)-YEAR(B6))*12+MONTH(K6)-MONTH(B6)) | D6: =IF(B6="","",ROUNDDOWN(C6/12,0)) | E6: =IF(OR(G6="",G6=0),F6,F6+1) | F6: =IF(B6="","",C6-(65*12)) | G6: =IF(B6="","",K6-M6) | H6: 19730 | J6: 19760 | K6: 43591 | M6: =IF(B6="","",DATE(YEAR(B6)+65,MONTH(B6)+F6,DAY(B6)))
B7: =IF(AND('Contributions calculator'!$D$5>=H7,'Contributions calculator'!$D$5<=J7),'Contributions calculator'!$D$5,"") | C7: =IF(B7="","",IF(DAY(K7)>=DAY(B7),0,-1)+(YEAR(K7)-YEAR(B7))*12+MONTH(K7)-MONTH(B7)) | D7: =IF(B7="","",ROUNDDOWN(C7/12,0)) | E7: =IF(OR(G7="",G7=0),F7,F7+1) | F7: =IF(B7="","",C7-(65*12)) | G7: =IF(B7="","",K7-M7) | H7: 19761 | J7: 19788 | K7: 43652 | M7: =IF(B7="","",DATE(YEAR(B7)+65,MONTH(B7)+F7,DAY(B7)))
B8: =IF(AND('Contributions calculator'!$D$5>=H8,'Contributions calculator'!$D$5<=J8),'Contributions calculator'!$D$5,"") | C8: =IF(B8="","",IF(DAY(K8)>=DAY(B8),0,-1)+(YEAR(K8)-YEAR(B8))*12+MONTH(K8)-MONTH(B8)) | D8: =IF(B8="","",ROUNDDOWN(C8/12,0)) | E8: =IF(OR(G8="",G8=0),F8,F8+1) | F8: =IF(B8="","",C8-(65*12)) | G8: =IF(B8="","",K8-M8) | H8: 19789 | J8: 19819 | K8: 43714 | M8: =IF(B8="","",DATE(YEAR(B8)+65,MONTH(B8)+F8,DAY(B8)))
B9: =IF(AND('Contributions calculator'!$D$5>=H9,'Contributions calculator'!$D$5<=J9),'Contributions calculator'!$D$5,"") | C9: =IF(B9="","",IF(DAY(K9)>=DAY(B9),0,-1)+(YEAR(K9)-YEAR(B9))*12+MONTH(K9)-MONTH(B9)) | D9: =IF(B9="","",ROUNDDOWN(C9/12,0)) | E9: =IF(OR(G9="",G9=0),F9,F9+1) | F9: =IF(B9="","",C9-(65*12)) | G9: =IF(B9="","",K9-M9) | H9: 19820 | J9: 19849 | K9: 43775 | M9: =IF(B9="","",DATE(YEAR(B9)+65,MONTH(B9)+F9,DAY(B9)))
B10: =IF(AND('Contributions calculator'!$D$5>=H10,'Contributions calculator'!$D$5<=J10),'Contributions calculator'!$D$5,"") | C10: =IF(B10="","",IF(DAY(K10)>=DAY(B10),0,-1)+(YEAR(K10)-YEAR(B10))*12+MONTH(K10)-MONTH(B10)) | D10: =IF(B10="","",ROUNDDOWN(C10/12,0)) | E10: =IF(OR(G10="",G10=0),F10,F10+1) | F10: =IF(B10="","",C10-(65*12)) | G10: =IF(B10="","",K10-M10) | H10: 19850 | J10: 19880 | K10: 43836 | M10: =IF(B10="","",DATE(YEAR(B10)+65,MONTH(B10)+F10,DAY(B10)))
B11: =IF(AND('Contributions calculator'!$D$5>=H11,'Contributions calculator'!$D$5<=J11),'Contributions calculator'!$D$5,"") | C11: =IF(B11="","",IF(DAY(K11)>=DAY(B11),0,-1)+(YEAR(K11)-YEAR(B11))*12+MONTH(K11)-MONTH(B11)) | D11: =IF(B11="","",ROUNDDOWN(C11/12,0)) | E11: =IF(OR(G11="",G11=0),F11,F11+1) | F11: =IF(B11="","",C11-(65*12)) | G11: =IF(B11="","",K11-M11) | H11: 19881 | J11: 19910 | K11: 43896 | M11: =IF(B11="","",DATE(YEAR(B11)+65,MONTH(B11)+F11,DAY(B11)))
B12: =IF(AND('Contributions calculator'!$D$5>=H12,'Contributions calculator'!$D$5<=J12),'Contributions calculator'!$D$5,"") | C12: =IF(B12="","",IF(DAY(K12)>=DAY(B12),0,-1)+(YEAR(K12)-YEAR(B12))*12+MONTH(K12)-MONTH(B12)) | D12: =IF(B12="","",ROUNDDOWN(C12/12,0)) | E12: =IF(OR(G12="",G12=0),F12,F12+1) | F12: =IF(B12="","",C12-(65*12)) | G12: =IF(B12="","",K12-M12) | H12: 19911 | J12: 19941 | K12: 43957 | M12: =IF(B12="","",DATE(YEAR(B12)+65,MONTH(B12)+F12,DAY(B12)))
B13: =IF(AND('Contributions calculator'!$D$5>=H13,'Contributions calculator'!$D$5<=J13),'Contributions calculator'!$D$5,"") | C13: =IF(B13="","",IF(DAY(K13)>=DAY(B13),0,-1)+(YEAR(K13)-YEAR(B13))*12+MONTH(K13)-MONTH(B13)) | D13: =IF(B13="","",ROUNDDOWN(C13/12,0)) | E13: =IF(OR(G13="",G13=0),F13,F13+1) | F13: =IF(B13="","",C13-(65*12)) | G13: =IF(B13="","",K13-M13) | H13: 19942 | J13: 19972 | K13: 44018 | M13: =IF(B13="","",DATE(YEAR(B13)+65,MONTH(B13)+F13,DAY(B13)))
B14: =IF(AND('Contributions calculator'!$D$5>=H14,'Contributions calculator'!$D$5<=J14),'Contributions calculator'!$D$5,"") | C14: =IF(B14="","",IF(DAY(K14)>=DAY(B14),0,-1)+(YEAR(K14)-YEAR(B14))*12+MONTH(K14)-MONTH(B14)) | D14: =IF(B14="","",66) | F14: =IF(B14="","",C14-(65*12)) | G14: =IF(B14="","",K14-M14) | H14: 19973 | J14: 20002 | K14: 44080 | M14: =IF(B14="","",DATE(YEAR(B14)+65,MONTH(B14)+F14,DAY(B14)))
B15: =IF(AND('Contributions calculator'!$D$5>=H15,'Contributions calculator'!$D$5<=J15),'Contributions calculator'!$D$5,"") | C15: =IF(B15="","",IF(DAY(K15)>=DAY(B15),0,-1)+(YEAR(K15)-YEAR(B15))*12+MONTH(K15)-MONTH(B15)) | D15: =IF(B15="","",66) | H15: 20003 | J15: 22011 | K15: =IF(AND('Contributions calculator'!D$5>=H15,'Contributions calculator'!D$5<=J15),(DATE(YEAR(B15)+66,MONTH(B15),DAY(B15))),"") | M15: =IF(B15="","",DATE(YEAR(B15)+D15,MONTH(B15)+F15,DAY(B15)))
E16: =IF(OR(G16="",G16=0),F16,F16+1) | F16: =IF(B16="","",C16-(D16*12))
A17: Increase from 66 to 67 | B17: =IF(AND('Contributions calculator'!$D$5>=H17,'Contributions calculator'!$D$5<=J17),'Contributions calculator'!$D$5,"") | D17: =IF(B17="","",66) | E17: =IF(OR(G17="",G17=0),F17,F17+1) | F17: =IF(B17="","",1) | H17: 22012 | J17: 22041
B18: =IF(AND('Contributions calculator'!$D$5>=H18,'Contributions calculator'!$D$5<=J18),'Contributions calculator'!$D$5,"") | D18: =IF(B18="","",66) | E18: =IF(OR(G18="",G18=0),F18,F18+1) | F18: =IF(B18="","",2) | H18: 22042 | J18: 22072
B19: =IF(AND('Contributions calculator'!$D$5>=H19,'Contributions calculator'!$D$5<=J19),'Contributions calculator'!$D$5,"") | D19: =IF(B19="","",66) | E19: =IF(OR(G19="",G19=0),F19,F19+1) | F19: =IF(B19="","",3) | H19: 22073 | J19: 22102
B20: =IF(AND('Contributions calculator'!$D$5>=H20,'Contributions calculator'!$D$5<=J20),'Contributions calculator'!$D$5,"") | D20: =IF(B20="","",66) | E20: =IF(OR(G20="",G20=0),F20,F20+1) | F20: =IF(B20="","",4) | H20: 22103 | J20: 22133
B21: =IF(AND('Contributions calculator'!$D$5>=H21,'Contributions calculator'!$D$5<=J21),'Contributions calculator'!$D$5,"") | D21: =IF(B21="","",66) | E21: =IF(OR(G21="",G21=0),F21,F21+1) | F21: =IF(B21="","",5) | H21: 22134 | J21: 22164
B22: =IF(AND('Contributions calculator'!$D$5>=H22,'Contributions calculator'!$D$5<=J22),'Contributions calculator'!$D$5,"") | D22: =IF(B22="","",66) | E22: =IF(OR(G22="",G22=0),F22,F22+1) | F22: =IF(B22="","",6) | H22: 22165 | J22: 22194
B23: =IF(AND('Contributions calculator'!$D$5>=H23,'Contributions calculator'!$D$5<=J23),'Contributions calculator'!$D$5,"") | D23: =IF(B23="","",66) | E23: =IF(OR(G23="",G23=0),F23,F23+1) | F23: =IF(B23="","",7) | H23: 22195 | J23: 22225
B24: =IF(AND('Contributions calculator'!$D$5>=H24,'Contributions calculator'!$D$5<=J24),'Contributions calculator'!$D$5,"") | D24: =IF(B24="","",66) | E24: =IF(OR(G24="",G24=0),F24,F24+1) | F24: =IF(B24="","",8) | H24: 22226 | J24: 22255
B25: =IF(AND('Contributions calculator'!$D$5>=H25,'Contributions calculator'!$D$5<=J25),'Contributions calculator'!$D$5,"") | D25: =IF(B25="","",66) | E25: =IF(OR(G25="",G25=0),F25,F25+1) | F25: =IF(B25="","",9) | H25: 22256 | J25: 22286
B26: =IF(AND('Contributions calculator'!$D$5>=H26,'Contributions calculator'!$D$5<=J26),'Contributions calculator'!$D$5,"") | D26: =IF(B26="","",66) | E26: =IF(OR(G26="",G26=0),F26,F26+1) | F26: =IF(B26="","",10) | H26: 22287 | J26: 22317
B27: =IF(AND('Contributions calculator'!$D$5>=H27,'Contributions calculator'!$D$5<=J27),'Contributions calculator'!$D$5,"") | D27: =IF(B27="","",66) | E27: =IF(OR(G27="",G27=0),F27,F27+1) | F27: =IF(B27="","",11) | H27: 22318 | J27: 22345
B28: =IF(AND('Contributions calculator'!$D$5>=H28,'Contributions calculator'!$D$5<=J28),'Contributions calculator'!$D$5,"") | D28: =IF(B28="","",67) | H28: 22346 | J28: 28220
E29: =IF(OR(G29="",G29=0),F29,F29+1) | F29: =IF(B29="","",C29-(D29*12))
A30: Increase from 67 to 68 | B30: =IF(AND('Contributions calculator'!$D$5>=H30,'Contributions calculator'!$D$5<=J30),'Contributions calculator'!$D$5,"") | C30: =IF(B30="","",IF(DAY(K30)>=DAY(B30),0,-1)+(YEAR(K30)-YEAR(B30))*12+MONTH(K30)-MONTH(B30)) | D30: =IF(B30="","",ROUNDDOWN(C30/12,0)) | E30: =IF(OR(G30="",G30=0),F30,F30+1) | F30: =IF(B30="","",C30-(67*12)) | G30: =IF(B30="","",K30-M30) | H30: 28221 | J30: 28250 | K30: 52723 | M30: =IF(B30="","",DATE(YEAR(B30)+67,MONTH(B30)+F30,DAY(B30)))
B31: =IF(AND('Contributions calculator'!$D$5>=H31,'Contributions calculator'!$D$5<=J31),'Contributions calculator'!$D$5,"") | C31: =IF(B31="","",IF(DAY(K31)>=DAY(B31),0,-1)+(YEAR(K31)-YEAR(B31))*12+MONTH(K31)-MONTH(B31)) | D31: =IF(B31="","",ROUNDDOWN(C31/12,0)) | E31: =IF(OR(G31="",G31=0),F31,F31+1) | F31: =IF(B31="","",C31-(67*12)) | G31: =IF(B31="","",K31-M31) | H31: 28251 | J31: 28281 | K31: 52784 | M31: =IF(B31="","",DATE(YEAR(B31)+67,MONTH(B31)+F31,DAY(B31)))
B32: =IF(AND('Contributions calculator'!$D$5>=H32,'Contributions calculator'!$D$5<=J32),'Contributions calculator'!$D$5,"") | C32: =IF(B32="","",IF(DAY(K32)>=DAY(B32),0,-1)+(YEAR(K32)-YEAR(B32))*12+MONTH(K32)-MONTH(B32)) | D32: =IF(B32="","",ROUNDDOWN(C32/12,0)) | E32: =IF(OR(G32="",G32=0),F32,F32+1) | F32: =IF(B32="","",C32-(67*12)) | G32: =IF(B32="","",K32-M32) | H32: 28282 | J32: 28311 | K32: 52846 | M32: =IF(B32="","",DATE(YEAR(B32)+67,MONTH(B32)+F32,DAY(B32)))
B33: =IF(AND('Contributions calculator'!$D$5>=H33,'Contributions calculator'!$D$5<=J33),'Contributions calculator'!$D$5,"") | C33: =IF(B33="","",IF(DAY(K33)>=DAY(B33),0,-1)+(YEAR(K33)-YEAR(B33))*12+MONTH(K33)-MONTH(B33)) | D33: =IF(B33="","",ROUNDDOWN(C33/12,0)) | E33: =IF(OR(G33="",G33=0),F33,F33+1) | F33: =IF(B33="","",C33-(67*12)) | G33: =IF(B33="","",K33-M33) | H33: 28312 | J33: 28342 | K33: 52907 | M33: =IF(B33="","",DATE(YEAR(B33)+67,MONTH(B33)+F33,DAY(B33)))
B34: =IF(AND('Contributions calculator'!$D$5>=H34,'Contributions calculator'!$D$5<=J34),'Contributions calculator'!$D$5,"") | C34: =IF(B34="","",IF(DAY(K34)>=DAY(B34),0,-1)+(YEAR(K34)-YEAR(B34))*12+MONTH(K34)-MONTH(B34)) | D34: =IF(B34="","",ROUNDDOWN(C34/12,0)) | E34: =IF(OR(G34="",G34=0),F34,F34+1) | F34: =IF(B34="","",C34-(67*12)) | G34: =IF(B34="","",K34-M34) | H34: 28343 | J34: 28373 | K34: 52968 | M34: =IF(B34="","",DATE(YEAR(B34)+67,MONTH(B34)+F34,DAY(B34)))
B35: =IF(AND('Contributions calculator'!$D$5>=H35,'Contributions calculator'!$D$5<=J35),'Contributions calculator'!$D$5,"") | C35: =IF(B35="","",IF(DAY(K35)>=DAY(B35),0,-1)+(YEAR(K35)-YEAR(B35))*12+MONTH(K35)-MONTH(B35)) | D35: =IF(B35="","",ROUNDDOWN(C35/12,0)) | E35: =IF(OR(G35="",G35=0),F35,F35+1) | F35: =IF(B35="","",C35-(67*12)) | G35: =IF(B35="","",K35-M35) | H35: 28374 | J35: 28403 | K35: 53027 | M35: =IF(B35="","",DATE(YEAR(B35)+67,MONTH(B35)+F35,DAY(B35)))
B36: =IF(AND('Contributions calculator'!$D$5>=H36,'Contributions calculator'!$D$5<=J36),'Contributions calculator'!$D$5,"") | C36: =IF(B36="","",IF(DAY(K36)>=DAY(B36),0,-1)+(YEAR(K36)-YEAR(B36))*12+MONTH(K36)-MONTH(B36)) | D36: =IF(B36="","",ROUNDDOWN(C36/12,0)) | E36: =IF(OR(G36="",G36=0),F36,F36+1) | F36: =IF(B36="","",C36-(67*12)) | G36: =IF(B36="","",K36-M36) | H36: 28404 | J36: 28434 | K36: 53088 | M36: =IF(B36="","",DATE(YEAR(B36)+67,MONTH(B36)+F36,DAY(B36)))
B37: =IF(AND('Contributions calculator'!$D$5>=H37,'Contributions calculator'!$D$5<=J37),'Contributions calculator'!$D$5,"") | C37: =IF(B37="","",IF(DAY(K37)>=DAY(B37),0,-1)+(YEAR(K37)-YEAR(B37))*12+MONTH(K37)-MONTH(B37)) | D37: =IF(B37="","",ROUNDDOWN(C37/12,0)) | E37: =IF(OR(G37="",G37=0),F37,F37+1) | F37: =IF(B37="","",C37-(67*12)) | G37: =IF(B37="","",K37-M37) | H37: 28435 | J37: 28464 | K37: 53149 | M37: =IF(B37="","",DATE(YEAR(B37)+67,MONTH(B37)+F37,DAY(B37)))
B38: =IF(AND('Contributions calculator'!$D$5>=H38,'Contributions calculator'!$D$5<=J38),'Contributions calculator'!$D$5,"") | C38: =IF(B38="","",IF(DAY(K38)>=DAY(B38),0,-1)+(YEAR(K38)-YEAR(B38))*12+MONTH(K38)-MONTH(B38)) | D38: =IF(B38="","",ROUNDDOWN(C38/12,0)) | E38: =IF(OR(G38="",G38=0),F38,F38+1) | F38: =IF(B38="","",C38-(67*12)) | G38: =IF(B38="","",K38-M38) | H38: 28465 | J38: 28495 | K38: 53211 | M38: =IF(B38="","",DATE(YEAR(B38)+67,MONTH(B38)+F38,DAY(B38)))
B39: =IF(AND('Contributions calculator'!$D$5>=H39,'Contributions calculator'!$D$5<=J39),'Contributions calculator'!$D$5,"") | C39: =IF(B39="","",IF(DAY(K39)>=DAY(B39),0,-1)+(YEAR(K39)-YEAR(B39))*12+MONTH(K39)-MONTH(B39)) | D39: =IF(B39="","",ROUNDDOWN(C39/12,0)) | E39: =IF(OR(G39="",G39=0),F39,F39+1) | F39: =IF(B39="","",C39-(67*12)) | G39: =IF(B39="","",K39-M39) | H39: 28496 | J39: 28526 | K39: 53272 | M39: =IF(B39="","",DATE(YEAR(B39)+67,MONTH(B39)+F39,DAY(B39)))
B40: =IF(AND('Contributions calculator'!$D$5>=H40,'Contributions calculator'!$D$5<=J40),'Contributions calculator'!$D$5,"") | C40: =IF(B40="","",IF(DAY(K40)>=DAY(B40),0,-1)+(YEAR(K40)-YEAR(B40))*12+MONTH(K40)-MONTH(B40)) | D40: =IF(B40="","",ROUNDDOWN(C40/12,0)) | E40: =IF(OR(G40="",G40=0),F40,F40+1) | F40: =IF(B40="","",C40-(67*12)) | G40: =IF(B40="","",K40-M40) | H40: 28527 | J40: 28554 | K40: 53333 | M40: =IF(B40="","",DATE(YEAR(B40)+67,MONTH(B40)+F40,DAY(B40)))
B41: =IF(AND('Contributions calculator'!$D$5>=H41,'Contributions calculator'!$D$5<=J41),'Contributions calculator'!$D$5,"") | C41: =IF(B41="","",IF(DAY(K41)>=DAY(B41),0,-1)+(YEAR(K41)-YEAR(B41))*12+MONTH(K41)-MONTH(B41)) | D41: =IF(B41="","",68) | E41: 0 | F41: =IF(B41="","",C41-(67*12)) | G41: =IF(B41="","",K41-M41) | H41: 28555 | J41: 28585 | K41: 53392 | M41: =IF(B41="","",DATE(YEAR(B41)+67,MONTH(B41)+F41,DAY(B41)))
B42: =IF(AND('Contributions calculator'!$D$5>=H42,'Contributions calculator'!$D$5<=J42),'Contributions calculator'!$D$5,"") | D42: =IF(B42="","",68) | H42: 28586 | J42: =TODAY() -> 46294 | K42: =IF(AND('Contributions calculator'!D$5>=H42,'Contributions calculator'!D$5<=J42),(DATE(YEAR(B42)+68,MONTH(B42),DAY(B42))),"") | M42: =IF(B42="","",DATE(YEAR(B42)+D42,MONTH(B42)+F42,DAY(B42)))

Sheet Lump Sum
G1: Lump Sum Elections | J1: Date Factors Issued to Client | K1: 46204
J2: Implementation date | K2: 01/08/2026 for NEW elections only
B3: x-701 | F3: x-702 | J3: x-703 | N3: x-704 | R3: x-705
B5: Table APS60: NPA 60, STSS | F5: Table APS65: NPA 65, STSS and STPS | J5: Table APS66: NPA 66, STPS | N5: Table APS67: NPA 67, STPS | R5: Table APS68: NPA 68, STPS
B7: Benefits | C7: Personal | D7: Personal and dependant's | F7: Benefits | G7: Personal | H7: Personal and dependant's | J7: Benefits | K7: Personal | L7: Personal and dependant's | N7: Benefits | O7: Personal | P7: Personal and dependant's | R7: Benefits | S7: Personal | T7: Personal and dependant's
B8: Age when notice of election given | C8: Single premium to purchase £250 of APB at date of election, £ | F8: Age when notice of election given | G8: Single premium to purchase £250 of APB at date of election, £ | J8: Age when notice of election given | K8: Single premium to purchase £250 of AP at date of election, £ | N8: Age when notice of election given | O8: Single premium to purchase £250 of AP at date of election, £ | R8: Age when notice of election given | S8: Single premium to purchase £250 of AP at date of election, £
B9: 20 | F9: 20 | G9: 2120 | H9: 2300 | J9: 20 | K9: 2030 | L9: 2200 | N9: 20 | O9: 1940 | P9: 2120 | R9: 20 | S9: 1860 | T9: 2030 | V9: 20 | Z9: 20
B10: 21 | F10: 21 | G10: 2160 | H10: 2340 | J10: 21 | K10: 2070 | L10: 2240 | N10: 21 | O10: 1980 | P10: 2160 | R10: 21 | S10: 1890 | T10: 2070 | V10: 21 | Z10: 21
B11: 22 | F11: 22 | G11: 2200 | H11: 2380 | J11: 22 | K11: 2110 | L11: 2290 | N11: 22 | O11: 2010 | P11: 2190 | R11: 22 | S11: 1930 | T11: 2110 | V11: 22 | Z11: 22
B12: 23 | F12: 23 | G12: 2240 | H12: 2420 | J12: 23 | K12: 2140 | L12: 2330 | N12: 23 | O12: 2050 | P12: 2230 | R12: 23 | S12: 1960 | T12: 2140 | V12: 23 | Z12: 23
B13: 24 | F13: 24 | G13: 2280 | H13: 2470 | J13: 24 | K13: 2180 | L13: 2370 | N13: 24 | O13: 2090 | P13: 2270 | R13: 24 | S13: 2000 | T13: 2180 | V13: 24 | Z13: 24
B14: 25 | F14: 25 | G14: 2320 | H14: 2510 | J14: 25 | K14: 2220 | L14: 2410 | N14: 25 | O14: 2120 | P14: 2310 | R14: 25 | S14: 2030 | T14: 2220 | V14: 25 | Z14: 25
B15: 26 | F15: 26 | G15: 2360 | H15: 2560 | J15: 26 | K15: 2260 | L15: 2450 | N15: 26 | O15: 2160 | P15: 2360 | R15: 26 | S15: 2070 | T15: 2260 | V15: 26 | Z15: 26
B16: 27 | F16: 27 | G16: 2410 | H16: 2600 | J16: 27 | K16: 2300 | L16: 2500 | N16: 27 | O16: 2200 | P16: 2400 | R16: 27 | S16: 2100 | T16: 2300 | V16: 27 | Z16: 27
B17: 28 | F17: 28 | G17: 2450 | H17: 2650 | J17: 28 | K17: 2340 | L17: 2540 | N17: 28 | O17: 2240 | P17: 2440 | R17: 28 | S17: 2140 | T17: 2340 | V17: 28 | Z17: 28
B18: 29 | F18: 29 | G18: 2490 | H18: 2700 | J18: 29 | K18: 2390 | L18: 2590 | N18: 29 | O18: 2280 | P18: 2490 | R18: 29 | S18: 2180 | T18: 2380 | V18: 29 | Z18: 29
B19: 30 | F19: 30 | G19: 2540 | H19: 2750 | J19: 30 | K19: 2430 | L19: 2640 | N19: 30 | O19: 2320 | P19: 2530 | R19: 30 | S19: 2220 | T19: 2430 | V19: 30 | Z19: 30
B20: 31 | F20: 31 | G20: 2580 | H20: 2790 | J20: 31 | K20: 2470 | L20: 2680 | N20: 31 | O20: 2360 | P20: 2570 | R20: 31 | S20: 2260 | T20: 2470 | V20: 31 | Z20: 31
... B48: 59 | F48: 59 | G48: 4210 | H48: 4520 | J48: 59 | K48: 4010 | L48: 4310 | N48: 59 | O48: 3810 | P48: 4120 | R48: 59 | S48: 3620 | T48: 3920 | V48: 59 | Z48: 59
F49: 60 | G49: 4290 | H49: 4590 | J49: 60 | K49: 4080 | L49: 4390 | N49: 60 | O49: 3880 | P49: 4180 | R49: 60 | S49: 3690 | T49: 3990 | Z49: 60
F50: 61 | G50: 4370 | H50: 4680 | J50: 61 | K50: 4160 | L50: 4460 | N50: 61 | O50: 3950 | P50: 4260 | R50: 61 | S50: 3750 | T50: 4050 | Z50: 61
F51: 62 | G51: 4460 | H51: 4760 | J51: 62 | K51: 4230 | L51: 4540 | N51: 62 | O51: 4020 | P51: 4330 | R51: 62 | S51: 3820 | T51: 4120 | Z51: 62
F52: 63 | G52: 4540 | H52: 4850 | J52: 63 | K52: 4320 | L52: 4630 | N52: 63 | O52: 4100 | P52: 4410 | R52: 63 | S52: 3890 | T52: 4190 | Z52: 63
F53: 64 | G53: 4630 | H53: 4950 | J53: 64 | K53: 4400 | L53: 4710 | N53: 64 | O53: 4180 | P53: 4490 | R53: 64 | S53: 3960 | T53: 4270 | Z53: 64
J54: 65 | K54: 4490 | L54: 4800 | N54: 65 | O54: 4260 | P54: 4570 | R54: 65 | S54: 4030 | T54: 4340
N55: 66 | O55: 4340 | P55: 4660 | R55: 66 | S55: 4110 | T55: 4430
R56: 67 | S56: 4200 | T56: 4510

Sheet NRA60
U1: Date Factors Issued to Client | V1: 46204
A2: Regular Contribution Elections made after 31 March 2011 | U2: Implementation date | V2: 01/08/2026 for NEW elections only | W2: Regular Contribution Elections made after 31 March 2011
A3: Table D60: Personal and Dependant's Benefits, NRA 60 | L3: x-707 | W3: Table P60: Personal Benefits, NRA 60 | AD3: x-706
A5: Age when notice of election given â | B5: Monthly contribution to purchase £250 of APB at date of election, £ | W5: Age when notice of election given â | X5: Monthly contribution to purchase £250 of APB at date of election, £
A6: Payment period (in years) à | B6: 1 | C6: 2 | D6: 3 | E6: 4 | F6: 5 | G6: 6 | H6: 7 | I6: 8 | J6: 9 | K6: 10 | L6: 11 | M6: 12 | N6: 13 | O6: 14 | P6: 15 | Q6: 16 | R6: 17 | S6: 18 | T6: 19 | U6: 20 | W6: Payment period (in years) à | X6: 1 | Y6: 2 | Z6: 3 | AA6: 4 | AB6: 5 | AC6: 6 | AD6: 7 | AE6: 8 | AF6: 9 | AG6: 10 | AH6: 11 | AI6: 12 | AJ6: 13 | AK6: 14 | AL6: 15 | AM6: 16 | AN6: 17 | AO6: 18 | AP6: 19 | AQ6: 20
A7: 16 | W7: 16
A8: 17 | W8: 17
A9: 18 | W9: 18
A10: 19 | W10: 19
A11: 20 | B11: 216.5 | C11: 110.4 | D11: 75 | E11: 57.4 | F11: 46.8 | G11: 39.8 | H11: 34.7 | I11: 31 | J11: 28.1 | K11: 25.7 | L11: 23.8 | M11: 22.2 | N11: 20.9 | O11: 19.8 | P11: 18.8 | Q11: 17.9 | R11: 17.2 | S11: 16.5 | T11: 15.9 | U11: 15.4 | W11: 20 | X11: 230.6 | Y11: 117.6 | Z11: 79.9 | AA11: 61.1 | AB11: 49.9 | AC11: 42.3 | AD11: 37 | AE11: 33 | AF11: 29.9 | AG11: 27.4 | AH11: 25.4 | AI11: 23.7 | AJ11: 22.3 | AK11: 21.1 | AL11: 20 | AM11: 19.1 | AN11: 18.3 | AO11: 17.6 | AP11: 17 | AQ11: 16.4
A12: 21 | B12: 220.4 | C12: 112.4 | D12: 76.4 | E12: 58.4 | F12: 47.7 | G12: 40.5 | H12: 35.4 | I12: 31.5 | J12: 28.6 | K12: 26.2 | L12: 24.3 | M12: 22.6 | N12: 21.3 | O12: 20.1 | P12: 19.1 | Q12: 18.3 | R12: 17.5 | S12: 16.8 | T12: 16.2 | U12: 15.7 | W12: 21 | X12: 234.8 | Y12: 119.7 | Z12: 81.4 | AA12: 62.2 | AB12: 50.8 | AC12: 43.1 | AD12: 37.7 | AE12: 33.6 | AF12: 30.4 | AG12: 27.9 | AH12: 25.8 | AI12: 24.1 | AJ12: 22.7 | AK12: 21.4 | AL12: 20.4 | AM12: 19.4 | AN12: 18.6 | AO12: 17.9 | AP12: 17.3 | AQ12: 16.7
A13: 22 | B13: 224.5 | C13: 114.5 | D13: 77.8 | E13: 59.5 | F13: 48.5 | G13: 41.2 | H13: 36 | I13: 32.1 | J13: 29.1 | K13: 26.7 | L13: 24.7 | M13: 23.1 | N13: 21.7 | O13: 20.5 | P13: 19.5 | Q13: 18.6 | R13: 17.8 | S13: 17.1 | T13: 16.5 | U13: 16 | W13: 22 | X13: 239.1 | Y13: 121.9 | Z13: 82.9 | AA13: 63.4 | AB13: 51.7 | AC13: 43.9 | AD13: 38.4 | AE13: 34.2 | AF13: 31 | AG13: 28.4 | AH13: 26.3 | AI13: 24.6 | AJ13: 23.1 | AK13: 21.8 | AL13: 20.8 | AM13: 19.8 | AN13: 19 | AO13: 18.2 | AP13: 17.6 | AQ13: 17
A14: 23 | B14: 228.5 | C14: 116.5 | D14: 79.2 | E14: 60.6 | F14: 49.4 | G14: 42 | H14: 36.7 | I14: 32.7 | J14: 29.6 | K14: 27.2 | L14: 25.1 | M14: 23.5 | N14: 22.1 | O14: 20.9 | P14: 19.8 | Q14: 18.9 | R14: 18.1 | S14: 17.4 | T14: 16.8 | U14: 16.3 | W14: 23 | X14: 243.4 | Y14: 124.1 | Z14: 84.4 | AA14: 64.5 | AB14: 52.6 | AC14: 44.7 | AD14: 39.1 | AE14: 34.8 | AF14: 31.5 | AG14: 28.9 | AH14: 26.8 | AI14: 25 | AJ14: 23.5 | AK14: 22.2 | AL14: 21.1 | AM14: 20.2 | AN14: 19.3 | AO14: 18.6 | AP14: 17.9 | AQ14: 17.3
A15: 24 | B15: 232.7 | C15: 118.7 | D15: 80.7 | E15: 61.7 | F15: 50.3 | G15: 42.7 | H15: 37.3 | I15: 33.3 | J15: 30.2 | K15: 27.7 | L15: 25.6 | M15: 23.9 | N15: 22.5 | O15: 21.3 | P15: 20.2 | Q15: 19.3 | R15: 18.5 | S15: 17.8 | T15: 17.1 | U15: 16.6 | W15: 24 | X15: 247.9 | Y15: 126.4 | Z15: 85.9 | AA15: 65.7 | AB15: 53.6 | AC15: 45.5 | AD15: 39.8 | AE15: 35.5 | AF15: 32.1 | AG15: 29.5 | AH15: 27.3 | AI15: 25.5 | AJ15: 23.9 | AK15: 22.6 | AL15: 21.5 | AM15: 20.5 | AN15: 19.7 | AO15: 18.9 | AP15: 18.2 | AQ15: 17.6
A16: 25 | B16: 236.9 | C16: 120.8 | D16: 82.1 | E16: 62.8 | F16: 51.2 | G16: 43.5 | H16: 38 | I16: 33.9 | J16: 30.7 | K16: 28.2 | L16: 26.1 | M16: 24.3 | N16: 22.9 | O16: 21.6 | P16: 20.6 | Q16: 19.6 | R16: 18.8 | S16: 18.1 | T16: 17.4 | U16: 16.9 | W16: 25 | X16: 252.4 | Y16: 128.7 | Z16: 87.5 | AA16: 66.9 | AB16: 54.6 | AC16: 46.4 | AD16: 40.5 | AE16: 36.1 | AF16: 32.7 | AG16: 30 | AH16: 27.8 | AI16: 25.9 | AJ16: 24.4 | AK16: 23.1 | AL16: 21.9 | AM16: 20.9 | AN16: 20 | AO16: 19.3 | AP16: 18.6 | AQ16: 18
A17: 26 | B17: 241.2 | C17: 123 | D17: 83.6 | E17: 63.9 | F17: 52.2 | G17: 44.3 | H17: 38.7 | I17: 34.5 | J17: 31.3 | K17: 28.7 | L17: 26.5 | M17: 24.8 | N17: 23.3 | O17: 22 | P17: 20.9 | Q17: 20 | R17: 19.2 | S17: 18.4 | T17: 17.8 | U17: 17.2 | W17: 26 | X17: 256.9 | Y17: 131 | Z17: 89.1 | AA17: 68.1 | AB17: 55.6 | AC17: 47.2 | AD17: 41.2 | AE17: 36.8 | AF17: 33.3 | AG17: 30.5 | AH17: 28.3 | AI17: 26.4 | AJ17: 24.8 | AK17: 23.5 | AL17: 22.3 | AM17: 21.3 | AN17: 20.4 | AO17: 19.6 | AP17: 18.9 | AQ17: 18.3
A18: 27 | B18: 245.6 | C18: 125.2 | D18: 85.1 | E18: 65.1 | F18: 53.1 | G18: 45.1 | H18: 39.4 | I18: 35.1 | J18: 31.8 | K18: 29.2 | L18: 27 | M18: 25.2 | N18: 23.7 | O18: 22.4 | P18: 21.3 | Q18: 20.4 | R18: 19.5 | S18: 18.8 | T18: 18.1 | U18: 17.5 | W18: 27 | X18: 261.6 | Y18: 133.4 | Z18: 90.7 | AA18: 69.4 | AB18: 56.6 | AC18: 48.1 | AD18: 42 | AE18: 37.4 | AF18: 33.9 | AG18: 31.1 | AH18: 28.8 | AI18: 26.9 | AJ18: 25.3 | AK18: 23.9 | AL18: 22.7 | AM18: 21.7 | AN18: 20.8 | AO18: 20 | AP18: 19.3 | AQ18: 18.6
A19: 28 | B19: 250 | C19: 127.5 | D19: 86.7 | E19: 66.3 | F19: 54.1 | G19: 45.9 | H19: 40.1 | I19: 35.8 | J19: 32.4 | K19: 29.7 | L19: 27.5 | M19: 25.7 | N19: 24.2 | O19: 22.9 | P19: 21.7 | Q19: 20.7 | R19: 19.9 | S19: 19.1 | T19: 18.4 | U19: 17.8 | W19: 28 | X19: 266.3 | Y19: 135.8 | Z19: 92.3 | AA19: 70.6 | AB19: 57.6 | AC19: 48.9 | AD19: 42.7 | AE19: 38.1 | AF19: 34.5 | AG19: 31.7 | AH19: 29.3 | AI19: 27.4 | AJ19: 25.7 | AK19: 24.3 | AL19: 23.1 | AM19: 22.1 | AN19: 21.2 | AO19: 20.3 | AP19: 19.6 | AQ19: 19
A20: 29 | B20: 254.5 | C20: 129.8 | D20: 88.2 | E20: 67.5 | F20: 55 | G20: 46.8 | H20: 40.9 | I20: 36.4 | J20: 33 | K20: 30.3 | L20: 28 | M20: 26.2 | N20: 24.6 | O20: 23.3 | P20: 22.1 | Q20: 21.1 | R20: 20.2 | S20: 19.5 | T20: 18.8 | U20: 18.1 | W20: 29 | X20: 271.1 | Y20: 138.3 | Z20: 94 | AA20: 71.9 | AB20: 58.6 | AC20: 49.8 | AD20: 43.5 | AE20: 38.8 | AF20: 35.2 | AG20: 32.2 | AH20: 29.9 | AI20: 27.9 | AJ20: 26.2 | AK20: 24.8 | AL20: 23.6 | AM20: 22.5 | AN20: 21.6 | AO20: 20.7 | AP20: 20 | AQ20: 19.3
A21: 30 | B21: 259.1 | C21: 132.1 | D21: 89.8 | E21: 68.7 | F21: 56 | G21: 47.6 | H21: 41.6 | I21: 37.1 | J21: 33.6 | K21: 30.8 | L21: 28.5 | M21: 26.7 | N21: 25.1 | O21: 23.7 | P21: 22.5 | Q21: 21.5 | R21: 20.6 | S21: 19.8 | T21: 19.1 | U21: 18.5 | W21: 30 | X21: 276 | Y21: 140.8 | Z21: 95.7 | AA21: 73.2 | AB21: 59.7 | AC21: 50.7 | AD21: 44.3 | AE21: 39.5 | AF21: 35.8 | AG21: 32.8 | AH21: 30.4 | AI21: 28.4 | AJ21: 26.7 | AK21: 25.2 | AL21: 24 | AM21: 22.9 | AN21: 22 | AO21: 21.1 | AP21: 20.4 | AQ21: 19.7
A22: 31 | B22: 263.8 | C22: 134.5 | D22: 91.5 | E22: 70 | F22: 57.1 | G22: 48.5 | H22: 42.4 | I22: 37.8 | J22: 34.2 | K22: 31.4 | L22: 29.1 | M22: 27.1 | N22: 25.5 | O22: 24.1 | P22: 22.9 | Q22: 21.9 | R22: 21 | S22: 20.2 | T22: 19.5 | U22: 18.8 | W22: 31 | X22: 281 | Y22: 143.3 | Z22: 97.4 | AA22: 74.5 | AB22: 60.8 | AC22: 51.6 | AD22: 45.1 | AE22: 40.2 | AF22: 36.4 | AG22: 33.4 | AH22: 31 | AI22: 28.9 | AJ22: 27.2 | AK22: 25.7 | AL22: 24.4 | AM22: 23.3 | AN22: 22.4 | AO22: 21.5 | AP22: 20.7 | AQ22: 20.1
... A30: 39 | B30: 304.6 | C30: 155.4 | D30: 105.7 | E30: 80.8 | F30: 65.9 | G30: 56 | H30: 49 | I30: 43.7 | J30: 39.6 | K30: 36.3 | L30: 33.7 | M30: 31.5 | N30: 29.6 | O30: 28 | P30: 26.6 | Q30: 25.4 | R30: 24.4 | S30: 23.5 | T30: 22.7 | U30: 21.9 | W30: 39 | X30: 324.3 | Y30: 165.4 | Z30: 112.5 | AA30: 86 | AB30: 70.2 | AC30: 59.7 | AD30: 52.1 | AE30: 46.5 | AF30: 42.1 | AG30: 38.7 | AH30: 35.8 | AI30: 33.5 | AJ30: 31.5 | AK30: 29.8 | AL30: 28.4 | AM30: 27.1 | AN30: 26 | AO30: 25 | AP30: 24.1 | AQ30: 23.4
A31: 40 | B31: 310.1 | C31: 158.2 | D31: 107.6 | E31: 82.3 | F31: 67.1 | G31: 57.1 | H31: 49.9 | I31: 44.5 | J31: 40.3 | K31: 37 | L31: 34.3 | M31: 32 | N31: 30.2 | O31: 28.5 | P31: 27.1 | Q31: 25.9 | R31: 24.9 | S31: 24 | T31: 23.1 | W31: 40 | X31: 330.1 | Y31: 168.4 | Z31: 114.5 | AA31: 87.6 | AB31: 71.5 | AC31: 60.7 | AD31: 53.1 | AE31: 47.4 | AF31: 42.9 | AG31: 39.4 | AH31: 36.5 | AI31: 34.1 | AJ31: 32.1 | AK31: 30.4 | AL31: 28.9 | AM31: 27.6 | AN31: 26.5 | AO31: 25.5 | AP31: 24.6
A32: 41 | B32: 315.7 | C32: 161.1 | D32: 109.5 | E32: 83.8 | F32: 68.4 | G32: 58.1 | H32: 50.8 | I32: 45.3 | J32: 41.1 | K32: 37.7 | L32: 34.9 | M32: 32.7 | N32: 30.7 | O32: 29.1 | P32: 27.7 | Q32: 26.5 | R32: 25.4 | S32: 24.4 | W32: 41 | X32: 336 | Y32: 171.4 | Z32: 116.6 | AA32: 89.2 | AB32: 72.8 | AC32: 61.8 | AD32: 54.1 | AE32: 48.2 | AF32: 43.7 | AG32: 40.1 | AH32: 37.2 | AI32: 34.8 | AJ32: 32.7 | AK32: 31 | AL32: 29.5 | AM32: 28.2 | AN32: 27 | AO32: 26
A33: 42 | B33: 321.5 | C33: 164 | D33: 111.5 | E33: 85.3 | F33: 69.6 | G33: 59.2 | H33: 51.7 | I33: 46.2 | J33: 41.9 | K33: 38.4 | L33: 35.6 | M33: 33.3 | N33: 31.3 | O33: 29.7 | P33: 28.2 | Q33: 27 | R33: 25.9 | W33: 42 | X33: 342.1 | Y33: 174.5 | Z33: 118.7 | AA33: 90.8 | AB33: 74.1 | AC33: 63 | AD33: 55.1 | AE33: 49.1 | AF33: 44.5 | AG33: 40.9 | AH33: 37.9 | AI33: 35.4 | AJ33: 33.3 | AK33: 31.6 | AL33: 30 | AM33: 28.7 | AN33: 27.5
A34: 43 | B34: 327.4 | C34: 167 | D34: 113.6 | E34: 86.9 | F34: 70.9 | G34: 60.3 | H34: 52.7 | I34: 47.1 | J34: 42.7 | K34: 39.2 | L34: 36.3 | M34: 33.9 | N34: 32 | O34: 30.3 | P34: 28.8 | Q34: 27.5 | W34: 43 | X34: 348.3 | Y34: 177.7 | Z34: 120.9 | AA34: 92.5 | AB34: 75.5 | AC34: 64.2 | AD34: 56.1 | AE34: 50.1 | AF34: 45.4 | AG34: 41.7 | AH34: 38.6 | AI34: 36.1 | AJ34: 34 | AK34: 32.2 | AL34: 30.6 | AM34: 29.3
A35: 44 | B35: 333.4 | C35: 170.1 | D35: 115.7 | E35: 88.6 | F35: 72.3 | G35: 61.5 | H35: 53.7 | I35: 48 | J35: 43.5 | K35: 39.9 | L35: 37 | M35: 34.6 | N35: 32.6 | O35: 30.9 | P35: 29.4 | W35: 44 | X35: 354.6 | Y35: 180.9 | Z35: 123.1 | AA35: 94.2 | AB35: 76.9 | AC35: 65.4 | AD35: 57.2 | AE35: 51 | AF35: 46.3 | AG35: 42.5 | AH35: 39.4 | AI35: 36.8 | AJ35: 34.7 | AK35: 32.8 | AL35: 31.3
A36: 45 | B36: 339.5 | C36: 173.3 | D36: 117.9 | E36: 90.2 | F36: 73.7 | G36: 62.6 | H36: 54.8 | I36: 48.9 | J36: 44.4 | K36: 40.7 | L36: 37.8 | M36: 35.3 | N36: 33.3 | O36: 31.5 | W36: 45 | X36: 361.1 | Y36: 184.3 | Z36: 125.4 | AA36: 95.9 | AB36: 78.3 | AC36: 66.6 | AD36: 58.2 | AE36: 52 | AF36: 47.2 | AG36: 43.3 | AH36: 40.2 | AI36: 37.6 | AJ36: 35.4 | AK36: 33.5
A37: 46 | B37: 345.8 | C37: 176.5 | D37: 120.1 | E37: 91.9 | F37: 75.1 | G37: 63.8 | H37: 55.8 | I37: 49.9 | J37: 45.2 | K37: 41.5 | L37: 38.5 | M37: 36 | N37: 33.9 | W37: 46 | X37: 367.7 | Y37: 187.6 | Z37: 127.7 | AA37: 97.7 | AB37: 79.8 | AC37: 67.9 | AD37: 59.4 | AE37: 53 | AF37: 48.1 | AG37: 44.2 | AH37: 41 | AI37: 38.3 | AJ37: 36.1
A38: 47 | B38: 352.2 | C38: 179.8 | D38: 122.4 | E38: 93.7 | F38: 76.5 | G38: 65.1 | H38: 56.9 | I38: 50.8 | J38: 46.1 | K38: 42.4 | L38: 39.3 | M38: 36.8 | W38: 47 | X38: 374.4 | Y38: 191.1 | Z38: 130 | AA38: 99.6 | AB38: 81.3 | AC38: 69.2 | AD38: 60.5 | AE38: 54 | AF38: 49 | AG38: 45 | AH38: 41.8 | AI38: 39.1
A39: 48 | B39: 358.8 | C39: 183.2 | D39: 124.7 | E39: 95.5 | F39: 78 | G39: 66.3 | H39: 58.1 | I39: 51.9 | J39: 47.1 | K39: 43.2 | L39: 40.1 | W39: 48 | X39: 381.2 | Y39: 194.6 | Z39: 132.5 | AA39: 101.4 | AB39: 82.9 | AC39: 70.5 | AD39: 61.7 | AE39: 55.1 | AF39: 50 | AG39: 45.9 | AH39: 42.6
A40: 49 | B40: 365.5 | C40: 186.6 | D40: 127.1 | E40: 97.3 | F40: 79.5 | G40: 67.7 | H40: 59.2 | I40: 52.9 | J40: 48 | K40: 44.1 | W40: 49 | X40: 388.2 | Y40: 198.2 | Z40: 135 | AA40: 103.4 | AB40: 84.4 | AC40: 71.9 | AD40: 62.9 | AE40: 56.2 | AF40: 51 | AG40: 46.9
A41: 50 | B41: 372.4 | C41: 190.2 | D41: 129.5 | E41: 99.2 | F41: 81.1 | G41: 69 | H41: 60.4 | I41: 54 | J41: 49 | W41: 50 | X41: 395.4 | Y41: 201.9 | Z41: 137.5 | AA41: 105.3 | AB41: 86.1 | AC41: 73.3 | AD41: 64.1 | AE41: 57.3 | AF41: 52
A42: 51 | B42: 379.4 | C42: 193.8 | D42: 132 | E42: 101.1 | F42: 82.7 | G42: 70.4 | H42: 61.6 | I42: 55.1 | W42: 51 | X42: 402.7 | Y42: 205.7 | Z42: 140.1 | AA42: 107.4 | AB42: 87.7 | AC42: 74.7 | AD42: 65.4 | AE42: 58.5
A43: 52 | B43: 386.6 | C43: 197.5 | D43: 134.6 | E43: 103.1 | F43: 84.3 | G43: 71.8 | H43: 62.9 | W43: 52 | X43: 410.1 | Y43: 209.6 | Z43: 142.8 | AA43: 109.4 | AB43: 89.4 | AC43: 76.2 | AD43: 66.7
A44: 53 | B44: 393.8 | C44: 201.3 | D44: 137.2 | E44: 105.1 | F44: 86 | G44: 73.2 | W44: 53 | X44: 417.7 | Y44: 213.5 | Z44: 145.5 | AA44: 111.5 | AB44: 91.2 | AC44: 77.7
A45: 54 | B45: 401.3 | C45: 205.1 | D45: 139.8 | E45: 107.2 | F45: 87.7 | W45: 54 | X45: 425.4 | Y45: 217.4 | Z45: 148.2 | AA45: 113.6 | AB45: 92.9
A46: 55 | B46: 408.8 | C46: 209 | D46: 142.5 | E46: 109.3 | W46: 55 | X46: 433.2 | Y46: 221.5 | Z46: 151 | AA46: 115.8
A47: 56 | B47: 416.5 | C47: 213 | D47: 145.3 | W47: 56 | X47: 441.1 | Y47: 225.6 | Z47: 153.8
A48: 57 | B48: 424.4 | C48: 217.1 | W48: 57 | X48: 449.1 | Y48: 229.8
A49: 58 | B49: 432.5 | W49: 58 | X49: 457.5

Sheet NRA65
U1: Date Factors Issued to Client | V1: 46204
A2: Regular Contribution Elections | U2: Implementation date | V2: 01/08/2026 for NEW elections only | W2: Regular Contribution Elections
A3: Table D65: Personal and Dependant’s Benefits, NRA 65 | K3: x-709 | W3: Table P65: Personal Benefits, NRA 65 | AH3: x-708
A5: Age when notice of election given â | B5: Monthly contribution to purchase £250 of APB at date of election, £ | W5: Age when notice of election given â | X5: Monthly contribution to purchase £250 of APB at date of election, £
A6: Payment period (in years) à | B6: 1 | C6: 2 | D6: 3 | E6: 4 | F6: 5 | G6: 6 | H6: 7 | I6: 8 | J6: 9 | K6: 10 | L6: 11 | M6: 12 | N6: 13 | O6: 14 | P6: 15 | Q6: 16 | R6: 17 | S6: 18 | T6: 19 | U6: 20 | W6: Payment period (in years) à | X6: 1 | Y6: 2 | Z6: 3 | AA6: 4 | AB6: 5 | AC6: 6 | AD6: 7 | AE6: 8 | AF6: 9 | AG6: 10 | AH6: 11 | AI6: 12 | AJ6: 13 | AK6: 14 | AL6: 15 | AM6: 16 | AN6: 17 | AO6: 18 | AP6: 19 | AQ6: 20
A7: 16 | W7: 16
A8: 17 | W8: 17
A9: 18 | W9: 18
A10: 19 | W10: 19
A11: 20 | B11: 177.1 | C11: 90.3 | D11: 61.4 | E11: 46.9 | F11: 38.3 | G11: 32.5 | H11: 28.4 | I11: 25.3 | J11: 22.9 | K11: 21 | L11: 19.5 | M11: 18.2 | N11: 17.1 | O11: 16.2 | P11: 15.4 | Q11: 14.7 | R11: 14 | S11: 13.5 | T11: 13 | U11: 12.6 | W11: 20 | X11: 191.5 | Y11: 97.6 | Z11: 66.4 | AA11: 50.8 | AB11: 41.4 | AC11: 35.2 | AD11: 30.7 | AE11: 27.4 | AF11: 24.8 | AG11: 22.7 | AH11: 21.1 | AI11: 19.7 | AJ11: 18.5 | AK11: 17.5 | AL11: 16.6 | AM11: 15.9 | AN11: 15.2 | AO11: 14.6 | AP11: 14.1 | AQ11: 13.6
A12: 21 | B12: 180.3 | C12: 91.9 | D12: 62.5 | E12: 47.8 | F12: 39 | G12: 33.1 | H12: 28.9 | I12: 25.8 | J12: 23.4 | K12: 21.4 | L12: 19.8 | M12: 18.5 | N12: 17.4 | O12: 16.5 | P12: 15.6 | Q12: 14.9 | R12: 14.3 | S12: 13.8 | T12: 13.3 | U12: 12.8 | W12: 21 | X12: 195 | Y12: 99.4 | Z12: 67.6 | AA12: 51.7 | AB12: 42.1 | AC12: 35.8 | AD12: 31.3 | AE12: 27.9 | AF12: 25.3 | AG12: 23.2 | AH12: 21.4 | AI12: 20 | AJ12: 18.8 | AK12: 17.8 | AL12: 16.9 | AM12: 16.1 | AN12: 15.5 | AO12: 14.9 | AP12: 14.3 | AQ12: 13.9
A13: 22 | B13: 183.5 | C13: 93.6 | D13: 63.6 | E13: 48.6 | F13: 39.7 | G13: 33.7 | H13: 29.4 | I13: 26.3 | J13: 23.8 | K13: 21.8 | L13: 20.2 | M13: 18.9 | N13: 17.7 | O13: 16.8 | P13: 15.9 | Q13: 15.2 | R13: 14.6 | S13: 14 | T13: 13.5 | U13: 13 | W13: 22 | X13: 198.5 | Y13: 101.2 | Z13: 68.8 | AA13: 52.6 | AB13: 42.9 | AC13: 36.4 | AD13: 31.8 | AE13: 28.4 | AF13: 25.7 | AG13: 23.6 | AH13: 21.8 | AI13: 20.4 | AJ13: 19.2 | AK13: 18.1 | AL13: 17.2 | AM13: 16.4 | AN13: 15.8 | AO13: 15.1 | AP13: 14.6 | AQ13: 14.1
A14: 23 | B14: 186.8 | C14: 95.3 | D14: 64.8 | E14: 49.5 | F14: 40.4 | G14: 34.3 | H14: 30 | I14: 26.7 | J14: 24.2 | K14: 22.2 | L14: 20.6 | M14: 19.2 | N14: 18 | O14: 17.1 | P14: 16.2 | Q14: 15.5 | R14: 14.8 | S14: 14.3 | T14: 13.7 | U14: 13.3 | W14: 23 | X14: 202.1 | Y14: 103 | Z14: 70 | AA14: 53.6 | AB14: 43.7 | AC14: 37.1 | AD14: 32.4 | AE14: 28.9 | AF14: 26.2 | AG14: 24 | AH14: 22.2 | AI14: 20.8 | AJ14: 19.5 | AK14: 18.5 | AL14: 17.5 | AM14: 16.7 | AN14: 16 | AO14: 15.4 | AP14: 14.9 | AQ14: 14.4
A15: 24 | B15: 190.2 | C15: 97 | D15: 65.9 | E15: 50.4 | F15: 41.1 | G15: 34.9 | H15: 30.5 | I15: 27.2 | J15: 24.6 | K15: 22.6 | L15: 20.9 | M15: 19.5 | N15: 18.4 | O15: 17.4 | P15: 16.5 | Q15: 15.8 | R15: 15.1 | S15: 14.5 | T15: 14 | U15: 13.5 | W15: 24 | X15: 205.7 | Y15: 104.9 | Z15: 71.3 | AA15: 54.5 | AB15: 44.5 | AC15: 37.8 | AD15: 33 | AE15: 29.4 | AF15: 26.7 | AG15: 24.4 | AH15: 22.6 | AI15: 21.1 | AJ15: 19.9 | AK15: 18.8 | AL15: 17.9 | AM15: 17 | AN15: 16.3 | AO15: 15.7 | AP15: 15.1 | AQ15: 14.6
A16: 25 | B16: 193.6 | C16: 98.7 | D16: 67.1 | E16: 51.3 | F16: 41.9 | G16: 35.6 | H16: 31.1 | I16: 27.7 | J16: 25.1 | K16: 23 | L16: 21.3 | M16: 19.9 | N16: 18.7 | O16: 17.7 | P16: 16.8 | Q16: 16 | R16: 15.4 | S16: 14.8 | T16: 14.2 | U16: 13.8 | W16: 25 | X16: 209.4 | Y16: 106.8 | Z16: 72.6 | AA16: 55.5 | AB16: 45.3 | AC16: 38.5 | AD16: 33.6 | AE16: 30 | AF16: 27.1 | AG16: 24.9 | AH16: 23 | AI16: 21.5 | AJ16: 20.2 | AK16: 19.1 | AL16: 18.2 | AM16: 17.4 | AN16: 16.6 | AO16: 16 | AP16: 15.4 | AQ16: 14.9
A17: 26 | B17: 197.1 | C17: 100.5 | D17: 68.3 | E17: 52.2 | F17: 42.6 | G17: 36.2 | H17: 31.6 | I17: 28.2 | J17: 25.5 | K17: 23.4 | L17: 21.7 | M17: 20.3 | N17: 19 | O17: 18 | P17: 17.1 | Q17: 16.3 | R17: 15.7 | S17: 15 | T17: 14.5 | U17: 14 | W17: 26 | X17: 213.1 | Y17: 108.7 | Z17: 73.9 | AA17: 56.5 | AB17: 46.1 | AC17: 39.1 | AD17: 34.2 | AE17: 30.5 | AF17: 27.6 | AG17: 25.3 | AH17: 23.5 | AI17: 21.9 | AJ17: 20.6 | AK17: 19.5 | AL17: 18.5 | AM17: 17.7 | AN17: 16.9 | AO17: 16.3 | AP17: 15.7 | AQ17: 15.2
A18: 27 | B18: 200.6 | C18: 102.3 | D18: 69.5 | E18: 53.2 | F18: 43.4 | G18: 36.8 | H18: 32.2 | I18: 28.7 | J18: 26 | K18: 23.8 | L18: 22.1 | M18: 20.6 | N18: 19.4 | O18: 18.3 | P18: 17.4 | Q18: 16.6 | R18: 15.9 | S18: 15.3 | T18: 14.8 | U18: 14.3 | W18: 27 | X18: 217 | Y18: 110.6 | Z18: 75.2 | AA18: 57.5 | AB18: 46.9 | AC18: 39.9 | AD18: 34.8 | AE18: 31 | AF18: 28.1 | AG18: 25.8 | AH18: 23.9 | AI18: 22.3 | AJ18: 21 | AK18: 19.8 | AL18: 18.8 | AM18: 18 | AN18: 17.2 | AO18: 16.6 | AP18: 16 | AQ18: 15.4
A19: 28 | B19: 204.2 | C19: 104.1 | D19: 70.8 | E19: 54.1 | F19: 44.1 | G19: 37.5 | H19: 32.8 | I19: 29.2 | J19: 26.5 | K19: 24.3 | L19: 22.5 | M19: 21 | N19: 19.7 | O19: 18.7 | P19: 17.7 | Q19: 16.9 | R19: 16.2 | S19: 15.6 | T19: 15 | U19: 14.5 | W19: 28 | X19: 220.8 | Y19: 112.6 | Z19: 76.6 | AA19: 58.5 | AB19: 47.8 | AC19: 40.6 | AD19: 35.4 | AE19: 31.6 | AF19: 28.6 | AG19: 26.3 | AH19: 24.3 | AI19: 22.7 | AJ19: 21.3 | AK19: 20.2 | AL19: 19.2 | AM19: 18.3 | AN19: 17.5 | AO19: 16.9 | AP19: 16.3 | AQ19: 15.7
A20: 29 | B20: 207.8 | C20: 106 | D20: 72 | E20: 55.1 | F20: 44.9 | G20: 38.2 | H20: 33.4 | I20: 29.7 | J20: 26.9 | K20: 24.7 | L20: 22.9 | M20: 21.4 | N20: 20.1 | O20: 19 | P20: 18.1 | Q20: 17.2 | R20: 16.5 | S20: 15.9 | T20: 15.3 | U20: 14.8 | W20: 29 | X20: 224.8 | Y20: 114.6 | Z20: 77.9 | AA20: 59.6 | AB20: 48.6 | AC20: 41.3 | AD20: 36.1 | AE20: 32.2 | AF20: 29.1 | AG20: 26.7 | AH20: 24.8 | AI20: 23.1 | AJ20: 21.7 | AK20: 20.6 | AL20: 19.5 | AM20: 18.6 | AN20: 17.9 | AO20: 17.2 | AP20: 16.6 | AQ20: 16
A21: 30 | B21: 211.5 | C21: 107.9 | D21: 73.3 | E21: 56.1 | F21: 45.7 | G21: 38.9 | H21: 33.9 | I21: 30.3 | J21: 27.4 | K21: 25.2 | L21: 23.3 | M21: 21.8 | N21: 20.5 | O21: 19.3 | P21: 18.4 | Q21: 17.6 | R21: 16.8 | S21: 16.2 | T21: 15.6 | U21: 15.1 | W21: 30 | X21: 228.8 | Y21: 116.7 | Z21: 79.3 | AA21: 60.7 | AB21: 49.5 | AC21: 42 | AD21: 36.7 | AE21: 32.7 | AF21: 29.7 | AG21: 27.2 | AH21: 25.2 | AI21: 23.5 | AJ21: 22.1 | AK21: 20.9 | AL21: 19.9 | AM21: 19 | AN21: 18.2 | AO21: 17.5 | AP21: 16.9 | AQ21: 16.3
A22: 31 | B22: 215.3 | C22: 109.8 | D22: 74.6 | E22: 57.1 | F22: 46.6 | G22: 39.6 | H22: 34.6 | I22: 30.8 | J22: 27.9 | K22: 25.6 | L22: 23.7 | M22: 22.1 | N22: 20.8 | O22: 19.7 | P22: 18.7 | Q22: 17.9 | R22: 17.1 | S22: 16.5 | T22: 15.9 | U22: 15.4 | W22: 31 | X22: 232.8 | Y22: 118.7 | Z22: 80.7 | AA22: 61.7 | AB22: 50.4 | AC22: 42.8 | AD22: 37.4 | AE22: 33.3 | AF22: 30.2 | AG22: 27.7 | AH22: 25.6 | AI22: 24 | AJ22: 22.5 | AK22: 21.3 | AL22: 20.2 | AM22: 19.3 | AN22: 18.5 | AO22: 17.8 | AP22: 17.2 | AQ22: 16.6
... A36: 45 | B36: 275.4 | C36: 140.5 | D36: 95.6 | E36: 73.2 | F36: 59.7 | G36: 50.8 | H36: 44.4 | I36: 39.7 | J36: 36 | K36: 33 | L36: 30.6 | M36: 28.6 | N36: 27 | O36: 25.6 | P36: 24.3 | Q36: 23.3 | R36: 22.3 | S36: 21.5 | T36: 20.8 | U36: 20.1 | W36: 45 | X36: 297.2 | Y36: 151.7 | Z36: 103.2 | AA36: 79 | AB36: 64.5 | AC36: 54.8 | AD36: 47.9 | AE36: 42.8 | AF36: 38.8 | AG36: 35.6 | AH36: 33.1 | AI36: 30.9 | AJ36: 29.1 | AK36: 27.6 | AL36: 26.3 | AM36: 25.1 | AN36: 24.1 | AO36: 23.2 | AP36: 22.4 | AQ36: 21.7
A37: 46 | B37: 280.2 | C37: 143 | D37: 97.3 | E37: 74.5 | F37: 60.8 | G37: 51.7 | H37: 45.2 | I37: 40.4 | J37: 36.6 | K37: 33.7 | L37: 31.2 | M37: 29.2 | N37: 27.5 | O37: 26.1 | P37: 24.8 | Q37: 23.7 | R37: 22.8 | S37: 22 | T37: 21.2 | W37: 46 | X37: 302.3 | Y37: 154.3 | Z37: 105 | AA37: 80.4 | AB37: 65.6 | AC37: 55.8 | AD37: 48.8 | AE37: 43.6 | AF37: 39.5 | AG37: 36.3 | AH37: 33.7 | AI37: 31.5 | AJ37: 29.7 | AK37: 28.1 | AL37: 26.8 | AM37: 25.6 | AN37: 24.6 | AO37: 23.7 | AP37: 22.9
A38: 47 | B38: 285.1 | C38: 145.5 | D38: 99.1 | E38: 75.8 | F38: 61.9 | G38: 52.7 | H38: 46.1 | I38: 41.2 | J38: 37.3 | K38: 34.3 | L38: 31.8 | M38: 29.8 | N38: 28.1 | O38: 26.6 | P38: 25.3 | Q38: 24.2 | R38: 23.3 | S38: 22.4 | W38: 47 | X38: 307.6 | Y38: 157 | Z38: 106.8 | AA38: 81.8 | AB38: 66.8 | AC38: 56.8 | AD38: 49.7 | AE38: 44.4 | AF38: 40.3 | AG38: 37 | AH38: 34.3 | AI38: 32.1 | AJ38: 30.3 | AK38: 28.7 | AL38: 27.3 | AM38: 26.1 | AN38: 25.1 | AO38: 24.2
A39: 48 | B39: 290.2 | C39: 148.1 | D39: 100.8 | E39: 77.2 | F39: 63.1 | G39: 53.7 | H39: 47 | I39: 41.9 | J39: 38.1 | K39: 35 | L39: 32.5 | M39: 30.4 | N39: 28.6 | O39: 27.1 | P39: 25.8 | Q39: 24.7 | R39: 23.7 | W39: 48 | X39: 312.9 | Y39: 159.7 | Z39: 108.7 | AA39: 83.3 | AB39: 68 | AC39: 57.9 | AD39: 50.6 | AE39: 45.2 | AF39: 41 | AG39: 37.7 | AH39: 35 | AI39: 32.7 | AJ39: 30.9 | AK39: 29.2 | AL39: 27.9 | AM39: 26.7 | AN39: 25.6
A40: 49 | B40: 295.3 | C40: 150.8 | D40: 102.7 | E40: 78.6 | F40: 64.2 | G40: 54.7 | H40: 47.8 | I40: 42.7 | J40: 38.8 | K40: 35.7 | L40: 33.1 | M40: 31 | N40: 29.2 | O40: 27.7 | P40: 26.4 | Q40: 25.2 | W40: 49 | X40: 318.3 | Y40: 162.5 | Z40: 110.7 | AA40: 84.8 | AB40: 69.2 | AC40: 58.9 | AD40: 51.6 | AE40: 46.1 | AF40: 41.8 | AG40: 38.4 | AH40: 35.7 | AI40: 33.4 | AJ40: 31.5 | AK40: 29.8 | AL40: 28.4 | AM40: 27.2
A41: 50 | B41: 300.5 | C41: 153.5 | D41: 104.5 | E41: 80.1 | F41: 65.4 | G41: 55.7 | H41: 48.7 | I41: 43.6 | J41: 39.5 | K41: 36.4 | L41: 33.7 | M41: 31.6 | N41: 29.8 | O41: 28.2 | P41: 26.9 | W41: 50 | X41: 323.8 | Y41: 165.4 | Z41: 112.6 | AA41: 86.3 | AB41: 70.5 | AC41: 60 | AD41: 52.5 | AE41: 46.9 | AF41: 42.6 | AG41: 39.2 | AH41: 36.4 | AI41: 34 | AJ41: 32.1 | AK41: 30.4 | AL41: 29
A42: 51 | B42: 305.8 | C42: 156.2 | D42: 106.4 | E42: 81.5 | F42: 66.6 | G42: 56.7 | H42: 49.7 | I42: 44.4 | J42: 40.3 | K42: 37.1 | L42: 34.4 | M42: 32.2 | N42: 30.4 | O42: 28.8 | W42: 51 | X42: 329.3 | Y42: 168.2 | Z42: 114.6 | AA42: 87.8 | AB42: 71.8 | AC42: 61.1 | AD42: 53.5 | AE42: 47.8 | AF42: 43.4 | AG42: 39.9 | AH42: 37.1 | AI42: 34.7 | AJ42: 32.7 | AK42: 31
A43: 52 | B43: 311.2 | C43: 159 | D43: 108.3 | E43: 83 | F43: 67.9 | G43: 57.8 | H43: 50.6 | I43: 45.3 | J43: 41.1 | K43: 37.8 | L43: 35.1 | M43: 32.9 | N43: 31 | W43: 52 | X43: 335 | Y43: 171.2 | Z43: 116.6 | AA43: 89.4 | AB43: 73.1 | AC43: 62.2 | AD43: 54.5 | AE43: 48.7 | AF43: 44.2 | AG43: 40.7 | AH43: 37.8 | AI43: 35.4 | AJ43: 33.4
A44: 53 | B44: 316.7 | C44: 161.9 | D44: 110.3 | E44: 84.6 | F44: 69.1 | G44: 58.9 | H44: 51.6 | I44: 46.1 | J44: 41.9 | K44: 38.5 | L44: 35.8 | M44: 33.5 | W44: 53 | X44: 340.8 | Y44: 174.2 | Z44: 118.7 | AA44: 91 | AB44: 74.4 | AC44: 63.4 | AD44: 55.5 | AE44: 49.6 | AF44: 45.1 | AG44: 41.5 | AH44: 38.5 | AI44: 36.1
A45: 54 | B45: 322.4 | C45: 164.8 | D45: 112.3 | E45: 86.1 | F45: 70.4 | G45: 60 | H45: 52.6 | I45: 47 | J45: 42.7 | K45: 39.3 | L45: 36.5 | W45: 54 | X45: 346.7 | Y45: 177.2 | Z45: 120.8 | AA45: 92.6 | AB45: 75.7 | AC45: 64.5 | AD45: 56.5 | AE45: 50.6 | AF45: 46 | AG45: 42.3 | AH45: 39.3
A46: 55 | B46: 328.2 | C46: 167.8 | D46: 114.4 | E46: 87.7 | F46: 71.8 | G46: 61.1 | H46: 53.6 | I46: 47.9 | J46: 43.6 | K46: 40.1 | W46: 55 | X46: 352.7 | Y46: 180.3 | Z46: 122.9 | AA46: 94.3 | AB46: 77.1 | AC46: 65.7 | AD46: 57.6 | AE46: 51.5 | AF46: 46.8 | AG46: 43.1
A47: 56 | B47: 334 | C47: 170.8 | D47: 116.5 | E47: 89.4 | F47: 73.1 | G47: 62.3 | H47: 54.6 | I47: 48.9 | J47: 44.4 | W47: 56 | X47: 358.8 | Y47: 183.5 | Z47: 125.1 | AA47: 96 | AB47: 78.5 | AC47: 66.9 | AD47: 58.7 | AE47: 52.5 | AF47: 47.7
A48: 57 | B48: 340 | C48: 173.9 | D48: 118.6 | E48: 91 | F48: 74.5 | G48: 63.5 | H48: 55.7 | I48: 49.8 | W48: 57 | X48: 365 | Y48: 186.7 | Z48: 127.3 | AA48: 97.7 | AB48: 80 | AC48: 68.2 | AD48: 59.8 | AE48: 53.5
A49: 58 | B49: 346.1 | C49: 177.1 | D49: 120.8 | E49: 92.7 | F49: 75.9 | G49: 64.7 | H49: 56.8 | W49: 58 | X49: 371.3 | Y49: 190 | Z49: 129.6 | AA49: 99.5 | AB49: 81.4 | AC49: 69.4 | AD49: 60.9
A50: 59 | B50: 352.4 | C50: 180.4 | D50: 123.1 | E50: 94.5 | F50: 77.4 | G50: 66 | W50: 59 | X50: 377.7 | Y50: 193.3 | Z50: 131.9 | AA50: 101.3 | AB50: 82.9 | AC50: 70.7
A51: 60 | B51: 358.9 | C51: 183.7 | D51: 125.4 | E51: 96.3 | F51: 78.8 | W51: 60 | X51: 384.3 | Y51: 196.8 | Z51: 134.3 | AA51: 103.1 | AB51: 84.5
A52: 61 | B52: 365.5 | C52: 187.2 | D52: 127.8 | E52: 98.1 | W52: 61 | X52: 391.2 | Y52: 200.3 | Z52: 136.7 | AA52: 105
A53: 62 | B53: 372.4 | C53: 190.8 | D53: 130.3 | W53: 62 | X53: 398.2 | Y53: 203.9 | Z53: 139.3
A54: 63 | B54: 379.7 | C54: 194.5 | W54: 63 | X54: 405.6 | Y54: 207.8
A55: 64 | B55: 387.3 | W55: 64 | X55: 413.3

Sheet NRA66
U1: Date Factors Issued to Client | V1: 46204
A2: Regular Contribution Elections | U2: Implementation date | V2: 01/08/2026 for NEW elections only | W2: Regular Contribution Elections
A3: Table D66: Personal and Dependant’s Benefits, NRA 66 | J3: x-711 | W3: Table P66: Personal Benefits, NRA 66 | AC3: x-710
A5: Age when notice of election given â | B5: Monthly contribution to purchase £250 of APB at date of election, £ | W5: Age when notice of election given â | X5: Monthly contribution to purchase £250 of APB at date of election, £
A6: Payment period (in years) à | B6: 1 | C6: 2 | D6: 3 | E6: 4 | F6: 5 | G6: 6 | H6: 7 | I6: 8 | J6: 9 | K6: 10 | L6: 11 | M6: 12 | N6: 13 | O6: 14 | P6: 15 | Q6: 16 | R6: 17 | S6: 18 | T6: 19 | U6: 20 | W6: Payment period (in years) à | X6: 1 | Y6: 2 | Z6: 3 | AA6: 4 | AB6: 5 | AC6: 6 | AD6: 7 | AE6: 8 | AF6: 9 | AG6: 10 | AH6: 11 | AI6: 12 | AJ6: 13 | AK6: 14 | AL6: 15 | AM6: 16 | AN6: 17 | AO6: 18 | AP6: 19 | AQ6: 20
A7: 16 | W7: 16
A8: 17 | W8: 17
A9: 18 | W9: 18
A10: 19 | W10: 19
A11: 20 | B11: 184.8 | C11: 94.2 | D11: 64.1 | E11: 49 | F11: 40 | G11: 33.9 | H11: 29.6 | I11: 26.4 | J11: 23.9 | K11: 22 | L11: 20.3 | M11: 19 | N11: 17.8 | O11: 16.9 | P11: 16 | Q11: 15.3 | R11: 14.7 | S11: 14.1 | T11: 13.6 | U11: 13.1 | W11: 20 | X11: 170.3 | Y11: 86.8 | Z11: 59 | AA11: 45.1 | AB11: 36.8 | AC11: 31.3 | AD11: 27.3 | AE11: 24.4 | AF11: 22.1 | AG11: 20.2 | AH11: 18.7 | AI11: 17.5 | AJ11: 16.4 | AK11: 15.5 | AL11: 14.8 | AM11: 14.1 | AN11: 13.5 | AO11: 13 | AP11: 12.5 | AQ11: 12.1
A12: 21 | B12: 188.2 | C12: 95.9 | D12: 65.2 | E12: 49.9 | F12: 40.7 | G12: 34.6 | H12: 30.2 | I12: 26.9 | J12: 24.4 | K12: 22.4 | L12: 20.7 | M12: 19.3 | N12: 18.2 | O12: 17.2 | P12: 16.3 | Q12: 15.6 | R12: 14.9 | S12: 14.4 | T12: 13.8 | U12: 13.4 | W12: 21 | X12: 173.4 | Y12: 88.4 | Z12: 60.1 | AA12: 46 | AB12: 37.5 | AC12: 31.8 | AD12: 27.8 | AE12: 24.8 | AF12: 22.5 | AG12: 20.6 | AH12: 19.1 | AI12: 17.8 | AJ12: 16.7 | AK12: 15.8 | AL12: 15 | AM12: 14.4 | AN12: 13.8 | AO12: 13.2 | AP12: 12.7 | AQ12: 12.3
A13: 22 | B13: 191.6 | C13: 97.7 | D13: 66.4 | E13: 50.8 | F13: 41.4 | G13: 35.2 | H13: 30.7 | I13: 27.4 | J13: 24.8 | K13: 22.8 | L13: 21.1 | M13: 19.7 | N13: 18.5 | O13: 17.5 | P13: 16.6 | Q13: 15.9 | R13: 15.2 | S13: 14.6 | T13: 14.1 | U13: 13.6 | W13: 22 | X13: 176.5 | Y13: 90 | Z13: 61.2 | AA13: 46.8 | AB13: 38.2 | AC13: 32.4 | AD13: 28.3 | AE13: 25.2 | AF13: 22.9 | AG13: 21 | AH13: 19.4 | AI13: 18.1 | AJ13: 17 | AK13: 16.1 | AL13: 15.3 | AM13: 14.6 | AN13: 14 | AO13: 13.5 | AP13: 13 | AQ13: 12.5
A14: 23 | B14: 195 | C14: 99.4 | D14: 67.6 | E14: 51.7 | F14: 42.2 | G14: 35.8 | H14: 31.3 | I14: 27.9 | J14: 25.3 | K14: 23.2 | L14: 21.5 | M14: 20 | N14: 18.8 | O14: 17.8 | P14: 16.9 | Q14: 16.2 | R14: 15.5 | S14: 14.9 | T14: 14.3 | U14: 13.9 | W14: 23 | X14: 179.7 | Y14: 91.6 | Z14: 62.3 | AA14: 47.6 | AB14: 38.8 | AC14: 33 | AD14: 28.8 | AE14: 25.7 | AF14: 23.3 | AG14: 21.3 | AH14: 19.8 | AI14: 18.5 | AJ14: 17.4 | AK14: 16.4 | AL14: 15.6 | AM14: 14.9 | AN14: 14.3 | AO14: 13.7 | AP14: 13.2 | AQ14: 12.8
A15: 24 | B15: 198.5 | C15: 101.2 | D15: 68.8 | E15: 52.6 | F15: 42.9 | G15: 36.5 | H15: 31.9 | I15: 28.4 | J15: 25.7 | K15: 23.6 | L15: 21.8 | M15: 20.4 | N15: 19.2 | O15: 18.1 | P15: 17.2 | Q15: 16.4 | R15: 15.8 | S15: 15.1 | T15: 14.6 | U15: 14.1 | W15: 24 | X15: 182.9 | Y15: 93.3 | Z15: 63.4 | AA15: 48.5 | AB15: 39.5 | AC15: 33.6 | AD15: 29.3 | AE15: 26.2 | AF15: 23.7 | AG15: 21.7 | AH15: 20.1 | AI15: 18.8 | AJ15: 17.7 | AK15: 16.7 | AL15: 15.9 | AM15: 15.2 | AN15: 14.5 | AO15: 14 | AP15: 13.5 | AQ15: 13
A16: 25 | B16: 202.1 | C16: 103 | D16: 70.1 | E16: 53.6 | F16: 43.7 | G16: 37.1 | H16: 32.4 | I16: 28.9 | J16: 26.2 | K16: 24 | L16: 22.2 | M16: 20.8 | N16: 19.5 | O16: 18.5 | P16: 17.5 | Q16: 16.7 | R16: 16 | S16: 15.4 | T16: 14.9 | U16: 14.4 | W16: 25 | X16: 186.2 | Y16: 94.9 | Z16: 64.5 | AA16: 49.4 | AB16: 40.3 | AC16: 34.2 | AD16: 29.9 | AE16: 26.6 | AF16: 24.1 | AG16: 22.1 | AH16: 20.5 | AI16: 19.1 | AJ16: 18 | AK16: 17 | AL16: 16.2 | AM16: 15.4 | AN16: 14.8 | AO16: 14.2 | AP16: 13.7 | AQ16: 13.2
A17: 26 | B17: 205.7 | C17: 104.9 | D17: 71.3 | E17: 54.5 | F17: 44.5 | G17: 37.8 | H17: 33 | I17: 29.4 | J17: 26.7 | K17: 24.4 | L17: 22.6 | M17: 21.1 | N17: 19.9 | O17: 18.8 | P17: 17.9 | Q17: 17.1 | R17: 16.3 | S17: 15.7 | T17: 15.1 | U17: 14.6 | W17: 26 | X17: 189.5 | Y17: 96.6 | Z17: 65.7 | AA17: 50.2 | AB17: 41 | AC17: 34.8 | AD17: 30.4 | AE17: 27.1 | AF17: 24.6 | AG17: 22.5 | AH17: 20.9 | AI17: 19.5 | AJ17: 18.3 | AK17: 17.3 | AL17: 16.5 | AM17: 15.7 | AN17: 15.1 | AO17: 14.5 | AP17: 14 | AQ17: 13.5
A18: 27 | B18: 209.4 | C18: 106.8 | D18: 72.6 | E18: 55.5 | F18: 45.3 | G18: 38.5 | H18: 33.6 | I18: 30 | J18: 27.1 | K18: 24.9 | L18: 23 | M18: 21.5 | N18: 20.2 | O18: 19.1 | P18: 18.2 | Q18: 17.4 | R18: 16.6 | S18: 16 | T18: 15.4 | U18: 14.9 | W18: 27 | X18: 192.9 | Y18: 98.4 | Z18: 66.9 | AA18: 51.1 | AB18: 41.7 | AC18: 35.4 | AD18: 31 | AE18: 27.6 | AF18: 25 | AG18: 22.9 | AH18: 21.2 | AI18: 19.8 | AJ18: 18.6 | AK18: 17.6 | AL18: 16.8 | AM18: 16 | AN18: 15.3 | AO18: 14.7 | AP18: 14.2 | AQ18: 13.7
A19: 28 | B19: 213.1 | C19: 108.7 | D19: 73.9 | E19: 56.5 | F19: 46.1 | G19: 39.1 | H19: 34.2 | I19: 30.5 | J19: 27.6 | K19: 25.3 | L19: 23.5 | M19: 21.9 | N19: 20.6 | O19: 19.5 | P19: 18.5 | Q19: 17.7 | R19: 16.9 | S19: 16.3 | T19: 15.7 | U19: 15.2 | W19: 28 | X19: 196.3 | Y19: 100.1 | Z19: 68.1 | AA19: 52.1 | AB19: 42.5 | AC19: 36.1 | AD19: 31.5 | AE19: 28.1 | AF19: 25.5 | AG19: 23.3 | AH19: 21.6 | AI19: 20.2 | AJ19: 19 | AK19: 17.9 | AL19: 17.1 | AM19: 16.3 | AN19: 15.6 | AO19: 15 | AP19: 14.5 | AQ19: 14
A20: 29 | B20: 216.9 | C20: 110.6 | D20: 75.2 | E20: 57.5 | F20: 46.9 | G20: 39.8 | H20: 34.8 | I20: 31 | J20: 28.1 | K20: 25.8 | L20: 23.9 | M20: 22.3 | N20: 21 | O20: 19.8 | P20: 18.8 | Q20: 18 | R20: 17.2 | S20: 16.6 | T20: 16 | U20: 15.5 | W20: 29 | X20: 199.8 | Y20: 101.9 | Z20: 69.3 | AA20: 53 | AB20: 43.2 | AC20: 36.7 | AD20: 32.1 | AE20: 28.6 | AF20: 25.9 | AG20: 23.8 | AH20: 22 | AI20: 20.5 | AJ20: 19.3 | AK20: 18.3 | AL20: 17.4 | AM20: 16.6 | AN20: 15.9 | AO20: 15.3 | AP20: 14.7 | AQ20: 14.2
A21: 30 | B21: 220.7 | C21: 112.6 | D21: 76.5 | E21: 58.5 | F21: 47.7 | G21: 40.6 | H21: 35.4 | I21: 31.6 | J21: 28.6 | K21: 26.3 | L21: 24.3 | M21: 22.7 | N21: 21.3 | O21: 20.2 | P21: 19.2 | Q21: 18.3 | R21: 17.6 | S21: 16.9 | T21: 16.3 | U21: 15.7 | W21: 30 | X21: 203.4 | Y21: 103.7 | Z21: 70.5 | AA21: 53.9 | AB21: 44 | AC21: 37.4 | AD21: 32.6 | AE21: 29.1 | AF21: 26.4 | AG21: 24.2 | AH21: 22.4 | AI21: 20.9 | AJ21: 19.7 | AK21: 18.6 | AL21: 17.7 | AM21: 16.9 | AN21: 16.2 | AO21: 15.6 | AP21: 15 | AQ21: 14.5
A22: 31 | B22: 224.7 | C22: 114.6 | D22: 77.9 | E22: 59.6 | F22: 48.6 | G22: 41.3 | H22: 36.1 | I22: 32.2 | J22: 29.1 | K22: 26.7 | L22: 24.7 | M22: 23.1 | N22: 21.7 | O22: 20.6 | P22: 19.5 | Q22: 18.7 | R22: 17.9 | S22: 17.2 | T22: 16.6 | U22: 16 | W22: 31 | X22: 207 | Y22: 105.6 | Z22: 71.8 | AA22: 54.9 | AB22: 44.8 | AC22: 38 | AD22: 33.2 | AE22: 29.6 | AF22: 26.8 | AG22: 24.6 | AH22: 22.8 | AI22: 21.3 | AJ22: 20 | AK22: 18.9 | AL22: 18 | AM22: 17.2 | AN22: 16.5 | AO22: 15.8 | AP22: 15.3 | AQ22: 14.8
... A37: 46 | B37: 291.4 | C37: 148.7 | D37: 101.2 | E37: 77.5 | F37: 63.3 | G37: 53.8 | H37: 47.1 | I37: 42 | J37: 38.1 | K37: 35 | L37: 32.5 | M37: 30.4 | N37: 28.6 | O37: 27.1 | P37: 25.8 | Q37: 24.7 | R37: 23.7 | S37: 22.8 | T37: 22.1 | U37: 21.4 | W37: 46 | X37: 269.2 | Y37: 137.4 | Z37: 93.5 | AA37: 71.6 | AB37: 58.4 | AC37: 49.7 | AD37: 43.5 | AE37: 38.8 | AF37: 35.2 | AG37: 32.3 | AH37: 30 | AI37: 28.1 | AJ37: 26.4 | AK37: 25 | AL37: 23.8 | AM37: 22.8 | AN37: 21.9 | AO37: 21.1 | AP37: 20.4 | AQ37: 19.8
A38: 47 | B38: 296.4 | C38: 151.3 | D38: 103 | E38: 78.8 | F38: 64.4 | G38: 54.8 | H38: 47.9 | I38: 42.8 | J38: 38.8 | K38: 35.7 | L38: 33.1 | M38: 31 | N38: 29.2 | O38: 27.6 | P38: 26.3 | Q38: 25.2 | R38: 24.2 | S38: 23.3 | T38: 22.5 | W38: 47 | X38: 273.8 | Y38: 139.8 | Z38: 95.1 | AA38: 72.8 | AB38: 59.5 | AC38: 50.6 | AD38: 44.3 | AE38: 39.5 | AF38: 35.9 | AG38: 32.9 | AH38: 30.6 | AI38: 28.6 | AJ38: 26.9 | AK38: 25.5 | AL38: 24.3 | AM38: 23.3 | AN38: 22.3 | AO38: 21.5 | AP38: 20.8
A39: 48 | B39: 301.4 | C39: 153.9 | D39: 104.7 | E39: 80.2 | F39: 65.5 | G39: 55.7 | H39: 48.8 | I39: 43.6 | J39: 39.5 | K39: 36.3 | L39: 33.7 | M39: 31.5 | N39: 29.7 | O39: 28.2 | P39: 26.8 | Q39: 25.7 | R39: 24.7 | S39: 23.8 | W39: 48 | X39: 278.6 | Y39: 142.2 | Z39: 96.8 | AA39: 74.1 | AB39: 60.5 | AC39: 51.5 | AD39: 45.1 | AE39: 40.3 | AF39: 36.5 | AG39: 33.6 | AH39: 31.2 | AI39: 29.2 | AJ39: 27.5 | AK39: 26 | AL39: 24.8 | AM39: 23.7 | AN39: 22.8 | AO39: 22
A40: 49 | B40: 306.5 | C40: 156.5 | D40: 106.6 | E40: 81.6 | F40: 66.7 | G40: 56.7 | H40: 49.7 | I40: 44.4 | J40: 40.3 | K40: 37 | L40: 34.4 | M40: 32.2 | N40: 30.3 | O40: 28.7 | P40: 27.4 | Q40: 26.2 | R40: 25.2 | W40: 49 | X40: 283.4 | Y40: 144.7 | Z40: 98.5 | AA40: 75.5 | AB40: 61.6 | AC40: 52.5 | AD40: 45.9 | AE40: 41 | AF40: 37.2 | AG40: 34.2 | AH40: 31.8 | AI40: 29.7 | AJ40: 28 | AK40: 26.6 | AL40: 25.3 | AM40: 24.2 | AN40: 23.3
A41: 50 | B41: 311.7 | C41: 159.2 | D41: 108.4 | E41: 83 | F41: 67.9 | G41: 57.8 | H41: 50.6 | I41: 45.2 | J41: 41 | K41: 37.7 | L41: 35 | M41: 32.8 | N41: 30.9 | O41: 29.3 | P41: 27.9 | Q41: 26.7 | W41: 50 | X41: 288.3 | Y41: 147.2 | Z41: 100.3 | AA41: 76.8 | AB41: 62.8 | AC41: 53.4 | AD41: 46.8 | AE41: 41.8 | AF41: 37.9 | AG41: 34.9 | AH41: 32.4 | AI41: 30.3 | AJ41: 28.6 | AK41: 27.1 | AL41: 25.8 | AM41: 24.7
A42: 51 | B42: 317 | C42: 161.9 | D42: 110.3 | E42: 84.5 | F42: 69.1 | G42: 58.8 | H42: 51.5 | I42: 46 | J42: 41.8 | K42: 38.4 | L42: 35.7 | M42: 33.4 | N42: 31.5 | O42: 29.9 | P42: 28.5 | W42: 51 | X42: 293.3 | Y42: 149.8 | Z42: 102.1 | AA42: 78.2 | AB42: 63.9 | AC42: 54.4 | AD42: 47.6 | AE42: 42.6 | AF42: 38.7 | AG42: 35.5 | AH42: 33 | AI42: 30.9 | AJ42: 29.1 | AK42: 27.6 | AL42: 26.3
A43: 52 | B43: 322.3 | C43: 164.7 | D43: 112.2 | E43: 86 | F43: 70.3 | G43: 59.9 | H43: 52.4 | I43: 46.9 | J43: 42.6 | K43: 39.1 | L43: 36.4 | M43: 34 | N43: 32.1 | O43: 30.5 | W43: 52 | X43: 298.4 | Y43: 152.5 | Z43: 103.9 | AA43: 79.6 | AB43: 65.1 | AC43: 55.4 | AD43: 48.5 | AE43: 43.4 | AF43: 39.4 | AG43: 36.2 | AH43: 33.7 | AI43: 31.5 | AJ43: 29.7 | AK43: 28.2
A44: 53 | B44: 327.8 | C44: 167.5 | D44: 114.1 | E44: 87.5 | F44: 71.5 | G44: 60.9 | H44: 53.4 | I44: 47.7 | J44: 43.4 | K44: 39.9 | L44: 37 | M44: 34.7 | N44: 32.7 | W44: 53 | X44: 303.6 | Y44: 155.2 | Z44: 105.7 | AA44: 81 | AB44: 66.3 | AC44: 56.4 | AD44: 49.4 | AE44: 44.2 | AF44: 40.2 | AG44: 36.9 | AH44: 34.3 | AI44: 32.1 | AJ44: 30.3
A45: 54 | B45: 333.3 | C45: 170.4 | D45: 116.1 | E45: 89 | F45: 72.8 | G45: 62 | H45: 54.4 | I45: 48.6 | J45: 44.2 | K45: 40.6 | L45: 37.8 | M45: 35.4 | W45: 54 | X45: 308.9 | Y45: 157.9 | Z45: 107.6 | AA45: 82.5 | AB45: 67.5 | AC45: 57.5 | AD45: 50.4 | AE45: 45.1 | AF45: 40.9 | AG45: 37.7 | AH45: 35 | AI45: 32.8
A46: 55 | B46: 338.9 | C46: 173.3 | D46: 118.1 | E46: 90.6 | F46: 74.1 | G46: 63.2 | H46: 55.3 | I46: 49.5 | J46: 45 | K46: 41.4 | L46: 38.5 | W46: 55 | X46: 314.3 | Y46: 160.7 | Z46: 109.5 | AA46: 84 | AB46: 68.7 | AC46: 58.6 | AD46: 51.3 | AE46: 45.9 | AF46: 41.7 | AG46: 38.4 | AH46: 35.7
A47: 56 | B47: 344.7 | C47: 176.3 | D47: 120.2 | E47: 92.2 | F47: 75.4 | G47: 64.3 | H47: 56.4 | I47: 50.4 | J47: 45.8 | K47: 42.2 | W47: 56 | X47: 319.8 | Y47: 163.6 | Z47: 111.5 | AA47: 85.5 | AB47: 70 | AC47: 59.7 | AD47: 52.3 | AE47: 46.8 | AF47: 42.5 | AG47: 39.1
A48: 57 | B48: 350.5 | C48: 179.3 | D48: 122.3 | E48: 93.8 | F48: 76.8 | G48: 65.5 | H48: 57.4 | I48: 51.4 | J48: 46.7 | W48: 57 | X48: 325.5 | Y48: 166.5 | Z48: 113.6 | AA48: 87.1 | AB48: 71.3 | AC48: 60.8 | AD48: 53.3 | AE48: 47.7 | AF48: 43.4
A49: 58 | B49: 356.5 | C49: 182.4 | D49: 124.5 | E49: 95.5 | F49: 78.2 | G49: 66.7 | H49: 58.5 | I49: 52.3 | W49: 58 | X49: 331.3 | Y49: 169.5 | Z49: 115.6 | AA49: 88.8 | AB49: 72.7 | AC49: 61.9 | AD49: 54.3 | AE49: 48.6
A50: 59 | B50: 362.7 | C50: 185.6 | D50: 126.7 | E50: 97.2 | F50: 79.6 | G50: 67.9 | H50: 59.6 | W50: 59 | X50: 337.3 | Y50: 172.6 | Z50: 117.8 | AA50: 90.4 | AB50: 74 | AC50: 63.1 | AD50: 55.4
A51: 60 | B51: 369 | C51: 188.9 | D51: 128.9 | E51: 99 | F51: 81.1 | G51: 69.2 | W51: 60 | X51: 343.4 | Y51: 175.8 | Z51: 120 | AA51: 92.1 | AB51: 75.5 | AC51: 64.4
A52: 61 | B52: 375.5 | C52: 192.3 | D52: 131.3 | E52: 100.8 | F52: 82.6 | W52: 61 | X52: 349.7 | Y52: 179.1 | Z52: 122.3 | AA52: 93.9 | AB52: 76.9
A53: 62 | B53: 382.1 | C53: 195.7 | D53: 133.6 | E53: 102.7 | W53: 62 | X53: 356.2 | Y53: 182.5 | Z53: 124.6 | AA53: 95.7
A54: 63 | B54: 389 | C54: 199.3 | D54: 136.1 | W54: 63 | X54: 363 | Y54: 186 | Z54: 127
A55: 64 | B55: 396.2 | C55: 203 | W55: 64 | X55: 370.1 | Y55: 189.7
A56: 65 | B56: 403.8 | W56: 65 | X56: 377.6

Sheet NRA67
U1: Date Factors Issued to Client | V1: 46204
A2: Regular Contribution Elections | U2: Implementation date | V2: 01/08/2026 for NEW elections only | W2: Regular Contribution Elections
A3: Table D67: Personal and Dependant’s Benefits, NRA 67 | J3: x-713 | W3: Table P67: Personal Benefits, NRA 67 | AE3: x-712
A5: Age when notice of election given â | B5: Monthly contribution to purchase £250 of APB at date of election, £ | W5: Age when notice of election given â | X5: Monthly contribution to purchase £250 of APB at date of election, £
A6: Payment period (in years) à | B6: 1 | C6: 2 | D6: 3 | E6: 4 | F6: 5 | G6: 6 | H6: 7 | I6: 8 | J6: 9 | K6: 10 | L6: 11 | M6: 12 | N6: 13 | O6: 14 | P6: 15 | Q6: 16 | R6: 17 | S6: 18 | T6: 19 | U6: 20 | W6: Payment period (in years) à | X6: 1 | Y6: 2 | Z6: 3 | AA6: 4 | AB6: 5 | AC6: 6 | AD6: 7 | AE6: 8 | AF6: 9 | AG6: 10 | AH6: 11 | AI6: 12 | AJ6: 13 | AK6: 14 | AL6: 15 | AM6: 16 | AN6: 17 | AO6: 18 | AP6: 19 | AQ6: 20
A7: 16 | W7: 16
A8: 17 | W8: 17
A9: 18 | W9: 18
A10: 19 | W10: 19
A11: 20 | B11: 177.5 | C11: 90.5 | D11: 61.5 | E11: 47 | F11: 38.4 | G11: 32.6 | H11: 28.5 | I11: 25.4 | J11: 23 | K11: 21.1 | L11: 19.5 | M11: 18.2 | N11: 17.1 | O11: 16.2 | P11: 15.4 | Q11: 14.7 | R11: 14.1 | S11: 13.5 | T11: 13 | U11: 12.6 | W11: 20 | X11: 162.9 | Y11: 83.1 | Z11: 56.5 | AA11: 43.2 | AB11: 35.2 | AC11: 29.9 | AD11: 26.1 | AE11: 23.3 | AF11: 21.1 | AG11: 19.4 | AH11: 17.9 | AI11: 16.7 | AJ11: 15.7 | AK11: 14.9 | AL11: 14.1 | AM11: 13.5 | AN11: 12.9 | AO11: 12.4 | AP11: 12 | AQ11: 11.6
A12: 21 | B12: 180.7 | C12: 92.1 | D12: 62.6 | E12: 47.9 | F12: 39.1 | G12: 33.2 | H12: 29 | I12: 25.8 | J12: 23.4 | K12: 21.5 | L12: 19.9 | M12: 18.6 | N12: 17.4 | O12: 16.5 | P12: 15.7 | Q12: 15 | R12: 14.3 | S12: 13.8 | T12: 13.3 | U12: 12.8 | W12: 21 | X12: 165.9 | Y12: 84.6 | Z12: 57.5 | AA12: 44 | AB12: 35.9 | AC12: 30.5 | AD12: 26.6 | AE12: 23.7 | AF12: 21.5 | AG12: 19.7 | AH12: 18.2 | AI12: 17 | AJ12: 16 | AK12: 15.1 | AL12: 14.4 | AM12: 13.7 | AN12: 13.2 | AO12: 12.7 | AP12: 12.2 | AQ12: 11.8
A13: 22 | B13: 183.9 | C13: 93.8 | D13: 63.8 | E13: 48.8 | F13: 39.8 | G13: 33.8 | H13: 29.5 | I13: 26.3 | J13: 23.8 | K13: 21.9 | L13: 20.2 | M13: 18.9 | N13: 17.8 | O13: 16.8 | P13: 16 | Q13: 15.2 | R13: 14.6 | S13: 14 | T13: 13.5 | U13: 13.1 | W13: 22 | X13: 168.8 | Y13: 86.1 | Z13: 58.5 | AA13: 44.8 | AB13: 36.5 | AC13: 31 | AD13: 27.1 | AE13: 24.2 | AF13: 21.9 | AG13: 20.1 | AH13: 18.6 | AI13: 17.3 | AJ13: 16.3 | AK13: 15.4 | AL13: 14.7 | AM13: 14 | AN13: 13.4 | AO13: 12.9 | AP13: 12.4 | AQ13: 12
A14: 23 | B14: 187.2 | C14: 95.5 | D14: 64.9 | E14: 49.6 | F14: 40.5 | G14: 34.4 | H14: 30 | I14: 26.8 | J14: 24.3 | K14: 22.2 | L14: 20.6 | M14: 19.2 | N14: 18.1 | O14: 17.1 | P14: 16.3 | Q14: 15.5 | R14: 14.9 | S14: 14.3 | T14: 13.8 | U14: 13.3 | W14: 23 | X14: 171.9 | Y14: 87.6 | Z14: 59.6 | AA14: 45.6 | AB14: 37.2 | AC14: 31.6 | AD14: 27.6 | AE14: 24.6 | AF14: 22.3 | AG14: 20.4 | AH14: 18.9 | AI14: 17.7 | AJ14: 16.6 | AK14: 15.7 | AL14: 14.9 | AM14: 14.2 | AN14: 13.6 | AO14: 13.1 | AP14: 12.6 | AQ14: 12.2
A15: 24 | B15: 190.6 | C15: 97.2 | D15: 66.1 | E15: 50.5 | F15: 41.2 | G15: 35 | H15: 30.6 | I15: 27.3 | J15: 24.7 | K15: 22.6 | L15: 21 | M15: 19.6 | N15: 18.4 | O15: 17.4 | P15: 16.5 | Q15: 15.8 | R15: 15.1 | S15: 14.5 | T15: 14 | U15: 13.6 | W15: 24 | X15: 174.9 | Y15: 89.2 | Z15: 60.6 | AA15: 46.4 | AB15: 37.8 | AC15: 32.1 | AD15: 28.1 | AE15: 25 | AF15: 22.7 | AG15: 20.8 | AH15: 19.3 | AI15: 18 | AJ15: 16.9 | AK15: 16 | AL15: 15.2 | AM15: 14.5 | AN15: 13.9 | AO15: 13.4 | AP15: 12.9 | AQ15: 12.4
A16: 25 | B16: 194 | C16: 98.9 | D16: 67.2 | E16: 51.4 | F16: 41.9 | G16: 35.6 | H16: 31.1 | I16: 27.8 | J16: 25.1 | K16: 23.1 | L16: 21.4 | M16: 19.9 | N16: 18.7 | O16: 17.7 | P16: 16.8 | Q16: 16.1 | R16: 15.4 | S16: 14.8 | T16: 14.3 | U16: 13.8 | W16: 25 | X16: 178.1 | Y16: 90.8 | Z16: 61.7 | AA16: 47.2 | AB16: 38.5 | AC16: 32.7 | AD16: 28.6 | AE16: 25.5 | AF16: 23.1 | AG16: 21.2 | AH16: 19.6 | AI16: 18.3 | AJ16: 17.2 | AK16: 16.3 | AL16: 15.5 | AM16: 14.8 | AN16: 14.1 | AO16: 13.6 | AP16: 13.1 | AQ16: 12.7
A17: 26 | B17: 197.4 | C17: 100.7 | D17: 68.4 | E17: 52.3 | F17: 42.7 | G17: 36.3 | H17: 31.7 | I17: 28.3 | J17: 25.6 | K17: 23.5 | L17: 21.7 | M17: 20.3 | N17: 19.1 | O17: 18 | P17: 17.1 | Q17: 16.4 | R17: 15.7 | S17: 15.1 | T17: 14.5 | U17: 14.1 | W17: 26 | X17: 181.2 | Y17: 92.4 | Z17: 62.8 | AA17: 48 | AB17: 39.2 | AC17: 33.3 | AD17: 29.1 | AE17: 25.9 | AF17: 23.5 | AG17: 21.5 | AH17: 19.9 | AI17: 18.6 | AJ17: 17.5 | AK17: 16.6 | AL17: 15.7 | AM17: 15 | AN17: 14.4 | AO17: 13.8 | AP17: 13.3 | AQ17: 12.9
A18: 27 | B18: 201 | C18: 102.5 | D18: 69.7 | E18: 53.3 | F18: 43.5 | G18: 36.9 | H18: 32.3 | I18: 28.8 | J18: 26.1 | K18: 23.9 | L18: 22.1 | M18: 20.7 | N18: 19.4 | O18: 18.4 | P18: 17.5 | Q18: 16.7 | R18: 16 | S18: 15.3 | T18: 14.8 | U18: 14.3 | W18: 27 | X18: 184.5 | Y18: 94.1 | Z18: 63.9 | AA18: 48.9 | AB18: 39.9 | AC18: 33.9 | AD18: 29.6 | AE18: 26.4 | AF18: 23.9 | AG18: 21.9 | AH18: 20.3 | AI18: 19 | AJ18: 17.8 | AK18: 16.9 | AL18: 16 | AM18: 15.3 | AN18: 14.7 | AO18: 14.1 | AP18: 13.6 | AQ18: 13.1
A19: 28 | B19: 204.5 | C19: 104.3 | D19: 70.9 | E19: 54.2 | F19: 44.2 | G19: 37.6 | H19: 32.8 | I19: 29.3 | J19: 26.5 | K19: 24.3 | L19: 22.5 | M19: 21 | N19: 19.8 | O19: 18.7 | P19: 17.8 | Q19: 17 | R19: 16.3 | S19: 15.6 | T19: 15.1 | U19: 14.6 | W19: 28 | X19: 187.7 | Y19: 95.7 | Z19: 65.1 | AA19: 49.8 | AB19: 40.6 | AC19: 34.5 | AD19: 30.1 | AE19: 26.9 | AF19: 24.3 | AG19: 22.3 | AH19: 20.7 | AI19: 19.3 | AJ19: 18.1 | AK19: 17.2 | AL19: 16.3 | AM19: 15.6 | AN19: 14.9 | AO19: 14.3 | AP19: 13.8 | AQ19: 13.4
A20: 29 | B20: 208.2 | C20: 106.2 | D20: 72.2 | E20: 55.2 | F20: 45 | G20: 38.2 | H20: 33.4 | I20: 29.8 | J20: 27 | K20: 24.8 | L20: 22.9 | M20: 21.4 | N20: 20.1 | O20: 19 | P20: 18.1 | Q20: 17.3 | R20: 16.5 | S20: 15.9 | T20: 15.3 | U20: 14.8 | W20: 29 | X20: 191.1 | Y20: 97.4 | Z20: 66.2 | AA20: 50.7 | AB20: 41.3 | AC20: 35.1 | AD20: 30.7 | AE20: 27.3 | AF20: 24.8 | AG20: 22.7 | AH20: 21 | AI20: 19.6 | AJ20: 18.5 | AK20: 17.5 | AL20: 16.6 | AM20: 15.9 | AN20: 15.2 | AO20: 14.6 | AP20: 14.1 | AQ20: 13.6
A21: 30 | B21: 211.8 | C21: 108 | D21: 73.4 | E21: 56.2 | F21: 45.8 | G21: 38.9 | H21: 34 | I21: 30.3 | J21: 27.5 | K21: 25.2 | L21: 23.3 | M21: 21.8 | N21: 20.5 | O21: 19.4 | P21: 18.4 | Q21: 17.6 | R21: 16.8 | S21: 16.2 | T21: 15.6 | U21: 15.1 | W21: 30 | X21: 194.4 | Y21: 99.2 | Z21: 67.4 | AA21: 51.6 | AB21: 42.1 | AC21: 35.7 | AD21: 31.2 | AE21: 27.8 | AF21: 25.2 | AG21: 23.1 | AH21: 21.4 | AI21: 20 | AJ21: 18.8 | AK21: 17.8 | AL21: 16.9 | AM21: 16.1 | AN21: 15.5 | AO21: 14.9 | AP21: 14.3 | AQ21: 13.9
A22: 31 | B22: 215.6 | C22: 109.9 | D22: 74.7 | E22: 57.2 | F22: 46.6 | G22: 39.6 | H22: 34.6 | I22: 30.9 | J22: 28 | K22: 25.6 | L22: 23.7 | M22: 22.2 | N22: 20.9 | O22: 19.7 | P22: 18.7 | Q22: 17.9 | R22: 17.2 | S22: 16.5 | T22: 15.9 | U22: 15.4 | W22: 31 | X22: 197.9 | Y22: 100.9 | Z22: 68.6 | AA22: 52.5 | AB22: 42.8 | AC22: 36.4 | AD22: 31.8 | AE22: 28.3 | AF22: 25.7 | AG22: 23.5 | AH22: 21.8 | AI22: 20.4 | AJ22: 19.1 | AK22: 18.1 | AL22: 17.2 | AM22: 16.4 | AN22: 15.7 | AO22: 15.1 | AP22: 14.6 | AQ22: 14.1
... A38: 47 | B38: 283.9 | C38: 144.9 | D38: 98.6 | E38: 75.5 | F38: 61.7 | G38: 52.5 | H38: 45.9 | I38: 41 | J38: 37.2 | K38: 34.2 | L38: 31.7 | M38: 29.6 | N38: 27.9 | O38: 26.5 | P38: 25.2 | Q38: 24.1 | R38: 23.2 | S38: 22.3 | T38: 21.6 | U38: 20.9 | W38: 47 | X38: 261.4 | Y38: 133.4 | Z38: 90.8 | AA38: 69.5 | AB38: 56.8 | AC38: 48.3 | AD38: 42.2 | AE38: 37.7 | AF38: 34.2 | AG38: 31.4 | AH38: 29.2 | AI38: 27.3 | AJ38: 25.7 | AK38: 24.4 | AL38: 23.2 | AM38: 22.2 | AN38: 21.3 | AO38: 20.5 | AP38: 19.9 | AQ38: 19.3
A39: 48 | B39: 288.7 | C39: 147.4 | D39: 100.3 | E39: 76.8 | F39: 62.7 | G39: 53.4 | H39: 46.7 | I39: 41.7 | J39: 37.9 | K39: 34.8 | L39: 32.3 | M39: 30.2 | N39: 28.5 | O39: 27 | P39: 25.7 | Q39: 24.6 | R39: 23.6 | S39: 22.8 | T39: 22 | W39: 48 | X39: 265.8 | Y39: 135.7 | Z39: 92.4 | AA39: 70.7 | AB39: 57.8 | AC39: 49.2 | AD39: 43 | AE39: 38.4 | AF39: 34.9 | AG39: 32 | AH39: 29.7 | AI39: 27.8 | AJ39: 26.2 | AK39: 24.8 | AL39: 23.7 | AM39: 22.6 | AN39: 21.8 | AO39: 21 | AP39: 20.3
A40: 49 | B40: 293.5 | C40: 149.9 | D40: 102 | E40: 78.1 | F40: 63.8 | G40: 54.3 | H40: 47.6 | I40: 42.5 | J40: 38.6 | K40: 35.4 | L40: 32.9 | M40: 30.8 | N40: 29 | O40: 27.5 | P40: 26.2 | Q40: 25.1 | R40: 24.1 | S40: 23.2 | W40: 49 | X40: 270.4 | Y40: 138.1 | Z40: 94 | AA40: 72 | AB40: 58.8 | AC40: 50.1 | AD40: 43.8 | AE40: 39.1 | AF40: 35.5 | AG40: 32.6 | AH40: 30.3 | AI40: 28.4 | AJ40: 26.7 | AK40: 25.3 | AL40: 24.1 | AM40: 23.1 | AN40: 22.2 | AO40: 21.4
A41: 50 | B41: 298.4 | C41: 152.4 | D41: 103.8 | E41: 79.5 | F41: 65 | G41: 55.3 | H41: 48.4 | I41: 43.3 | J41: 39.3 | K41: 36.1 | L41: 33.5 | M41: 31.4 | N41: 29.6 | O41: 28 | P41: 26.7 | Q41: 25.6 | R41: 24.6 | W41: 50 | X41: 275 | Y41: 140.5 | Z41: 95.6 | AA41: 73.3 | AB41: 59.9 | AC41: 51 | AD41: 44.6 | AE41: 39.9 | AF41: 36.2 | AG41: 33.3 | AH41: 30.9 | AI41: 28.9 | AJ41: 27.3 | AK41: 25.8 | AL41: 24.6 | AM41: 23.6 | AN41: 22.6
A42: 51 | B42: 303.4 | C42: 155 | D42: 105.5 | E42: 80.9 | F42: 66.1 | G42: 56.3 | H42: 49.3 | I42: 44 | J42: 40 | K42: 36.8 | L42: 34.1 | M42: 32 | N42: 30.1 | O42: 28.6 | P42: 27.2 | Q42: 26.1 | W42: 51 | X42: 279.7 | Y42: 142.9 | Z42: 97.3 | AA42: 74.6 | AB42: 60.9 | AC42: 51.9 | AD42: 45.4 | AE42: 40.6 | AF42: 36.9 | AG42: 33.9 | AH42: 31.5 | AI42: 29.5 | AJ42: 27.8 | AK42: 26.4 | AL42: 25.1 | AM42: 24
A43: 52 | B43: 308.4 | C43: 157.6 | D43: 107.3 | E43: 82.3 | F43: 67.3 | G43: 57.3 | H43: 50.2 | I43: 44.8 | J43: 40.7 | K43: 37.5 | L43: 34.8 | M43: 32.6 | N43: 30.7 | O43: 29.1 | P43: 27.8 | W43: 52 | X43: 284.5 | Y43: 145.4 | Z43: 99 | AA43: 75.9 | AB43: 62 | AC43: 52.8 | AD43: 46.3 | AE43: 41.4 | AF43: 37.6 | AG43: 34.5 | AH43: 32.1 | AI43: 30 | AJ43: 28.3 | AK43: 26.9 | AL43: 25.6
A44: 53 | B44: 313.5 | C44: 160.2 | D44: 109.2 | E44: 83.7 | F44: 68.4 | G44: 58.3 | H44: 51.1 | I44: 45.7 | J44: 41.5 | K44: 38.1 | L44: 35.4 | M44: 33.2 | N44: 31.3 | O44: 29.7 | W44: 53 | X44: 289.4 | Y44: 147.9 | Z44: 100.8 | AA44: 77.2 | AB44: 63.2 | AC44: 53.8 | AD44: 47.1 | AE44: 42.1 | AF44: 38.3 | AG44: 35.2 | AH44: 32.7 | AI44: 30.6 | AJ44: 28.9 | AK44: 27.4
A45: 54 | B45: 318.7 | C45: 162.9 | D45: 111 | E45: 85.1 | F45: 69.6 | G45: 59.3 | H45: 52 | I45: 46.5 | J45: 42.2 | K45: 38.9 | L45: 36.1 | M45: 33.8 | N45: 31.9 | W45: 54 | X45: 294.3 | Y45: 150.4 | Z45: 102.5 | AA45: 78.6 | AB45: 64.3 | AC45: 54.8 | AD45: 48 | AE45: 42.9 | AF45: 39 | AG45: 35.9 | AH45: 33.3 | AI45: 31.2 | AJ45: 29.5
A46: 55 | B46: 324 | C46: 165.6 | D46: 112.9 | E46: 86.6 | F46: 70.8 | G46: 60.4 | H46: 52.9 | I46: 47.3 | J46: 43 | K46: 39.6 | L46: 36.8 | M46: 34.5 | W46: 55 | X46: 299.4 | Y46: 153.1 | Z46: 104.3 | AA46: 80 | AB46: 65.5 | AC46: 55.8 | AD46: 48.9 | AE46: 43.7 | AF46: 39.7 | AG46: 36.6 | AH46: 34 | AI46: 31.8
A47: 56 | B47: 329.3 | C47: 168.4 | D47: 114.8 | E47: 88.1 | F47: 72.1 | G47: 61.4 | H47: 53.9 | I47: 48.2 | J47: 43.8 | K47: 40.3 | L47: 37.5 | W47: 56 | X47: 304.5 | Y47: 155.7 | Z47: 106.2 | AA47: 81.5 | AB47: 66.7 | AC47: 56.8 | AD47: 49.8 | AE47: 44.6 | AF47: 40.5 | AG47: 37.3 | AH47: 34.7
A48: 57 | B48: 334.8 | C48: 171.3 | D48: 116.8 | E48: 89.6 | F48: 73.4 | G48: 62.5 | H48: 54.8 | I48: 49.1 | J48: 44.6 | K48: 41.1 | W48: 57 | X48: 309.8 | Y48: 158.5 | Z48: 108.1 | AA48: 82.9 | AB48: 67.9 | AC48: 57.9 | AD48: 50.7 | AE48: 45.4 | AF48: 41.3 | AG48: 38
A49: 58 | B49: 340.4 | C49: 174.2 | D49: 118.8 | E49: 91.2 | F49: 74.7 | G49: 63.7 | H49: 55.8 | I49: 50 | J49: 45.5 | W49: 58 | X49: 315.2 | Y49: 161.3 | Z49: 110 | AA49: 84.4 | AB49: 69.1 | AC49: 58.9 | AD49: 51.7 | AE49: 46.3 | AF49: 42.1
A50: 59 | B50: 346.1 | C50: 177.2 | D50: 120.9 | E50: 92.8 | F50: 76 | G50: 64.8 | H50: 56.8 | I50: 50.9 | W50: 59 | X50: 320.7 | Y50: 164.2 | Z50: 112 | AA50: 86 | AB50: 70.4 | AC50: 60 | AD50: 52.7 | AE50: 47.1
A51: 60 | B51: 352 | C51: 180.2 | D51: 123 | E51: 94.4 | F51: 77.3 | G51: 66 | H51: 57.9 | W51: 60 | X51: 326.4 | Y51: 167.1 | Z51: 114.1 | AA51: 87.6 | AB51: 71.7 | AC51: 61.2 | AD51: 53.6
A52: 61 | B52: 358 | C52: 183.3 | D52: 125.1 | E52: 96.1 | F52: 78.7 | G52: 67.1 | W52: 61 | X52: 332.3 | Y52: 170.2 | Z52: 116.2 | AA52: 89.2 | AB52: 73.1 | AC52: 62.4
A53: 62 | B53: 364.2 | C53: 186.5 | D53: 127.4 | E53: 97.8 | F53: 80.2 | W53: 62 | X53: 338.3 | Y53: 173.3 | Z53: 118.3 | AA53: 90.9 | AB53: 74.5
A54: 63 | B54: 370.6 | C54: 189.8 | D54: 129.7 | E54: 99.6 | W54: 63 | X54: 344.6 | Y54: 176.6 | Z54: 120.6 | AA54: 92.7
A55: 64 | B55: 377.3 | C55: 193.3 | D55: 132 | W55: 64 | X55: 351.2 | Y55: 180 | Z55: 123
A56: 65 | B56: 384.3 | C56: 197 | W56: 65 | X56: 358.1 | Y56: 183.5
A57: 66 | B57: 391.4 | W57: 66 | X57: 365.1

Sheet NRA68
U1: Date Factors Issued to Client | V1: 46204
A2: Regular Contribution Elections | U2: Implementation date | V2: 01/08/2026 for NEW elections only | W2: Regular Contribution Elections
A3: Table D68: Personal and Dependant’s Benefits, NRA 68 | I3: x-715 | W3: Table P68: Personal Benefits, NRA 68 | AC3: x-714
A5: Age when notice of election given â | B5: Monthly contribution to purchase £250 of APB at date of election, £ | W5: Age when notice of election given â | X5: Monthly contribution to purchase £250 of APB at date of election, £
A6: Payment period (in years) à | B6: 1 | C6: 2 | D6: 3 | E6: 4 | F6: 5 | G6: 6 | H6: 7 | I6: 8 | J6: 9 | K6: 10 | L6: 11 | M6: 12 | N6: 13 | O6: 14 | P6: 15 | Q6: 16 | R6: 17 | S6: 18 | T6: 19 | U6: 20 | W6: Payment period (in years) à | X6: 1 | Y6: 2 | Z6: 3 | AA6: 4 | AB6: 5 | AC6: 6 | AD6: 7 | AE6: 8 | AF6: 9 | AG6: 10 | AH6: 11 | AI6: 12 | AJ6: 13 | AK6: 14 | AL6: 15 | AM6: 16 | AN6: 17 | AO6: 18 | AP6: 19 | AQ6: 20
A7: 16 | W7: 16
A8: 17 | W8: 17
A9: 18 | W9: 18
A10: 19 | W10: 19
A11: 20 | B11: 170.4 | C11: 86.9 | D11: 59.1 | E11: 45.2 | F11: 36.8 | G11: 31.3 | H11: 27.3 | I11: 24.4 | J11: 22.1 | K11: 20.2 | L11: 18.7 | M11: 17.5 | N11: 16.5 | O11: 15.6 | P11: 14.8 | Q11: 14.1 | R11: 13.5 | S11: 13 | T11: 12.5 | U11: 12.1 | W11: 20 | X11: 155.8 | Y11: 79.4 | Z11: 54 | AA11: 41.3 | AB11: 33.7 | AC11: 28.6 | AD11: 25 | AE11: 22.3 | AF11: 20.2 | AG11: 18.5 | AH11: 17.1 | AI11: 16 | AJ11: 15 | AK11: 14.2 | AL11: 13.5 | AM11: 12.9 | AN11: 12.4 | AO11: 11.9 | AP11: 11.5 | AQ11: 11.1
A12: 21 | B12: 173.4 | C12: 88.4 | D12: 60.1 | E12: 46 | F12: 37.5 | G12: 31.8 | H12: 27.8 | I12: 24.8 | J12: 22.5 | K12: 20.6 | L12: 19.1 | M12: 17.8 | N12: 16.7 | O12: 15.8 | P12: 15 | Q12: 14.4 | R12: 13.8 | S12: 13.2 | T12: 12.8 | U12: 12.3 | W12: 21 | X12: 158.6 | Y12: 80.9 | Z12: 55 | AA12: 42 | AB12: 34.3 | AC12: 29.1 | AD12: 25.4 | AE12: 22.7 | AF12: 20.5 | AG12: 18.8 | AH12: 17.4 | AI12: 16.3 | AJ12: 15.3 | AK12: 14.5 | AL12: 13.8 | AM12: 13.1 | AN12: 12.6 | AO12: 12.1 | AP12: 11.7 | AQ12: 11.3
A13: 22 | B13: 176.5 | C13: 90 | D13: 61.2 | E13: 46.8 | F13: 38.2 | G13: 32.4 | H13: 28.3 | I13: 25.3 | J13: 22.9 | K13: 21 | L13: 19.4 | M13: 18.1 | N13: 17 | O13: 16.1 | P13: 15.3 | Q13: 14.6 | R13: 14 | S13: 13.5 | T13: 13 | U13: 12.6 | W13: 22 | X13: 161.4 | Y13: 82.3 | Z13: 56 | AA13: 42.8 | AB13: 34.9 | AC13: 29.6 | AD13: 25.9 | AE13: 23.1 | AF13: 20.9 | AG13: 19.2 | AH13: 17.8 | AI13: 16.6 | AJ13: 15.6 | AK13: 14.7 | AL13: 14 | AM13: 13.4 | AN13: 12.8 | AO13: 12.3 | AP13: 11.9 | AQ13: 11.5
A14: 23 | B14: 179.7 | C14: 91.6 | D14: 62.3 | E14: 47.6 | F14: 38.8 | G14: 33 | H14: 28.8 | I14: 25.7 | J14: 23.3 | K14: 21.4 | L14: 19.8 | M14: 18.5 | N14: 17.4 | O14: 16.4 | P14: 15.6 | Q14: 14.9 | R14: 14.3 | S14: 13.7 | T14: 13.2 | U14: 12.8 | W14: 23 | X14: 164.3 | Y14: 83.8 | Z14: 57 | AA14: 43.6 | AB14: 35.5 | AC14: 30.2 | AD14: 26.4 | AE14: 23.5 | AF14: 21.3 | AG14: 19.5 | AH14: 18.1 | AI14: 16.9 | AJ14: 15.9 | AK14: 15 | AL14: 14.3 | AM14: 13.6 | AN14: 13 | AO14: 12.5 | AP14: 12.1 | AQ14: 11.7
A15: 24 | B15: 182.9 | C15: 93.3 | D15: 63.4 | E15: 48.5 | F15: 39.5 | G15: 33.6 | H15: 29.3 | I15: 26.2 | J15: 23.7 | K15: 21.7 | L15: 20.1 | M15: 18.8 | N15: 17.7 | O15: 16.7 | P15: 15.9 | Q15: 15.2 | R15: 14.5 | S15: 14 | T15: 13.5 | U15: 13 | W15: 24 | X15: 167.2 | Y15: 85.3 | Z15: 58 | AA15: 44.3 | AB15: 36.2 | AC15: 30.7 | AD15: 26.8 | AE15: 23.9 | AF15: 21.7 | AG15: 19.9 | AH15: 18.4 | AI15: 17.2 | AJ15: 16.2 | AK15: 15.3 | AL15: 14.5 | AM15: 13.9 | AN15: 13.3 | AO15: 12.8 | AP15: 12.3 | AQ15: 11.9
A16: 25 | B16: 186.2 | C16: 94.9 | D16: 64.5 | E16: 49.4 | F16: 40.2 | G16: 34.2 | H16: 29.9 | I16: 26.6 | J16: 24.1 | K16: 22.1 | L16: 20.5 | M16: 19.1 | N16: 18 | O16: 17 | P16: 16.2 | Q16: 15.4 | R16: 14.8 | S16: 14.2 | T16: 13.7 | U16: 13.2 | W16: 25 | X16: 170.2 | Y16: 86.8 | Z16: 59 | AA16: 45.1 | AB16: 36.8 | AC16: 31.3 | AD16: 27.3 | AE16: 24.4 | AF16: 22.1 | AG16: 20.2 | AH16: 18.7 | AI16: 17.5 | AJ16: 16.4 | AK16: 15.6 | AL16: 14.8 | AM16: 14.1 | AN16: 13.5 | AO16: 13 | AP16: 12.5 | AQ16: 12.1
A17: 26 | B17: 189.5 | C17: 96.6 | D17: 65.7 | E17: 50.2 | F17: 41 | G17: 34.8 | H17: 30.4 | I17: 27.1 | J17: 24.6 | K17: 22.5 | L17: 20.9 | M17: 19.5 | N17: 18.3 | O17: 17.3 | P17: 16.5 | Q17: 15.7 | R17: 15 | S17: 14.5 | T17: 13.9 | U17: 13.5 | W17: 26 | X17: 173.2 | Y17: 88.3 | Z17: 60.1 | AA17: 45.9 | AB17: 37.5 | AC17: 31.8 | AD17: 27.8 | AE17: 24.8 | AF17: 22.5 | AG17: 20.6 | AH17: 19.1 | AI17: 17.8 | AJ17: 16.7 | AK17: 15.8 | AL17: 15 | AM17: 14.4 | AN17: 13.8 | AO17: 13.2 | AP17: 12.8 | AQ17: 12.3
A18: 27 | B18: 192.8 | C18: 98.3 | D18: 66.9 | E18: 51.1 | F18: 41.7 | G18: 35.4 | H18: 30.9 | I18: 27.6 | J18: 25 | K18: 22.9 | L18: 21.2 | M18: 19.8 | N18: 18.6 | O18: 17.6 | P18: 16.7 | Q18: 16 | R18: 15.3 | S18: 14.7 | T18: 14.2 | U18: 13.7 | W18: 27 | X18: 176.3 | Y18: 89.9 | Z18: 61.1 | AA18: 46.7 | AB18: 38.1 | AC18: 32.4 | AD18: 28.3 | AE18: 25.2 | AF18: 22.9 | AG18: 21 | AH18: 19.4 | AI18: 18.1 | AJ18: 17 | AK18: 16.1 | AL18: 15.3 | AM18: 14.6 | AN18: 14 | AO18: 13.5 | AP18: 13 | AQ18: 12.6
A19: 28 | B19: 196.2 | C19: 100.1 | D19: 68 | E19: 52 | F19: 42.4 | G19: 36 | H19: 31.5 | I19: 28.1 | J19: 25.4 | K19: 23.3 | L19: 21.6 | M19: 20.2 | N19: 19 | O19: 17.9 | P19: 17.1 | Q19: 16.3 | R19: 15.6 | S19: 15 | T19: 14.5 | U19: 14 | W19: 28 | X19: 179.4 | Y19: 91.5 | Z19: 62.2 | AA19: 47.6 | AB19: 38.8 | AC19: 33 | AD19: 28.8 | AE19: 25.7 | AF19: 23.3 | AG19: 21.3 | AH19: 19.8 | AI19: 18.4 | AJ19: 17.3 | AK19: 16.4 | AL19: 15.6 | AM19: 14.9 | AN19: 14.3 | AO19: 13.7 | AP19: 13.2 | AQ19: 12.8
A20: 29 | B20: 199.7 | C20: 101.8 | D20: 69.2 | E20: 53 | F20: 43.2 | G20: 36.7 | H20: 32.1 | I20: 28.6 | J20: 25.9 | K20: 23.7 | L20: 22 | M20: 20.5 | N20: 19.3 | O20: 18.3 | P20: 17.4 | Q20: 16.6 | R20: 15.9 | S20: 15.3 | T20: 14.7 | U20: 14.2 | W20: 29 | X20: 182.6 | Y20: 93.1 | Z20: 63.3 | AA20: 48.4 | AB20: 39.5 | AC20: 33.5 | AD20: 29.3 | AE20: 26.1 | AF20: 23.7 | AG20: 21.7 | AH20: 20.1 | AI20: 18.8 | AJ20: 17.7 | AK20: 16.7 | AL20: 15.9 | AM20: 15.1 | AN20: 14.5 | AO20: 14 | AP20: 13.5 | AQ20: 13
A21: 30 | B21: 203.2 | C21: 103.6 | D21: 70.5 | E21: 53.9 | F21: 44 | G21: 37.3 | H21: 32.6 | I21: 29.1 | J21: 26.4 | K21: 24.2 | L21: 22.4 | M21: 20.9 | N21: 19.7 | O21: 18.6 | P21: 17.7 | Q21: 16.9 | R21: 16.2 | S21: 15.5 | T21: 15 | U21: 14.5 | W21: 30 | X21: 185.8 | Y21: 94.8 | Z21: 64.4 | AA21: 49.3 | AB21: 40.2 | AC21: 34.1 | AD21: 29.8 | AE21: 26.6 | AF21: 24.1 | AG21: 22.1 | AH21: 20.5 | AI21: 19.1 | AJ21: 18 | AK21: 17 | AL21: 16.2 | AM21: 15.4 | AN21: 14.8 | AO21: 14.2 | AP21: 13.7 | AQ21: 13.2
A22: 31 | B22: 206.8 | C22: 105.5 | D22: 71.7 | E22: 54.8 | F22: 44.7 | G22: 38 | H22: 33.2 | I22: 29.6 | J22: 26.8 | K22: 24.6 | L22: 22.8 | M22: 21.3 | N22: 20 | O22: 18.9 | P22: 18 | Q22: 17.2 | R22: 16.5 | S22: 15.8 | T22: 15.3 | U22: 14.8 | W22: 31 | X22: 189.1 | Y22: 96.4 | Z22: 65.6 | AA22: 50.1 | AB22: 40.9 | AC22: 34.7 | AD22: 30.4 | AE22: 27.1 | AF22: 24.5 | AG22: 22.5 | AH22: 20.8 | AI22: 19.5 | AJ22: 18.3 | AK22: 17.3 | AL22: 16.4 | AM22: 15.7 | AN22: 15 | AO22: 14.5 | AP22: 14 | AQ22: 13.5
... A39: 48 | B39: 276.3 | C39: 141.1 | D39: 96 | E39: 73.5 | F39: 60.1 | G39: 51.1 | H39: 44.7 | I39: 39.9 | J39: 36.3 | K39: 33.3 | L39: 30.9 | M39: 28.9 | N39: 27.3 | O39: 25.8 | P39: 24.6 | Q39: 23.5 | R39: 22.6 | S39: 21.8 | T39: 21.1 | U39: 20.4 | W39: 48 | X39: 253.5 | Y39: 129.4 | Z39: 88.1 | AA39: 67.5 | AB39: 55.1 | AC39: 46.9 | AD39: 41 | AE39: 36.6 | AF39: 33.3 | AG39: 30.6 | AH39: 28.4 | AI39: 26.5 | AJ39: 25 | AK39: 23.7 | AL39: 22.6 | AM39: 21.6 | AN39: 20.7 | AO39: 20 | AP39: 19.3 | AQ39: 18.7
A40: 49 | B40: 280.9 | C40: 143.4 | D40: 97.7 | E40: 74.8 | F40: 61.1 | G40: 52 | H40: 45.5 | I40: 40.7 | J40: 36.9 | K40: 33.9 | L40: 31.5 | M40: 29.5 | N40: 27.8 | O40: 26.3 | P40: 25.1 | Q40: 24 | R40: 23.1 | S40: 22.2 | T40: 21.5 | W40: 49 | X40: 257.8 | Y40: 131.6 | Z40: 89.6 | AA40: 68.6 | AB40: 56.1 | AC40: 47.7 | AD40: 41.8 | AE40: 37.3 | AF40: 33.9 | AG40: 31.1 | AH40: 28.9 | AI40: 27 | AJ40: 25.5 | AK40: 24.2 | AL40: 23 | AM40: 22 | AN40: 21.2 | AO40: 20.4 | AP40: 19.7
A41: 50 | B41: 285.5 | C41: 145.8 | D41: 99.3 | E41: 76.1 | F41: 62.2 | G41: 52.9 | H41: 46.3 | I41: 41.4 | J41: 37.6 | K41: 34.5 | L41: 32.1 | M41: 30 | N41: 28.3 | O41: 26.8 | P41: 25.6 | Q41: 24.5 | R41: 23.5 | S41: 22.7 | W41: 50 | X41: 262.2 | Y41: 133.9 | Z41: 91.2 | AA41: 69.8 | AB41: 57.1 | AC41: 48.6 | AD41: 42.5 | AE41: 38 | AF41: 34.5 | AG41: 31.7 | AH41: 29.4 | AI41: 27.6 | AJ41: 26 | AK41: 24.6 | AL41: 23.5 | AM41: 22.5 | AN41: 21.6 | AO41: 20.8
A42: 51 | B42: 290.2 | C42: 148.2 | D42: 101 | E42: 77.4 | F42: 63.2 | G42: 53.8 | H42: 47.1 | I42: 42.1 | J42: 38.3 | K42: 35.2 | L42: 32.7 | M42: 30.6 | N42: 28.8 | O42: 27.3 | P42: 26.1 | Q42: 24.9 | R42: 24 | W42: 51 | X42: 266.6 | Y42: 136.2 | Z42: 92.8 | AA42: 71.1 | AB42: 58.1 | AC42: 49.5 | AD42: 43.3 | AE42: 38.7 | AF42: 35.1 | AG42: 32.3 | AH42: 30 | AI42: 28.1 | AJ42: 26.5 | AK42: 25.1 | AL42: 23.9 | AM42: 22.9 | AN42: 22
A43: 52 | B43: 294.9 | C43: 150.7 | D43: 102.7 | E43: 78.7 | F43: 64.3 | G43: 54.8 | H43: 48 | I43: 42.9 | J43: 39 | K43: 35.8 | L43: 33.3 | M43: 31.2 | N43: 29.4 | O43: 27.9 | P43: 26.6 | Q43: 25.4 | W43: 52 | X43: 271.1 | Y43: 138.5 | Z43: 94.4 | AA43: 72.3 | AB43: 59.1 | AC43: 50.3 | AD43: 44.1 | AE43: 39.4 | AF43: 35.8 | AG43: 32.9 | AH43: 30.6 | AI43: 28.6 | AJ43: 27 | AK43: 25.6 | AL43: 24.4 | AM43: 23.4
A44: 53 | B44: 299.7 | C44: 153.2 | D44: 104.4 | E44: 80 | F44: 65.4 | G44: 55.7 | H44: 48.8 | I44: 43.7 | J44: 39.7 | K44: 36.5 | L44: 33.9 | M44: 31.7 | N44: 29.9 | O44: 28.4 | P44: 27.1 | W44: 53 | X44: 275.6 | Y44: 140.9 | Z44: 96 | AA44: 73.6 | AB44: 60.2 | AC44: 51.2 | AD44: 44.9 | AE44: 40.1 | AF44: 36.5 | AG44: 33.5 | AH44: 31.2 | AI44: 29.2 | AJ44: 27.5 | AK44: 26.1 | AL44: 24.9
A45: 54 | B45: 304.6 | C45: 155.7 | D45: 106.1 | E45: 81.4 | F45: 66.5 | G45: 56.7 | H45: 49.7 | I45: 44.4 | J45: 40.4 | K45: 37.1 | L45: 34.5 | M45: 32.3 | N45: 30.5 | O45: 28.9 | W45: 54 | X45: 280.2 | Y45: 143.2 | Z45: 97.6 | AA45: 74.9 | AB45: 61.2 | AC45: 52.2 | AD45: 45.7 | AE45: 40.9 | AF45: 37.1 | AG45: 34.2 | AH45: 31.7 | AI45: 29.7 | AJ45: 28.1 | AK45: 26.6
A46: 55 | B46: 309.5 | C46: 158.3 | D46: 107.9 | E46: 82.7 | F46: 67.7 | G46: 57.7 | H46: 50.5 | I46: 45.2 | J46: 41.1 | K46: 37.8 | L46: 35.1 | M46: 32.9 | N46: 31.1 | W46: 55 | X46: 284.9 | Y46: 145.7 | Z46: 99.3 | AA46: 76.2 | AB46: 62.3 | AC46: 53.1 | AD46: 46.5 | AE46: 41.6 | AF46: 37.8 | AG46: 34.8 | AH46: 32.4 | AI46: 30.3 | AJ46: 28.6
A47: 56 | B47: 314.5 | C47: 160.8 | D47: 109.7 | E47: 84.1 | F47: 68.8 | G47: 58.7 | H47: 51.4 | I47: 46 | J47: 41.8 | K47: 38.5 | L47: 35.8 | M47: 33.5 | W47: 56 | X47: 289.7 | Y47: 148.2 | Z47: 101 | AA47: 77.5 | AB47: 63.4 | AC47: 54 | AD47: 47.4 | AE47: 42.4 | AF47: 38.5 | AG47: 35.5 | AH47: 33 | AI47: 30.9
A48: 57 | B48: 319.6 | C48: 163.5 | D48: 111.5 | E48: 85.6 | F48: 70 | G48: 59.7 | H48: 52.3 | I48: 46.8 | J48: 42.6 | K48: 39.2 | L48: 36.4 | W48: 57 | X48: 294.6 | Y48: 150.7 | Z48: 102.8 | AA48: 78.9 | AB48: 64.5 | AC48: 55 | AD48: 48.2 | AE48: 43.2 | AF48: 39.3 | AG48: 36.1 | AH48: 33.6
A49: 58 | B49: 324.8 | C49: 166.2 | D49: 113.4 | E49: 87 | F49: 71.2 | G49: 60.7 | H49: 53.3 | I49: 47.7 | J49: 43.4 | K49: 39.9 | W49: 58 | X49: 299.6 | Y49: 153.3 | Z49: 104.6 | AA49: 80.3 | AB49: 65.7 | AC49: 56 | AD49: 49.1 | AE49: 44 | AF49: 40 | AG49: 36.8
A50: 59 | B50: 330.1 | C50: 169 | D50: 115.3 | E50: 88.5 | F50: 72.5 | G50: 61.8 | H50: 54.2 | I50: 48.5 | J50: 44.2 | W50: 59 | X50: 304.8 | Y50: 156 | Z50: 106.4 | AA50: 81.7 | AB50: 66.9 | AC50: 57.1 | AD50: 50.1 | AE50: 44.8 | AF50: 40.8
A51: 60 | B51: 335.6 | C51: 171.8 | D51: 117.2 | E51: 90 | F51: 73.7 | G51: 62.9 | H51: 55.2 | I51: 49.4 | W51: 60 | X51: 310.1 | Y51: 158.7 | Z51: 108.3 | AA51: 83.2 | AB51: 68.1 | AC51: 58.1 | AD51: 51 | AE51: 45.7
A52: 61 | B52: 341.1 | C52: 174.7 | D52: 119.3 | E52: 91.6 | F52: 75 | G52: 64 | H52: 56.2 | W52: 61 | X52: 315.5 | Y52: 161.5 | Z52: 110.3 | AA52: 84.7 | AB52: 69.4 | AC52: 59.2 | AD52: 52
A53: 62 | B53: 346.8 | C53: 177.6 | D53: 121.3 | E53: 93.2 | F53: 76.4 | G53: 65.2 | W53: 62 | X53: 321.1 | Y53: 164.4 | Z53: 112.3 | AA53: 86.3 | AB53: 70.7 | AC53: 60.3
A54: 63 | B54: 352.7 | C54: 180.7 | D54: 123.4 | E54: 94.8 | F54: 77.7 | W54: 63 | X54: 326.9 | Y54: 167.5 | Z54: 114.4 | AA54: 87.9 | AB54: 72
A55: 64 | B55: 358.9 | C55: 183.9 | D55: 125.6 | E55: 96.6 | W55: 64 | X55: 332.9 | Y55: 170.6 | Z55: 116.6 | AA55: 89.6
A56: 65 | B56: 365.4 | C56: 187.3 | D56: 128 | W56: 65 | X56: 339.3 | Y56: 173.9 | Z56: 118.8
A57: 66 | B57: 371.9 | C57: 190.6 | W57: 66 | X57: 345.7 | Y57: 177.2
A58: 67 | B58: 378.7 | W58: 67 | X58: 352.4

Sheet ERF
M1: Date Factors Issued to Client | N1: 46204 | P1: Implementation date | Q1: 01/08/2026 for NEW elections only
A2: TABLE ERF1_NHSSS_2015
A3: NHS SUPERANNUATION SCHEME SCOTLAND (2015): ACTUARIAL FACTORS
A4: BENEFITS PAYABLE TO THE MEMBER ON VOLUNTARY EARLY RETIREMENT (WITH ACTUARIAL REDUCTION)
A5: FACTORS APPLICABLE TO MAIN SCHEME PENSION AND ADDITIONAL PENSION
A6: PENSION FACTORS | P6: x-408
A7: Time to NPA: Monthsà Years â | B7: 0 | C7: 1 | D7: 2 | E7: 3 | F7: 4 | G7: 5 | H7: 6 | I7: 7 | J7: 8 | K7: 9 | L7: 10 | M7: 11
A8: 0 | B8: 1 | C8: 0.995 | D8: 0.991 | E8: 0.986 | F8: 0.982 | G8: 0.977 | H8: 0.973 | I8: 0.968 | J8: 0.964 | K8: 0.959 | L8: 0.955 | M8: 0.95
A9: 1 | B9: 0.946 | C9: 0.942 | D9: 0.938 | E9: 0.933 | F9: 0.929 | G9: 0.925 | H9: 0.921 | I9: 0.917 | J9: 0.913 | K9: 0.909 | L9: 0.904 | M9: 0.9
A10: 2 | B10: 0.896 | C10: 0.892 | D10: 0.889 | E10: 0.885 | F10: 0.881 | G10: 0.877 | H10: 0.873 | I10: 0.87 | J10: 0.866 | K10: 0.862 | L10: 0.858 | M10: 0.855
A11: 3 | B11: 0.851 | C11: 0.847 | D11: 0.844 | E11: 0.84 | F11: 0.837 | G11: 0.833 | H11: 0.83 | I11: 0.826 | J11: 0.823 | K11: 0.819 | L11: 0.816 | M11: 0.812
A12: 4 | B12: 0.809 | C12: 0.806 | D12: 0.802 | E12: 0.799 | F12: 0.796 | G12: 0.793 | H12: 0.79 | I12: 0.786 | J12: 0.783 | K12: 0.78 | L12: 0.777 | M12: 0.773
A13: 5 | B13: 0.77 | C13: 0.767 | D13: 0.764 | E13: 0.761 | F13: 0.758 | G13: 0.755 | H13: 0.752 | I13: 0.749 | J13: 0.746 | K13: 0.743 | L13: 0.74 | M13: 0.737
A14: 6 | B14: 0.734 | C14: 0.732 | D14: 0.729 | E14: 0.726 | F14: 0.723 | G14: 0.721 | H14: 0.718 | I14: 0.715 | J14: 0.712 | K14: 0.71 | L14: 0.707 | M14: 0.704
A15: 7 | B15: 0.701 | C15: 0.699 | D15: 0.696 | E15: 0.694 | F15: 0.691 | G15: 0.688 | H15: 0.686 | I15: 0.683 | J15: 0.681 | K15: 0.678 | L15: 0.676 | M15: 0.673
A16: 8 | B16: 0.67 | C16: 0.668 | D16: 0.666 | E16: 0.663 | F16: 0.661 | G16: 0.658 | H16: 0.656 | I16: 0.654 | J16: 0.651 | K16: 0.649 | L16: 0.646 | M16: 0.644
A17: 9 | B17: 0.642 | C17: 0.639 | D17: 0.637 | E17: 0.635 | F17: 0.633 | G17: 0.631 | H17: 0.628 | I17: 0.626 | J17: 0.624 | K17: 0.622 | L17: 0.619 | M17: 0.617
A18: 10 | B18: 0.615 | C18: 0.613 | D18: 0.611 | E18: 0.609 | F18: 0.607 | G18: 0.604 | H18: 0.602 | I18: 0.6 | J18: 0.598 | K18: 0.596 | L18: 0.594 | M18: 0.592
A19: 11 | B19: 0.59 | C19: 0.588 | D19: 0.586 | E19: 0.584 | F19: 0.582 | G19: 0.58 | H19: 0.578 | I19: 0.576 | J19: 0.574 | K19: 0.572 | L19: 0.57 | M19: 0.568
A20: 12 | B20: 0.566 | C20: 0.564 | D20: 0.563 | E20: 0.561 | F20: 0.559 | G20: 0.557 | H20: 0.555 | I20: 0.553 | J20: 0.552 | K20: 0.55 | L20: 0.548 | M20: 0.546
A21: 13 | B21: 0.544
A23: Notes: | B23: (1) NPA should be substituted for RRA where appropriate
B24: (2) AP should be pro-rated to take account of unpaid contributions at date of retirement. Any paid up AP entitlement should include PI to DOR
B25: (3) The appropriate factor is based on the period between DOR and NPA (or RRA) in years and months, rounded up to the next higher month.
