Workbook
Name AP_Available: Table1[AP Available]
Name Buy_out_months: Codes!$D$7:$D$8
Name Contribution_period: Codes!$D$13:$D$32
Name Existing_AP: Codes!$B$13:$B$41
Name Form_of_AP: Codes!$D$2:$D$3
Name Oldest_allowed: Codes!$B$2
Name Payment_type: Codes!$C$2:$C$3
Name Years: Codes!$C$7:$C$10
Name Yes_No: Codes!$B$7:$B$8
Name Youngest_allowed: Codes!$B$3

Sheet Contributions calculator
B3: Teachers Additional Pension Benefit Cost Calculator
C4: Member Details
C5: Date of Birth: | E5: SPA | I5: =IF(I6="Election must start before normal pension age","Error","")
C6: Date of AP election: | I6: =IF(OR(D9=""),"",IF(D8>=Codes!E8,"Election must start before normal pension age",""))
C7: Prospective Normal Pension Age: | D7: =VLOOKUP(D5,'State pension age'!B4:E50,3,TRUE) -> 65 | E7: =IF(OR(D7="",D7=0),"","Years") -> Years | F7: =VLOOKUP(D5,'State pension age'!B4:E50,4,TRUE) -> 0 | G7: Months
C8: Age at start of agreement: | D8: =IF(OR(D5="",D6=""),"",ROUNDDOWN((D6-D5+1)/365.25,0)) | E8: =IF(OR(D8="",D8=0),"","Years") | I8: =IF(D8<16,"Error","")
C9: Years to NPA | D9: =IF(OR(E7="",D8=""),"",Codes!E8-D8) | E9: =IF(D7="","",IF(D8="","","Years"))
C10: Additional pension contract details
C11: Maximum additional pension: | D11: =Codes!P14 -> 8900
C12: How much additional pension do you wish to purchase? | I12: =IF(D12>D11, "Error","")
C13: Please select your payment method: | I13: =IF(D13=Codes!C2,"",IF(D9=1,"Payment can only be made by lump sum",""))
C14: =IF(D13="Regular contributions","Regular payments over how many years?","")
C15: Would you like to buy dependants benefits? | I15: =IF(D9<2,"",IF(I14="Error","Payments can be made over a maximum of "&D9-1&" years",""))
C18: Results
B19: =IF($D$13=Codes!$C$2,"A lump sum payment of:-",IF($D$13=Codes!$C$3,"Monthly payment amount:-","")) | D19: =IF(ISERROR(Codes!J20),"",IF(OR($D$12="",Codes!J20="",$I$12="Error",$I$8="Error"),"",($D$12/250)*Codes!J20))
B20: =IF(D13="Regular contributions","Annual payment amount:-","") | D20: =IF(OR(D13="",D13="Lump sum",D12="",D14="",D15="",ISERROR(Codes!J20)),"",IF(D13="Regular contributions",D19*12,""))
B21: =IF(D13="Regular contributions","Total amount payable over selected period:-","") | D21: =IF(OR(D13="",D13="Lump sum",D14="",D15="",D12="",ISERROR(Codes!J20)),"",IF(D13="Regular contributions",D20*D14,""))

Sheet Guidance notes
B2: Additional Pension guidance notes
B3: Disclaimer: This calculation is intended for illustrative purposes only. This is not a statement of you legal entitlement. While every care has been taken in the preparation of this calculator the Scottish Public Pension Agency will accept no responsibility for the accuracy of the information it provides. Please refer to pages on the SPPA website for points of contact and other benefits available.
B4: Using the calculator This calculator is for active members of the Teachers’ Pension Scheme (Scotland) 2015 who are considering purchasing Additional Pension to increase their retirement benefits. Additional Pension can only be purchased in relation to benefits built up in the 2015 Career Average Revalued Earnings (CARE) Scheme. Additional pension can be bought at any time during the year. This can be just for you or it can also provide benefits for your dependants after you die. It does not include an automatic lump sum on retirement, but you can exchange some of your additional pension to provide a lump sum on retirement. Additional Pension can be purchased by either: a) a one-off lump sum payment, or b) regular monthly contributions over an agreed period. Regular contribution elections must be for a period of whole years and cannot extend beyond your Normal Pension Age. The cost of purchasing Additional Pension depends on your age, the amount of Additional Pension you wish to buy, the type of cover selected, and your prospective Normal Pension Age. For new Additional Pension elections, your cost is calculated by reference to your prospective Normal Pension Age in the Teachers’ Pension Scheme (Scotland) 2015. This is normally your State Pension Age, subject to a minimum age of 65. Additional Pension is payable unreduced from your actual Normal Pension Age. If you take your benefits before or after your Normal Pension Age, early or late retirement adjustments may apply. Additional Pension may be purchased in multiples of £250 per year and is subject to the scheme maximum for the relevant scheme year. Any existing Additional Pension and any Early Retirement Reduction Buy Out (ERRBO) agreement may reduce the amount of Additional Pension you can buy. Additional pension purchased in the 2015 Scheme is revalued by a Treasury Order each year before the additional pension comes into payment and increased in accordance with Pensions Increase legislation whilst it is being paid. This calculator provides an illustration only. It is not a statement of entitlement and does not override the Teachers' Pension Scheme (Scotland) Regulations, actuarial guidance, or any decision made by the scheme administrator.
B6: SPPA 7 Tweedside Park Galashiels TD1 3TE Telephone: 01896 893000
F40: G

Sheet Illustration and Guidance
B2: ILLUSTRATION OF ADDITIONAL PENSION COST
B4: YOUR DETAILS
B5: Date of Birth: | C5: =IF('Contributions calculator'!D5="","",'Contributions calculator'!D5)
B6: State Pension Age: | C6: =IF('Contributions calculator'!D5="","",'Contributions calculator'!D7&" years "&'Contributions calculator'!F7&" months")
B7: Date of Election: | C7: =IF('Contributions calculator'!D6="","",'Contributions calculator'!D6)
B8: Age at Election: | C8: =IF('Contributions calculator'!D8="","",'Contributions calculator'!D8&" years")
B10: ADDITIONAL PENSION ELECTION
B11: Additional Pension Selected: | C11: =IF('Contributions calculator'!D12="","","£"&'Contributions calculator'!D12&" per year")
B12: Payment Method: | C12: =IF('Contributions calculator'!D13="","",'Contributions calculator'!D13)
B13: Contribution Term: | C13: =IF('Contributions calculator'!D14="","",'Contributions calculator'!D14&" years")
B14: Dependant Benefits Included: | C14: =IF('Contributions calculator'!D15="","",'Contributions calculator'!D15)
B16: ESTIMATED COST
B17: Estimated Cost: | C17: =IF('Contributions calculator'!D13=Codes!C2,"A lump sum payment of £"&'Contributions calculator'!D19,IF('Contributions calculator'!D13=Codes!C3,"£"&'Contributions calculator'!D19&" per month payable for "&'Contributions calculator'!D14&" years",""))
B18: =IF('Contributions calculator'!D13=Codes!C3,"Total payable:","") | C18: ='Contributions calculator'!D21
B19: Calculation Produced: | C19: =TODAY() -> 46294
B21: ABOUT ADDITIONAL PENSION Additional Pension allows active members of the Teachers' Pension Scheme (Scotland) 2015 to increase the retirement benefits they build up in the 2015 Career Average Revalued Earnings (CARE) Scheme. Additional Pension can be purchased: • For the member only, or with dependant benefits included • As a one-off lump sum payment, or through regular monthly contributions over an agreed period The cost depends on your age at election, Normal Pension Age, the amount of Additional Pension selected, the payment method chosen and whether dependant benefits are included. Regular contribution elections must be for a period of whole years and cannot extend beyond the member's Normal Pension Age. Additional Pension is payable in full from the member's Normal Pension Age. If benefits are taken before or after Normal Pension Age, actuarial reductions or increases may apply. Any existing Additional Pension and any Early Retirement Reduction Buy Out (ERRBO) agreement may reduce the amount of Additional Pension available for purchase. Additional Pension purchased is revalued annually in accordance with the applicable Treasury Order before it comes into payment and is subsequently increased in line with Pensions Increase legislation while in payment.
B23: IMPORTANT INFORMATION This calculator is intended for active members of the Teachers' Pension Scheme (Scotland) 2015 who are considering the purchase of Additional Pension. The figures provided are estimates for illustrative purposes only and should not be regarded as a statement of entitlement. The actual cost of purchasing Additional Pension will be determined in accordance with the scheme regulations, actuarial guidance, and administrative procedures applicable at the time an election is processed. This illustration does not override the relevant scheme regulations, actuarial guidance, or administrative decisions. While every effort has been made to ensure the accuracy of the information provided, no responsibility can be accepted for any loss, cost, inconvenience, or other consequence arising from reliance on these estimates.
B25: SPPA 7 Tweedside Park Galashiels TD1 3TE Telephone: 01896 893000
D27: Return to Calculator

Sheet Codes
A1: Factors date | B1: DOB between | C1: Payment | D1: Form of AP | E1: NPA Options | F1: Lump sum table | I1: AP Table results
B2: =TODAY()-365.25*85 -> 15247.75 | C2: Lump Sum | D2: Member only | E2: 60 | F2: =IF('Contributions calculator'!E5=60,"APS60",IF('Contributions calculator'!E5=65,"APS65",IF('Contributions calculator'!E5="SPA","APS"&'Contributions calculator'!D7,""))) -> APS65 | H2: APS60 | I2: Lump sum NPA 60 | J2: =IF('Contributions calculator'!D15=Codes!D2,VLOOKUP('Contributions calculator'!D8,'Lump Sum'!B9:D60,2,FALSE),IF('Contributions calculator'!D15=Codes!D3,VLOOKUP('Contributions calculator'!D8,'Lump Sum'!B9:D60,3,FALSE),""))
A3: 46235 | B3: =TODAY()-365.25*18 -> 39719.5 | C3: =IF(OR('Contributions calculator'!D9=0,'Contributions calculator'!D9=1),"","Regular contributions") -> Regular contributions | D3: Member and dependant | E3: 65 | H3: APS65 | I3: Lump sum NPA 65 | J3: =IF('Contributions calculator'!D15=Codes!D2,VLOOKUP('Contributions calculator'!D8,'Lump Sum'!F9:H60,2,FALSE),IF('Contributions calculator'!D15=Codes!D3,VLOOKUP('Contributions calculator'!D8,'Lump Sum'!F9:H60,3,FALSE),""))
E4: State Pension Age | H4: APS66 | I4: Lump sum NPA 66 | J4: =IF('Contributions calculator'!D15=Codes!D2,VLOOKUP('Contributions calculator'!D8,'Lump Sum'!J9:L60,2,FALSE),IF('Contributions calculator'!D15=Codes!D3,VLOOKUP('Contributions calculator'!D8,'Lump Sum'!J9:L60,3,FALSE),""))
H5: APS67 | I5: Lump sum NPA 67 | J5: =IF('Contributions calculator'!D15=Codes!D2,VLOOKUP('Contributions calculator'!D8,'Lump Sum'!N9:P60,2,FALSE),IF('Contributions calculator'!D15=Codes!D3,VLOOKUP('Contributions calculator'!D8,'Lump Sum'!N9:P60,3,FALSE),""))
B6: Yes/No | C6: Years (N) | E6: Chosen NPA | H6: APS68 | I6: Lump sum NPA 68 | J6: =IF('Contributions calculator'!D15=Codes!D2,VLOOKUP('Contributions calculator'!D8,'Lump Sum'!R9:T60,2,FALSE),IF('Contributions calculator'!D15=Codes!D3,VLOOKUP('Contributions calculator'!D8,'Lump Sum'!R9:T60,3,FALSE),""))
B7: Yes | C7: 0 | E7: Years | F7: Months | H7: P60 | I7: Regular conts for personal AP of £250 with PNPA 60 | J7: =INDEX('NRA60'!$W$6:$AQ$58,MATCH('Contributions calculator'!$D$8,'NRA60'!$W$6:$W$58,0),MATCH('Contributions calculator'!$D$14,'NRA60'!$W$6:$AQ$6,0)) -> #N/A
B8: No | C8: =IF(OR('Contributions calculator'!D7=66,'Contributions calculator'!D7=67,'Contributions calculator'!D7=68),1,"") | E8: =IF('Contributions calculator'!E5=60,60,IF('Contributions calculator'!E5=65,65,IF(OR('Contributions calculator'!E5="SPA",'Contributions calculator'!E5=""),'Contributions calculator'!D7,""))) -> 65 | F8: =IF('Contributions calculator'!E5=60,0,IF('Contributions calculator'!E5=65,0,IF('Contributions calculator'!E5="SPA",'Contributions calculator'!F7,""))) -> 0 | H8: P65 | I8: Regular conts for personal AP of £250 with PNPA 65 | J8: =INDEX('NRA65'!$W$6:$AQ$58,MATCH('Contributions calculator'!$D$8,'NRA65'!$W$6:$W$58,0),MATCH('Contributions calculator'!$D$14,'NRA65'!$W$6:$AQ$6,0)) -> #N/A
C9: =IF(OR('Contributions calculator'!D7=67,'Contributions calculator'!D7=68),2,"") | H9: P66 | I9: Regular conts for personal AP of £250 with PNPA 66 | J9: =INDEX('NRA66'!$W$6:$AQ$58,MATCH('Contributions calculator'!$D$8,'NRA66'!$W$6:$W$58,0),MATCH('Contributions calculator'!$D$14,'NRA66'!$W$6:$AQ$6,0)) -> #N/A
C10: =IF(OR('Contributions calculator'!D7=68),3,"") | H10: P67 | I10: Regular conts for personal AP of £250 with PNPA 67 | J10: =INDEX('NRA67'!$W$6:$AQ$58,MATCH('Contributions calculator'!$D$8,'NRA67'!$W$6:$W$58,0),MATCH('Contributions calculator'!$D$14,'NRA67'!$W$6:$AQ$6,0)) -> #N/A
H11: P68 | I11: Regular conts for personal AP of £250 with PNPA 68 | J11: =INDEX('NRA68'!$W$6:$AQ$58,MATCH('Contributions calculator'!$D$8,'NRA68'!$W$6:$W$58,0),MATCH('Contributions calculator'!$D$14,'NRA68'!$W$6:$AQ$6,0)) -> #N/A | M11: AP Limits
B12: Existing AP | C12: AP Available | D12: Contribution period | H12: D60 | I12: Regular conts for personal AP of £250 with PNPA 60 + dependants AP | J12: =INDEX('NRA60'!$A$6:$U$58,MATCH('Contributions calculator'!$D$8,'NRA60'!$A$6:$A$58,0),MATCH('Contributions calculator'!$D$14,'NRA60'!$A$6:$U$6,0)) -> #N/A | M12: • Scottish Teacgers Superannuation Scheme (Scotland) | P12: 6800
B13: 0 | C13: =IF('Contributions calculator'!$D$11="","",250) -> 250 | D13: 1 | H13: D65 | I13: Regular conts for personal AP of £250 with PNPA 65 + dependants AP | J13: =INDEX('NRA65'!$A$6:$U$58,MATCH('Contributions calculator'!$D$8,'NRA65'!$A$6:$A$58,0),MATCH('Contributions calculator'!$D$14,'NRA65'!$A$6:$U$6,0)) -> #N/A | M13: • Teachers Pension Scheme (Scotland) 2013 | P13: 8900
B14: =IF(B13<(Codes!$P$14),Codes!B13+250,"") -> 250 | C14: =IF('Contributions calculator'!$D$11="","",IF(C13<('Contributions calculator'!$D$11-249),Codes!C13+250,"")) -> 500 | D14: =IF(D13="","",IF(Codes!D13+1<'Contributions calculator'!$D$9,Codes!D13+1,"")) -> 2 | H14: D66 | I14: Regular conts for personal AP of £250 with PNPA 66 + dependants AP | J14: =INDEX('NRA66'!$A$6:$U$58,MATCH('Contributions calculator'!$D$8,'NRA66'!$A$6:$A$58,0),MATCH('Contributions calculator'!$D$14,'NRA66'!$A$6:$U$6,0)) -> #N/A | O14: Applicable Limit | P14: =IF(OR('Contributions calculator'!E5=60,'Contributions calculator'!E5=65),Codes!P12,IF('Contributions calculator'!E5="SPA",Codes!P13,"")) -> 8900
B15: =IF(B14<(Codes!$P$14),Codes!B14+250,"") -> 500 | C15: =IF('Contributions calculator'!$D$11="","",IF(C14<('Contributions calculator'!$D$11-249),Codes!C14+250,"")) -> 750 | D15: =IF(D14="","",IF(Codes!D14+1<'Contributions calculator'!$D$9,Codes!D14+1,"")) -> 3 | H15: D67 | I15: Regular conts for personal AP of £250 with PNPA 67 + dependants AP | J15: =INDEX('NRA67'!$A$6:$U$58,MATCH('Contributions calculator'!$D$8,'NRA67'!$A$6:$A$58,0),MATCH('Contributions calculator'!$D$14,'NRA67'!$A$6:$U$6,0)) -> #N/A
B16: =IF(B15<(Codes!$P$14),Codes!B15+250,"") -> 750 | C16: =IF('Contributions calculator'!$D$11="","",IF(C15<('Contributions calculator'!$D$11-249),Codes!C15+250,"")) -> 1000 | D16: =IF(D15="","",IF(Codes!D15+1<'Contributions calculator'!$D$9,Codes!D15+1,"")) -> 4 | H16: D68 | I16: Regular conts for personal AP of £250 with PNPA 68 + dependants AP | J16: =INDEX('NRA68'!$A$6:$U$58,MATCH('Contributions calculator'!$D$8,'NRA68'!$A$6:$A$58,0),MATCH('Contributions calculator'!$D$14,'NRA68'!$A$6:$U$6,0)) -> #N/A
B17: =IF(B16<(Codes!$P$14),Codes!B16+250,"") -> 1000 | C17: =IF('Contributions calculator'!$D$11="","",IF(C16<('Contributions calculator'!$D$11-249),Codes!C16+250,"")) -> 1250 | D17: =IF(D16="","",IF(Codes!D16+1<'Contributions calculator'!$D$9,Codes!D16+1,"")) -> 5
B18: =IF(B17<(Codes!$P$14),Codes!B17+250,"") -> 1250 | C18: =IF('Contributions calculator'!$D$11="","",IF(C17<('Contributions calculator'!$D$11-249),Codes!C17+250,"")) -> 1500 | D18: =IF(D17="","",IF(Codes!D17+1<'Contributions calculator'!$D$9,Codes!D17+1,"")) -> 6 | I18: =IF(AND('Contributions calculator'!D13=C3,'Contributions calculator'!F7<>0),"Relevent tables are "&H27&" & "&H28,"Relevent table is "&H27&"") -> Relevent table is 65
B19: =IF(B18<(Codes!$P$14),Codes!B18+250,"") -> 1500 | C19: =IF('Contributions calculator'!$D$11="","",IF(C18<('Contributions calculator'!$D$11-249),Codes!C18+250,"")) -> 1750 | D19: =IF(D18="","",IF(Codes!D18+1<'Contributions calculator'!$D$9,Codes!D18+1,"")) -> 7
B20: =IF(B19<(Codes!$P$14),Codes!B19+250,"") -> 1750 | C20: =IF('Contributions calculator'!$D$11="","",IF(C19<('Contributions calculator'!$D$11-249),Codes!C19+250,"")) -> 2000 | D20: =IF(D19="","",IF(Codes!D19+1<'Contributions calculator'!$D$9,Codes!D19+1,"")) -> 8 | I20: Cost of £250 of AP | J20: =IF(H28="",I27,((I28-I27)*I25+I27)) -> #N/A
B21: =IF(B20<(Codes!$P$14),Codes!B20+250,"") -> 2000 | C21: =IF('Contributions calculator'!$D$11="","",IF(C20<('Contributions calculator'!$D$11-249),Codes!C20+250,"")) -> 2250 | D21: =IF(D20="","",IF(Codes!D20+1<'Contributions calculator'!$D$9,Codes!D20+1,"")) -> 9
B22: =IF(B21<(Codes!$P$14),Codes!B21+250,"") -> 2250 | C22: =IF('Contributions calculator'!$D$11="","",IF(C21<('Contributions calculator'!$D$11-249),Codes!C21+250,"")) -> 2500 | D22: =IF(D21="","",IF(Codes!D21+1<'Contributions calculator'!$D$9,Codes!D21+1,"")) -> 10 | I22: Interpolation for monthly contributions for non-integer NPA
B23: =IF(B22<(Codes!$P$14),Codes!B22+250,"") -> 2500 | C23: =IF('Contributions calculator'!$D$11="","",IF(C22<('Contributions calculator'!$D$11-249),Codes!C22+250,"")) -> 2750 | D23: =IF(D22="","",IF(Codes!D22+1<'Contributions calculator'!$D$9,Codes!D22+1,"")) -> 11
B24: =IF(B23<(Codes!$P$14),Codes!B23+250,"") -> 2750 | C24: =IF('Contributions calculator'!$D$11="","",IF(C23<('Contributions calculator'!$D$11-249),Codes!C23+250,"")) -> 3000 | D24: =IF(D23="","",IF(Codes!D23+1<'Contributions calculator'!$D$9,Codes!D23+1,"")) -> 12 | H24: NPA: | I24: =E8&" Years "&F8&" months" -> 65 Years 0 months
B25: =IF(B24<(Codes!$P$14),Codes!B24+250,"") -> 3000 | C25: =IF('Contributions calculator'!$D$11="","",IF(C24<('Contributions calculator'!$D$11-249),Codes!C24+250,"")) -> 3250 | D25: =IF(D24="","",IF(Codes!D24+1<'Contributions calculator'!$D$9,Codes!D24+1,"")) -> 13 | H25: Part years | I25: ='Contributions calculator'!F7/12 -> 0
B26: =IF(B25<(Codes!$P$14),Codes!B25+250,"") -> 3250 | C26: =IF('Contributions calculator'!$D$11="","",IF(C25<('Contributions calculator'!$D$11-249),Codes!C25+250,"")) -> 3500 | D26: =IF(D25="","",IF(Codes!D25+1<'Contributions calculator'!$D$9,Codes!D25+1,"")) -> 14
B27: =IF(B26<(Codes!$P$14),Codes!B26+250,"") -> 3500 | C27: =IF('Contributions calculator'!$D$11="","",IF(C26<('Contributions calculator'!$D$11-249),Codes!C26+250,"")) -> 3750 | D27: =IF(D26="","",IF(Codes!D26+1<'Contributions calculator'!$D$9,Codes!D26+1,"")) -> 15 | H27: =IF('Contributions calculator'!D13=Codes!C2,F2,IF('Contributions calculator'!D15=D2,"P",IF('Contributions calculator'!D15=D3,"D",""))&Codes!E8) -> 65 | I27: =VLOOKUP(H27,H2:J16,3,FALSE) -> #N/A
B28: =IF(B27<(Codes!$P$14),Codes!B27+250,"") -> 3750 | C28: =IF('Contributions calculator'!$D$11="","",IF(C27<('Contributions calculator'!$D$11-249),Codes!C27+250,"")) -> 4000 | D28: =IF(D27="","",IF(Codes!D27+1<'Contributions calculator'!$D$9,Codes!D27+1,"")) -> 16 | H28: =IF(OR(F8="",F8=0),"", IF(AND('Contributions calculator'!D13="Regular contributions",'Contributions calculator'!D15=D2),"P"&E8+1, IF(AND('Contributions calculator'!D13="Regular contributions",'Contributions calculator'!D15=D3),"D"&E8+1, IF(AND('Contributions calculator'!D13="Lump Sum"),"APS"&E8+1,"") ))) | I28: =VLOOKUP(H28,H4:J16,3,FALSE) -> #N/A
B29: =IF(B28<(Codes!$P$14),Codes!B28+250,"") -> 4000 | C29: =IF('Contributions calculator'!$D$11="","",IF(C28<('Contributions calculator'!$D$11-249),Codes!C28+250,"")) -> 4250 | D29: =IF(D28="","",IF(Codes!D28+1<'Contributions calculator'!$D$9,Codes!D28+1,"")) -> 17
B30: =IF(B29<(Codes!$P$14),Codes!B29+250,"") -> 4250 | C30: =IF('Contributions calculator'!$D$11="","",IF(C29<('Contributions calculator'!$D$11-249),Codes!C29+250,"")) -> 4500 | D30: =IF(D29="","",IF(Codes!D29+1<'Contributions calculator'!$D$9,Codes!D29+1,"")) -> 18 | I30: ="Interpolation for NPA of "&I24 -> Interpolation for NPA of 65 Years 0 months
B31: =IF(B30<(Codes!$P$14),Codes!B30+250,"") -> 4500 | C31: =IF('Contributions calculator'!$D$11="","",IF(C30<('Contributions calculator'!$D$11-249),Codes!C30+250,"")) -> 4750 | D31: =IF(D30="","",IF(Codes!D30+1<'Contributions calculator'!$D$9,Codes!D30+1,"")) -> 19 | H31: = | I31: ="("&H28&" figure - "&H27&" figure) x months/12 + "&H28&" figure" -> ( figure - 65 figure) x months/12 + figure
B32: =IF(B31<(Codes!$P$14),Codes!B31+250,"") -> 4750 | C32: =IF('Contributions calculator'!$D$11="","",IF(C31<('Contributions calculator'!$D$11-249),Codes!C31+250,"")) -> 5000 | D32: =IF(D31="","",IF(Codes!D31+1<'Contributions calculator'!$D$9,Codes!D31+1,"")) -> 20 | H32: = | I32: ="("&I28&" - "&I27&") x "&I25&" + "&I28 -> #N/A
B33: =IF(B32<(Codes!$P$14),Codes!B32+250,"") -> 5000 | C33: =IF('Contributions calculator'!$D$11="","",IF(C32<('Contributions calculator'!$D$11-249),Codes!C32+250,"")) -> 5250 | H33: = | I33: =J20 -> #N/A
B34: =IF(B33<(Codes!$P$14),Codes!B33+250,"") -> 5250 | C34: =IF('Contributions calculator'!$D$11="","",IF(C33<('Contributions calculator'!$D$11-249),Codes!C33+250,"")) -> 5500
B35: =IF(B34<(Codes!$P$14),Codes!B34+250,"") -> 5500 | C35: =IF('Contributions calculator'!$D$11="","",IF(C34<('Contributions calculator'!$D$11-249),Codes!C34+250,"")) -> 5750
B36: =IF(B35<(Codes!$P$14),Codes!B35+250,"") -> 5750 | C36: =IF('Contributions calculator'!$D$11="","",IF(C35<('Contributions calculator'!$D$11-249),Codes!C35+250,"")) -> 6000
B37: =IF(B36<(Codes!$P$14),Codes!B36+250,"") -> 6000 | C37: =IF('Contributions calculator'!$D$11="","",IF(C36<('Contributions calculator'!$D$11-249),Codes!C36+250,"")) -> 6250
B38: =IF(B37<(Codes!$P$14),Codes!B37+250,"") -> 6250 | C38: =IF('Contributions calculator'!$D$11="","",IF(C37<('Contributions calculator'!$D$11-249),Codes!C37+250,"")) -> 6500
B39: =IF(B38<(Codes!$P$14),Codes!B38+250,"") -> 6500 | C39: =IF('Contributions calculator'!$D$11="","",IF(C38<('Contributions calculator'!$D$11-249),Codes!C38+250,"")) -> 6750
B40: =IF(B39<(Codes!$P$14),Codes!B39+250,"") -> 6750 | C40: =IF('Contributions calculator'!$D$11="","",IF(C39<('Contributions calculator'!$D$11-249),Codes!C39+250,"")) -> 7000
...

Sheet State pension age
D2: SPA
B3: Date of birth | C3: Total whole Months | D3: Years | E3: Months- altair rounding-up | F3: Months | G3: Days | H3: DOB from | J3: DOB to | K3: SPA date
B4: =IF('Contributions calculator'!$D$5<H5,'Contributions calculator'!$D$5,"") -> 0 | D4: 65
A5: Increase from 65 to 66 | B5: =IF(AND('Contributions calculator'!$D$5>=H5,'Contributions calculator'!$D$5<=J5),'Contributions calculator'!$D$5,"") | C5: =IF(B5="","",IF(DAY(K5)>=DAY(B5),0,-1)+(YEAR(K5)-YEAR(B5))*12+MONTH(K5)-MONTH(B5)) | D5: =IF(B5="","",ROUNDDOWN(C5/12,0)) | E5: =IF(OR(G5="",G5=0),F5,F5+1) | F5: =IF(B5="","",C5-(65*12)) | G5: =IF(B5="","",K5-M5) | H5: 19699 | J5: 19729 | K5: 43530 | M5: =IF(B5="","",DATE(YEAR(B5)+65,MONTH(B5)+F5,DAY(B5)))
B6: =IF(AND('Contributions calculator'!$D$5>=H6,'Contributions calculator'!$D$5<=J6),'Contributions calculator'!$D$5,"") | C6: =IF(B6="","",IF(DAY(K6)>=DAY(B6),0,-1)+(YEAR(K6)-YEAR(B6))*12+MONTH(K6)-MONTH(B6)) | D6: =IF(B6="","",ROUNDDOWN(C6/12,0)) | E6: =IF(OR(G6="",G6=0),F6,F6+1) | F6: =IF(B6="","",C6-(65*12)) | G6: =IF(B6="","",K6-M6) | H6: 19730 | J6: 19760 | K6: 43591 | M6: =IF(B6="","",DATE(YEAR(B6)+65,MONTH(B6)+F6,DAY(B6)))
B7: =IF(AND('Contributions calculator'!$D$5>=H7,'Contributions calculator'!$D$5<=J7),'Contributions calculator'!$D$5,"") | C7: =IF(B7="","",IF(DAY(K7)>=DAY(B7),0,-1)+(YEAR(K7)-YEAR(B7))*12+MONTH(K7)-MONTH(B7)) | D7: =IF(B7="","",ROUNDDOWN(C7/12,0)) | E7: =IF(OR(G7="",G7=0),F7,F7+1) | F7: =IF(B7="","",C7-(65*12)) | G7: =IF(B7="","",K7-M7) | H7: 19761 | J7: 19788 | K7: 43652 | M7: =IF(B7="","",DATE(YEAR(B7)+65,MONTH(B7)+F7,DAY(B7)))
B8: =IF(AND('Contributions calculator'!$D$5>=H8,'Contributions calculator'!$D$5<=J8),'Contributions calculator'!$D$5,"") | C8: =IF(B8="","",IF(DAY(K8)>=DAY(B8),0,-1)+(YEAR(K8)-YEAR(B8))*12+MONTH(K8)-MONTH(B8)) | D8: =IF(B8="","",ROUNDDOWN(C8/12,0)) | E8: =IF(OR(G8="",G8=0),F8,F8+1) | F8: =IF(B8="","",C8-(65*12)) | G8: =IF(B8="","",K8-M8) | H8: 19789 | J8: 19819 | K8: 43714 | M8: =IF(B8="","",DATE(YEAR(B8)+65,MONTH(B8)+F8,DAY(B8)))
B9: =IF(AND('Contributions calculator'!$D$5>=H9,'Contributions calculator'!$D$5<=J9),'Contributions calculator'!$D$5,"") | C9: =IF(B9="","",IF(DAY(K9)>=DAY(B9),0,-1)+(YEAR(K9)-YEAR(B9))*12+MONTH(K9)-MONTH(B9)) | D9: =IF(B9="","",ROUNDDOWN(C9/12,0)) | E9: =IF(OR(G9="",G9=0),F9,F9+1) | F9: =IF(B9="","",C9-(65*12)) | G9: =IF(B9="","",K9-M9) | H9: 19820 | J9: 19849 | K9: 43775 | M9: =IF(B9="","",DATE(YEAR(B9)+65,MONTH(B9)+F9,DAY(B9)))
B10: =IF(AND('Contributions calculator'!$D$5>=H10,'Contributions calculator'!$D$5<=J10),'Contributions calculator'!$D$5,"") | C10: =IF(B10="","",IF(DAY(K10)>=DAY(B10),0,-1)+(YEAR(K10)-YEAR(B10))*12+MONTH(K10)-MONTH(B10)) | D10: =IF(B10="","",ROUNDDOWN(C10/12,0)) | E10: =IF(OR(G10="",G10=0),F10,F10+1) | F10: =IF(B10="","",C10-(65*12)) | G10: =IF(B10="","",K10-M10) | H10: 19850 | J10: 19880 | K10: 43836 | M10: =IF(B10="","",DATE(YEAR(B10)+65,MONTH(B10)+F10,DAY(B10)))
B11: =IF(AND('Contributions calculator'!$D$5>=H11,'Contributions calculator'!$D$5<=J11),'Contributions calculator'!$D$5,"") | C11: =IF(B11="","",IF(DAY(K11)>=DAY(B11),0,-1)+(YEAR(K11)-YEAR(B11))*12+MONTH(K11)-MONTH(B11)) | D11: =IF(B11="","",ROUNDDOWN(C11/12,0)) | E11: =IF(OR(G11="",G11=0),F11,F11+1) | F11: =IF(B11="","",C11-(65*12)) | G11: =IF(B11="","",K11-M11) | H11: 19881 | J11: 19910 | K11: 43896 | M11: =IF(B11="","",DATE(YEAR(B11)+65,MONTH(B11)+F11,DAY(B11)))
B12: =IF(AND('Contributions calculator'!$D$5>=H12,'Contributions calculator'!$D$5<=J12),'Contributions calculator'!$D$5,"") | C12: =IF(B12="","",IF(DAY(K12)>=DAY(B12),0,-1)+(YEAR(K12)-YEAR(B12))*12+MONTH(K12)-MONTH(B12)) | D12: =IF(B12="","",ROUNDDOWN(C12/12,0)) | E12: =IF(OR(G12="",G12=0),F12,F12+1) | F12: =IF(B12="","",C12-(65*12)) | G12: =IF(B12="","",K12-M12) | H12: 19911 | J12: 19941 | K12: 43957 | M12: =IF(B12="","",DATE(YEAR(B12)+65,MONTH(B12)+F12,DAY(B12)))
B13: =IF(AND('Contributions calculator'!$D$5>=H13,'Contributions calculator'!$D$5<=J13),'Contributions calculator'!$D$5,"") | C13: =IF(B13="","",IF(DAY(K13)>=DAY(B13),0,-1)+(YEAR(K13)-YEAR(B13))*12+MONTH(K13)-MONTH(B13)) | D13: =IF(B13="","",ROUNDDOWN(C13/12,0)) | E13: =IF(OR(G13="",G13=0),F13,F13+1) | F13: =IF(B13="","",C13-(65*12)) | G13: =IF(B13="","",K13-M13) | H13: 19942 | J13: 19972 | K13: 44018 | M13: =IF(B13="","",DATE(YEAR(B13)+65,MONTH(B13)+F13,DAY(B13)))
B14: =IF(AND('Contributions calculator'!$D$5>=H14,'Contributions calculator'!$D$5<=J14),'Contributions calculator'!$D$5,"") | C14: =IF(B14="","",IF(DAY(K14)>=DAY(B14),0,-1)+(YEAR(K14)-YEAR(B14))*12+MONTH(K14)-MONTH(B14)) | D14: =IF(B14="","",66) | F14: =IF(B14="","",C14-(65*12)) | G14: =IF(B14="","",K14-M14) | H14: 19973 | J14: 20002 | K14: 44080 | M14: =IF(B14="","",DATE(YEAR(B14)+65,MONTH(B14)+F14,DAY(B14)))
B15: =IF(AND('Contributions calculator'!$D$5>=H15,'Contributions calculator'!$D$5<=J15),'Contributions calculator'!$D$5,"") | C15: =IF(B15="","",IF(DAY(K15)>=DAY(B15),0,-1)+(YEAR(K15)-YEAR(B15))*12+MONTH(K15)-MONTH(B15)) | D15: =IF(B15="","",66) | H15: 20003 | J15: 22011 | K15: =IF(AND('Contributions calculator'!D$5>=H15,'Contributions calculator'!D$5<=J15),(DATE(YEAR(B15)+66,MONTH(B15),DAY(B15))),"") | M15: =IF(B15="","",DATE(YEAR(B15)+D15,MONTH(B15)+F15,DAY(B15)))
E16: =IF(OR(G16="",G16=0),F16,F16+1) | F16: =IF(B16="","",C16-(D16*12))
A17: Increase from 66 to 67 | B17: =IF(AND('Contributions calculator'!$D$5>=H17,'Contributions calculator'!$D$5<=J17),'Contributions calculator'!$D$5,"") | D17: =IF(B17="","",66) | E17: =IF(OR(G17="",G17=0),F17,F17+1) | F17: =IF(B17="","",1) | H17: 22012 | J17: 22041
B18: =IF(AND('Contributions calculator'!$D$5>=H18,'Contributions calculator'!$D$5<=J18),'Contributions calculator'!$D$5,"") | D18: =IF(B18="","",66) | E18: =IF(OR(G18="",G18=0),F18,F18+1) | F18: =IF(B18="","",2) | H18: 22042 | J18: 22072
B19: =IF(AND('Contributions calculator'!$D$5>=H19,'Contributions calculator'!$D$5<=J19),'Contributions calculator'!$D$5,"") | D19: =IF(B19="","",66) | E19: =IF(OR(G19="",G19=0),F19,F19+1) | F19: =IF(B19="","",3) | H19: 22073 | J19: 22102
B20: =IF(AND('Contributions calculator'!$D$5>=H20,'Contributions calculator'!$D$5<=J20),'Contributions calculator'!$D$5,"") | D20: =IF(B20="","",66) | E20: =IF(OR(G20="",G20=0),F20,F20+1) | F20: =IF(B20="","",4) | H20: 22103 | J20: 22133
B21: =IF(AND('Contributions calculator'!$D$5>=H21,'Contributions calculator'!$D$5<=J21),'Contributions calculator'!$D$5,"") | D21: =IF(B21="","",66) | E21: =IF(OR(G21="",G21=0),F21,F21+1) | F21: =IF(B21="","",5) | H21: 22134 | J21: 22164
B22: =IF(AND('Contributions calculator'!$D$5>=H22,'Contributions calculator'!$D$5<=J22),'Contributions calculator'!$D$5,"") | D22: =IF(B22="","",66) | E22: =IF(OR(G22="",G22=0),F22,F22+1) | F22: =IF(B22="","",6) | H22: 22165 | J22: 22194
B23: =IF(AND('Contributions calculator'!$D$5>=H23,'Contributions calculator'!$D$5<=J23),'Contributions calculator'!$D$5,"") | D23: =IF(B23="","",66) | E23: =IF(OR(G23="",G23=0),F23,F23+1) | F23: =IF(B23="","",7) | H23: 22195 | J23: 22225
B24: =IF(AND('Contributions calculator'!$D$5>=H24,'Contributions calculator'!$D$5<=J24),'Contributions calculator'!$D$5,"") | D24: =IF(B24="","",66) | E24: =IF(OR(G24="",G24=0),F24,F24+1) | F24: =IF(B24="","",8) | H24: 22226 | J24: 22255
B25: =IF(AND('Contributions calculator'!$D$5>=H25,'Contributions calculator'!$D$5<=J25),'Contributions calculator'!$D$5,"") | D25: =IF(B25="","",66) | E25: =IF(OR(G25="",G25=0),F25,F25+1) | F25: =IF(B25="","",9) | H25: 22256 | J25: 22286
B26: =IF(AND('Contributions calculator'!$D$5>=H26,'Contributions calculator'!$D$5<=J26),'Contributions calculator'!$D$5,"") | D26: =IF(B26="","",66) | E26: =IF(OR(G26="",G26=0),F26,F26+1) | F26: =IF(B26="","",10) | H26: 22287 | J26: 22317
B27: =IF(AND('Contributions calculator'!$D$5>=H27,'Contributions calculator'!$D$5<=J27),'Contributions calculator'!$D$5,"") | D27: =IF(B27="","",66) | E27: =IF(OR(G27="",G27=0),F27,F27+1) | F27: =IF(B27="","",11) | H27: 22318 | J27: 22345
B28: =IF(AND('Contributions calculator'!$D$5>=H28,'Contributions calculator'!$D$5<=J28),'Contributions calculator'!$D$5,"") | D28: =IF(B28="","",67) | H28: 22346 | J28: 28220
E29: =IF(OR(G29="",G29=0),F29,F29+1) | F29: =IF(B29="","",C29-(D29*12))
A30: Increase from 67 to 68 | B30: =IF(AND('Contributions calculator'!$D$5>=H30,'Contributions calculator'!$D$5<=J30),'Contributions calculator'!$D$5,"") | C30: =IF(B30="","",IF(DAY(K30)>=DAY(B30),0,-1)+(YEAR(K30)-YEAR(B30))*12+MONTH(K30)-MONTH(B30)) | D30: =IF(B30="","",ROUNDDOWN(C30/12,0)) | E30: =IF(OR(G30="",G30=0),F30,F30+1) | F30: =IF(B30="","",C30-(67*12)) | G30: =IF(B30="","",K30-M30) | H30: 28221 | J30: 28250 | K30: 52723 | M30: =IF(B30="","",DATE(YEAR(B30)+67,MONTH(B30)+F30,DAY(B30)))
B31: =IF(AND('Contributions calculator'!$D$5>=H31,'Contributions calculator'!$D$5<=J31),'Contributions calculator'!$D$5,"") | C31: =IF(B31="","",IF(DAY(K31)>=DAY(B31),0,-1)+(YEAR(K31)-YEAR(B31))*12+MONTH(K31)-MONTH(B31)) | D31: =IF(B31="","",ROUNDDOWN(C31/12,0)) | E31: =IF(OR(G31="",G31=0),F31,F31+1) | F31: =IF(B31="","",C31-(67*12)) | G31: =IF(B31="","",K31-M31) | H31: 28251 | J31: 28281 | K31: 52784 | M31: =IF(B31="","",DATE(YEAR(B31)+67,MONTH(B31)+F31,DAY(B31)))
B32: =IF(AND('Contributions calculator'!$D$5>=H32,'Contributions calculator'!$D$5<=J32),'Contributions calculator'!$D$5,"") | C32: =IF(B32="","",IF(DAY(K32)>=DAY(B32),0,-1)+(YEAR(K32)-YEAR(B32))*12+MONTH(K32)-MONTH(B32)) | D32: =IF(B32="","",ROUNDDOWN(C32/12,0)) | E32: =IF(OR(G32="",G32=0),F32,F32+1) | F32: =IF(B32="","",C32-(67*12)) | G32: =IF(B32="","",K32-M32) | H32: 28282 | J32: 28311 | K32: 52846 | M32: =IF(B32="","",DATE(YEAR(B32)+67,MONTH(B32)+F32,DAY(B32)))
B33: =IF(AND('Contributions calculator'!$D$5>=H33,'Contributions calculator'!$D$5<=J33),'Contributions calculator'!$D$5,"") | C33: =IF(B33="","",IF(DAY(K33)>=DAY(B33),0,-1)+(YEAR(K33)-YEAR(B33))*12+MONTH(K33)-MONTH(B33)) | D33: =IF(B33="","",ROUNDDOWN(C33/12,0)) | E33: =IF(OR(G33="",G33=0),F33,F33+1) | F33: =IF(B33="","",C33-(67*12)) | G33: =IF(B33="","",K33-M33) | H33: 28312 | J33: 28342 | K33: 52907 | M33: =IF(B33="","",DATE(YEAR(B33)+67,MONTH(B33)+F33,DAY(B33)))
B34: =IF(AND('Contributions calculator'!$D$5>=H34,'Contributions calculator'!$D$5<=J34),'Contributions calculator'!$D$5,"") | C34: =IF(B34="","",IF(DAY(K34)>=DAY(B34),0,-1)+(YEAR(K34)-YEAR(B34))*12+MONTH(K34)-MONTH(B34)) | D34: =IF(B34="","",ROUNDDOWN(C34/12,0)) | E34: =IF(OR(G34="",G34=0),F34,F34+1) | F34: =IF(B34="","",C34-(67*12)) | G34: =IF(B34="","",K34-M34) | H34: 28343 | J34: 28373 | K34: 52968 | M34: =IF(B34="","",DATE(YEAR(B34)+67,MONTH(B34)+F34,DAY(B34)))
B35: =IF(AND('Contributions calculator'!$D$5>=H35,'Contributions calculator'!$D$5<=J35),'Contributions calculator'!$D$5,"") | C35: =IF(B35="","",IF(DAY(K35)>=DAY(B35),0,-1)+(YEAR(K35)-YEAR(B35))*12+MONTH(K35)-MONTH(B35)) | D35: =IF(B35="","",ROUNDDOWN(C35/12,0)) | E35: =IF(OR(G35="",G35=0),F35,F35+1) | F35: =IF(B35="","",C35-(67*12)) | G35: =IF(B35="","",K35-M35) | H35: 28374 | J35: 28403 | K35: 53027 | M35: =IF(B35="","",DATE(YEAR(B35)+67,MONTH(B35)+F35,DAY(B35)))
B36: =IF(AND('Contributions calculator'!$D$5>=H36,'Contributions calculator'!$D$5<=J36),'Contributions calculator'!$D$5,"") | C36: =IF(B36="","",IF(DAY(K36)>=DAY(B36),0,-1)+(YEAR(K36)-YEAR(B36))*12+MONTH(K36)-MONTH(B36)) | D36: =IF(B36="","",ROUNDDOWN(C36/12,0)) | E36: =IF(OR(G36="",G36=0),F36,F36+1) | F36: =IF(B36="","",C36-(67*12)) | G36: =IF(B36="","",K36-M36) | H36: 28404 | J36: 28434 | K36: 53088 | M36: =IF(B36="","",DATE(YEAR(B36)+67,MONTH(B36)+F36,DAY(B36)))
B37: =IF(AND('Contributions calculator'!$D$5>=H37,'Contributions calculator'!$D$5<=J37),'Contributions calculator'!$D$5,"") | C37: =IF(B37="","",IF(DAY(K37)>=DAY(B37),0,-1)+(YEAR(K37)-YEAR(B37))*12+MONTH(K37)-MONTH(B37)) | D37: =IF(B37="","",ROUNDDOWN(C37/12,0)) | E37: =IF(OR(G37="",G37=0),F37,F37+1) | F37: =IF(B37="","",C37-(67*12)) | G37: =IF(B37="","",K37-M37) | H37: 28435 | J37: 28464 | K37: 53149 | M37: =IF(B37="","",DATE(YEAR(B37)+67,MONTH(B37)+F37,DAY(B37)))
B38: =IF(AND('Contributions calculator'!$D$5>=H38,'Contributions calculator'!$D$5<=J38),'Contributions calculator'!$D$5,"") | C38: =IF(B38="","",IF(DAY(K38)>=DAY(B38),0,-1)+(YEAR(K38)-YEAR(B38))*12+MONTH(K38)-MONTH(B38)) | D38: =IF(B38="","",ROUNDDOWN(C38/12,0)) | E38: =IF(OR(G38="",G38=0),F38,F38+1) | F38: =IF(B38="","",C38-(67*12)) | G38: =IF(B38="","",K38-M38) | H38: 28465 | J38: 28495 | K38: 53211 | M38: =IF(B38="","",DATE(YEAR(B38)+67,MONTH(B38)+F38,DAY(B38)))
B39: =IF(AND('Contributions calculator'!$D$5>=H39,'Contributions calculator'!$D$5<=J39),'Contributions calculator'!$D$5,"") | C39: =IF(B39="","",IF(DAY(K39)>=DAY(B39),0,-1)+(YEAR(K39)-YEAR(B39))*12+MONTH(K39)-MONTH(B39)) | D39: =IF(B39="","",ROUNDDOWN(C39/12,0)) | E39: =IF(OR(G39="",G39=0),F39,F39+1) | F39: =IF(B39="","",C39-(67*12)) | G39: =IF(B39="","",K39-M39) | H39: 28496 | J39: 28526 | K39: 53272 | M39: =IF(B39="","",DATE(YEAR(B39)+67,MONTH(B39)+F39,DAY(B39)))
B40: =IF(AND('Contributions calculator'!$D$5>=H40,'Contributions calculator'!$D$5<=J40),'Contributions calculator'!$D$5,"") | C40: =IF(B40="","",IF(DAY(K40)>=DAY(B40),0,-1)+(YEAR(K40)-YEAR(B40))*12+MONTH(K40)-MONTH(B40)) | D40: =IF(B40="","",ROUNDDOWN(C40/12,0)) | E40: =IF(OR(G40="",G40=0),F40,F40+1) | F40: =IF(B40="","",C40-(67*12)) | G40: =IF(B40="","",K40-M40) | H40: 28527 | J40: 28554 | K40: 53333 | M40: =IF(B40="","",DATE(YEAR(B40)+67,MONTH(B40)+F40,DAY(B40)))
B41: =IF(AND('Contributions calculator'!$D$5>=H41,'Contributions calculator'!$D$5<=J41),'Contributions calculator'!$D$5,"") | C41: =IF(B41="","",IF(DAY(K41)>=DAY(B41),0,-1)+(YEAR(K41)-YEAR(B41))*12+MONTH(K41)-MONTH(B41)) | D41: =IF(B41="","",68) | E41: 0 | F41: =IF(B41="","",C41-(67*12)) | G41: =IF(B41="","",K41-M41) | H41: 28555 | J41: 28585 | K41: 53392 | M41: =IF(B41="","",DATE(YEAR(B41)+67,MONTH(B41)+F41,DAY(B41)))
...

Sheet Lump Sum
G1: Lump Sum Elections | J1: Date Factors Issued to Client | K1: 46204
J2: Implementation date | K2: 01/08/2026 for NEW elections only
B3: x-701 | F3: x-702 | J3: x-703 | N3: x-704 | R3: x-705
B5: Table APS60: NPA 60, STSS | F5: Table APS65: NPA 65, STSS and STPS | J5: Table APS66: NPA 66, STPS | N5: Table APS67: NPA 67, STPS | R5: Table APS68: NPA 68, STPS
B7: Benefits | C7: Personal | D7: Personal and dependant's | F7: Benefits | G7: Personal | H7: Personal and dependant's | J7: Benefits | K7: Personal | L7: Personal and dependant's | N7: Benefits | O7: Personal | P7: Personal and dependant's | R7: Benefits | S7: Personal | T7: Personal and dependant's
B8: Age when notice of election given | C8: Single premium to purchase £250 of APB at date of election, £ | F8: Age when notice of election given | G8: Single premium to purchase £250 of APB at date of election, £ | J8: Age when notice of election given | K8: Single premium to purchase £250 of AP at date of election, £ | N8: Age when notice of election given | O8: Single premium to purchase £250 of AP at date of election, £ | R8: Age when notice of election given | S8: Single premium to purchase £250 of AP at date of election, £
B9: 20 | F9: 20 | G9: 2120 | H9: 2300 | J9: 20 | K9: 2030 | L9: 2200 | N9: 20 | O9: 1940 | P9: 2120 | R9: 20 | S9: 1860 | T9: 2030 | V9: 20 | Z9: 20
B10: 21 | F10: 21 | G10: 2160 | H10: 2340 | J10: 21 | K10: 2070 | L10: 2240 | N10: 21 | O10: 1980 | P10: 2160 | R10: 21 | S10: 1890 | T10: 2070 | V10: 21 | Z10: 21
B11: 22 | F11: 22 | G11: 2200 | H11: 2380 | J11: 22 | K11: 2110 | L11: 2290 | N11: 22 | O11: 2010 | P11: 2190 | R11: 22 | S11: 1930 | T11: 2110 | V11: 22 | Z11: 22
B12: 23 | F12: 23 | G12: 2240 | H12: 2420 | J12: 23 | K12: 2140 | L12: 2330 | N12: 23 | O12: 2050 | P12: 2230 | R12: 23 | S12: 1960 | T12: 2140 | V12: 23 | Z12: 23
B13: 24 | F13: 24 | G13: 2280 | H13: 2470 | J13: 24 | K13: 2180 | L13: 2370 | N13: 24 | O13: 2090 | P13: 2270 | R13: 24 | S13: 2000 | T13: 2180 | V13: 24 | Z13: 24
B14: 25 | F14: 25 | G14: 2320 | H14: 2510 | J14: 25 | K14: 2220 | L14: 2410 | N14: 25 | O14: 2120 | P14: 2310 | R14: 25 | S14: 2030 | T14: 2220 | V14: 25 | Z14: 25
B15: 26 | F15: 26 | G15: 2360 | H15: 2560 | J15: 26 | K15: 2260 | L15: 2450 | N15: 26 | O15: 2160 | P15: 2360 | R15: 26 | S15: 2070 | T15: 2260 | V15: 26 | Z15: 26
B16: 27 | F16: 27 | G16: 2410 | H16: 2600 | J16: 27 | K16: 2300 | L16: 2500 | N16: 27 | O16: 2200 | P16: 2400 | R16: 27 | S16: 2100 | T16: 2300 | V16: 27 | Z16: 27
B17: 28 | F17: 28 | G17: 2450 | H17: 2650 | J17: 28 | K17: 2340 | L17: 2540 | N17: 28 | O17: 2240 | P17: 2440 | R17: 28 | S17: 2140 | T17: 2340 | V17: 28 | Z17: 28
B18: 29 | F18: 29 | G18: 2490 | H18: 2700 | J18: 29 | K18: 2390 | L18: 2590 | N18: 29 | O18: 2280 | P18: 2490 | R18: 29 | S18: 2180 | T18: 2380 | V18: 29 | Z18: 29
B19: 30 | F19: 30 | G19: 2540 | H19: 2750 | J19: 30 | K19: 2430 | L19: 2640 | N19: 30 | O19: 2320 | P19: 2530 | R19: 30 | S19: 2220 | T19: 2430 | V19: 30 | Z19: 30
B20: 31 | F20: 31 | G20: 2580 | H20: 2790 | J20: 31 | K20: 2470 | L20: 2680 | N20: 31 | O20: 2360 | P20: 2570 | R20: 31 | S20: 2260 | T20: 2470 | V20: 31 | Z20: 31
... B48: 59 | F48: 59 | G48: 4210 | H48: 4520 | J48: 59 | K48: 4010 | L48: 4310 | N48: 59 | O48: 3810 | P48: 4120 | R48: 59 | S48: 3620 | T48: 3920 | V48: 59 | Z48: 59
F49: 60 | G49: 4290 | H49: 4590 | J49: 60 | K49: 4080 | L49: 4390 | N49: 60 | O49: 3880 | P49: 4180 | R49: 60 | S49: 3690 | T49: 3990 | Z49: 60
F50: 61 | G50: 4370 | H50: 4680 | J50: 61 | K50: 4160 | L50: 4460 | N50: 61 | O50: 3950 | P50: 4260 | R50: 61 | S50: 3750 | T50: 4050 | Z50: 61
F51: 62 | G51: 4460 | H51: 4760 | J51: 62 | K51: 4230 | L51: 4540 | N51: 62 | O51: 4020 | P51: 4330 | R51: 62 | S51: 3820 | T51: 4120 | Z51: 62
F52: 63 | G52: 4540 | H52: 4850 | J52: 63 | K52: 4320 | L52: 4630 | N52: 63 | O52: 4100 | P52: 4410 | R52: 63 | S52: 3890 | T52: 4190 | Z52: 63
F53: 64 | G53: 4630 | H53: 4950 | J53: 64 | K53: 4400 | L53: 4710 | N53: 64 | O53: 4180 | P53: 4490 | R53: 64 | S53: 3960 | T53: 4270 | Z53: 64
J54: 65 | K54: 4490 | L54: 4800 | N54: 65 | O54: 4260 | P54: 4570 | R54: 65 | S54: 4030 | T54: 4340
N55: 66 | O55: 4340 | P55: 4660 | R55: 66 | S55: 4110 | T55: 4430
R56: 67 | S56: 4200 | T56: 4510

Sheet NRA60
U1: Date Factors Issued to Client | V1: 46204
A2: Regular Contribution Elections made after 31 March 2011 | U2: Implementation date | V2: 01/08/2026 for NEW elections only | W2: Regular Contribution Elections made after 31 March 2011
A3: Table D60: Personal and Dependant's Benefits, NRA 60 | L3: x-707 | W3: Table P60: Personal Benefits, NRA 60 | AD3: x-706
A5: Age when notice of election given â | B5: Monthly contribution to purchase £250 of APB at date of election, £ | W5: Age when notice of election given â | X5: Monthly contribution to purchase £250 of APB at date of election, £
A6: Payment period (in years) à | B6: 1 | C6: 2 | D6: 3 | E6: 4 | F6: 5 | G6: 6 | H6: 7 | I6: 8 | J6: 9 | K6: 10 | L6: 11 | M6: 12 | N6: 13 | O6: 14 | P6: 15 | Q6: 16 | R6: 17 | S6: 18 | T6: 19 | U6: 20 | W6: Payment period (in years) à | X6: 1 | Y6: 2 | Z6: 3 | AA6: 4 | AB6: 5 | AC6: 6 | AD6: 7 | AE6: 8 | AF6: 9 | AG6: 10 | AH6: 11 | AI6: 12 | AJ6: 13 | AK6: 14 | AL6: 15 | AM6: 16 | AN6: 17 | AO6: 18 | AP6: 19 | AQ6: 20
A7: 16 | W7: 16
A8: 17 | W8: 17
A9: 18 | W9: 18
A10: 19 | W10: 19
A11: 20 | B11: 216.5 | C11: 110.4 | D11: 75 | E11: 57.4 | F11: 46.8 | G11: 39.8 | H11: 34.7 | I11: 31 | J11: 28.1 | K11: 25.7 | L11: 23.8 | M11: 22.2 | N11: 20.9 | O11: 19.8 | P11: 18.8 | Q11: 17.9 | R11: 17.2 | S11: 16.5 | T11: 15.9 | U11: 15.4 | W11: 20 | X11: 230.6 | Y11: 117.6 | Z11: 79.9 | AA11: 61.1 | AB11: 49.9 | AC11: 42.3 | AD11: 37 | AE11: 33 | AF11: 29.9 | AG11: 27.4 | AH11: 25.4 | AI11: 23.7 | AJ11: 22.3 | AK11: 21.1 | AL11: 20 | AM11: 19.1 | AN11: 18.3 | AO11: 17.6 | AP11: 17 | AQ11: 16.4
A12: 21 | B12: 220.4 | C12: 112.4 | D12: 76.4 | E12: 58.4 | F12: 47.7 | G12: 40.5 | H12: 35.4 | I12: 31.5 | J12: 28.6 | K12: 26.2 | L12: 24.3 | M12: 22.6 | N12: 21.3 | O12: 20.1 | P12: 19.1 | Q12: 18.3 | R12: 17.5 | S12: 16.8 | T12: 16.2 | U12: 15.7 | W12: 21 | X12: 234.8 | Y12: 119.7 | Z12: 81.4 | AA12: 62.2 | AB12: 50.8 | AC12: 43.1 | AD12: 37.7 | AE12: 33.6 | AF12: 30.4 | AG12: 27.9 | AH12: 25.8 | AI12: 24.1 | AJ12: 22.7 | AK12: 21.4 | AL12: 20.4 | AM12: 19.4 | AN12: 18.6 | AO12: 17.9 | AP12: 17.3 | AQ12: 16.7
A13: 22 | B13: 224.5 | C13: 114.5 | D13: 77.8 | E13: 59.5 | F13: 48.5 | G13: 41.2 | H13: 36 | I13: 32.1 | J13: 29.1 | K13: 26.7 | L13: 24.7 | M13: 23.1 | N13: 21.7 | O13: 20.5 | P13: 19.5 | Q13: 18.6 | R13: 17.8 | S13: 17.1 | T13: 16.5 | U13: 16 | W13: 22 | X13: 239.1 | Y13: 121.9 | Z13: 82.9 | AA13: 63.4 | AB13: 51.7 | AC13: 43.9 | AD13: 38.4 | AE13: 34.2 | AF13: 31 | AG13: 28.4 | AH13: 26.3 | AI13: 24.6 | AJ13: 23.1 | AK13: 21.8 | AL13: 20.8 | AM13: 19.8 | AN13: 19 | AO13: 18.2 | AP13: 17.6 | AQ13: 17
A14: 23 | B14: 228.5 | C14: 116.5 | D14: 79.2 | E14: 60.6 | F14: 49.4 | G14: 42 | H14: 36.7 | I14: 32.7 | J14: 29.6 | K14: 27.2 | L14: 25.1 | M14: 23.5 | N14: 22.1 | O14: 20.9 | P14: 19.8 | Q14: 18.9 | R14: 18.1 | S14: 17.4 | T14: 16.8 | U14: 16.3 | W14: 23 | X14: 243.4 | Y14: 124.1 | Z14: 84.4 | AA14: 64.5 | AB14: 52.6 | AC14: 44.7 | AD14: 39.1 | AE14: 34.8 | AF14: 31.5 | AG14: 28.9 | AH14: 26.8 | AI14: 25 | AJ14: 23.5 | AK14: 22.2 | AL14: 21.1 | AM14: 20.2 | AN14: 19.3 | AO14: 18.6 | AP14: 17.9 | AQ14: 17.3
A15: 24 | B15: 232.7 | C15: 118.7 | D15: 80.7 | E15: 61.7 | F15: 50.3 | G15: 42.7 | H15: 37.3 | I15: 33.3 | J15: 30.2 | K15: 27.7 | L15: 25.6 | M15: 23.9 | N15: 22.5 | O15: 21.3 | P15: 20.2 | Q15: 19.3 | R15: 18.5 | S15: 17.8 | T15: 17.1 | U15: 16.6 | W15: 24 | X15: 247.9 | Y15: 126.4 | Z15: 85.9 | AA15: 65.7 | AB15: 53.6 | AC15: 45.5 | AD15: 39.8 | AE15: 35.5 | AF15: 32.1 | AG15: 29.5 | AH15: 27.3 | AI15: 25.5 | AJ15: 23.9 | AK15: 22.6 | AL15: 21.5 | AM15: 20.5 | AN15: 19.7 | AO15: 18.9 | AP15: 18.2 | AQ15: 17.6
A16: 25 | B16: 236.9 | C16: 120.8 | D16: 82.1 | E16: 62.8 | F16: 51.2 | G16: 43.5 | H16: 38 | I16: 33.9 | J16: 30.7 | K16: 28.2 | L16: 26.1 | M16: 24.3 | N16: 22.9 | O16: 21.6 | P16: 20.6 | Q16: 19.6 | R16: 18.8 | S16: 18.1 | T16: 17.4 | U16: 16.9 | W16: 25 | X16: 252.4 | Y16: 128.7 | Z16: 87.5 | AA16: 66.9 | AB16: 54.6 | AC16: 46.4 | AD16: 40.5 | AE16: 36.1 | AF16: 32.7 | AG16: 30 | AH16: 27.8 | AI16: 25.9 | AJ16: 24.4 | AK16: 23.1 | AL16: 21.9 | AM16: 20.9 | AN16: 20 | AO16: 19.3 | AP16: 18.6 | AQ16: 18
A17: 26 | B17: 241.2 | C17: 123 | D17: 83.6 | E17: 63.9 | F17: 52.2 | G17: 44.3 | H17: 38.7 | I17: 34.5 | J17: 31.3 | K17: 28.7 | L17: 26.5 | M17: 24.8 | N17: 23.3 | O17: 22 | P17: 20.9 | Q17: 20 | R17: 19.2 | S17: 18.4 | T17: 17.8 | U17: 17.2 | W17: 26 | X17: 256.9 | Y17: 131 | Z17: 89.1 | AA17: 68.1 | AB17: 55.6 | AC17: 47.2 | AD17: 41.2 | AE17: 36.8 | AF17: 33.3 | AG17: 30.5 | AH17: 28.3 | AI17: 26.4 | AJ17: 24.8 | AK17: 23.5 | AL17: 22.3 | AM17: 21.3 | AN17: 20.4 | AO17: 19.6 | AP17: 18.9 | AQ17: 18.3
A18: 27 | B18: 245.6 | C18: 125.2 | D18: 85.1 | E18: 65.1 | F18: 53.1 | G18: 45.1 | H18: 39.4 | I18: 35.1 | J18: 31.8 | K18: 29.2 | L18: 27 | M18: 25.2 | N18: 23.7 | O18: 22.4 | P18: 21.3 | Q18: 20.4 | R18: 19.5 | S18: 18.8 | T18: 18.1 | U18: 17.5 | W18: 27 | X18: 261.6 | Y18: 133.4 | Z18: 90.7 | AA18: 69.4 | AB18: 56.6 | AC18: 48.1 | AD18: 42 | AE18: 37.4 | AF18: 33.9 | AG18: 31.1 | AH18: 28.8 | AI18: 26.9 | AJ18: 25.3 | AK18: 23.9 | AL18: 22.7 | AM18: 21.7 | AN18: 20.8 | AO18: 20 | AP18: 19.3 | AQ18: 18.6
A19: 28 | B19: 250 | C19: 127.5 | D19: 86.7 | E19: 66.3 | F19: 54.1 | G19: 45.9 | H19: 40.1 | I19: 35.8 | J19: 32.4 | K19: 29.7 | L19: 27.5 | M19: 25.7 | N19: 24.2 | O19: 22.9 | P19: 21.7 | Q19: 20.7 | R19: 19.9 | S19: 19.1 | T19: 18.4 | U19: 17.8 | W19: 28 | X19: 266.3 | Y19: 135.8 | Z19: 92.3 | AA19: 70.6 | AB19: 57.6 | AC19: 48.9 | AD19: 42.7 | AE19: 38.1 | AF19: 34.5 | AG19: 31.7 | AH19: 29.3 | AI19: 27.4 | AJ19: 25.7 | AK19: 24.3 | AL19: 23.1 | AM19: 22.1 | AN19: 21.2 | AO19: 20.3 | AP19: 19.6 | AQ19: 19
A20: 29 | B20: 254.5 | C20: 129.8 | D20: 88.2 | E20: 67.5 | F20: 55 | G20: 46.8 | H20: 40.9 | I20: 36.4 | J20: 33 | K20: 30.3 | L20: 28 | M20: 26.2 | N20: 24.6 | O20: 23.3 | P20: 22.1 | Q20: 21.1 | R20: 20.2 | S20: 19.5 | T20: 18.8 | U20: 18.1 | W20: 29 | X20: 271.1 | Y20: 138.3 | Z20: 94 | AA20: 71.9 | AB20: 58.6 | AC20: 49.8 | AD20: 43.5 | AE20: 38.8 | AF20: 35.2 | AG20: 32.2 | AH20: 29.9 | AI20: 27.9 | AJ20: 26.2 | AK20: 24.8 | AL20: 23.6 | AM20: 22.5 | AN20: 21.6 | AO20: 20.7 | AP20: 20 | AQ20: 19.3
A21: 30 | B21: 259.1 | C21: 132.1 | D21: 89.8 | E21: 68.7 | F21: 56 | G21: 47.6 | H21: 41.6 | I21: 37.1 | J21: 33.6 | K21: 30.8 | L21: 28.5 | M21: 26.7 | N21: 25.1 | O21: 23.7 | P21: 22.5 | Q21: 21.5 | R21: 20.6 | S21: 19.8 | T21: 19.1 | U21: 18.5 | W21: 30 | X21: 276 | Y21: 140.8 | Z21: 95.7 | AA21: 73.2 | AB21: 59.7 | AC21: 50.7 | AD21: 44.3 | AE21: 39.5 | AF21: 35.8 | AG21: 32.8 | AH21: 30.4 | AI21: 28.4 | AJ21: 26.7 | AK21: 25.2 | AL21: 24 | AM21: 22.9 | AN21: 22 | AO21: 21.1 | AP21: 20.4 | AQ21: 19.7
A22: 31 | B22: 263.8 | C22: 134.5 | D22: 91.5 | E22: 70 | F22: 57.1 | G22: 48.5 | H22: 42.4 | I22: 37.8 | J22: 34.2 | K22: 31.4 | L22: 29.1 | M22: 27.1 | N22: 25.5 | O22: 24.1 | P22: 22.9 | Q22: 21.9 | R22: 21 | S22: 20.2 | T22: 19.5 | U22: 18.8 | W22: 31 | X22: 281 | Y22: 143.3 | Z22: 97.4 | AA22: 74.5 | AB22: 60.8 | AC22: 51.6 | AD22: 45.1 | AE22: 40.2 | AF22: 36.4 | AG22: 33.4 | AH22: 31 | AI22: 28.9 | AJ22: 27.2 | AK22: 25.7 | AL22: 24.4 | AM22: 23.3 | AN22: 22.4 | AO22: 21.5 | AP22: 20.7 | AQ22: 20.1
... A30: 39 | B30: 304.6 | C30: 155.4 | D30: 105.7 | E30: 80.8 | F30: 65.9 | G30: 56 | H30: 49 | I30: 43.7 | J30: 39.6 | K30: 36.3 | L30: 33.7 | M30: 31.5 | N30: 29.6 | O30: 28 | P30: 26.6 | Q30: 25.4 | R30: 24.4 | S30: 23.5 | T30: 22.7 | U30: 21.9 | W30: 39 | X30: 324.3 | Y30: 165.4 | Z30: 112.5 | AA30: 86 | AB30: 70.2 | AC30: 59.7 | AD30: 52.1 | AE30: 46.5 | AF30: 42.1 | AG30: 38.7 | AH30: 35.8 | AI30: 33.5 | AJ30: 31.5 | AK30: 29.8 | AL30: 28.4 | AM30: 27.1 | AN30: 26 | AO30: 25 | AP30: 24.1 | AQ30: 23.4
A31: 40 | B31: 310.1 | C31: 158.2 | D31: 107.6 | E31: 82.3 | F31: 67.1 | G31: 57.1 | H31: 49.9 | I31: 44.5 | J31: 40.3 | K31: 37 | L31: 34.3 | M31: 32 | N31: 30.2 | O31: 28.5 | P31: 27.1 | Q31: 25.9 | R31: 24.9 | S31: 24 | T31: 23.1 | W31: 40 | X31: 330.1 | Y31: 168.4 | Z31: 114.5 | AA31: 87.6 | AB31: 71.5 | AC31: 60.7 | AD31: 53.1 | AE31: 47.4 | AF31: 42.9 | AG31: 39.4 | AH31: 36.5 | AI31: 34.1 | AJ31: 32.1 | AK31: 30.4 | AL31: 28.9 | AM31: 27.6 | AN31: 26.5 | AO31: 25.5 | AP31: 24.6
A32: 41 | B32: 315.7 | C32: 161.1 | D32: 109.5 | E32: 83.8 | F32: 68.4 | G32: 58.1 | H32: 50.8 | I32: 45.3 | J32: 41.1 | K32: 37.7 | L32: 34.9 | M32: 32.7 | N32: 30.7 | O32: 29.1 | P32: 27.7 | Q32: 26.5 | R32: 25.4 | S32: 24.4 | W32: 41 | X32: 336 | Y32: 171.4 | Z32: 116.6 | AA32: 89.2 | AB32: 72.8 | AC32: 61.8 | AD32: 54.1 | AE32: 48.2 | AF32: 43.7 | AG32: 40.1 | AH32: 37.2 | AI32: 34.8 | AJ32: 32.7 | AK32: 31 | AL32: 29.5 | AM32: 28.2 | AN32: 27 | AO32: 26
A33: 42 | B33: 321.5 | C33: 164 | D33: 111.5 | E33: 85.3 | F33: 69.6 | G33: 59.2 | H33: 51.7 | I33: 46.2 | J33: 41.9 | K33: 38.4 | L33: 35.6 | M33: 33.3 | N33: 31.3 | O33: 29.7 | P33: 28.2 | Q33: 27 | R33: 25.9 | W33: 42 | X33: 342.1 | Y33: 174.5 | Z33: 118.7 | AA33: 90.8 | AB33: 74.1 | AC33: 63 | AD33: 55.1 | AE33: 49.1 | AF33: 44.5 | AG33: 40.9 | AH33: 37.9 | AI33: 35.4 | AJ33: 33.3 | AK33: 31.6 | AL33: 30 | AM33: 28.7 | AN33: 27.5
A34: 43 | B34: 327.4 | C34: 167 | D34: 113.6 | E34: 86.9 | F34: 70.9 | G34: 60.3 | H34: 52.7 | I34: 47.1 | J34: 42.7 | K34: 39.2 | L34: 36.3 | M34: 33.9 | N34: 32 | O34: 30.3 | P34: 28.8 | Q34: 27.5 | W34: 43 | X34: 348.3 | Y34: 177.7 | Z34: 120.9 | AA34: 92.5 | AB34: 75.5 | AC34: 64.2 | AD34: 56.1 | AE34: 50.1 | AF34: 45.4 | AG34: 41.7 | AH34: 38.6 | AI34: 36.1 | AJ34: 34 | AK34: 32.2 | AL34: 30.6 | AM34: 29.3
A35: 44 | B35: 333.4 | C35: 170.1 | D35: 115.7 | E35: 88.6 | F35: 72.3 | G35: 61.5 | H35: 53.7 | I35: 48 | J35: 43.5 | K35: 39.9 | L35: 37 | M35: 34.6 | N35: 32.6 | O35: 30.9 | P35: 29.4 | W35: 44 | X35: 354.6 | Y35: 180.9 | Z35: 123.1 | AA35: 94.2 | AB35: 76.9 | AC35: 65.4 | AD35: 57.2 | AE35: 51 | AF35: 46.3 | AG35: 42.5 | AH35: 39.4 | AI35: 36.8 | AJ35: 34.7 | AK35: 32.8 | AL35: 31.3
A36: 45 | B36: 339.5 | C36: 173.3 | D36: 117.9 | E36: 90.2 | F36: 73.7 | G36: 62.6 | H36: 54.8 | I36: 48.9 | J36: 44.4 | K36: 40.7 | L36: 37.8 | M36: 35.3 | N36: 33.3 | O36: 31.5 | W36: 45 | X36: 361.1 | Y36: 184.3 | Z36: 125.4 | AA36: 95.9 | AB36: 78.3 | AC36: 66.6 | AD36: 58.2 | AE36: 52 | AF36: 47.2 | AG36: 43.3 | AH36: 40.2 | AI36: 37.6 | AJ36: 35.4 | AK36: 33.5
A37: 46 | B37: 345.8 | C37: 176.5 | D37: 120.1 | E37: 91.9 | F37: 75.1 | G37: 63.8 | H37: 55.8 | I37: 49.9 | J37: 45.2 | K37: 41.5 | L37: 38.5 | M37: 36 | N37: 33.9 | W37: 46 | X37: 367.7 | Y37: 187.6 | Z37: 127.7 | AA37: 97.7 | AB37: 79.8 | AC37: 67.9 | AD37: 59.4 | AE37: 53 | AF37: 48.1 | AG37: 44.2 | AH37: 41 | AI37: 38.3 | AJ37: 36.1
A38: 47 | B38: 352.2 | C38: 179.8 | D38: 122.4 | E38: 93.7 | F38: 76.5 | G38: 65.1 | H38: 56.9 | I38: 50.8 | J38: 46.1 | K38: 42.4 | L38: 39.3 | M38: 36.8 | W38: 47 | X38: 374.4 | Y38: 191.1 | Z38: 130 | AA38: 99.6 | AB38: 81.3 | AC38: 69.2 | AD38: 60.5 | AE38: 54 | AF38: 49 | AG38: 45 | AH38: 41.8 | AI38: 39.1
A39: 48 | B39: 358.8 | C39: 183.2 | D39: 124.7 | E39: 95.5 | F39: 78 | G39: 66.3 | H39: 58.1 | I39: 51.9 | J39: 47.1 | K39: 43.2 | L39: 40.1 | W39: 48 | X39: 381.2 | Y39: 194.6 | Z39: 132.5 | AA39: 101.4 | AB39: 82.9 | AC39: 70.5 | AD39: 61.7 | AE39: 55.1 | AF39: 50 | AG39: 45.9 | AH39: 42.6
A40: 49 | B40: 365.5 | C40: 186.6 | D40: 127.1 | E40: 97.3 | F40: 79.5 | G40: 67.7 | H40: 59.2 | I40: 52.9 | J40: 48 | K40: 44.1 | W40: 49 | X40: 388.2 | Y40: 198.2 | Z40: 135 | AA40: 103.4 | AB40: 84.4 | AC40: 71.9 | AD40: 62.9 | AE40: 56.2 | AF40: 51 | AG40: 46.9
A41: 50 | B41: 372.4 | C41: 190.2 | D41: 129.5 | E41: 99.2 | F41: 81.1 | G41: 69 | H41: 60.4 | I41: 54 | J41: 49 | W41: 50 | X41: 395.4 | Y41: 201.9 | Z41: 137.5 | AA41: 105.3 | AB41: 86.1 | AC41: 73.3 | AD41: 64.1 | AE41: 57.3 | AF41: 52
A42: 51 | B42: 379.4 | C42: 193.8 | D42: 132 | E42: 101.1 | F42: 82.7 | G42: 70.4 | H42: 61.6 | I42: 55.1 | W42: 51 | X42: 402.7 | Y42: 205.7 | Z42: 140.1 | AA42: 107.4 | AB42: 87.7 | AC42: 74.7 | AD42: 65.4 | AE42: 58.5
A43: 52 | B43: 386.6 | C43: 197.5 | D43: 134.6 | E43: 103.1 | F43: 84.3 | G43: 71.8 | H43: 62.9 | W43: 52 | X43: 410.1 | Y43: 209.6 | Z43: 142.8 | AA43: 109.4 | AB43: 89.4 | AC43: 76.2 | AD43: 66.7
A44: 53 | B44: 393.8 | C44: 201.3 | D44: 137.2 | E44: 105.1 | F44: 86 | G44: 73.2 | W44: 53 | X44: 417.7 | Y44: 213.5 | Z44: 145.5 | AA44: 111.5 | AB44: 91.2 | AC44: 77.7
A45: 54 | B45: 401.3 | C45: 205.1 | D45: 139.8 | E45: 107.2 | F45: 87.7 | W45: 54 | X45: 425.4 | Y45: 217.4 | Z45: 148.2 | AA45: 113.6 | AB45: 92.9
A46: 55 | B46: 408.8 | C46: 209 | D46: 142.5 | E46: 109.3 | W46: 55 | X46: 433.2 | Y46: 221.5 | Z46: 151 | AA46: 115.8
A47: 56 | B47: 416.5 | C47: 213 | D47: 145.3 | W47: 56 | X47: 441.1 | Y47: 225.6 | Z47: 153.8
A48: 57 | B48: 424.4 | C48: 217.1 | W48: 57 | X48: 449.1 | Y48: 229.8
...

Sheet NRA65
U1: Date Factors Issued to Client | V1: 46204
A2: Regular Contribution Elections | U2: Implementation date | V2: 01/08/2026 for NEW elections only | W2: Regular Contribution Elections
A3: Table D65: Personal and Dependant’s Benefits, NRA 65 | K3: x-709 | W3: Table P65: Personal Benefits, NRA 65 | AH3: x-708
A5: Age when notice of election given â | B5: Monthly contribution to purchase £250 of APB at date of election, £ | W5: Age when notice of election given â | X5: Monthly contribution to purchase £250 of APB at date of election, £
A6: Payment period (in years) à | B6: 1 | C6: 2 | D6: 3 | E6: 4 | F6: 5 | G6: 6 | H6: 7 | I6: 8 | J6: 9 | K6: 10 | L6: 11 | M6: 12 | N6: 13 | O6: 14 | P6: 15 | Q6: 16 | R6: 17 | S6: 18 | T6: 19 | U6: 20 | W6: Payment period (in years) à | X6: 1 | Y6: 2 | Z6: 3 | AA6: 4 | AB6: 5 | AC6: 6 | AD6: 7 | AE6: 8 | AF6: 9 | AG6: 10 | AH6: 11 | AI6: 12 | AJ6: 13 | AK6: 14 | AL6: 15 | AM6: 16 | AN6: 17 | AO6: 18 | AP6: 19 | AQ6: 20
A7: 16 | W7: 16
A8: 17 | W8: 17
A9: 18 | W9: 18
A10: 19 | W10: 19
A11: 20 | B11: 177.1 | C11: 90.3 | D11: 61.4 | E11: 46.9 | F11: 38.3 | G11: 32.5 | H11: 28.4 | I11: 25.3 | J11: 22.9 | K11: 21 | L11: 19.5 | M11: 18.2 | N11: 17.1 | O11: 16.2 | P11: 15.4 | Q11: 14.7 | R11: 14 | S11: 13.5 | T11: 13 | U11: 12.6 | W11: 20 | X11: 191.5 | Y11: 97.6 | Z11: 66.4 | AA11: 50.8 | AB11: 41.4 | AC11: 35.2 | AD11: 30.7 | AE11: 27.4 | AF11: 24.8 | AG11: 22.7 | AH11: 21.1 | AI11: 19.7 | AJ11: 18.5 | AK11: 17.5 | AL11: 16.6 | AM11: 15.9 | AN11: 15.2 | AO11: 14.6 | AP11: 14.1 | AQ11: 13.6
A12: 21 | B12: 180.3 | C12: 91.9 | D12: 62.5 | E12: 47.8 | F12: 39 | G12: 33.1 | H12: 28.9 | I12: 25.8 | J12: 23.4 | K12: 21.4 | L12: 19.8 | M12: 18.5 | N12: 17.4 | O12: 16.5 | P12: 15.6 | Q12: 14.9 | R12: 14.3 | S12: 13.8 | T12: 13.3 | U12: 12.8 | W12: 21 | X12: 195 | Y12: 99.4 | Z12: 67.6 | AA12: 51.7 | AB12: 42.1 | AC12: 35.8 | AD12: 31.3 | AE12: 27.9 | AF12: 25.3 | AG12: 23.2 | AH12: 21.4 | AI12: 20 | AJ12: 18.8 | AK12: 17.8 | AL12: 16.9 | AM12: 16.1 | AN12: 15.5 | AO12: 14.9 | AP12: 14.3 | AQ12: 13.9
A13: 22 | B13: 183.5 | C13: 93.6 | D13: 63.6 | E13: 48.6 | F13: 39.7 | G13: 33.7 | H13: 29.4 | I13: 26.3 | J13: 23.8 | K13: 21.8 | L13: 20.2 | M13: 18.9 | N13: 17.7 | O13: 16.8 | P13: 15.9 | Q13: 15.2 | R13: 14.6 | S13: 14 | T13: 13.5 | U13: 13 | W13: 22 | X13: 198.5 | Y13: 101.2 | Z13: 68.8 | AA13: 52.6 | AB13: 42.9 | AC13: 36.4 | AD13: 31.8 | AE13: 28.4 | AF13: 25.7 | AG13: 23.6 | AH13: 21.8 | AI13: 20.4 | AJ13: 19.2 | AK13: 18.1 | AL13: 17.2 | AM13: 16.4 | AN13: 15.8 | AO13: 15.1 | AP13: 14.6 | AQ13: 14.1
A14: 23 | B14: 186.8 | C14: 95.3 | D14: 64.8 | E14: 49.5 | F14: 40.4 | G14: 34.3 | H14: 30 | I14: 26.7 | J14: 24.2 | K14: 22.2 | L14: 20.6 | M14: 19.2 | N14: 18 | O14: 17.1 | P14: 16.2 | Q14: 15.5 | R14: 14.8 | S14: 14.3 | T14: 13.7 | U14: 13.3 | W14: 23 | X14: 202.1 | Y14: 103 | Z14: 70 | AA14: 53.6 | AB14: 43.7 | AC14: 37.1 | AD14: 32.4 | AE14: 28.9 | AF14: 26.2 | AG14: 24 | AH14: 22.2 | AI14: 20.8 | AJ14: 19.5 | AK14: 18.5 | AL14: 17.5 | AM14: 16.7 | AN14: 16 | AO14: 15.4 | AP14: 14.9 | AQ14: 14.4
A15: 24 | B15: 190.2 | C15: 97 | D15: 65.9 | E15: 50.4 | F15: 41.1 | G15: 34.9 | H15: 30.5 | I15: 27.2 | J15: 24.6 | K15: 22.6 | L15: 20.9 | M15: 19.5 | N15: 18.4 | O15: 17.4 | P15: 16.5 | Q15: 15.8 | R15: 15.1 | S15: 14.5 | T15: 14 | U15: 13.5 | W15: 24 | X15: 205.7 | Y15: 104.9 | Z15: 71.3 | AA15: 54.5 | AB15: 44.5 | AC15: 37.8 | AD15: 33 | AE15: 29.4 | AF15: 26.7 | AG15: 24.4 | AH15: 22.6 | AI15: 21.1 | AJ15: 19.9 | AK15: 18.8 | AL15: 17.9 | AM15: 17 | AN15: 16.3 | AO15: 15.7 | AP15: 15.1 | AQ15: 14.6
A16: 25 | B16: 193.6 | C16: 98.7 | D16: 67.1 | E16: 51.3 | F16: 41.9 | G16: 35.6 | H16: 31.1 | I16: 27.7 | J16: 25.1 | K16: 23 | L16: 21.3 | M16: 19.9 | N16: 18.7 | O16: 17.7 | P16: 16.8 | Q16: 16 | R16: 15.4 | S16: 14.8 | T16: 14.2 | U16: 13.8 | W16: 25 | X16: 209.4 | Y16: 106.8 | Z16: 72.6 | AA16: 55.5 | AB16: 45.3 | AC16: 38.5 | AD16: 33.6 | AE16: 30 | AF16: 27.1 | AG16: 24.9 | AH16: 23 | AI16: 21.5 | AJ16: 20.2 | AK16: 19.1 | AL16: 18.2 | AM16: 17.4 | AN16: 16.6 | AO16: 16 | AP16: 15.4 | AQ16: 14.9
A17: 26 | B17: 197.1 | C17: 100.5 | D17: 68.3 | E17: 52.2 | F17: 42.6 | G17: 36.2 | H17: 31.6 | I17: 28.2 | J17: 25.5 | K17: 23.4 | L17: 21.7 | M17: 20.3 | N17: 19 | O17: 18 | P17: 17.1 | Q17: 16.3 | R17: 15.7 | S17: 15 | T17: 14.5 | U17: 14 | W17: 26 | X17: 213.1 | Y17: 108.7 | Z17: 73.9 | AA17: 56.5 | AB17: 46.1 | AC17: 39.1 | AD17: 34.2 | AE17: 30.5 | AF17: 27.6 | AG17: 25.3 | AH17: 23.5 | AI17: 21.9 | AJ17: 20.6 | AK17: 19.5 | AL17: 18.5 | AM17: 17.7 | AN17: 16.9 | AO17: 16.3 | AP17: 15.7 | AQ17: 15.2
A18: 27 | B18: 200.6 | C18: 102.3 | D18: 69.5 | E18: 53.2 | F18: 43.4 | G18: 36.8 | H18: 32.2 | I18: 28.7 | J18: 26 | K18: 23.8 | L18: 22.1 | M18: 20.6 | N18: 19.4 | O18: 18.3 | P18: 17.4 | Q18: 16.6 | R18: 15.9 | S18: 15.3 | T18: 14.8 | U18: 14.3 | W18: 27 | X18: 217 | Y18: 110.6 | Z18: 75.2 | AA18: 57.5 | AB18: 46.9 | AC18: 39.9 | AD18: 34.8 | AE18: 31 | AF18: 28.1 | AG18: 25.8 | AH18: 23.9 | AI18: 22.3 | AJ18: 21 | AK18: 19.8 | AL18: 18.8 | AM18: 18 | AN18: 17.2 | AO18: 16.6 | AP18: 16 | AQ18: 15.4
A19: 28 | B19: 204.2 | C19: 104.1 | D19: 70.8 | E19: 54.1 | F19: 44.1 | G19: 37.5 | H19: 32.8 | I19: 29.2 | J19: 26.5 | K19: 24.3 | L19: 22.5 | M19: 21 | N19: 19.7 | O19: 18.7 | P19: 17.7 | Q19: 16.9 | R19: 16.2 | S19: 15.6 | T19: 15 | U19: 14.5 | W19: 28 | X19: 220.8 | Y19: 112.6 | Z19: 76.6 | AA19: 58.5 | AB19: 47.8 | AC19: 40.6 | AD19: 35.4 | AE19: 31.6 | AF19: 28.6 | AG19: 26.3 | AH19: 24.3 | AI19: 22.7 | AJ19: 21.3 | AK19: 20.2 | AL19: 19.2 | AM19: 18.3 | AN19: 17.5 | AO19: 16.9 | AP19: 16.3 | AQ19: 15.7
A20: 29 | B20: 207.8 | C20: 106 | D20: 72 | E20: 55.1 | F20: 44.9 | G20: 38.2 | H20: 33.4 | I20: 29.7 | J20: 26.9 | K20: 24.7 | L20: 22.9 | M20: 21.4 | N20: 20.1 | O20: 19 | P20: 18.1 | Q20: 17.2 | R20: 16.5 | S20: 15.9 | T20: 15.3 | U20: 14.8 | W20: 29 | X20: 224.8 | Y20: 114.6 | Z20: 77.9 | AA20: 59.6 | AB20: 48.6 | AC20: 41.3 | AD20: 36.1 | AE20: 32.2 | AF20: 29.1 | AG20: 26.7 | AH20: 24.8 | AI20: 23.1 | AJ20: 21.7 | AK20: 20.6 | AL20: 19.5 | AM20: 18.6 | AN20: 17.9 | AO20: 17.2 | AP20: 16.6 | AQ20: 16
A21: 30 | B21: 211.5 | C21: 107.9 | D21: 73.3 | E21: 56.1 | F21: 45.7 | G21: 38.9 | H21: 33.9 | I21: 30.3 | J21: 27.4 | K21: 25.2 | L21: 23.3 | M21: 21.8 | N21: 20.5 | O21: 19.3 | P21: 18.4 | Q21: 17.6 | R21: 16.8 | S21: 16.2 | T21: 15.6 | U21: 15.1 | W21: 30 | X21: 228.8 | Y21: 116.7 | Z21: 79.3 | AA21: 60.7 | AB21: 49.5 | AC21: 42 | AD21: 36.7 | AE21: 32.7 | AF21: 29.7 | AG21: 27.2 | AH21: 25.2 | AI21: 23.5 | AJ21: 22.1 | AK21: 20.9 | AL21: 19.9 | AM21: 19 | AN21: 18.2 | AO21: 17.5 | AP21: 16.9 | AQ21: 16.3
