Workbook
Name AP_Available: Codes!$C$13:$C$40
Name Buy_out_months: Codes!$D$7:$D$8
Name Contribution_period: Codes!$D$13:$D$32
Name Existing_AP: Codes!$B$13:$B$40
Name Form_of_AP: Codes!$D$2:$D$3
Name Oldest_allowed: Codes!$B$2
Name Payment_type: Codes!$C$2:$C$3
Name Years: Codes!$C$7:$C$10
Name Yes_No: Codes!$B$7:$B$8
Name Youngest_allowed: Codes!$B$3

Sheet Contributions calculator
C2: NHS Additional Pension Benefit Cost Calculator
C3: Member Details
C4: Date of Birth: | I4: =IF(I5="Election must start before normal pension age","Error","")
C5: Date of AP election: | I5: =IF(OR(D8=""),"",IF(D7>=Codes!E8,"Election must start before normal pension age",""))
C6: Prospective Normal Pension Age | D6: =VLOOKUP(D4,'State pension age'!B4:E50,3,TRUE) -> 65 | E6: =IF(OR(D6="",D6=0),"","Years") -> Years | F6: =VLOOKUP(D4,'State pension age'!B4:E50,4,TRUE) -> 0 | G6: Months
C7: Age at start of agreement: | D7: =IF(OR(D4="",D5=""),"",ROUNDDOWN((D5-D4+1)/365.25,0)) | I7: =IF(D7<16,"Error","")
B8: Future service | C8: Years to NPA | D8: =IF(OR(E6="",D7=""),"",Codes!E8-D7) | E8: =IF(D6="","",IF(D7="","","Years"))
C9: Additional pension contract details
C10: Maximum additional pension: | D10: =IF(D4="","",Codes!P14)
C11: How much additional pension do you wish to purchase? | I11: =IF(D11>D10, "Error","")
C12: Please select your payment method: | I12: =IF(D12=Codes!C2,"",IF(D8=1,"Payment can only be made by lump sum",""))
C13: =IF(D12="Regular contributions","Regular payments over how many years?","") | I13: =IF(OR(D13="",D8="", D8<2),"",IF(D13>(D8-1),"Error",""))
C14: Would you like to buy dependants benefits? | I14: =IF(D8<2,"",IF(I13="Error","Payments can be made over a maximum of "&D8-1&" years",""))
C17: Results
B18: =IF($D$12=Codes!$C$2,"A lump sum payment of:-",IF($D$12=Codes!$C$3,"Monthly payment amount:-","")) | D18: =IF(ISERROR(Codes!J20),"",IF(OR($D$11="",Codes!J20="",$I$11="Error",$I$7="Error"),"",ROUND(($D$11/250)*Codes!J20,2)))
B19: =IF(D12="Regular contributions","Annual payment amount:-","") | D19: =IF(OR(D12="",D12="Lump sum",D11="",D13="",D14=""),"",IF(D12="Regular contributions",D18*12,""))
B20: =IF(D12="Regular contributions","Total amount payable over selected period:-","") | D20: =IF(OR(D12="",D12="Lump sum",D13="",D14="",D11=""),"",IF(D12="Regular contributions",D19*D13,""))
B21: This calculator provides an illustration only. It is not a statement of entitlement and does not override the NHS Pension Scheme (Scotland) Regulations, actuarial guidance, or any decision made by the scheme administrator.
K23: Updated September 2026

Sheet Factor list
C3: GAD Sheet Name | D3: Section | E3: Description | F3: Table Reference in Guidance | G3: Associated Calculator Sheet
C4: x-703 | D4: 2015 | E4: 2015 scheme - Lump sum election | F4: Table S | G4: Lump Sum
C5: x-704 | D5: 1995 | E5: Personal benefits, NRA 60 | F5: Table PC60 | G5: NRA60 (1995)
C6: x-705 | D6: 1995 | E6: Personal and dependant's benefits NRA 60 | F6: Table DC60 | G6: NRA60 (1995)
C7: x-706 | D7: 2008 | E7: Personal benefits, NRA 65 | F7: Table PC65 | G7: NRA65 (2008)
C8: x-707 | D8: 2008 | E8: Personal and dependant's benefits NRA 65 | F8: Table DC65 | G8: NRA65 (2008)
C9: x-708 | D9: 1995 | E9: Personal benefits, NRA 60, pre 2011 | F9: Table PR60 | G9: x
C10: x-709 | D10: 1995 | E10: Personal and dependant's benefits NRA 60, pre 2011 | F10: Table DR60 | G10: x
C11: x-710 | D11: 2008 | E11: Personal benefits, NRA 65, pre 2011 | F11: Table PR65 | G11: x
C12: x-711 | D12: 2008 | E12: Personal and dependant's benefits NRA 65, pre 2011 | F12: Table DR65 | G12: x
C13: x-712 | D13: 2015 | E13: Personal benefits NRA 65 | F13: Table P65 | G13: NRA65 (CARE)
C14: x-713 | D14: 2015 | E14: Personal benefits NRA 66 | F14: Table P66 | G14: NRA66 (CARE)
C15: x-714 | D15: 2015 | E15: Personal benefits NRA 67 | F15: Table P67 | G15: NRA67 (CARE)
... C20: x-719 | D20: 2015 | E20: Personal and dependant's benefits NRA 68 | F20: Table D68 | G20: NRA68 (CARE)

Sheet Codes
A1: SPA | B1: DOB between | C1: Payment | D1: Form of AP | E1: NPA Options | F1: Lump sum table | I1: AP Table results
B2: =TODAY()-365.25*85 -> 15247.75 | C2: Lump Sum | D2: Member only | E2: 60 | F2: =IF(Codes!A1=60,"S60",IF(Codes!A1=65,"S65",IF(Codes!A1="SPA","S",""))) -> S | H2: S60 | J2: =IF('Contributions calculator'!D14=Codes!D2,VLOOKUP('Contributions calculator'!D7,'Lump Sum'!B9:D60,2,FALSE),IF('Contributions calculator'!D14=Codes!D3,VLOOKUP('Contributions calculator'!D7,'Lump Sum'!B9:D60,3,FALSE),""))
B3: =TODAY()-365.25*16 -> 40450 | C3: =IF(OR('Contributions calculator'!D8=0,'Contributions calculator'!D8=1),"","Regular contributions") -> Regular contributions | D3: Member and dependant | E3: 65 | H3: S65 | J3: =IF('Contributions calculator'!D14=Codes!D2,VLOOKUP('Contributions calculator'!D7,'Lump Sum'!F9:H60,2,FALSE),IF('Contributions calculator'!D14=Codes!D3,VLOOKUP('Contributions calculator'!D7,'Lump Sum'!F9:H60,3,FALSE),""))
E4: State Pension Age | H4: S | I4: Lump sum | J4: =IF('Contributions calculator'!D14=Codes!D2,VLOOKUP('Contributions calculator'!D7,'Lump Sum'!J9:L60,2,FALSE),IF('Contributions calculator'!D14=Codes!D3,VLOOKUP('Contributions calculator'!D7,'Lump Sum'!J9:L60,3,FALSE),""))
H5: PC60 | I5: Regular conts for personal AP of £250 with PNPA 60 1995 scheme | J5: =INDEX('NRA60 (1995)'!$W$6:$AQ$58,MATCH('Contributions calculator'!$D$7,'NRA60 (1995)'!$W$6:$W$58,0),MATCH('Contributions calculator'!$D$13,'NRA60 (1995)'!$W$6:$AQ$6,0)) -> #N/A
B6: Yes/No | C6: Years (N) | D6: Buy out months | E6: NPA | H6: PC65 | I6: Regular conts for personal AP of £250 with PNPA 65 2008 scheme | J6: =INDEX('NRA65 (2008)'!$W$6:$AQ$58,MATCH('Contributions calculator'!$D$7,'NRA65 (2008)'!$W$6:$W$58,0),MATCH('Contributions calculator'!$D$13,'NRA65 (2008)'!$W$6:$AQ$6,0)) -> #N/A
B7: Yes | C7: 0 | D7: 0 | E7: Years | F7: Months | H7: P65 | I7: Regular conts for personal AP of £250 with PNPA 65 | J7: =INDEX('NRA65 (CARE)'!$W$6:$AQ$59,MATCH('Contributions calculator'!$D$7,'NRA65 (CARE)'!$W$6:$W$59,0),MATCH('Contributions calculator'!$D$13,'NRA65 (CARE)'!$W$6:$AQ$6,0)) -> #N/A
B8: No | C8: =IF(OR('Contributions calculator'!D6=66,'Contributions calculator'!D6=67,'Contributions calculator'!D6=68),1,"") | D8: ='Contributions calculator'!F6 -> 0 | E8: =IF(Codes!A1=60,60,IF(Codes!A1=65,65,IF(OR(Codes!A1="SPA",Codes!A1=""),'Contributions calculator'!D6,""))) -> 65 | F8: =IF(Codes!A1=60,0,IF(Codes!A1=65,0,IF(Codes!A1="SPA",'Contributions calculator'!F6,""))) -> 0 | H8: P66 | I8: Regular conts for personal AP of £250 with PNPA 66 | J8: =INDEX('NRA66 (CARE)'!$W$6:$AQ$59,MATCH('Contributions calculator'!$D$7,'NRA66 (CARE)'!$W$6:$W$59,0),MATCH('Contributions calculator'!$D$13,'NRA66 (CARE)'!$W$6:$AQ$6,0)) -> #N/A
C9: =IF(OR('Contributions calculator'!D6=67,'Contributions calculator'!D6=68),2,"") | H9: P67 | I9: Regular conts for personal AP of £250 with PNPA 67 | J9: =INDEX('NRA67 (CARE)'!$W$6:$AQ$59,MATCH('Contributions calculator'!$D$7,'NRA67 (CARE)'!$W$6:$W$59,0),MATCH('Contributions calculator'!$D$13,'NRA67 (CARE)'!$W$6:$AQ$6,0)) -> #N/A
C10: =IF(OR('Contributions calculator'!D6=68),3,"") | E10: =Codes!A1 -> SPA | H10: P68 | I10: Regular conts for personal AP of £250 with PNPA 68 | J10: =INDEX('NRA68 (CARE)'!$W$6:$AQ$59,MATCH('Contributions calculator'!$D$7,'NRA68 (CARE)'!$W$6:$W$59,0),MATCH('Contributions calculator'!$D$13,'NRA68 (CARE)'!$W$6:$AQ$6,0)) -> #N/A
H11: DC60 | I11: Regular conts for personal AP of £250 with PNPA 60 (1995) + dependants AP | J11: =INDEX('NRA60 (1995)'!$A$6:$U$58,MATCH('Contributions calculator'!$D$7,'NRA60 (1995)'!$A$6:$A$58,0),MATCH('Contributions calculator'!$D$13,'NRA60 (1995)'!$A$6:$U$6,0)) -> #N/A | M11: AP Limits
B12: Existing AP | C12: AP Available | D12: Contribution period | H12: PC65 | I12: Regular conts for personal AP of £250 with PNPA 65 (2008) + dependants AP | J12: =INDEX('NRA65 (2008)'!$A$6:$U$58,MATCH('Contributions calculator'!$D$7,'NRA65 (2008)'!$A$6:$A$58,0),MATCH('Contributions calculator'!$D$13,'NRA65 (2008)'!$A$6:$U$6,0)) -> #N/A | M12: • NHS Superannuation Scheme (Scotland) | P12: 5000
B13: 0 | C13: =IF('Contributions calculator'!$D$10="","",250) | D13: 1 | H13: D65 | I13: Regular conts for personal AP of £250 with PNPA 65 + dependants AP | J13: =INDEX('NRA65 (CARE)'!$A$6:$U$59,MATCH('Contributions calculator'!$D$7,'NRA65 (CARE)'!$A$6:$A$59,0),MATCH('Contributions calculator'!$D$13,'NRA65 (CARE)'!$A$6:$U$6,0)) -> #N/A | M13: • NHS Pension Scheme (Scotland) 2015 | P13: 9053
B14: =IF(B13<(Codes!$P$14),Codes!B13+250,"") -> 250 | C14: =IF('Contributions calculator'!$D$10="","",IF(C13<('Contributions calculator'!$D$10-249),Codes!C13+250,"")) | D14: =IF(D13="","",IF(Codes!D13+1<'Contributions calculator'!$D$8,Codes!D13+1,"")) -> 2 | H14: D66 | I14: Regular conts for personal AP of £250 with PNPA 66 + dependants AP | J14: =INDEX('NRA66 (CARE)'!$A$6:$U$59,MATCH('Contributions calculator'!$D$7,'NRA66 (CARE)'!$A$6:$A$59,0),MATCH('Contributions calculator'!$D$13,'NRA66 (CARE)'!$A$6:$U$6,0)) -> #N/A | O14: Applicable Limit | P14: =IF(OR(Codes!A1=60,Codes!A1=65),Codes!P12,IF(Codes!A1="SPA",Codes!P13,"")) -> 9053
B15: =IF(B14<(Codes!$P$14),Codes!B14+250,"") -> 500 | C15: =IF('Contributions calculator'!$D$10="","",IF(C14<('Contributions calculator'!$D$10-249),Codes!C14+250,"")) | D15: =IF(D14="","",IF(Codes!D14+1<'Contributions calculator'!$D$8,Codes!D14+1,"")) -> 3 | H15: D67 | I15: Regular conts for personal AP of £250 with PNPA 67 + dependants AP | J15: =INDEX('NRA67 (CARE)'!$A$6:$U$59,MATCH('Contributions calculator'!$D$7,'NRA67 (CARE)'!$A$6:$A$59,0),MATCH('Contributions calculator'!$D$13,'NRA67 (CARE)'!$A$6:$U$6,0)) -> #N/A
B16: =IF(B15<(Codes!$P$14),Codes!B15+250,"") -> 750 | C16: =IF('Contributions calculator'!$D$10="","",IF(C15<('Contributions calculator'!$D$10-249),Codes!C15+250,"")) | D16: =IF(D15="","",IF(Codes!D15+1<'Contributions calculator'!$D$8,Codes!D15+1,"")) -> 4 | H16: D68 | I16: Regular conts for personal AP of £250 with PNPA 68 + dependants AP | J16: =INDEX('NRA68 (CARE)'!$A$6:$U$59,MATCH('Contributions calculator'!$D$7,'NRA68 (CARE)'!$A$6:$A$59,0),MATCH('Contributions calculator'!$D$13,'NRA68 (CARE)'!$A$6:$U$6,0)) -> #N/A
B17: =IF(B16<(Codes!$P$14),Codes!B16+250,"") -> 1000 | C17: =IF('Contributions calculator'!$D$10="","",IF(C16<('Contributions calculator'!$D$10-249),Codes!C16+250,"")) | D17: =IF(D16="","",IF(Codes!D16+1<'Contributions calculator'!$D$8,Codes!D16+1,"")) -> 5
B18: =IF(B17<(Codes!$P$14),Codes!B17+250,"") -> 1250 | C18: =IF('Contributions calculator'!$D$10="","",IF(C17<('Contributions calculator'!$D$10-249),Codes!C17+250,"")) | D18: =IF(D17="","",IF(Codes!D17+1<'Contributions calculator'!$D$8,Codes!D17+1,"")) -> 6 | I18: =IF(AND('Contributions calculator'!D12=C3,'Contributions calculator'!F6<>0),"Relevent tables are "&H27&" & "&H28,"Relevent table is "&H27&"") -> Relevent table is 65
B19: =IF(B18<(Codes!$P$14),Codes!B18+250,"") -> 1500 | C19: =IF('Contributions calculator'!$D$10="","",IF(C18<('Contributions calculator'!$D$10-249),Codes!C18+250,"")) | D19: =IF(D18="","",IF(Codes!D18+1<'Contributions calculator'!$D$8,Codes!D18+1,"")) -> 7
B20: =IF(B19<(Codes!$P$14),Codes!B19+250,"") -> 1750 | C20: =IF('Contributions calculator'!$D$10="","",IF(C19<('Contributions calculator'!$D$10-249),Codes!C19+250,"")) | D20: =IF(D19="","",IF(Codes!D19+1<'Contributions calculator'!$D$8,Codes!D19+1,"")) -> 8 | I20: Cost of £250 of AP | J20: =IF(H28="",I27,((I28-I27)*I25+I27)) -> #N/A
B21: =IF(B20<(Codes!$P$14),Codes!B20+250,"") -> 2000 | C21: =IF('Contributions calculator'!$D$10="","",IF(C20<('Contributions calculator'!$D$10-249),Codes!C20+250,"")) | D21: =IF(D20="","",IF(Codes!D20+1<'Contributions calculator'!$D$8,Codes!D20+1,"")) -> 9
B22: =IF(B21<(Codes!$P$14),Codes!B21+250,"") -> 2250 | C22: =IF('Contributions calculator'!$D$10="","",IF(C21<('Contributions calculator'!$D$10-249),Codes!C21+250,"")) | D22: =IF(D21="","",IF(Codes!D21+1<'Contributions calculator'!$D$8,Codes!D21+1,"")) -> 10 | I22: Interpolation for monthly contributions for non-integer NPA
B23: =IF(B22<(Codes!$P$14),Codes!B22+250,"") -> 2500 | C23: =IF('Contributions calculator'!$D$10="","",IF(C22<('Contributions calculator'!$D$10-249),Codes!C22+250,"")) | D23: =IF(D22="","",IF(Codes!D22+1<'Contributions calculator'!$D$8,Codes!D22+1,"")) -> 11
B24: =IF(B23<(Codes!$P$14),Codes!B23+250,"") -> 2750 | C24: =IF('Contributions calculator'!$D$10="","",IF(C23<('Contributions calculator'!$D$10-249),Codes!C23+250,"")) | D24: =IF(D23="","",IF(Codes!D23+1<'Contributions calculator'!$D$8,Codes!D23+1,"")) -> 12 | H24: NPA: | I24: =E8&" Years "&F8&" months" -> 65 Years 0 months
B25: =IF(B24<(Codes!$P$14),Codes!B24+250,"") -> 3000 | C25: =IF('Contributions calculator'!$D$10="","",IF(C24<('Contributions calculator'!$D$10-249),Codes!C24+250,"")) | D25: =IF(D24="","",IF(Codes!D24+1<'Contributions calculator'!$D$8,Codes!D24+1,"")) -> 13 | H25: Part years | I25: ='Contributions calculator'!F6/12 -> 0
B26: =IF(B25<(Codes!$P$14),Codes!B25+250,"") -> 3250 | C26: =IF('Contributions calculator'!$D$10="","",IF(C25<('Contributions calculator'!$D$10-249),Codes!C25+250,"")) | D26: =IF(D25="","",IF(Codes!D25+1<'Contributions calculator'!$D$8,Codes!D25+1,"")) -> 14
B27: =IF(B26<(Codes!$P$14),Codes!B26+250,"") -> 3500 | C27: =IF('Contributions calculator'!$D$10="","",IF(C26<('Contributions calculator'!$D$10-249),Codes!C26+250,"")) | D27: =IF(D26="","",IF(Codes!D26+1<'Contributions calculator'!$D$8,Codes!D26+1,"")) -> 15 | H27: =IF('Contributions calculator'!D12=Codes!C2,F2,IF('Contributions calculator'!D14=D2,"P",IF('Contributions calculator'!D14=D3,"D",""))&IF(E10="SPA",Codes!E8,"C"&Codes!E8)) -> 65 | I27: =VLOOKUP(H27,H2:J16,3,FALSE) -> #N/A
B28: =IF(B27<(Codes!$P$14),Codes!B27+250,"") -> 3750 | C28: =IF('Contributions calculator'!$D$10="","",IF(C27<('Contributions calculator'!$D$10-249),Codes!C27+250,"")) | D28: =IF(D27="","",IF(Codes!D27+1<'Contributions calculator'!$D$8,Codes!D27+1,"")) -> 16 | H28: =IF(F8="","",IF(AND('Contributions calculator'!D12="Regular contributions",F8<>0),IF('Contributions calculator'!D14=D2,"P",IF('Contributions calculator'!D14=D3,"D",""))&E8+1,"")) | I28: =VLOOKUP(H28,H4:J16,3,FALSE) -> #N/A
B29: =IF(B28<(Codes!$P$14),Codes!B28+250,"") -> 4000 | C29: =IF('Contributions calculator'!$D$10="","",IF(C28<('Contributions calculator'!$D$10-249),Codes!C28+250,"")) | D29: =IF(D28="","",IF(Codes!D28+1<'Contributions calculator'!$D$8,Codes!D28+1,"")) -> 17
B30: =IF(B29<(Codes!$P$14),Codes!B29+250,"") -> 4250 | C30: =IF('Contributions calculator'!$D$10="","",IF(C29<('Contributions calculator'!$D$10-249),Codes!C29+250,"")) | D30: =IF(D29="","",IF(Codes!D29+1<'Contributions calculator'!$D$8,Codes!D29+1,"")) -> 18 | I30: ="Interpolation for NPA of "&I24 -> Interpolation for NPA of 65 Years 0 months
B31: =IF(B30<(Codes!$P$14),Codes!B30+250,"") -> 4500 | C31: =IF('Contributions calculator'!$D$10="","",IF(C30<('Contributions calculator'!$D$10-249),Codes!C30+250,"")) | D31: =IF(D30="","",IF(Codes!D30+1<'Contributions calculator'!$D$8,Codes!D30+1,"")) -> 19 | H31: = | I31: ="("&H28&" figure - "&H27&" figure) x months/12 + "&H28&" figure" -> ( figure - 65 figure) x months/12 + figure
B32: =IF(B31<(Codes!$P$14),Codes!B31+250,"") -> 4750 | C32: =IF('Contributions calculator'!$D$10="","",IF(C31<('Contributions calculator'!$D$10-249),Codes!C31+250,"")) | D32: =IF(D31="","",IF(Codes!D31+1<'Contributions calculator'!$D$8,Codes!D31+1,"")) -> 20 | H32: = | I32: ="("&I28&" - "&I27&") x "&I25&" + "&I28 -> #N/A
B33: =IF(B32<(Codes!$P$14),Codes!B32+250,"") -> 5000 | C33: =IF('Contributions calculator'!$D$10="","",IF(C32<('Contributions calculator'!$D$10-249),Codes!C32+250,"")) | H33: = | I33: =J20 -> #N/A
B34: =IF(B33<(Codes!$P$14),Codes!B33+250,"") -> 5250 | C34: =IF('Contributions calculator'!$D$10="","",IF(C33<('Contributions calculator'!$D$10-249),Codes!C33+250,""))
B35: =IF(B34<(Codes!$P$14),Codes!B34+250,"") -> 5500 | C35: =IF('Contributions calculator'!$D$10="","",IF(C34<('Contributions calculator'!$D$10-249),Codes!C34+250,""))
B36: =IF(B35<(Codes!$P$14),Codes!B35+250,"") -> 5750 | C36: =IF('Contributions calculator'!$D$10="","",IF(C35<('Contributions calculator'!$D$10-249),Codes!C35+250,""))
B37: =IF(B36<(Codes!$P$14),Codes!B36+250,"") -> 6000 | C37: =IF('Contributions calculator'!$D$10="","",IF(C36<('Contributions calculator'!$D$10-249),Codes!C36+250,""))
B38: =IF(B37<(Codes!$P$14),Codes!B37+250,"") -> 6250 | C38: =IF('Contributions calculator'!$D$10="","",IF(C37<('Contributions calculator'!$D$10-249),Codes!C37+250,""))
B39: =IF(B38<(Codes!$P$14),Codes!B38+250,"") -> 6500 | C39: =IF('Contributions calculator'!$D$10="","",IF(C38<('Contributions calculator'!$D$10-249),Codes!C38+250,""))
B40: =IF(B39<(Codes!$P$14),Codes!B39+250,"") -> 6750 | C40: =IF('Contributions calculator'!$D$10="","",IF(C39<('Contributions calculator'!$D$10-249),Codes!C39+250,""))
...

Sheet State pension age
D2: SPA
B3: Date of birth | C3: Months | D3: Years | E3: Months | F3: Months | G3: Days
B4: =IF('Contributions calculator'!$D$4<H5,'Contributions calculator'!$D$4,"") -> 0 | D4: 65
A5: Increase from 65 to 66 | B5: =IF(AND('Contributions calculator'!$D$4>=H5,'Contributions calculator'!$D$4<=J5),'Contributions calculator'!$D$4,"") | C5: =IF(B5="","",IF(DAY(K5)>=DAY(B5),0,-1)+(YEAR(K5)-YEAR(B5))*12+MONTH(K5)-MONTH(B5)) | D5: =IF(B5="","",ROUNDDOWN(C5/12,0)) | E5: =IF(OR(G5="",G5=0),F5,F5+1) | F5: =IF(B5="","",C5-(65*12)) | G5: =IF(B5="","",K5-M5) | H5: 19699 | J5: 19729 | K5: 43530 | M5: =IF(B5="","",DATE(YEAR(B5)+65,MONTH(B5)+F5,DAY(B5)))
B6: =IF(AND('Contributions calculator'!$D$4>=H6,'Contributions calculator'!$D$4<=J6),'Contributions calculator'!$D$4,"") | C6: =IF(B6="","",IF(DAY(K6)>=DAY(B6),0,-1)+(YEAR(K6)-YEAR(B6))*12+MONTH(K6)-MONTH(B6)) | D6: =IF(B6="","",ROUNDDOWN(C6/12,0)) | E6: =IF(OR(G6="",G6=0),F6,F6+1) | F6: =IF(B6="","",C6-(65*12)) | G6: =IF(B6="","",K6-M6) | H6: 19730 | J6: 19760 | K6: 43591 | M6: =IF(B6="","",DATE(YEAR(B6)+65,MONTH(B6)+F6,DAY(B6)))
B7: =IF(AND('Contributions calculator'!$D$4>=H7,'Contributions calculator'!$D$4<=J7),'Contributions calculator'!$D$4,"") | C7: =IF(B7="","",IF(DAY(K7)>=DAY(B7),0,-1)+(YEAR(K7)-YEAR(B7))*12+MONTH(K7)-MONTH(B7)) | D7: =IF(B7="","",ROUNDDOWN(C7/12,0)) | E7: =IF(OR(G7="",G7=0),F7,F7+1) | F7: =IF(B7="","",C7-(65*12)) | G7: =IF(B7="","",K7-M7) | H7: 19761 | J7: 19788 | K7: 43652 | M7: =IF(B7="","",DATE(YEAR(B7)+65,MONTH(B7)+F7,DAY(B7)))
B8: =IF(AND('Contributions calculator'!$D$4>=H8,'Contributions calculator'!$D$4<=J8),'Contributions calculator'!$D$4,"") | C8: =IF(B8="","",IF(DAY(K8)>=DAY(B8),0,-1)+(YEAR(K8)-YEAR(B8))*12+MONTH(K8)-MONTH(B8)) | D8: =IF(B8="","",ROUNDDOWN(C8/12,0)) | E8: =IF(OR(G8="",G8=0),F8,F8+1) | F8: =IF(B8="","",C8-(65*12)) | G8: =IF(B8="","",K8-M8) | H8: 19789 | J8: 19819 | K8: 43714 | M8: =IF(B8="","",DATE(YEAR(B8)+65,MONTH(B8)+F8,DAY(B8)))
B9: =IF(AND('Contributions calculator'!$D$4>=H9,'Contributions calculator'!$D$4<=J9),'Contributions calculator'!$D$4,"") | C9: =IF(B9="","",IF(DAY(K9)>=DAY(B9),0,-1)+(YEAR(K9)-YEAR(B9))*12+MONTH(K9)-MONTH(B9)) | D9: =IF(B9="","",ROUNDDOWN(C9/12,0)) | E9: =IF(OR(G9="",G9=0),F9,F9+1) | F9: =IF(B9="","",C9-(65*12)) | G9: =IF(B9="","",K9-M9) | H9: 19820 | J9: 19849 | K9: 43775 | M9: =IF(B9="","",DATE(YEAR(B9)+65,MONTH(B9)+F9,DAY(B9)))
B10: =IF(AND('Contributions calculator'!$D$4>=H10,'Contributions calculator'!$D$4<=J10),'Contributions calculator'!$D$4,"") | C10: =IF(B10="","",IF(DAY(K10)>=DAY(B10),0,-1)+(YEAR(K10)-YEAR(B10))*12+MONTH(K10)-MONTH(B10)) | D10: =IF(B10="","",ROUNDDOWN(C10/12,0)) | E10: =IF(OR(G10="",G10=0),F10,F10+1) | F10: =IF(B10="","",C10-(65*12)) | G10: =IF(B10="","",K10-M10) | H10: 19850 | J10: 19880 | K10: 43836 | M10: =IF(B10="","",DATE(YEAR(B10)+65,MONTH(B10)+F10,DAY(B10)))
B11: =IF(AND('Contributions calculator'!$D$4>=H11,'Contributions calculator'!$D$4<=J11),'Contributions calculator'!$D$4,"") | C11: =IF(B11="","",IF(DAY(K11)>=DAY(B11),0,-1)+(YEAR(K11)-YEAR(B11))*12+MONTH(K11)-MONTH(B11)) | D11: =IF(B11="","",ROUNDDOWN(C11/12,0)) | E11: =IF(OR(G11="",G11=0),F11,F11+1) | F11: =IF(B11="","",C11-(65*12)) | G11: =IF(B11="","",K11-M11) | H11: 19881 | J11: 19910 | K11: 43896 | M11: =IF(B11="","",DATE(YEAR(B11)+65,MONTH(B11)+F11,DAY(B11)))
B12: =IF(AND('Contributions calculator'!$D$4>=H12,'Contributions calculator'!$D$4<=J12),'Contributions calculator'!$D$4,"") | C12: =IF(B12="","",IF(DAY(K12)>=DAY(B12),0,-1)+(YEAR(K12)-YEAR(B12))*12+MONTH(K12)-MONTH(B12)) | D12: =IF(B12="","",ROUNDDOWN(C12/12,0)) | E12: =IF(OR(G12="",G12=0),F12,F12+1) | F12: =IF(B12="","",C12-(65*12)) | G12: =IF(B12="","",K12-M12) | H12: 19911 | J12: 19941 | K12: 43957 | M12: =IF(B12="","",DATE(YEAR(B12)+65,MONTH(B12)+F12,DAY(B12)))
B13: =IF(AND('Contributions calculator'!$D$4>=H13,'Contributions calculator'!$D$4<=J13),'Contributions calculator'!$D$4,"") | C13: =IF(B13="","",IF(DAY(K13)>=DAY(B13),0,-1)+(YEAR(K13)-YEAR(B13))*12+MONTH(K13)-MONTH(B13)) | D13: =IF(B13="","",ROUNDDOWN(C13/12,0)) | E13: =IF(OR(G13="",G13=0),F13,F13+1) | F13: =IF(B13="","",C13-(65*12)) | G13: =IF(B13="","",K13-M13) | H13: 19942 | J13: 19972 | K13: 44018 | M13: =IF(B13="","",DATE(YEAR(B13)+65,MONTH(B13)+F13,DAY(B13)))
B14: =IF(AND('Contributions calculator'!$D$4>=H14,'Contributions calculator'!$D$4<=J14),'Contributions calculator'!$D$4,"") | C14: =IF(B14="","",IF(DAY(K14)>=DAY(B14),0,-1)+(YEAR(K14)-YEAR(B14))*12+MONTH(K14)-MONTH(B14)) | D14: =IF(B14="","",66) | F14: =IF(B14="","",C14-(65*12)) | G14: =IF(B14="","",K14-M14) | H14: 19973 | J14: 20002 | K14: 44080 | M14: =IF(B14="","",DATE(YEAR(B14)+65,MONTH(B14)+F14,DAY(B14)))
B15: =IF(AND('Contributions calculator'!$D$4>=H15,'Contributions calculator'!$D$4<=J15),'Contributions calculator'!$D$4,"") | C15: =IF(B15="","",IF(DAY(K15)>=DAY(B15),0,-1)+(YEAR(K15)-YEAR(B15))*12+MONTH(K15)-MONTH(B15)) | D15: =IF(B15="","",66) | F15: =IF(B15="","",C15-(65*12)) | G15: =IF(B15="","",K15-M15) | H15: 20003 | J15: 22011 | K15: =IF(AND('Contributions calculator'!D4>=H15,'Contributions calculator'!D4<=J15),('Contributions calculator'!D4+66*365.25),"")
M16: =IF(B16="","",DATE(YEAR(B16)+D16,MONTH(B16)+F16,DAY(B16)))
A17: Increase from 66 to 67 | B17: =IF(AND('Contributions calculator'!$D$4>=H17,'Contributions calculator'!$D$4<=J17),'Contributions calculator'!$D$4,"") | D17: =IF(B17="","",66) | E17: =IF(OR(G17="",G17=0),F17,F17+1) | F17: =IF(B17="","",1) | H17: 22012 | J17: 22041
B18: =IF(AND('Contributions calculator'!$D$4>=H18,'Contributions calculator'!$D$4<=J18),'Contributions calculator'!$D$4,"") | D18: =IF(B18="","",66) | E18: =IF(OR(G18="",G18=0),F18,F18+1) | F18: =IF(B18="","",2) | H18: 22042 | J18: 22072
B19: =IF(AND('Contributions calculator'!$D$4>=H19,'Contributions calculator'!$D$4<=J19),'Contributions calculator'!$D$4,"") | D19: =IF(B19="","",66) | E19: =IF(OR(G19="",G19=0),F19,F19+1) | F19: =IF(B19="","",3) | H19: 22073 | J19: 22102
B20: =IF(AND('Contributions calculator'!$D$4>=H20,'Contributions calculator'!$D$4<=J20),'Contributions calculator'!$D$4,"") | D20: =IF(B20="","",66) | E20: =IF(OR(G20="",G20=0),F20,F20+1) | F20: =IF(B20="","",4) | H20: 22103 | J20: 22133
B21: =IF(AND('Contributions calculator'!$D$4>=H21,'Contributions calculator'!$D$4<=J21),'Contributions calculator'!$D$4,"") | D21: =IF(B21="","",66) | E21: =IF(OR(G21="",G21=0),F21,F21+1) | F21: =IF(B21="","",5) | H21: 22134 | J21: 22164
B22: =IF(AND('Contributions calculator'!$D$4>=H22,'Contributions calculator'!$D$4<=J22),'Contributions calculator'!$D$4,"") | D22: =IF(B22="","",66) | E22: =IF(OR(G22="",G22=0),F22,F22+1) | F22: =IF(B22="","",6) | H22: 22165 | J22: 22194
B23: =IF(AND('Contributions calculator'!$D$4>=H23,'Contributions calculator'!$D$4<=J23),'Contributions calculator'!$D$4,"") | D23: =IF(B23="","",66) | E23: =IF(OR(G23="",G23=0),F23,F23+1) | F23: =IF(B23="","",7) | H23: 22195 | J23: 22225
B24: =IF(AND('Contributions calculator'!$D$4>=H24,'Contributions calculator'!$D$4<=J24),'Contributions calculator'!$D$4,"") | D24: =IF(B24="","",66) | E24: =IF(OR(G24="",G24=0),F24,F24+1) | F24: =IF(B24="","",8) | H24: 22226 | J24: 22255
B25: =IF(AND('Contributions calculator'!$D$4>=H25,'Contributions calculator'!$D$4<=J25),'Contributions calculator'!$D$4,"") | D25: =IF(B25="","",66) | E25: =IF(OR(G25="",G25=0),F25,F25+1) | F25: =IF(B25="","",9) | H25: 22256 | J25: 22286
B26: =IF(AND('Contributions calculator'!$D$4>=H26,'Contributions calculator'!$D$4<=J26),'Contributions calculator'!$D$4,"") | D26: =IF(B26="","",66) | E26: =IF(OR(G26="",G26=0),F26,F26+1) | F26: =IF(B26="","",10) | H26: 22287 | J26: 22317
B27: =IF(AND('Contributions calculator'!$D$4>=H27,'Contributions calculator'!$D$4<=J27),'Contributions calculator'!$D$4,"") | D27: =IF(B27="","",66) | E27: =IF(OR(G27="",G27=0),F27,F27+1) | F27: =IF(B27="","",11) | H27: 22318 | J27: 22345
B28: =IF(AND('Contributions calculator'!$D$4>=H28,'Contributions calculator'!$D$4<=J28),'Contributions calculator'!$D$4,"") | D28: =IF(B28="","",67) | H28: 22346 | J28: 28220
M29: =IF(B29="","",DATE(YEAR(B29)+D29,MONTH(B29)+F29,DAY(B29)))
A30: Increase from 67 to 68 | B30: =IF(AND('Contributions calculator'!$D$4>=H30,'Contributions calculator'!$D$4<=J30),'Contributions calculator'!$D$4,"") | C30: =IF(B30="","",IF(DAY(K30)>=DAY(B30),0,-1)+(YEAR(K30)-YEAR(B30))*12+MONTH(K30)-MONTH(B30)) | D30: =IF(B30="","",ROUNDDOWN(C30/12,0)) | E30: =IF(OR(G30="",G30=0),F30,F30+1) | F30: =IF(B30="","",C30-(D30*12)) | G30: =IF(B30="","",K30-M30) | H30: 28221 | J30: 28250 | K30: 52723 | M30: =IF(B30="","",DATE(YEAR(B30)+67,MONTH(B30)+F30,DAY(B30)))
B31: =IF(AND('Contributions calculator'!$D$4>=H31,'Contributions calculator'!$D$4<=J31),'Contributions calculator'!$D$4,"") | C31: =IF(B31="","",IF(DAY(K31)>=DAY(B31),0,-1)+(YEAR(K31)-YEAR(B31))*12+MONTH(K31)-MONTH(B31)) | D31: =IF(B31="","",ROUNDDOWN(C31/12,0)) | E31: =IF(OR(G31="",G31=0),F31,F31+1) | F31: =IF(B31="","",C31-(D31*12)) | G31: =IF(B31="","",K31-M31) | H31: 28251 | J31: 28281 | K31: 52784 | M31: =IF(B31="","",DATE(YEAR(B31)+67,MONTH(B31)+F31,DAY(B31)))
B32: =IF(AND('Contributions calculator'!$D$4>=H32,'Contributions calculator'!$D$4<=J32),'Contributions calculator'!$D$4,"") | C32: =IF(B32="","",IF(DAY(K32)>=DAY(B32),0,-1)+(YEAR(K32)-YEAR(B32))*12+MONTH(K32)-MONTH(B32)) | D32: =IF(B32="","",ROUNDDOWN(C32/12,0)) | E32: =IF(OR(G32="",G32=0),F32,F32+1) | F32: =IF(B32="","",C32-(D32*12)) | G32: =IF(B32="","",K32-M32) | H32: 28282 | J32: 28311 | K32: 52846 | M32: =IF(B32="","",DATE(YEAR(B32)+67,MONTH(B32)+F32,DAY(B32)))
B33: =IF(AND('Contributions calculator'!$D$4>=H33,'Contributions calculator'!$D$4<=J33),'Contributions calculator'!$D$4,"") | C33: =IF(B33="","",IF(DAY(K33)>=DAY(B33),0,-1)+(YEAR(K33)-YEAR(B33))*12+MONTH(K33)-MONTH(B33)) | D33: =IF(B33="","",ROUNDDOWN(C33/12,0)) | E33: =IF(OR(G33="",G33=0),F33,F33+1) | F33: =IF(B33="","",C33-(D33*12)) | G33: =IF(B33="","",K33-M33) | H33: 28312 | J33: 28342 | K33: 52907 | M33: =IF(B33="","",DATE(YEAR(B33)+67,MONTH(B33)+F33,DAY(B33)))
B34: =IF(AND('Contributions calculator'!$D$4>=H34,'Contributions calculator'!$D$4<=J34),'Contributions calculator'!$D$4,"") | C34: =IF(B34="","",IF(DAY(K34)>=DAY(B34),0,-1)+(YEAR(K34)-YEAR(B34))*12+MONTH(K34)-MONTH(B34)) | D34: =IF(B34="","",ROUNDDOWN(C34/12,0)) | E34: =IF(OR(G34="",G34=0),F34,F34+1) | F34: =IF(B34="","",C34-(D34*12)) | G34: =IF(B34="","",K34-M34) | H34: 28343 | J34: 28373 | K34: 52968 | M34: =IF(B34="","",DATE(YEAR(B34)+67,MONTH(B34)+F34,DAY(B34)))
B35: =IF(AND('Contributions calculator'!$D$4>=H35,'Contributions calculator'!$D$4<=J35),'Contributions calculator'!$D$4,"") | C35: =IF(B35="","",IF(DAY(K35)>=DAY(B35),0,-1)+(YEAR(K35)-YEAR(B35))*12+MONTH(K35)-MONTH(B35)) | D35: =IF(B35="","",ROUNDDOWN(C35/12,0)) | E35: =IF(OR(G35="",G35=0),F35,F35+1) | F35: =IF(B35="","",C35-(D35*12)) | G35: =IF(B35="","",K35-M35) | H35: 28374 | J35: 28403 | K35: 53027 | M35: =IF(B35="","",DATE(YEAR(B35)+67,MONTH(B35)+F35,DAY(B35)))
B36: =IF(AND('Contributions calculator'!$D$4>=H36,'Contributions calculator'!$D$4<=J36),'Contributions calculator'!$D$4,"") | C36: =IF(B36="","",IF(DAY(K36)>=DAY(B36),0,-1)+(YEAR(K36)-YEAR(B36))*12+MONTH(K36)-MONTH(B36)) | D36: =IF(B36="","",ROUNDDOWN(C36/12,0)) | E36: =IF(OR(G36="",G36=0),F36,F36+1) | F36: =IF(B36="","",C36-(D36*12)) | G36: =IF(B36="","",K36-M36) | H36: 28404 | J36: 28434 | K36: 53088 | M36: =IF(B36="","",DATE(YEAR(B36)+67,MONTH(B36)+F36,DAY(B36)))
B37: =IF(AND('Contributions calculator'!$D$4>=H37,'Contributions calculator'!$D$4<=J37),'Contributions calculator'!$D$4,"") | C37: =IF(B37="","",IF(DAY(K37)>=DAY(B37),0,-1)+(YEAR(K37)-YEAR(B37))*12+MONTH(K37)-MONTH(B37)) | D37: =IF(B37="","",ROUNDDOWN(C37/12,0)) | E37: =IF(OR(G37="",G37=0),F37,F37+1) | F37: =IF(B37="","",C37-(D37*12)) | G37: =IF(B37="","",K37-M37) | H37: 28435 | J37: 28464 | K37: 53149 | M37: =IF(B37="","",DATE(YEAR(B37)+67,MONTH(B37)+F37,DAY(B37)))
B38: =IF(AND('Contributions calculator'!$D$4>=H38,'Contributions calculator'!$D$4<=J38),'Contributions calculator'!$D$4,"") | C38: =IF(B38="","",IF(DAY(K38)>=DAY(B38),0,-1)+(YEAR(K38)-YEAR(B38))*12+MONTH(K38)-MONTH(B38)) | D38: =IF(B38="","",ROUNDDOWN(C38/12,0)) | E38: =IF(OR(G38="",G38=0),F38,F38+1) | F38: =IF(B38="","",C38-(D38*12)) | G38: =IF(B38="","",K38-M38) | H38: 28465 | J38: 28495 | K38: 53211 | M38: =IF(B38="","",DATE(YEAR(B38)+67,MONTH(B38)+F38,DAY(B38)))
B39: =IF(AND('Contributions calculator'!$D$4>=H39,'Contributions calculator'!$D$4<=J39),'Contributions calculator'!$D$4,"") | C39: =IF(B39="","",IF(DAY(K39)>=DAY(B39),0,-1)+(YEAR(K39)-YEAR(B39))*12+MONTH(K39)-MONTH(B39)) | D39: =IF(B39="","",ROUNDDOWN(C39/12,0)) | E39: =IF(OR(G39="",G39=0),F39,F39+1) | F39: =IF(B39="","",C39-(D39*12)) | G39: =IF(B39="","",K39-M39) | H39: 28496 | J39: 28526 | K39: 53272 | M39: =IF(B39="","",DATE(YEAR(B39)+67,MONTH(B39)+F39,DAY(B39)))
B40: =IF(AND('Contributions calculator'!$D$4>=H40,'Contributions calculator'!$D$4<=J40),'Contributions calculator'!$D$4,"") | C40: =IF(B40="","",IF(DAY(K40)>=DAY(B40),0,-1)+(YEAR(K40)-YEAR(B40))*12+MONTH(K40)-MONTH(B40)) | D40: =IF(B40="","",ROUNDDOWN(C40/12,0)) | E40: =IF(OR(G40="",G40=0),F40,F40+1) | F40: =IF(B40="","",C40-(D40*12)) | G40: =IF(B40="","",K40-M40) | H40: 28527 | J40: 28554 | K40: 53333 | M40: =IF(B40="","",DATE(YEAR(B40)+67,MONTH(B40)+F40,DAY(B40)))
B41: =IF(AND('Contributions calculator'!$D$4>=H41,'Contributions calculator'!$D$4<=J41),'Contributions calculator'!$D$4,"") | C41: =IF(B41="","",IF(DAY(K41)>=DAY(B41),0,-1)+(YEAR(K41)-YEAR(B41))*12+MONTH(K41)-MONTH(B41)) | D41: =IF(B41="","",68) | F41: =IF(B41="","",C41-(67*12)) | G41: =IF(B41="","",K41-M41) | H41: 28555 | J41: 28585 | K41: 53392 | M41: =IF(B41="","",DATE(YEAR(B41)+67,MONTH(B41)+F41,DAY(B41)))
...

Sheet Lump Sum
G1: Lump Sum Elections
B4: NPA 60 | F4: NPA 65 | J4: 2015 Scheme | K4: X-703
B5: Table S60 -NPA 60 | F5: Table SPA 65 - NPA 65 | J5: Table S
B7: Benefits | C7: Personal | D7: Personal and dependant's | F7: Benefits | G7: Personal | H7: Personal and dependant's | J7: Benefits | K7: Personal | L7: Personal and dependant's
B8: Age when notice of election given | C8: Single premium to purchase £250 of APB at date of election, £ | F8: Age when notice of election given | G8: Single premium to purchase £250 of APB at date of election, £ | J8: Age when notice of election given | K8: Single premium to purchase £250 of APB at date of election, £
B9: 16 | F9: 16 | J9: 16 | K9: 1680 | L9: 1810
B10: 17 | F10: 17 | J10: 17 | K10: 1710 | L10: 1850
B11: 18 | F11: 18 | J11: 18 | K11: 1740 | L11: 1890
B12: 19 | F12: 19 | J12: 19 | K12: 1770 | L12: 1920
B13: 20 | F13: 20 | J13: 20 | K13: 1810 | L13: 1960
B14: 21 | F14: 21 | J14: 21 | K14: 1840 | L14: 1990
B15: 22 | F15: 22 | J15: 22 | K15: 1870 | L15: 2030
B16: 23 | F16: 23 | J16: 23 | K16: 1900 | L16: 2060
B17: 24 | F17: 24 | J17: 24 | K17: 1940 | L17: 2100
B18: 25 | F18: 25 | J18: 25 | K18: 1970 | L18: 2130
B19: 26 | F19: 26 | J19: 26 | K19: 2010 | L19: 2170
B20: 27 | F20: 27 | J20: 27 | K20: 2040 | L20: 2210
... B57: 64 | F57: 64 | J57: 64 | K57: 4100 | L57: 4340
J58: 65 | K58: 4190 | L58: 4430

Sheet NRA60 (1995)
A2: Regular Contribution Elections made after 31 March 2011 | J2: x705 | W2: Regular Contribution Elections made after 31 March 2011
A3: Table D60: Personal and Dependant's Benefits, NRA 60 | W3: Table P60: Personal Benefits, NRA 60 | AG3: x704
A5: Age when notice of election given â | B5: Monthly contribution to purchase £250 of APB at date of election, £ | W5: Age when notice of election given â | X5: Monthly contribution to purchase £250 of APB at date of election, £
A6: Payment period (in years) à | B6: 1 | C6: 2 | D6: 3 | E6: 4 | F6: 5 | G6: 6 | H6: 7 | I6: 8 | J6: 9 | K6: 10 | L6: 11 | M6: 12 | N6: 13 | O6: 14 | P6: 15 | Q6: 16 | R6: 17 | S6: 18 | T6: 19 | U6: 20 | W6: Payment period (in years) à | X6: 1 | Y6: 2 | Z6: 3 | AA6: 4 | AB6: 5 | AC6: 6 | AD6: 7 | AE6: 8 | AF6: 9 | AG6: 10 | AH6: 11 | AI6: 12 | AJ6: 13 | AK6: 14 | AL6: 15 | AM6: 16 | AN6: 17 | AO6: 18 | AP6: 19 | AQ6: 20
A7: 16 | B7: 206.6 | C7: 105.4 | D7: 71.6 | E7: 54.8 | F7: 44.7 | G7: 38 | H7: 33.2 | I7: 29.6 | J7: 26.8 | K7: 24.6 | L7: 22.7 | M7: 21.2 | N7: 20 | O7: 18.9 | P7: 17.9 | Q7: 17.1 | R7: 16.4 | S7: 15.8 | T7: 15.2 | U7: 14.7 | W7: 16 | X7: 196.4 | Y7: 100.2 | Z7: 68.1 | AA7: 52.1 | AB7: 42.5 | AC7: 36.1 | AD7: 31.5 | AE7: 28.1 | AF7: 25.5 | AG7: 23.3 | AH7: 21.6 | AI7: 20.2 | AJ7: 19 | AK7: 17.9 | AL7: 17.1 | AM7: 16.3 | AN7: 15.6 | AO7: 15 | AP7: 14.5 | AQ7: 14
A8: 17 | B8: 210.6 | C8: 107.4 | D8: 73 | E8: 55.8 | F8: 45.5 | G8: 38.7 | H8: 33.8 | I8: 30.1 | J8: 27.3 | K8: 25 | L8: 23.2 | M8: 21.7 | N8: 20.4 | O8: 19.2 | P8: 18.3 | Q8: 17.5 | R8: 16.7 | S8: 16.1 | T8: 15.5 | U8: 15 | W8: 17 | X8: 200 | Y8: 102 | Z8: 69.3 | AA8: 53 | AB8: 43.2 | AC8: 36.7 | AD8: 32.1 | AE8: 28.6 | AF8: 25.9 | AG8: 23.8 | AH8: 22 | AI8: 20.6 | AJ8: 19.3 | AK8: 18.3 | AL8: 17.4 | AM8: 16.6 | AN8: 15.9 | AO8: 15.3 | AP8: 14.7 | AQ8: 14.2
A9: 18 | B9: 214.7 | C9: 109.5 | D9: 74.5 | E9: 56.9 | F9: 46.4 | G9: 39.5 | H9: 34.5 | I9: 30.7 | J9: 27.8 | K9: 25.5 | L9: 23.6 | M9: 22.1 | N9: 20.8 | O9: 19.6 | P9: 18.7 | Q9: 17.8 | R9: 17.1 | S9: 16.4 | T9: 15.8 | U9: 15.3 | W9: 18 | X9: 203.6 | Y9: 103.8 | Z9: 70.6 | AA9: 54 | AB9: 44 | AC9: 37.4 | AD9: 32.7 | AE9: 29.1 | AF9: 26.4 | AG9: 24.2 | AH9: 22.4 | AI9: 20.9 | AJ9: 19.7 | AK9: 18.6 | AL9: 17.7 | AM9: 16.9 | AN9: 16.2 | AO9: 15.6 | AP9: 15 | AQ9: 14.5
A10: 19 | B10: 218.8 | C10: 111.6 | D10: 75.9 | E10: 58 | F10: 47.3 | G10: 40.2 | H10: 35.1 | I10: 31.3 | J10: 28.4 | K10: 26 | L10: 24.1 | M10: 22.5 | N10: 21.2 | O10: 20 | P10: 19 | Q10: 18.1 | R10: 17.4 | S10: 16.7 | T10: 16.1 | U10: 15.6 | W10: 19 | X10: 207.3 | Y10: 105.7 | Z10: 71.9 | AA10: 55 | AB10: 44.8 | AC10: 38.1 | AD10: 33.3 | AE10: 29.7 | AF10: 26.9 | AG10: 24.7 | AH10: 22.8 | AI10: 21.3 | AJ10: 20 | AK10: 19 | AL10: 18 | AM10: 17.2 | AN10: 16.5 | AO10: 15.8 | AP10: 15.3 | AQ10: 14.8
A11: 20 | B11: 222.8 | C11: 113.6 | D11: 77.2 | E11: 59.1 | F11: 48.2 | G11: 40.9 | H11: 35.8 | I11: 31.9 | J11: 28.9 | K11: 26.5 | L11: 24.5 | M11: 22.9 | N11: 21.5 | O11: 20.4 | P11: 19.4 | Q11: 18.5 | R11: 17.7 | S11: 17 | T11: 16.4 | U11: 15.9 | W11: 20 | X11: 211.1 | Y11: 107.7 | Z11: 73.2 | AA11: 56 | AB11: 45.7 | AC11: 38.8 | AD11: 33.9 | AE11: 30.2 | AF11: 27.4 | AG11: 25.1 | AH11: 23.2 | AI11: 21.7 | AJ11: 20.4 | AK11: 19.3 | AL11: 18.3 | AM11: 17.5 | AN11: 16.8 | AO11: 16.1 | AP11: 15.6 | AQ11: 15
A12: 21 | B12: 226.8 | C12: 115.6 | D12: 78.6 | E12: 60.1 | F12: 49 | G12: 41.7 | H12: 36.4 | I12: 32.5 | J12: 29.4 | K12: 27 | L12: 25 | M12: 23.3 | N12: 21.9 | O12: 20.7 | P12: 19.7 | Q12: 18.8 | R12: 18 | S12: 17.3 | T12: 16.7 | U12: 16.2 | W12: 21 | X12: 214.9 | Y12: 109.6 | Z12: 74.5 | AA12: 57 | AB12: 46.5 | AC12: 39.5 | AD12: 34.5 | AE12: 30.8 | AF12: 27.9 | AG12: 25.6 | AH12: 23.7 | AI12: 22.1 | AJ12: 20.8 | AK12: 19.7 | AL12: 18.7 | AM12: 17.8 | AN12: 17.1 | AO12: 16.4 | AP12: 15.8 | AQ12: 15.3
A13: 22 | B13: 230.8 | C13: 117.7 | D13: 80 | E13: 61.2 | F13: 49.9 | G13: 42.4 | H13: 37.1 | I13: 33 | J13: 29.9 | K13: 27.4 | L13: 25.4 | M13: 23.7 | N13: 22.3 | O13: 21.1 | P13: 20.1 | Q13: 19.1 | R13: 18.3 | S13: 17.6 | T13: 17 | U13: 16.4 | W13: 22 | X13: 218.8 | Y13: 111.6 | Z13: 75.9 | AA13: 58 | AB13: 47.3 | AC13: 40.2 | AD13: 35.1 | AE13: 31.3 | AF13: 28.4 | AG13: 26 | AH13: 24.1 | AI13: 22.5 | AJ13: 21.2 | AK13: 20 | AL13: 19 | AM13: 18.1 | AN13: 17.4 | AO13: 16.7 | AP13: 16.1 | AQ13: 15.6
A14: 23 | B14: 234.9 | C14: 119.8 | D14: 81.5 | E14: 62.3 | F14: 50.8 | G14: 43.2 | H14: 37.7 | I14: 33.6 | J14: 30.5 | K14: 27.9 | L14: 25.9 | M14: 24.2 | N14: 22.7 | O14: 21.5 | P14: 20.4 | Q14: 19.5 | R14: 18.7 | S14: 18 | T14: 17.3 | U14: 16.7 | W14: 23 | X14: 222.7 | Y14: 113.6 | Z14: 77.2 | AA14: 59.1 | AB14: 48.2 | AC14: 40.9 | AD14: 35.8 | AE14: 31.9 | AF14: 28.9 | AG14: 26.5 | AH14: 24.5 | AI14: 22.9 | AJ14: 21.5 | AK14: 20.4 | AL14: 19.4 | AM14: 18.5 | AN14: 17.7 | AO14: 17 | AP14: 16.4 | AQ14: 15.9
A15: 24 | B15: 239.1 | C15: 121.9 | D15: 82.9 | E15: 63.4 | F15: 51.7 | G15: 43.9 | H15: 38.4 | I15: 34.2 | J15: 31 | K15: 28.4 | L15: 26.3 | M15: 24.6 | N15: 23.1 | O15: 21.9 | P15: 20.8 | Q15: 19.8 | R15: 19 | S15: 18.3 | T15: 17.6 | U15: 17 | W15: 24 | X15: 226.7 | Y15: 115.6 | Z15: 78.6 | AA15: 60.1 | AB15: 49 | AC15: 41.7 | AD15: 36.4 | AE15: 32.5 | AF15: 29.4 | AG15: 27 | AH15: 25 | AI15: 23.3 | AJ15: 21.9 | AK15: 20.7 | AL15: 19.7 | AM15: 18.8 | AN15: 18 | AO15: 17.3 | AP15: 16.7 | AQ15: 16.2
A16: 25 | B16: 243.3 | C16: 124.1 | D16: 84.4 | E16: 64.5 | F16: 52.6 | G16: 44.7 | H16: 39.1 | I16: 34.8 | J16: 31.6 | K16: 28.9 | L16: 26.8 | M16: 25 | N16: 23.5 | O16: 22.3 | P16: 21.2 | Q16: 20.2 | R16: 19.4 | S16: 18.6 | T16: 17.9 | U16: 17.4 | W16: 25 | X16: 230.7 | Y16: 117.7 | Z16: 80 | AA16: 61.2 | AB16: 49.9 | AC16: 42.4 | AD16: 37 | AE16: 33 | AF16: 29.9 | AG16: 27.4 | AH16: 25.4 | AI16: 23.7 | AJ16: 22.3 | AK16: 21.1 | AL16: 20.1 | AM16: 19.2 | AN16: 18.4 | AO16: 17.6 | AP16: 17 | AQ16: 16.5
A17: 26 | B17: 247.6 | C17: 126.3 | D17: 85.9 | E17: 65.7 | F17: 53.6 | G17: 45.5 | H17: 39.8 | I17: 35.5 | J17: 32.1 | K17: 29.5 | L17: 27.3 | M17: 25.5 | N17: 24 | O17: 22.7 | P17: 21.5 | Q17: 20.6 | R17: 19.7 | S17: 18.9 | T17: 18.3 | U17: 17.7 | W17: 26 | X17: 234.8 | Y17: 119.8 | Z17: 81.4 | AA17: 62.3 | AB17: 50.8 | AC17: 43.2 | AD17: 37.7 | AE17: 33.6 | AF17: 30.5 | AG17: 27.9 | AH17: 25.9 | AI17: 24.2 | AJ17: 22.7 | AK17: 21.5 | AL17: 20.4 | AM17: 19.5 | AN17: 18.7 | AO17: 18 | AP17: 17.3 | AQ17: 16.8
A18: 27 | B18: 252 | C18: 128.5 | D18: 87.4 | E18: 66.8 | F18: 54.5 | G18: 46.3 | H18: 40.5 | I18: 36.1 | J18: 32.7 | K18: 30 | L18: 27.8 | M18: 25.9 | N18: 24.4 | O18: 23.1 | P18: 21.9 | Q18: 20.9 | R18: 20.1 | S18: 19.3 | T18: 18.6 | U18: 18 | W18: 27 | X18: 239 | Y18: 121.9 | Z18: 82.9 | AA18: 63.4 | AB18: 51.7 | AC18: 43.9 | AD18: 38.4 | AE18: 34.2 | AF18: 31 | AG18: 28.4 | AH18: 26.3 | AI18: 24.6 | AJ18: 23.1 | AK18: 21.9 | AL18: 20.8 | AM18: 19.9 | AN18: 19 | AO18: 18.3 | AP18: 17.6 | AQ18: 17.1
... A30: 39 | B30: 311.4 | C30: 158.9 | D30: 108.1 | E30: 82.7 | F30: 67.5 | G30: 57.3 | H30: 50.1 | I30: 44.7 | J30: 40.5 | K30: 37.2 | L30: 34.5 | M30: 32.2 | N30: 30.3 | O30: 28.7 | P30: 27.3 | Q30: 26 | R30: 25 | S30: 24 | T30: 23.2 | U30: 22.5 | W30: 39 | X30: 295.8 | Y30: 150.9 | Z30: 102.6 | AA30: 78.5 | AB30: 64.1 | AC30: 54.5 | AD30: 47.6 | AE30: 42.5 | AF30: 38.5 | AG30: 35.3 | AH30: 32.7 | AI30: 30.6 | AJ30: 28.8 | AK30: 27.2 | AL30: 25.9 | AM30: 24.7 | AN30: 23.7 | AO30: 22.8 | AP30: 22 | AQ30: 21.3
A31: 40 | B31: 316.9 | C31: 161.7 | D31: 110 | E31: 84.1 | F31: 68.7 | G31: 58.4 | H31: 51 | I31: 45.5 | J31: 41.3 | K31: 37.9 | L31: 35.1 | M31: 32.8 | N31: 30.8 | O31: 29.2 | P31: 27.8 | Q31: 26.5 | R31: 25.5 | S31: 24.5 | T31: 23.6 | W31: 40 | X31: 301.1 | Y31: 153.6 | Z31: 104.5 | AA31: 79.9 | AB31: 65.2 | AC31: 55.5 | AD31: 48.5 | AE31: 43.2 | AF31: 39.2 | AG31: 36 | AH31: 33.3 | AI31: 31.1 | AJ31: 29.3 | AK31: 27.7 | AL31: 26.4 | AM31: 25.2 | AN31: 24.2 | AO31: 23.3 | AP31: 22.5
A32: 41 | B32: 322.5 | C32: 164.6 | D32: 111.9 | E32: 85.7 | F32: 69.9 | G32: 59.4 | H32: 51.9 | I32: 46.3 | J32: 42 | K32: 38.5 | L32: 35.7 | M32: 33.4 | N32: 31.4 | O32: 29.7 | P32: 28.3 | Q32: 27 | R32: 25.9 | S32: 25 | W32: 41 | X32: 306.5 | Y32: 156.4 | Z32: 106.4 | AA32: 81.4 | AB32: 66.4 | AC32: 56.5 | AD32: 49.4 | AE32: 44 | AF32: 39.9 | AG32: 36.6 | AH32: 34 | AI32: 31.7 | AJ32: 29.9 | AK32: 28.3 | AL32: 26.9 | AM32: 25.7 | AN32: 24.6 | AO32: 23.7
A33: 42 | B33: 328.3 | C33: 167.5 | D33: 114 | E33: 87.2 | F33: 71.2 | G33: 60.5 | H33: 52.9 | I33: 47.2 | J33: 42.8 | K33: 39.3 | L33: 36.4 | M33: 34 | N33: 32 | O33: 30.3 | P33: 28.8 | Q33: 27.6 | R33: 26.4 | W33: 42 | X33: 312.1 | Y33: 159.2 | Z33: 108.3 | AA33: 82.9 | AB33: 67.6 | AC33: 57.5 | AD33: 50.3 | AE33: 44.9 | AF33: 40.7 | AG33: 37.3 | AH33: 34.6 | AI33: 32.3 | AJ33: 30.4 | AK33: 28.8 | AL33: 27.4 | AM33: 26.2 | AN33: 25.1
A34: 43 | B34: 334.3 | C34: 170.6 | D34: 116 | E34: 88.8 | F34: 72.5 | G34: 61.6 | H34: 53.9 | I34: 48.1 | J34: 43.6 | K34: 40 | L34: 37.1 | M34: 34.7 | N34: 32.6 | O34: 30.9 | P34: 29.4 | Q34: 28.1 | W34: 43 | X34: 317.8 | Y34: 162.2 | Z34: 110.3 | AA34: 84.4 | AB34: 68.9 | AC34: 58.6 | AD34: 51.2 | AE34: 45.7 | AF34: 41.4 | AG34: 38 | AH34: 35.3 | AI34: 33 | AJ34: 31 | AK34: 29.4 | AL34: 28 | AM34: 26.7
A35: 44 | B35: 340.4 | C35: 173.7 | D35: 118.2 | E35: 90.4 | F35: 73.8 | G35: 62.8 | H35: 54.9 | I35: 49 | J35: 44.4 | K35: 40.8 | L35: 37.8 | M35: 35.3 | N35: 33.3 | O35: 31.5 | P35: 30 | W35: 44 | X35: 323.7 | Y35: 165.2 | Z35: 112.4 | AA35: 86 | AB35: 70.2 | AC35: 59.7 | AD35: 52.2 | AE35: 46.6 | AF35: 42.2 | AG35: 38.8 | AH35: 35.9 | AI35: 33.6 | AJ35: 31.6 | AK35: 30 | AL35: 28.5
A36: 45 | B36: 346.7 | C36: 176.9 | D36: 120.4 | E36: 92.1 | F36: 75.2 | G36: 63.9 | H36: 55.9 | I36: 49.9 | J36: 45.3 | K36: 41.6 | L36: 38.5 | M36: 36 | N36: 33.9 | O36: 32.2 | W36: 45 | X36: 329.8 | Y36: 168.3 | Z36: 114.5 | AA36: 87.7 | AB36: 71.5 | AC36: 60.8 | AD36: 53.2 | AE36: 47.5 | AF36: 43.1 | AG36: 39.5 | AH36: 36.7 | AI36: 34.3 | AJ36: 32.3 | AK36: 30.6
A37: 46 | B37: 353.2 | C37: 180.3 | D37: 122.6 | E37: 93.9 | F37: 76.6 | G37: 65.2 | H37: 57 | I37: 50.9 | J37: 46.2 | K37: 42.4 | L37: 39.3 | M37: 36.8 | N37: 34.6 | W37: 46 | X37: 336.1 | Y37: 171.5 | Z37: 116.7 | AA37: 89.3 | AB37: 72.9 | AC37: 62 | AD37: 54.2 | AE37: 48.4 | AF37: 43.9 | AG37: 40.3 | AH37: 37.4 | AI37: 35 | AJ37: 33
A38: 47 | B38: 359.8 | C38: 183.6 | D38: 125 | E38: 95.6 | F38: 78.1 | G38: 66.4 | H38: 58.1 | I38: 51.9 | J38: 47.1 | K38: 43.2 | L38: 40.1 | M38: 37.5 | W38: 47 | X38: 342.5 | Y38: 174.8 | Z38: 118.9 | AA38: 91 | AB38: 74.3 | AC38: 63.2 | AD38: 55.3 | AE38: 49.4 | AF38: 44.8 | AG38: 41.2 | AH38: 38.2 | AI38: 35.7
A39: 48 | B39: 366.5 | C39: 187.1 | D39: 127.3 | E39: 97.5 | F39: 79.6 | G39: 67.7 | H39: 59.3 | I39: 52.9 | J39: 48 | K39: 44.1 | L39: 41 | W39: 48 | X39: 349 | Y39: 178.2 | Z39: 121.2 | AA39: 92.8 | AB39: 75.8 | AC39: 64.5 | AD39: 56.4 | AE39: 50.4 | AF39: 45.7 | AG39: 42 | AH39: 39
A40: 49 | B40: 373.5 | C40: 190.7 | D40: 129.8 | E40: 99.4 | F40: 81.2 | G40: 69.1 | H40: 60.5 | I40: 54 | J40: 49 | K40: 45.1 | W40: 49 | X40: 355.8 | Y40: 181.7 | Z40: 123.7 | AA40: 94.7 | AB40: 77.3 | AC40: 65.8 | AD40: 57.6 | AE40: 51.5 | AF40: 46.7 | AG40: 42.9
A41: 50 | B41: 380.8 | C41: 194.4 | D41: 132.4 | E41: 101.4 | F41: 82.9 | G41: 70.5 | H41: 61.7 | I41: 55.2 | J41: 50.1 | W41: 50 | X41: 362.9 | Y41: 185.3 | Z41: 126.2 | AA41: 96.6 | AB41: 79 | AC41: 67.2 | AD41: 58.8 | AE41: 52.6 | AF41: 47.7
A42: 51 | B42: 388.2 | C42: 198.3 | D42: 135 | E42: 103.5 | F42: 84.6 | G42: 72 | H42: 63 | I42: 56.3 | W42: 51 | X42: 370.1 | Y42: 189 | Z42: 128.7 | AA42: 98.6 | AB42: 80.6 | AC42: 68.6 | AD42: 60.1 | AE42: 53.7
A43: 52 | B43: 395.8 | C43: 202.2 | D43: 137.7 | E43: 105.6 | F43: 86.3 | G43: 73.5 | H43: 64.4 | W43: 52 | X43: 377.5 | Y43: 192.9 | Z43: 131.4 | AA43: 100.7 | AB43: 82.3 | AC43: 70.1 | AD43: 61.4
A44: 53 | B44: 403.4 | C44: 206.2 | D44: 140.5 | E44: 107.7 | F44: 88.1 | G44: 75 | W44: 53 | X44: 385 | Y44: 196.7 | Z44: 134.1 | AA44: 102.8 | AB44: 84 | AC44: 71.6
A45: 54 | B45: 411.1 | C45: 210.2 | D45: 143.2 | E45: 109.8 | F45: 89.8 | W45: 54 | X45: 392.6 | Y45: 200.7 | Z45: 136.8 | AA45: 104.9 | AB45: 85.8
A46: 55 | B46: 418.9 | C46: 214.2 | D46: 146 | E46: 112 | W46: 55 | X46: 400.2 | Y46: 204.6 | Z46: 139.5 | AA46: 107
A47: 56 | B47: 426.8 | C47: 218.3 | D47: 148.9 | W47: 56 | X47: 408 | Y47: 208.7 | Z47: 142.3
A48: 57 | B48: 434.8 | C48: 222.5 | W48: 57 | X48: 416 | Y48: 212.8
A49: 58 | B49: 443.1 | W49: 58 | X49: 424.2

Sheet NRA65 (2008)
A2: Regular Contribution Elections | W2: Regular Contribution Elections
A3: Table DC65: Personal and Dependant’s Benefits, NRA 65 | J3: x-707 | W3: Table PC65: Personal Benefits, NRA 65 | AE3: x-706
A5: Age when notice of election given â | B5: Monthly contribution to purchase £250 of APB at date of election, £ | W5: Age when notice of election given â | X5: Monthly contribution to purchase £250 of APB at date of election, £
A6: Payment period (in years) à | B6: 1 | C6: 2 | D6: 3 | E6: 4 | F6: 5 | G6: 6 | H6: 7 | I6: 8 | J6: 9 | K6: 10 | L6: 11 | M6: 12 | N6: 13 | O6: 14 | P6: 15 | Q6: 16 | R6: 17 | S6: 18 | T6: 19 | U6: 20 | W6: Payment period (in years) à | X6: 1 | Y6: 2 | Z6: 3 | AA6: 4 | AB6: 5 | AC6: 6 | AD6: 7 | AE6: 8 | AF6: 9 | AG6: 10 | AH6: 11 | AI6: 12 | AJ6: 13 | AK6: 14 | AL6: 15 | AM6: 16 | AN6: 17 | AO6: 18 | AP6: 19 | AQ6: 20
A7: 16 | B7: 168.8 | C7: 86.1 | D7: 58.5 | E7: 44.7 | F7: 36.5 | G7: 31 | H7: 27.1 | I7: 24.2 | J7: 21.9 | K7: 20.1 | L7: 18.6 | M7: 17.3 | N7: 16.3 | O7: 15.4 | P7: 14.7 | Q7: 14 | R7: 13.4 | S7: 12.9 | T7: 12.4 | U7: 12 | W7: 16 | X7: 158.2 | Y7: 80.7 | Z7: 54.9 | AA7: 41.9 | AB7: 34.2 | AC7: 29.1 | AD7: 25.4 | AE7: 22.6 | AF7: 20.5 | AG7: 18.8 | AH7: 17.4 | AI7: 16.3 | AJ7: 15.3 | AK7: 14.5 | AL7: 13.7 | AM7: 13.1 | AN7: 12.6 | AO7: 12.1 | AP7: 11.6 | AQ7: 11.3
A8: 17 | B8: 172 | C8: 87.7 | D8: 59.6 | E8: 45.6 | F8: 37.2 | G8: 31.6 | H8: 27.6 | I8: 24.6 | J8: 22.3 | K8: 20.4 | L8: 18.9 | M8: 17.7 | N8: 16.6 | O8: 15.7 | P8: 14.9 | Q8: 14.3 | R8: 13.7 | S8: 13.1 | T8: 12.7 | U8: 12.2 | W8: 17 | X8: 161.1 | Y8: 82.1 | Z8: 55.8 | AA8: 42.7 | AB8: 34.8 | AC8: 29.6 | AD8: 25.9 | AE8: 23.1 | AF8: 20.9 | AG8: 19.1 | AH8: 17.7 | AI8: 16.6 | AJ8: 15.6 | AK8: 14.7 | AL8: 14 | AM8: 13.4 | AN8: 12.8 | AO8: 12.3 | AP8: 11.9 | AQ8: 11.5
A9: 18 | B9: 175.4 | C9: 89.5 | D9: 60.8 | E9: 46.5 | F9: 37.9 | G9: 32.2 | H9: 28.2 | I9: 25.1 | J9: 22.7 | K9: 20.9 | L9: 19.3 | M9: 18 | N9: 17 | O9: 16 | P9: 15.2 | Q9: 14.5 | R9: 13.9 | S9: 13.4 | T9: 12.9 | U9: 12.5 | W9: 18 | X9: 163.9 | Y9: 83.6 | Z9: 56.8 | AA9: 43.5 | AB9: 35.5 | AC9: 30.1 | AD9: 26.3 | AE9: 23.5 | AF9: 21.3 | AG9: 19.5 | AH9: 18.1 | AI9: 16.9 | AJ9: 15.8 | AK9: 15 | AL9: 14.2 | AM9: 13.6 | AN9: 13 | AO9: 12.5 | AP9: 12.1 | AQ9: 11.7
A10: 19 | B10: 178.7 | C10: 91.2 | D10: 62 | E10: 47.4 | F10: 38.7 | G10: 32.8 | H10: 28.7 | I10: 25.6 | J10: 23.2 | K10: 21.3 | L10: 19.7 | M10: 18.4 | N10: 17.3 | O10: 16.3 | P10: 15.5 | Q10: 14.8 | R10: 14.2 | S10: 13.7 | T10: 13.2 | U10: 12.7 | W10: 19 | X10: 166.9 | Y10: 85.1 | Z10: 57.9 | AA10: 44.2 | AB10: 36.1 | AC10: 30.7 | AD10: 26.8 | AE10: 23.9 | AF10: 21.6 | AG10: 19.8 | AH10: 18.4 | AI10: 17.2 | AJ10: 16.1 | AK10: 15.3 | AL10: 14.5 | AM10: 13.8 | AN10: 13.3 | AO10: 12.7 | AP10: 12.3 | AQ10: 11.9
A11: 20 | B11: 181.9 | C11: 92.8 | D11: 63.1 | E11: 48.2 | F11: 39.3 | G11: 33.4 | H11: 29.2 | I11: 26 | J11: 23.6 | K11: 21.6 | L11: 20 | M11: 18.7 | N11: 17.6 | O11: 16.6 | P11: 15.8 | Q11: 15.1 | R11: 14.5 | S11: 13.9 | T11: 13.4 | U11: 13 | W11: 20 | X11: 169.8 | Y11: 86.6 | Z11: 58.9 | AA11: 45 | AB11: 36.7 | AC11: 31.2 | AD11: 27.3 | AE11: 24.3 | AF11: 22 | AG11: 20.2 | AH11: 18.7 | AI11: 17.5 | AJ11: 16.4 | AK11: 15.5 | AL11: 14.8 | AM11: 14.1 | AN11: 13.5 | AO11: 13 | AP11: 12.5 | AQ11: 12.1
A12: 21 | B12: 185.1 | C12: 94.4 | D12: 64.2 | E12: 49.1 | F12: 40 | G12: 34 | H12: 29.7 | I12: 26.5 | J12: 24 | K12: 22 | L12: 20.4 | M12: 19 | N12: 17.9 | O12: 16.9 | P12: 16.1 | Q12: 15.4 | R12: 14.7 | S12: 14.1 | T12: 13.6 | U12: 13.2 | W12: 21 | X12: 172.8 | Y12: 88.1 | Z12: 59.9 | AA12: 45.8 | AB12: 37.4 | AC12: 31.8 | AD12: 27.7 | AE12: 24.7 | AF12: 22.4 | AG12: 20.6 | AH12: 19 | AI12: 17.8 | AJ12: 16.7 | AK12: 15.8 | AL12: 15 | AM12: 14.3 | AN12: 13.7 | AO12: 13.2 | AP12: 12.7 | AQ12: 12.3
A13: 22 | B13: 188.3 | C13: 96 | D13: 65.3 | E13: 49.9 | F13: 40.7 | G13: 34.6 | H13: 30.2 | I13: 27 | J13: 24.4 | K13: 22.4 | L13: 20.7 | M13: 19.4 | N13: 18.2 | O13: 17.2 | P13: 16.4 | Q13: 15.6 | R13: 15 | S13: 14.4 | T13: 13.9 | U13: 13.4 | W13: 22 | X13: 175.9 | Y13: 89.7 | Z13: 61 | AA13: 46.6 | AB13: 38 | AC13: 32.3 | AD13: 28.2 | AE13: 25.2 | AF13: 22.8 | AG13: 20.9 | AH13: 19.4 | AI13: 18.1 | AJ13: 17 | AK13: 16.1 | AL13: 15.3 | AM13: 14.6 | AN13: 14 | AO13: 13.4 | AP13: 13 | AQ13: 12.5
A14: 23 | B14: 191.6 | C14: 97.7 | D14: 66.4 | E14: 50.8 | F14: 41.4 | G14: 35.2 | H14: 30.8 | I14: 27.4 | J14: 24.8 | K14: 22.8 | L14: 21.1 | M14: 19.7 | N14: 18.5 | O14: 17.5 | P14: 16.7 | Q14: 15.9 | R14: 15.2 | S14: 14.6 | T14: 14.1 | U14: 13.7 | W14: 23 | X14: 179 | Y14: 91.3 | Z14: 62.1 | AA14: 47.5 | AB14: 38.7 | AC14: 32.9 | AD14: 28.7 | AE14: 25.6 | AF14: 23.2 | AG14: 21.3 | AH14: 19.7 | AI14: 18.4 | AJ14: 17.3 | AK14: 16.4 | AL14: 15.6 | AM14: 14.9 | AN14: 14.2 | AO14: 13.7 | AP14: 13.2 | AQ14: 12.8
A15: 24 | B15: 194.9 | C15: 99.4 | D15: 67.6 | E15: 51.7 | F15: 42.2 | G15: 35.8 | H15: 31.3 | I15: 27.9 | J15: 25.3 | K15: 23.2 | L15: 21.5 | M15: 20.1 | N15: 18.9 | O15: 17.8 | P15: 16.9 | Q15: 16.2 | R15: 15.5 | S15: 14.9 | T15: 14.4 | U15: 13.9 | W15: 24 | X15: 182.1 | Y15: 92.9 | Z15: 63.1 | AA15: 48.3 | AB15: 39.4 | AC15: 33.5 | AD15: 29.2 | AE15: 26.1 | AF15: 23.6 | AG15: 21.7 | AH15: 20.1 | AI15: 18.7 | AJ15: 17.6 | AK15: 16.7 | AL15: 15.8 | AM15: 15.1 | AN15: 14.5 | AO15: 13.9 | AP15: 13.4 | AQ15: 13
A16: 25 | B16: 198.3 | C16: 101.1 | D16: 68.8 | E16: 52.6 | F16: 42.9 | G16: 36.4 | H16: 31.8 | I16: 28.4 | J16: 25.7 | K16: 23.6 | L16: 21.8 | M16: 20.4 | N16: 19.2 | O16: 18.1 | P16: 17.2 | Q16: 16.5 | R16: 15.8 | S16: 15.2 | T16: 14.6 | U16: 14.1 | W16: 25 | X16: 185.3 | Y16: 94.5 | Z16: 64.2 | AA16: 49.1 | AB16: 40.1 | AC16: 34 | AD16: 29.7 | AE16: 26.5 | AF16: 24 | AG16: 22 | AH16: 20.4 | AI16: 19.1 | AJ16: 17.9 | AK16: 17 | AL16: 16.1 | AM16: 15.4 | AN16: 14.7 | AO16: 14.2 | AP16: 13.7 | AQ16: 13.2
A17: 26 | B17: 201.7 | C17: 102.9 | D17: 69.9 | E17: 53.5 | F17: 43.6 | G17: 37.1 | H17: 32.4 | I17: 28.9 | J17: 26.2 | K17: 24 | L17: 22.2 | M17: 20.8 | N17: 19.5 | O17: 18.5 | P17: 17.5 | Q17: 16.7 | R17: 16 | S17: 15.4 | T17: 14.9 | U17: 14.4 | W17: 26 | X17: 188.5 | Y17: 96.1 | Z17: 65.4 | AA17: 50 | AB17: 40.8 | AC17: 34.6 | AD17: 30.3 | AE17: 27 | AF17: 24.5 | AG17: 22.4 | AH17: 20.8 | AI17: 19.4 | AJ17: 18.2 | AK17: 17.3 | AL17: 16.4 | AM17: 15.7 | AN17: 15 | AO17: 14.4 | AP17: 13.9 | AQ17: 13.4
A18: 27 | B18: 205.2 | C18: 104.7 | D18: 71.2 | E18: 54.4 | F18: 44.4 | G18: 37.7 | H18: 33 | I18: 29.4 | J18: 26.6 | K18: 24.4 | L18: 22.6 | M18: 21.1 | N18: 19.9 | O18: 18.8 | P18: 17.9 | Q18: 17 | R18: 16.3 | S18: 15.7 | T18: 15.1 | U18: 14.6 | W18: 27 | X18: 191.8 | Y18: 97.8 | Z18: 66.5 | AA18: 50.9 | AB18: 41.5 | AC18: 35.2 | AD18: 30.8 | AE18: 27.5 | AF18: 24.9 | AG18: 22.8 | AH18: 21.1 | AI18: 19.7 | AJ18: 18.6 | AK18: 17.6 | AL18: 16.7 | AM18: 15.9 | AN18: 15.3 | AO18: 14.7 | AP18: 14.2 | AQ18: 13.7
... A35: 44 | B35: 274.7 | C35: 140.2 | D35: 95.4 | E35: 73 | F35: 59.6 | G35: 50.7 | H35: 44.3 | I35: 39.5 | J35: 35.8 | K35: 32.9 | L35: 30.5 | M35: 28.5 | N35: 26.9 | O35: 25.4 | P35: 24.2 | Q35: 23.1 | R35: 22.2 | S35: 21.4 | T35: 20.7 | U35: 20 | W35: 44 | X35: 257.6 | Y35: 131.5 | Z35: 89.4 | AA35: 68.4 | AB35: 55.9 | AC35: 47.5 | AD35: 41.5 | AE35: 37.1 | AF35: 33.6 | AG35: 30.9 | AH35: 28.6 | AI35: 26.7 | AJ35: 25.2 | AK35: 23.8 | AL35: 22.7 | AM35: 21.7 | AN35: 20.8 | AO35: 20.1 | AP35: 19.4 | AQ35: 18.8
A36: 45 | B36: 279.7 | C36: 142.7 | D36: 97.1 | E36: 74.3 | F36: 60.7 | G36: 51.6 | H36: 45.1 | I36: 40.3 | J36: 36.5 | K36: 33.5 | L36: 31.1 | M36: 29.1 | N36: 27.4 | O36: 25.9 | P36: 24.7 | Q36: 23.6 | R36: 22.7 | S36: 21.8 | T36: 21.1 | W36: 45 | X36: 262.3 | Y36: 133.9 | Z36: 91.1 | AA36: 69.7 | AB36: 56.9 | AC36: 48.4 | AD36: 42.3 | AE36: 37.8 | AF36: 34.2 | AG36: 31.4 | AH36: 29.2 | AI36: 27.3 | AJ36: 25.7 | AK36: 24.3 | AL36: 23.2 | AM36: 22.1 | AN36: 21.3 | AO36: 20.5 | AP36: 19.8
A37: 46 | B37: 284.6 | C37: 145.3 | D37: 98.8 | E37: 75.7 | F37: 61.8 | G37: 52.5 | H37: 45.9 | I37: 41 | J37: 37.2 | K37: 34.2 | L37: 31.7 | M37: 29.6 | N37: 27.9 | O37: 26.4 | P37: 25.2 | Q37: 24.1 | R37: 23.1 | S37: 22.3 | W37: 46 | X37: 267.1 | Y37: 136.3 | Z37: 92.8 | AA37: 71 | AB37: 58 | AC37: 49.3 | AD37: 43.1 | AE37: 38.5 | AF37: 34.9 | AG37: 32.1 | AH37: 29.7 | AI37: 27.8 | AJ37: 26.2 | AK37: 24.8 | AL37: 23.6 | AM37: 22.6 | AN37: 21.7 | AO37: 20.9
A38: 47 | B38: 289.7 | C38: 147.9 | D38: 100.6 | E38: 77 | F38: 62.9 | G38: 53.5 | H38: 46.8 | I38: 41.8 | J38: 37.9 | K38: 34.8 | L38: 32.3 | M38: 30.2 | N38: 28.5 | O38: 27 | P38: 25.7 | Q38: 24.6 | R38: 23.6 | W38: 47 | X38: 272 | Y38: 138.8 | Z38: 94.5 | AA38: 72.3 | AB38: 59 | AC38: 50.2 | AD38: 43.9 | AE38: 39.2 | AF38: 35.6 | AG38: 32.7 | AH38: 30.3 | AI38: 28.4 | AJ38: 26.7 | AK38: 25.3 | AL38: 24.1 | AM38: 23.1 | AN38: 22.2
A39: 48 | B39: 295 | C39: 150.6 | D39: 102.5 | E39: 78.4 | F39: 64.1 | G39: 54.5 | H39: 47.7 | I39: 42.6 | J39: 38.7 | K39: 35.5 | L39: 33 | M39: 30.8 | N39: 29.1 | O39: 27.5 | P39: 26.2 | Q39: 25.1 | W39: 48 | X39: 277 | Y39: 141.4 | Z39: 96.2 | AA39: 73.7 | AB39: 60.2 | AC39: 51.2 | AD39: 44.8 | AE39: 40 | AF39: 36.3 | AG39: 33.3 | AH39: 30.9 | AI39: 29 | AJ39: 27.3 | AK39: 25.9 | AL39: 24.6 | AM39: 23.6
A40: 49 | B40: 300.4 | C40: 153.3 | D40: 104.4 | E40: 79.9 | F40: 65.3 | G40: 55.6 | H40: 48.6 | I40: 43.4 | J40: 39.4 | K40: 36.2 | L40: 33.6 | M40: 31.5 | N40: 29.7 | O40: 28.1 | P40: 26.8 | W40: 49 | X40: 282.2 | Y40: 144.1 | Z40: 98.1 | AA40: 75.1 | AB40: 61.3 | AC40: 52.2 | AD40: 45.7 | AE40: 40.8 | AF40: 37 | AG40: 34 | AH40: 31.6 | AI40: 29.6 | AJ40: 27.9 | AK40: 26.4 | AL40: 25.2
A41: 50 | B41: 305.9 | C41: 156.2 | D41: 106.4 | E41: 81.5 | F41: 66.6 | G41: 56.7 | H41: 49.6 | I41: 44.3 | J41: 40.2 | K41: 37 | L41: 34.3 | M41: 32.2 | N41: 30.3 | O41: 28.7 | W41: 50 | X41: 287.6 | Y41: 146.8 | Z41: 100 | AA41: 76.6 | AB41: 62.6 | AC41: 53.3 | AD41: 46.6 | AE41: 41.7 | AF41: 37.8 | AG41: 34.8 | AH41: 32.3 | AI41: 30.2 | AJ41: 28.5 | AK41: 27
A42: 51 | B42: 311.6 | C42: 159.2 | D42: 108.4 | E42: 83.1 | F42: 67.9 | G42: 57.8 | H42: 50.6 | I42: 45.2 | J42: 41.1 | K42: 37.8 | L42: 35.1 | M42: 32.8 | N42: 31 | W42: 51 | X42: 293.1 | Y42: 149.7 | Z42: 101.9 | AA42: 78.1 | AB42: 63.8 | AC42: 54.3 | AD42: 47.6 | AE42: 42.5 | AF42: 38.6 | AG42: 35.5 | AH42: 33 | AI42: 30.9 | AJ42: 29.1
A43: 52 | B43: 317.4 | C43: 162.2 | D43: 110.5 | E43: 84.7 | F43: 69.2 | G43: 58.9 | H43: 51.6 | I43: 46.2 | J43: 41.9 | K43: 38.6 | L43: 35.8 | M43: 33.6 | W43: 52 | X43: 298.7 | Y43: 152.6 | Z43: 103.9 | AA43: 79.7 | AB43: 65.1 | AC43: 55.4 | AD43: 48.6 | AE43: 43.4 | AF43: 39.4 | AG43: 36.3 | AH43: 33.7 | AI43: 31.6
A44: 53 | B44: 323.2 | C44: 165.2 | D44: 112.5 | E44: 86.3 | F44: 70.5 | G44: 60.1 | H44: 52.6 | I44: 47.1 | J44: 42.8 | K44: 39.4 | L44: 36.6 | W44: 53 | X44: 304.3 | Y44: 155.5 | Z44: 106 | AA44: 81.2 | AB44: 66.4 | AC44: 56.6 | AD44: 49.6 | AE44: 44.3 | AF44: 40.3 | AG44: 37.1 | AH44: 34.4
A45: 54 | B45: 329 | C45: 168.2 | D45: 114.6 | E45: 87.9 | F45: 71.9 | G45: 61.3 | H45: 53.7 | I45: 48 | J45: 43.7 | K45: 40.2 | W45: 54 | X45: 309.9 | Y45: 158.4 | Z45: 108 | AA45: 82.8 | AB45: 67.7 | AC45: 57.7 | AD45: 50.6 | AE45: 45.2 | AF45: 41.1 | AG45: 37.8
A46: 55 | B46: 334.8 | C46: 171.2 | D46: 116.7 | E46: 89.5 | F46: 73.2 | G46: 62.4 | H46: 54.7 | I46: 49 | J46: 44.5 | W46: 55 | X46: 315.6 | Y46: 161.4 | Z46: 110 | AA46: 84.4 | AB46: 69 | AC46: 58.9 | AD46: 51.6 | AE46: 46.2 | AF46: 42
A47: 56 | B47: 340.6 | C47: 174.2 | D47: 118.8 | E47: 91.2 | F47: 74.6 | G47: 63.6 | H47: 55.8 | I47: 49.9 | W47: 56 | X47: 321.3 | Y47: 164.3 | Z47: 112.1 | AA47: 86 | AB47: 70.4 | AC47: 60 | AD47: 52.6 | AE47: 47.1
A48: 57 | B48: 346.4 | C48: 177.3 | D48: 120.9 | E48: 92.8 | F48: 76 | G48: 64.8 | H48: 56.8 | W48: 57 | X48: 327.1 | Y48: 167.4 | Z48: 114.2 | AA48: 87.6 | AB48: 71.7 | AC48: 61.2 | AD48: 53.7
A49: 58 | B49: 352.5 | C49: 180.4 | D49: 123.1 | E49: 94.5 | F49: 77.4 | G49: 66 | W49: 58 | X49: 333.1 | Y49: 170.5 | Z49: 116.3 | AA49: 89.3 | AB49: 73.2 | AC49: 62.4
A50: 59 | B50: 358.7 | C50: 183.7 | D50: 125.4 | E50: 96.3 | F50: 78.9 | W50: 59 | X50: 339.3 | Y50: 173.7 | Z50: 118.6 | AA50: 91.1 | AB50: 74.6
A51: 60 | B51: 365.2 | C51: 187.1 | D51: 127.7 | E51: 98.1 | W51: 60 | X51: 345.8 | Y51: 177.1 | Z51: 120.9 | AA51: 92.9
A52: 61 | B52: 372.1 | C52: 190.6 | D52: 130.2 | W52: 61 | X52: 352.6 | Y52: 180.7 | Z52: 123.4
A53: 62 | B53: 379.3 | C53: 194.4 | W53: 62 | X53: 359.9 | Y53: 184.4
A54: 63 | B54: 387.1 | W54: 63 | X54: 367.7

Sheet NRA65 (CARE)
A2: Regular Contribution Elections | W2: Regular Contribution Elections
A3: Table D65: Personal and Dependant’s Benefits, NRA 65 | J3: x-716 | W3: Table P65: Personal Benefits, NRA 65 | AE3: x-712
A5: Age when notice of election given â | B5: Monthly contribution to purchase £250 of APB at date of election, £ | W5: Age when notice of election given â | X5: Monthly contribution to purchase £250 of APB at date of election, £
A6: Payment period (in years) à | B6: 1 | C6: 2 | D6: 3 | E6: 4 | F6: 5 | G6: 6 | H6: 7 | I6: 8 | J6: 9 | K6: 10 | L6: 11 | M6: 12 | N6: 13 | O6: 14 | P6: 15 | Q6: 16 | R6: 17 | S6: 18 | T6: 19 | U6: 20 | W6: Payment period (in years) à | X6: 1 | Y6: 2 | Z6: 3 | AA6: 4 | AB6: 5 | AC6: 6 | AD6: 7 | AE6: 8 | AF6: 9 | AG6: 10 | AH6: 11 | AI6: 12 | AJ6: 13 | AK6: 14 | AL6: 15 | AM6: 16 | AN6: 17 | AO6: 18 | AP6: 19 | AQ6: 20
A7: 16 | B7: 171.9 | C7: 87.7 | D7: 59.6 | E7: 45.6 | F7: 37.2 | G7: 31.6 | H7: 27.6 | I7: 24.6 | J7: 22.3 | K7: 20.4 | L7: 18.9 | M7: 17.7 | N7: 16.6 | O7: 15.7 | P7: 14.9 | Q7: 14.3 | R7: 13.7 | S7: 13.1 | T7: 12.7 | U7: 12.2 | W7: 16 | X7: 161.2 | Y7: 82.2 | Z7: 55.9 | AA7: 42.7 | AB7: 34.9 | AC7: 29.6 | AD7: 25.9 | AE7: 23.1 | AF7: 20.9 | AG7: 19.2 | AH7: 17.7 | AI7: 16.6 | AJ7: 15.6 | AK7: 14.7 | AL7: 14 | AM7: 13.4 | AN7: 12.8 | AO7: 12.3 | AP7: 11.9 | AQ7: 11.5
A8: 17 | B8: 175.2 | C8: 89.4 | D8: 60.8 | E8: 46.5 | F8: 37.9 | G8: 32.2 | H8: 28.1 | I8: 25.1 | J8: 22.7 | K8: 20.8 | L8: 19.3 | M8: 18 | N8: 16.9 | O8: 16 | P8: 15.2 | Q8: 14.5 | R8: 13.9 | S8: 13.4 | T8: 12.9 | U8: 12.5 | W8: 17 | X8: 164.1 | Y8: 83.7 | Z8: 56.9 | AA8: 43.5 | AB8: 35.5 | AC8: 30.1 | AD8: 26.3 | AE8: 23.5 | AF8: 21.3 | AG8: 19.5 | AH8: 18.1 | AI8: 16.9 | AJ8: 15.9 | AK8: 15 | AL8: 14.3 | AM8: 13.6 | AN8: 13 | AO8: 12.5 | AP8: 12.1 | AQ8: 11.7
A9: 18 | B9: 178.7 | C9: 91.1 | D9: 62 | E9: 47.4 | F9: 38.7 | G9: 32.8 | H9: 28.7 | I9: 25.6 | J9: 23.2 | K9: 21.3 | L9: 19.7 | M9: 18.4 | N9: 17.3 | O9: 16.3 | P9: 15.5 | Q9: 14.8 | R9: 14.2 | S9: 13.7 | T9: 13.2 | U9: 12.7 | W9: 18 | X9: 167 | Y9: 85.2 | Z9: 57.9 | AA9: 44.3 | AB9: 36.1 | AC9: 30.7 | AD9: 26.8 | AE9: 23.9 | AF9: 21.7 | AG9: 19.9 | AH9: 18.4 | AI9: 17.2 | AJ9: 16.1 | AK9: 15.3 | AL9: 14.5 | AM9: 13.9 | AN9: 13.3 | AO9: 12.8 | AP9: 12.3 | AQ9: 11.9
A10: 19 | B10: 182.1 | C10: 92.9 | D10: 63.2 | E10: 48.3 | F10: 39.4 | G10: 33.5 | H10: 29.2 | I10: 26.1 | J10: 23.6 | K10: 21.7 | L10: 20.1 | M10: 18.7 | N10: 17.6 | O10: 16.7 | P10: 15.8 | Q10: 15.1 | R10: 14.5 | S10: 13.9 | T10: 13.4 | U10: 13 | W10: 19 | X10: 170 | Y10: 86.7 | Z10: 59 | AA10: 45.1 | AB10: 36.8 | AC10: 31.2 | AD10: 27.3 | AE10: 24.3 | AF10: 22 | AG10: 20.2 | AH10: 18.7 | AI10: 17.5 | AJ10: 16.4 | AK10: 15.5 | AL10: 14.8 | AM10: 14.1 | AN10: 13.5 | AO10: 13 | AP10: 12.5 | AQ10: 12.1
