{"text_format":"1","workbook":"xlsx","n_sheets":12,"sheets":["Menu","Menu Old","Commutation 60","Commutation 65","Single NPA 60","Single NPA 65","Multiple NPA 60","Multiple NPA 65","Multiple Results NPA 60","Multiple Results NPA 65","Pre NPA 65","pre NPA 60"],"not_rendered":{"charts":0,"images":2,"macros":1,"external_links":1,"defined_names":4,"comments":0,"pivot_tables":0},"unopened":[],"bounds":{"document_bytes":16777216,"sheet_cells":100000,"rows_first":2000,"rows_last":500,"rows_between":2000,"halvings":0,"cell_chars":16384,"cell_head_chars":4096},"cells_cut":0,"cells_raw":0,"read":"whole","date_system":"1900"}

{"sheet":"Menu","index":0,"n_rows":31,"n_cols":5,"rows_kept":31,"cut":false,"hidden":false,"merged":[[30,1,31,17],[3,1,5,3],[3,4,5,17],[6,1,21,17],[24,1,25,17],[26,1,29,17]]}
[]
[]
[]
[null,null,null,null,"Scottish Teachers Superannuation Premature Capitalisation Costs"]
[]
[]
[]
[]
[]
[]
[]
[]
[]
[]
[]
[]
[]
[]
[]
[]
[]
[]
[]
[]
[null,"Disclaimer"]
[]
[null,"This calculator is intended for illustrative purposes only. This is not a statement of your legal entitlement.  While every care has been taken in the preparation of this ready reckoner the Scottish Public Pensions Agency will accept no responsibility for the accuracy of the information it provides."]
[]
[]
[]
[null,"Please refer to the SPPA website for contact information or any other details of benefits available through the Scottish Teachers Superannuation Scheme."]

{"sheet":"Menu Old","index":1,"n_rows":32,"n_cols":9,"rows_kept":32,"cut":false,"hidden":true,"merged":[[26,4,26,8],[24,4,24,8],[22,4,22,8],[20,4,20,8],[14,4,14,7],[14,8,14,11]]}
[]
[]
[]
[]
[]
[]
[]
[]
[null,null,null,"This calculator has been produced by SPPA to be used to assist  "]
[null,null,null,"employers in the calculation for Premature Awards and capitalisation"]
[null,null,null,"with and without commutation"]
[]
[]
[]
[null,null,null,null,"Commutation NPA 60",null,null,null,"Commutation NPA 65"]
[]
[]
[]
[]
[]
[null,null,null,null,"Premature Award - Single NPA60"]
[]
[null,null,null,null,"Premature Award - Single NPA65"]
[]
[null,null,null,null,"Premature Award - Multiple NPA60"]
[]
[null,null,null,null,"Premature Award - Multiple NPA65"]
[]
[]
[null,null,null,"This calculator is intended for illustrative purposes only. While every care has been taken in the preparation "]
[null,null,null,"of this calculator the Scottish Public Pensions Agency will accept no responsibility for the accuracy "]
[null,null,null,"of the estimate information it provides"]

{"sheet":"Commutation 60","index":2,"n_rows":56,"n_cols":10,"rows_kept":56,"cut":false,"hidden":true,"merged":[[1,0,1,1],[1,5,1,8],[2,0,2,1],[6,4,8,4],[18,0,19,1]]}
[null,null,null,null,null,null,null,null,null,1]
["NormalPension   ",null,null,null,"Max sum or specific amount?",null,null,null,null,{"$f":"IF(AND(E5>0,E5>B9),1,0)","v":0}]
["Normal Lump Sum   "]
[null,null,null,null,{"$f":"IF(J1=1,\"\",\"Specific Amount to commute\")","v":""}]
[]
[null,null,null,null,{"$f":"IF(J1=2*(AND(E5=\"\")),\"Please type in amount!\",\"\")","v":""}]
["Max Lump Sum",{"$f":"((C2*20)+(C3*(20/12)))/4.6667","v":0},null,null,{"$f":"IF((AND(E5<>\"\",J1=2,B9<E5)),CONCATENATE(\"WARNING: CANNOT COMMUTE MORE THAN \",TEXT(B9,\"£0.00\")),\"\")","v":""},"STSS 6",{"$f":"RIGHT(F7,1)","v":"6"}]
[]
["Max Commutable Pension",{"$f":"ROUNDDOWN(((B7-C3)/12),0)","v":0},null,null,null,"01896 893061"]
[]
[{"$f":"IF(J1=1,\"Details after max commutation\",\"\")","v":"Details after max commutation"},null,null,{"$f":"IF(J1=2,\"Details after specific amount\",\"\")","v":""}]
[]
[{"$f":"IF(J1=1,\"Pension\",\"\")","v":"Pension"},{"$f":"IF(J1=1,C2-B9,\"\")","v":0},null,{"$f":"IF(J1=2,\"Pension\",\"\")","v":""},{"$f":"IF(J1=2,C2-E5,\"\")","v":""}]
[{"$f":"IF(J1=1,\"Lump Sum\",\"\")","v":"Lump Sum"},{"$f":"(B9*12)+C3","v":0},null,{"$f":"IF(J1=2,\"Lump Sum\",\"\")","v":""},{"$f":"IF(J1=2,(C3+(E5*12)),\"\")","v":""}]
[]
["It is important to note that commutation of member benefits is only relevant to the SPPA liability"]
[]
[]
["Return to Menu ",null,null,null,null,null,{"$f":"MID(A18,2,8)","v":""}]
[null,null,null,null,null,null,{"$f":"MID(A20,23,4)","v":""}]
[null,null,null,null,null,null,{"$f":"MID(A20,23,4)","v":""},{"$f":"CONCATENATE((LEFT(G21,1)),LOWER(MID(G21,2,3)))","v":""},{"$f":"CONCATENATE(H21,\" \",H24)","v":" "}]
[null,null,null,null,null,null,{"$f":"MID(A22,23,1)","v":""}]
[null,null,null,null,null,null,null,{"$f":"CONCATENATE((LEFT(G23,1)),LOWER(MID(G23,2,3)))","v":""}]
[null,null,null,null,null,null,{"$f":"MID(A23,23,25)","v":""},{"$f":"CONCATENATE((LEFT(G24,1)),LOWER(MID(G24,2,20)))","v":""},{"$f":"CONCATENATE(G20,\" \",G22,\" \",G24)","v":"  "}]
[]
[]
[]
[]
[null,null,null,null,null,null,{"$f":"MID(A29,23,25)","v":""}]
[null,null,null,null,null,null,""]
[null,null,null,null,null,null,""]
[null,null,null,null,null,null,"",null,null,{"$f":"IF(G32=\"\",\" \",G32)","v":" "}]
[null,null,null,null,null,null,"",null,null," "]
[null,null,null,null,null,null,"",null,null," "]
[null,null,null,null,null,null,"",null,null," "]
[null,null,null,null,null,null,"",null,null," "]
[null,null,null,null,null,null,"",null,null," "]
[null,null,null,null,null,null,"",null,null," "]
[]
[]
[]
[]
[]
[]
[]
[]
[]
[]
[]
[]
[]
[]
[]
[]
[]
[8]

{"sheet":"Commutation 65","index":3,"n_rows":56,"n_cols":10,"rows_kept":56,"cut":false,"hidden":true,"merged":[[1,0,1,1],[1,5,1,8],[2,0,2,1],[6,4,8,4],[18,0,19,1]]}
[null,null,null,null,null,null,null,null,null,1]
["NormalPension   ",null,null,null,"Max sum or specific amount?",null,null,null,null,{"$f":"IF(AND(E5>0,E5>B9),1,0)","v":0}]
[]
[null,null,null,null,{"$f":"IF(J1=1,\"\",\"Specific Amount to commute\")","v":""}]
[]
[null,null,null,null,{"$f":"IF(J1=2*(AND(E5=\"\")),\"Please type in amount!\",\"\")","v":""}]
[null,{"$f":"((C2*20)+(C3*(20/12)))/4.6667","v":0},null,null,{"$f":"IF((AND(E5<>\"\",J1=2,B9<E5)),CONCATENATE(\"WARNING: CANNOT COMMUTE MORE THAN \",TEXT(B9,\"£0.00\")),\"\")","v":""},"STSS 6",{"$f":"RIGHT(F7,1)","v":"6"}]
[]
["Max Commutable Pension",{"$f":"ROUNDDOWN(((B7-C3)/12),0)","v":0},null,null,null,"01896 893061"]
[]
[{"$f":"IF(J1=1,\"Details after max commutation\",\"\")","v":"Details after max commutation"},null,null,{"$f":"IF(J1=2,\"Details after specific amount\",\"\")","v":""}]
[]
[{"$f":"IF(J1=1,\"Pension\",\"\")","v":"Pension"},{"$f":"IF(J1=1,C2-B9,\"\")","v":0},null,{"$f":"IF(J1=2,\"Pension\",\"\")","v":""},{"$f":"IF(J1=2,C2-E5,\"\")","v":""}]
["Lump Sum",{"$f":"(B9*12)+C3","v":0},null,{"$f":"IF(J1=2,\"Lump Sum\",\"\")","v":""},{"$f":"IF(J1=2,(C3+(E5*12)),\"\")","v":""}]
[]
["It is important to note that commutation of member benefits is only relevant to the SPPA liability. "]
[]
[" T75/2503    DoB 21/05/1953  Waddell         Catherine     CM    Mrs     Female"]
["Return to Menu",null,null,null,null,null,{"$f":"MID(A18,2,8)","v":"T75/2503"}]
[null,null,null,null,null,null,{"$f":"MID(A20,23,4)","v":""}]
[null,null,null,null,null,null,{"$f":"MID(A20,23,4)","v":""},{"$f":"CONCATENATE((LEFT(G21,1)),LOWER(MID(G21,2,3)))","v":""},{"$f":"CONCATENATE(H21,\" \",H24)","v":" "}]
[null,null,null,null,null,null,{"$f":"MID(A22,23,1)","v":""}]
[null,null,null,null,null,null,null,{"$f":"CONCATENATE((LEFT(G23,1)),LOWER(MID(G23,2,3)))","v":""}]
[null,null,null,null,null,null,{"$f":"MID(A23,23,25)","v":""},{"$f":"CONCATENATE((LEFT(G24,1)),LOWER(MID(G24,2,20)))","v":""},{"$f":"CONCATENATE(G20,\" \",G22,\" \",G24)","v":"  "}]
[]
[]
[]
[]
[null,null,null,null,null,null,{"$f":"MID(A29,23,25)","v":""}]
[null,null,null,null,null,null,""]
[null,null,null,null,null,null,""]
[null,null,null,null,null,null,"",null,null,{"$f":"IF(G32=\"\",\" \",G32)","v":" "}]
[null,null,null,null,null,null,"",null,null," "]
[null,null,null,null,null,null,"",null,null," "]
[null,null,null,null,null,null,"",null,null," "]
[null,null,null,null,null,null,"",null,null," "]
[null,null,null,null,null,null,"",null,null," "]
[null,null,null,null,null,null,"",null,null," "]
[]
[]
[]
[]
[]
[]
[]
[]
[]
[]
[]
[]
[]
[]
[]
[]
[]
[8]

{"sheet":"Single NPA 60","index":4,"n_rows":33,"n_cols":13,"rows_kept":33,"cut":false,"hidden":true,"merged":[[27,8,27,9],[32,1,33,2],[3,8,3,9],[5,8,5,9],[7,8,7,9],[9,8,9,9],[11,8,11,9],[13,8,13,9],[15,8,15,9],[17,8,17,9],[19,8,19,9],[21,8,21,9],[25,8,25,9]]}
[]
[null,"Input Information",null,null,null,"Result"]
[null,null,null,null,null,null,null,null,null,null,null,null,{"$f":"((I4*20)+(I6*(20/12)))/4.6667","v":{"$error":"#N/A"}}]
[null,{"$f":"'pre NPA 60'!A1","v":"Last Name"},null,null,null,"SPPA Pension",null,null,{"$f":"'pre NPA 60'!$Q$2","v":{"$error":"#N/A"}},null,null,null,{"$f":"ROUNDDOWN((M3-I6)/12,0)","v":{"$error":"#N/A"}}]
[]
[null,{"$f":"'pre NPA 60'!B1","v":"First Name"},null,null,null,"SPPA Lump Sum",null,null,{"$f":"'pre NPA 60'!$R$2","v":{"$error":"#N/A"}}]
[]
[null,{"$f":"'pre NPA 60'!C1","v":"Superan Number"},null,null,null,"Employers Pension",null,null,{"$f":"'pre NPA 60'!$S$2","v":{"$error":"#N/A"}}]
[]
[null,{"$f":"'pre NPA 60'!D1","v":"NI NO"},null,null,null,"Employers Lump Sum",null,null,{"$f":"'pre NPA 60'!$T$2","v":{"$error":"#N/A"}}]
[]
[null,{"$f":"'pre NPA 60'!E1","v":"Date of Birth"},null,null,null,"Capitalised",null,null,{"$f":"'pre NPA 60'!$U$2","v":{"$error":"#N/A"}}]
[]
[null,{"$f":"'pre NPA 60'!I1","v":"Annual Salary"},null,null,null,"Added Years Pension",null,null,{"$f":"'pre NPA 60'!$V$2","v":0}]
[]
[null,{"$f":"'pre NPA 60'!K1","v":"Reckonable Years"},null,null,null,"Dependents Pension",null,null,{"$f":"'pre NPA 60'!$W$2","v":0}]
[]
[null,{"$f":"'pre NPA 60'!J1","v":"Proposed date of Retirement"},null,null,null,"Added Years Lump",null,null,{"$f":"'pre NPA 60'!$X$2","v":0}]
[]
[null,{"$f":"'pre NPA 60'!L1","v":"Service Days"},null,null,null,"Added years",null,null,{"$f":"'pre NPA 60'!$Y$2","v":{"$error":"#N/A"}}]
[]
[null,{"$f":"'pre NPA 60'!M1","v":"Male = 1, Female = 2"},null,null,null,"Total Cost",null,null,{"$f":"'pre NPA 60'!$Z$2","v":0}]
[]
[null,{"$f":"'pre NPA 60'!O1","v":"Enhancement to pension (years)"},null,null,null,"Max Commutation"]
[]
[null,{"$f":"'pre NPA 60'!P1","v":"Enhancement to pension (days)"},null,null,null,"Pension",null,null,{"$f":"SUM(I4-M4)","v":{"$error":"#N/A"}}]
[]
[null,null,null,null,null,"Lump Sum",null,null,{"$f":"SUM(M4*12)+I6","v":{"$error":"#N/A"}}]
[null,null,null,null,null,null,"Only relevant to the SPPA liability"]
[]
[]
[]
[null,"Return to Menu"]

{"sheet":"Single NPA 65","index":5,"n_rows":33,"n_cols":13,"rows_kept":33,"cut":false,"hidden":true,"merged":[[13,8,13,9],[3,8,3,9],[5,8,5,9],[7,8,7,9],[9,8,9,9],[11,8,11,9],[32,1,33,2],[15,8,15,9],[17,8,17,9],[19,8,19,9],[21,8,21,9],[25,8,25,9],[27,8,27,9]]}
[]
[null,"Input Information",null,null,null,"Result"]
[null,null,null,null,null,null,null,null,null,null,null,null,{"$f":"((I4*20)+(I6*(20/12)))/4.6667","v":{"$error":"#N/A"}}]
[null,{"$f":"'pre NPA 60'!A1","v":"Last Name"},null,null,null,"SPPA Pension",null,null,{"$f":"'Pre NPA 65'!$Q$2","v":{"$error":"#N/A"}},null,null,null,{"$f":"ROUNDDOWN((M3-I6)/12,0)","v":{"$error":"#N/A"}}]
[]
[null,{"$f":"'pre NPA 60'!B1","v":"First Name"}]
[]
[null,{"$f":"'pre NPA 60'!C1","v":"Superan Number"},null,null,null,"Employers Pension",null,null,{"$f":"'Pre NPA 65'!$R$2","v":{"$error":"#N/A"}}]
[]
[null,{"$f":"'pre NPA 60'!D1","v":"NI NO"}]
[]
[null,{"$f":"'pre NPA 60'!E1","v":"Date of Birth"},null,null,null,"Capitalised",null,null,{"$f":"'Pre NPA 65'!$T$2","v":{"$error":"#N/A"}}]
[]
[null,{"$f":"'pre NPA 60'!I1","v":"Annual Salary"},null,null,null,"Added Years Pension",null,null,{"$f":"'Pre NPA 65'!$U$2","v":0}]
[]
[null,{"$f":"'pre NPA 60'!K1","v":"Reckonable Years"},null,null,null,"Dependents Pension",null,null,{"$f":"'Pre NPA 65'!$V$2","v":0}]
[]
[null,{"$f":"'pre NPA 60'!J1","v":"Proposed date of Retirement"}]
[]
[null,{"$f":"'pre NPA 60'!L1","v":"Service Days"},null,null,null,"Added years",null,null,{"$f":"'Pre NPA 65'!$X$2","v":{"$error":"#N/A"}}]
[]
[null,{"$f":"'pre NPA 60'!M1","v":"Male = 1, Female = 2"},null,null,null,"Total Cost",null,null,{"$f":"'Pre NPA 65'!$Y$2","v":0}]
[]
[null,{"$f":"'pre NPA 60'!O1","v":"Enhancement to pension (years)"},null,null,null,"Max Commutation"]
[]
[null,{"$f":"'pre NPA 60'!P1","v":"Enhancement to pension (days)"},0,null,null,"Pension",null,null,{"$f":"SUM(I4-M4)","v":{"$error":"#N/A"}}]
[]
[null,null,null,null,null,"Lump Sum",null,null,{"$f":"SUM(M4*12)+I6","v":{"$error":"#N/A"}}]
[null,null,null,null,null,null,"Only relevant to the SPPA liability"]
[]
[]
[]
[null,"Return to Menu"]

{"sheet":"Multiple NPA 60","index":6,"n_rows":2,"n_cols":12,"rows_kept":2,"cut":false,"hidden":true,"merged":[[0,0,0,1],[0,3,0,4]]}
["Return to Menu",null,null,"View Results"]
[{"$f":"'Multiple Results NPA 65'!A4","v":"Last Name"},{"$f":"'Multiple Results NPA 65'!B4","v":"First Name"},{"$f":"'Multiple Results NPA 65'!C4","v":"Superan Number"},{"$f":"'Multiple Results NPA 65'!D4","v":"NI NO"},{"$f":"'Multiple Results NPA 65'!H4","v":"Date of Birth"},{"$f":"'Multiple Results NPA 65'!I4","v":"Annual Salary"},{"$f":"'Multiple Results NPA 65'!J4","v":"Proposed date of Retirement"},{"$f":"'Multiple Results NPA 65'!K4","v":"Reckonable Years"},{"$f":"'Multiple Results NPA 65'!L4","v":"Service Days"},{"$f":"'Multiple Results NPA 65'!M4","v":"Male = 1, Female = 2"},{"$f":"'Multiple Results NPA 65'!O4","v":"Enhancement to pension (years)"},{"$f":"'Multiple Results NPA 65'!P4","v":"Enhancement to pension (days)"}]

{"sheet":"Multiple NPA 65","index":7,"n_rows":2,"n_cols":12,"rows_kept":2,"cut":false,"hidden":true,"merged":[[0,0,0,1],[0,3,0,4]]}
["Return to Menu",null,null,"View Results"]
[{"$f":"'Multiple Results NPA 65'!A4","v":"Last Name"},{"$f":"'Multiple Results NPA 65'!B4","v":"First Name"},{"$f":"'Multiple Results NPA 65'!C4","v":"Superan Number"},{"$f":"'Multiple Results NPA 65'!D4","v":"NI NO"},{"$f":"'Multiple Results NPA 65'!H4","v":"Date of Birth"},{"$f":"'Multiple Results NPA 65'!I4","v":"Annual Salary"},{"$f":"'Multiple Results NPA 65'!J4","v":"Proposed date of Retirement"},{"$f":"'Multiple Results NPA 65'!K4","v":"Reckonable Years"},{"$f":"'Multiple Results NPA 65'!L4","v":"Service Days"},{"$f":"'Multiple Results NPA 65'!M4","v":"Male = 1, Female = 2"},{"$f":"'Multiple Results NPA 65'!O4","v":"Enhancement to pension (years)"},{"$f":"'Multiple Results NPA 65'!P4","v":"Enhancement to pension (days)"}]

{"sheet":"Multiple Results NPA 60","index":8,"n_rows":287,"n_cols":48,"rows_kept":287,"cut":false,"hidden":true,"merged":[[3,4,3,6],[0,0,1,1],[0,3,1,16]]}
["Return to Input  Screen",null,null,"Return to Menu"]
[]
[]
["Last Name","First Name","Superan Number","NI NO","Date of Birth",null,null,"Date of Birth","Annual Salary","Proposed date of Retirement","Reckonable Years","Service Days","Male = 1, Female = 2",null,"Enhancement to pension (years)","Enhancement to pension (days)","SPPA Pension","SPPA Lump Sum","Employers Pension","Employers Lump Sum","Capitalised","Added Years Pension","Dependents Pension","Added Years Lump","Added years","Total Cost","Comm Pension","Comm Lump Sum","Grand Total",{"$f":"SUMIF(Z5:Z203,\">0\",Z5:Z203)","v":0},"Today's date","Age Months","Age Whole Years",600,0.61699999999999999,null,"Pension","Male",null,"Female",null,"Dependents","Male",null,"Female"]
[{"$f":"'Multiple NPA 60'!A3","v":0},{"$f":"'Multiple NPA 60'!B3","v":0},{"$f":"'Multiple NPA 60'!C3","v":0},{"$f":"'Multiple NPA 60'!D3","v":0},{"$f":"'Multiple NPA 60'!E3","v":0},{"$f":"'Multiple NPA 60'!F3","v":0},{"$f":"'Multiple NPA 60'!G3","v":0},{"$f":"'Multiple NPA 60'!E3","v":"00:00:00"},{"$f":"'Multiple NPA 60'!F3","v":0},{"$f":"'Multiple NPA 60'!G3","v":"00:00:00"},{"$f":"'Multiple NPA 60'!H3","v":0},{"$f":"'Multiple NPA 60'!I3","v":0},{"$f":"'Multiple NPA 60'!J3","v":0},{"$f":"O5+(P5/365)","v":0},{"$f":"'Multiple NPA 60'!K3","v":0},{"$f":"'Multiple NPA 60'!L3","v":0},{"$f":"VLOOKUP(AF5,$AH$4:$AI$244,2,FALSE)*(((K5+(L5/365))*I5)/80)","v":{"$error":"#N/A"}},{"$f":"Q5*3","v":{"$error":"#N/A"}},{"$f":"(((K5+(L5/365))*I5)/80)-Q5","v":{"$error":"#N/A"}},{"$f":"S5*3","v":{"$error":"#N/A"}},{"$f":"IF(M5>1,(((VLOOKUP(AG5, $AM$5:$AN$25,2,FALSE)*S5)))+(S5*3),(((VLOOKUP(AG5,$AK$5:$AL$25,2,FALSE)*S5)))+(S5*3))","v":{"$error":"#N/A"}},{"$f":"((O5+(P5/365))*I5)/80","v":0},{"$f":"V5/2","v":0},{"$f":"V5*3","v":0},{"$f":"IF(M5>1,(((VLOOKUP(AG5,$AM$5:$AN$25,2,FALSE)*I5)/80)*N5)+(((VLOOKUP(AG5,$AR$5:$AS$25,2,FALSE)*I5)/160)*N5),((((VLOOKUP(AG5,$AK$5:$AL$25,2,FALSE)*I5)/80)*N5))+(((VLOOKUP(AG5,$AP$5:$AQ$25,2,FALSE)*I5)/160)*N5))+(((N5*I5)/80)*3)","v":{"$error":"#N/A"}},{"$f":"(SUMIF(U5:Y5,\">0\",U5:Y5))-(V5+X5+W5)","v":0},{"$f":"SUM(Q5-AV5)","v":{"$error":"#N/A"}},{"$f":"SUM(AV5*12)+R5","v":{"$error":"#N/A"}},null,null,{"$f":"TODAY()","v":"2019-02-07"},{"$f":"(DATEDIF(H5, J5, \"M\"))","v":0},{"$f":"(DATEDIF(H5, J5, \"Y\"))","v":0},601,0,null,50,0,50,0,null,50,0,50,0,null,{"$f":"SUM((Q5*20)+(R5*(20/12)))/4.6667","v":{"$error":"#N/A"}},{"$f":"ROUNDDOWN(((AU5-R5)/12),0)","v":{"$error":"#N/A"}}]
[{"$f":"'Multiple NPA 60'!A4","v":0},{"$f":"'Multiple NPA 60'!B4","v":0},{"$f":"'Multiple NPA 60'!C4","v":0},{"$f":"'Multiple NPA 60'!D4","v":0},{"$f":"'Multiple NPA 60'!E4","v":0},{"$f":"'Multiple NPA 60'!F4","v":0},{"$f":"'Multiple NPA 60'!G4","v":0},{"$f":"'Multiple NPA 60'!E4","v":"00:00:00"},{"$f":"'Multiple NPA 60'!F4","v":0},{"$f":"'Multiple NPA 60'!G4","v":"00:00:00"},{"$f":"'Multiple NPA 60'!H4","v":0},{"$f":"'Multiple NPA 60'!I4","v":0},{"$f":"'Multiple NPA 60'!J4","v":0},{"$f":"O6+(P6/365)","v":0},{"$f":"'Multiple NPA 60'!K4","v":0},{"$f":"'Multiple NPA 60'!L4","v":0},{"$f":"VLOOKUP(AF6,$AH$4:$AI$244,2,FALSE)*(((K6+(L6/365))*I6)/80)","v":{"$error":"#N/A"}},{"$f":"Q6*3","v":{"$error":"#N/A"}},{"$error":"#N/A"},{"$error":"#N/A"},{"$f":"IF(M6>1,(((VLOOKUP(AG6, $AM$5:$AN$25,2,FALSE)*S6)))+(S6*3),(((VLOOKUP(AG6,$AK$5:$AL$25,2,FALSE)*S6)))+(S6*3))","v":{"$error":"#N/A"}},{"$f":"((O6+(P6/365))*I6)/80","v":0},{"$f":"V6/2","v":0},{"$f":"V6*3","v":0},{"$f":"IF(M6>1,(((VLOOKUP(AG6,$AM$5:$AN$25,2,FALSE)*I6)/80)*N6)+(((VLOOKUP(AG6,$AR$5:$AS$25,2,FALSE)*I6)/160)*N6),((((VLOOKUP(AG6,$AK$5:$AL$25,2,FALSE)*I6)/80)*N6))+(((VLOOKUP(AG6,$AP$5:$AQ$25,2,FALSE)*I6)/160)*N6))+(((N6*I6)/80)*3)","v":{"$error":"#N/A"}},{"$f":"(SUMIF(U6:Y6,\">0\",U6:Y6))-(V6+X6+W6)","v":0},{"$f":"SUM(Q6-AV6)","v":{"$error":"#N/A"}},{"$f":"SUM(AV6*12)+R6","v":{"$error":"#N/A"}},null,null,{"$f":"TODAY()","v":"2019-02-07"},{"$f":"(DATEDIF(H6, J6, \"M\"))","v":0},{"$f":"(DATEDIF(H6, J6, \"Y\"))","v":0},602,0,null,51,0,51,0,null,51,0,51,0,null,{"$f":"SUM((Q6*20)+(R6*(20/12)))/4.6667","v":{"$error":"#N/A"}},{"$f":"ROUNDDOWN(((AU6-R6)/12),0)","v":{"$error":"#N/A"}}]
[{"$f":"'Multiple NPA 60'!A5","v":0},{"$f":"'Multiple NPA 60'!B5","v":0},{"$f":"'Multiple NPA 60'!C5","v":0},{"$f":"'Multiple NPA 60'!D5","v":0},{"$f":"'Multiple NPA 60'!E5","v":0},{"$f":"'Multiple NPA 60'!F5","v":0},{"$f":"'Multiple NPA 60'!G5","v":0},{"$f":"'Multiple NPA 60'!E5","v":"00:00:00"},{"$f":"'Multiple NPA 60'!F5","v":0},{"$f":"'Multiple NPA 60'!G5","v":"00:00:00"},{"$f":"'Multiple NPA 60'!H5","v":0},{"$f":"'Multiple NPA 60'!I5","v":0},{"$f":"'Multiple NPA 60'!J5","v":0},0,{"$f":"'Multiple NPA 60'!K5","v":0},{"$f":"'Multiple NPA 60'!L5","v":0},{"$error":"#N/A"},{"$error":"#N/A"},{"$error":"#N/A"},{"$error":"#N/A"},{"$f":"IF(M7>1,(((VLOOKUP(AG7, $AM$5:$AN$25,2,FALSE)*S7)))+(S7*3),(((VLOOKUP(AG7,$AK$5:$AL$25,2,FALSE)*S7)))+(S7*3))","v":{"$error":"#N/A"}},0,0,0,{"$error":"#N/A"},{"$f":"(SUMIF(U7:Y7,\">0\",U7:Y7))-(V7+X7+W7)","v":0},{"$error":"#N/A"},{"$error":"#N/A"},null,null,"2019-02-07",{"$f":"(DATEDIF(H7, J7, \"M\"))","v":0},0,603,0,null,52,0,52,0,null,52,0,52,0,null,{"$error":"#N/A"},{"$error":"#N/A"}]
[{"$f":"'Multiple NPA 60'!A6","v":0},{"$f":"'Multiple NPA 60'!B6","v":0},{"$f":"'Multiple NPA 60'!C6","v":0},{"$f":"'Multiple NPA 60'!D6","v":0},{"$f":"'Multiple NPA 60'!E6","v":0},{"$f":"'Multiple NPA 60'!F6","v":0},{"$f":"'Multiple NPA 60'!G6","v":0},{"$f":"'Multiple NPA 60'!E6","v":"00:00:00"},{"$f":"'Multiple NPA 60'!F6","v":0},{"$f":"'Multiple NPA 60'!G6","v":"00:00:00"},{"$f":"'Multiple NPA 60'!H6","v":0},{"$f":"'Multiple NPA 60'!I6","v":0},{"$f":"'Multiple NPA 60'!J6","v":0},0,{"$f":"'Multiple NPA 60'!K6","v":0},{"$f":"'Multiple NPA 60'!L6","v":0},{"$error":"#N/A"},{"$error":"#N/A"},{"$error":"#N/A"},{"$error":"#N/A"},{"$error":"#N/A"},0,0,0,{"$error":"#N/A"},{"$f":"(SUMIF(U8:Y8,\">0\",U8:Y8))-(V8+X8+W8)","v":0},{"$error":"#N/A"},{"$error":"#N/A"},null,null,"2019-02-07",{"$f":"(DATEDIF(H8, J8, \"M\"))","v":0},0,604,0,null,53,0,53,0,null,53,0,53,0,null,{"$error":"#N/A"},{"$error":"#N/A"}]
[{"$f":"'Multiple NPA 60'!A7","v":0},{"$f":"'Multiple NPA 60'!B7","v":0},{"$f":"'Multiple NPA 60'!C7","v":0},{"$f":"'Multiple NPA 60'!D7","v":0},{"$f":"'Multiple NPA 60'!E7","v":0},{"$f":"'Multiple NPA 60'!F7","v":0},{"$f":"'Multiple NPA 60'!G7","v":0},{"$f":"'Multiple NPA 60'!E7","v":"00:00:00"},{"$f":"'Multiple NPA 60'!F7","v":0},{"$f":"'Multiple NPA 60'!G7","v":"00:00:00"},{"$f":"'Multiple NPA 60'!H7","v":0},{"$f":"'Multiple NPA 60'!I7","v":0},{"$f":"'Multiple NPA 60'!J7","v":0},0,{"$f":"'Multiple NPA 60'!K7","v":0},{"$f":"'Multiple NPA 60'!L7","v":0},{"$error":"#N/A"},{"$error":"#N/A"},{"$error":"#N/A"},{"$error":"#N/A"},{"$error":"#N/A"},0,0,0,{"$error":"#N/A"},{"$f":"(SUMIF(U9:Y9,\">0\",U9:Y9))-(V9+X9+W9)","v":0},{"$error":"#N/A"},{"$error":"#N/A"},null,null,"2019-02-07",0,0,605,0,null,54,0,54,0,null,54,0,54,0,null,{"$error":"#N/A"},{"$error":"#N/A"}]
[{"$f":"'Multiple NPA 60'!A8","v":0},{"$f":"'Multiple NPA 60'!B8","v":0},{"$f":"'Multiple NPA 60'!C8","v":0},{"$f":"'Multiple NPA 60'!D8","v":0},{"$f":"'Multiple NPA 60'!E8","v":0},{"$f":"'Multiple NPA 60'!F8","v":0},{"$f":"'Multiple NPA 60'!G8","v":0},{"$f":"'Multiple NPA 60'!E8","v":"00:00:00"},{"$f":"'Multiple NPA 60'!F8","v":0},{"$f":"'Multiple NPA 60'!G8","v":"00:00:00"},{"$f":"'Multiple NPA 60'!H8","v":0},{"$f":"'Multiple NPA 60'!I8","v":0},{"$f":"'Multiple NPA 60'!J8","v":0},0,{"$f":"'Multiple NPA 60'!K8","v":0},{"$f":"'Multiple NPA 60'!L8","v":0},{"$error":"#N/A"},{"$error":"#N/A"},{"$error":"#N/A"},{"$error":"#N/A"},{"$error":"#N/A"},0,0,0,{"$error":"#N/A"},0,{"$error":"#N/A"},{"$error":"#N/A"},null,null,"2019-02-07",0,0,606,0,null,55,22.8,55,22.8,null,55,1.4,55,1.4,null,{"$error":"#N/A"},{"$error":"#N/A"}]
[{"$f":"'Multiple NPA 60'!A9","v":0},{"$f":"'Multiple NPA 60'!B9","v":0},{"$f":"'Multiple NPA 60'!C9","v":0},{"$f":"'Multiple NPA 60'!D9","v":0},{"$f":"'Multiple NPA 60'!E9","v":0},{"$f":"'Multiple NPA 60'!F9","v":0},{"$f":"'Multiple NPA 60'!G9","v":0},{"$f":"'Multiple NPA 60'!E9","v":"00:00:00"},{"$f":"'Multiple NPA 60'!F9","v":0},{"$f":"'Multiple NPA 60'!G9","v":"00:00:00"},{"$f":"'Multiple NPA 60'!H9","v":0},{"$f":"'Multiple NPA 60'!I9","v":0},{"$f":"'Multiple NPA 60'!J9","v":0},0,{"$f":"'Multiple NPA 60'!K9","v":0},{"$f":"'Multiple NPA 60'!L9","v":0},{"$error":"#N/A"},{"$error":"#N/A"},{"$error":"#N/A"},{"$error":"#N/A"},{"$error":"#N/A"},0,0,0,{"$error":"#N/A"},0,{"$error":"#N/A"},{"$error":"#N/A"},null,null,"2019-02-07",0,0,607,0,null,56,22.3,56,22.3,null,56,1.4,56,1.4,null,{"$error":"#N/A"},{"$error":"#N/A"}]
[{"$f":"'Multiple NPA 60'!A10","v":0},{"$f":"'Multiple NPA 60'!B10","v":0},{"$f":"'Multiple NPA 60'!C10","v":0},{"$f":"'Multiple NPA 60'!D10","v":0},{"$f":"'Multiple NPA 60'!E10","v":0},{"$f":"'Multiple NPA 60'!F10","v":0},{"$f":"'Multiple NPA 60'!G10","v":0},{"$f":"'Multiple NPA 60'!E10","v":"00:00:00"},{"$f":"'Multiple NPA 60'!F10","v":0},{"$f":"'Multiple NPA 60'!G10","v":"00:00:00"},{"$f":"'Multiple NPA 60'!H10","v":0},{"$f":"'Multiple NPA 60'!I10","v":0},{"$f":"'Multiple NPA 60'!J10","v":0},0,{"$f":"'Multiple NPA 60'!K10","v":0},{"$f":"'Multiple NPA 60'!L10","v":0},{"$error":"#N/A"},{"$error":"#N/A"},{"$error":"#N/A"},{"$error":"#N/A"},{"$error":"#N/A"},0,0,0,{"$error":"#N/A"},0,{"$error":"#N/A"},{"$error":"#N/A"},null,null,"2019-02-07",0,0,608,0,null,57,21.8,57,21.8,null,57,1.4,57,1.4,null,{"$error":"#N/A"},{"$error":"#N/A"}]
[{"$f":"'Multiple NPA 60'!A11","v":0},{"$f":"'Multiple NPA 60'!B11","v":0},{"$f":"'Multiple NPA 60'!C11","v":0},{"$f":"'Multiple NPA 60'!D11","v":0},{"$f":"'Multiple NPA 60'!E11","v":0},{"$f":"'Multiple NPA 60'!F11","v":0},{"$f":"'Multiple NPA 60'!G11","v":0},{"$f":"'Multiple NPA 60'!E11","v":"00:00:00"},{"$f":"'Multiple NPA 60'!F11","v":0},{"$f":"'Multiple NPA 60'!G11","v":"00:00:00"},{"$f":"'Multiple NPA 60'!H11","v":0},{"$f":"'Multiple NPA 60'!I11","v":0},{"$f":"'Multiple NPA 60'!J11","v":0},0,{"$f":"'Multiple NPA 60'!K11","v":0},{"$f":"'Multiple NPA 60'!L11","v":0},{"$error":"#N/A"},{"$error":"#N/A"},{"$error":"#N/A"},{"$error":"#N/A"},{"$error":"#N/A"},0,0,0,{"$error":"#N/A"},0,{"$error":"#N/A"},{"$error":"#N/A"},null,null,"2019-02-07",0,0,609,0,null,58,21.3,58,21.3,null,58,1.4,58,1.4,null,{"$error":"#N/A"},{"$error":"#N/A"}]
[{"$f":"'Multiple NPA 60'!A12","v":0},{"$f":"'Multiple NPA 60'!B12","v":0},{"$f":"'Multiple NPA 60'!C12","v":0},{"$f":"'Multiple NPA 60'!D12","v":0},{"$f":"'Multiple NPA 60'!E12","v":0},{"$f":"'Multiple NPA 60'!F12","v":0},{"$f":"'Multiple NPA 60'!G12","v":0},{"$f":"'Multiple NPA 60'!E12","v":"00:00:00"},{"$f":"'Multiple NPA 60'!F12","v":0},{"$f":"'Multiple NPA 60'!G12","v":"00:00:00"},{"$f":"'Multiple NPA 60'!H12","v":0},{"$f":"'Multiple NPA 60'!I12","v":0},{"$f":"'Multiple NPA 60'!J12","v":0},0,{"$f":"'Multiple NPA 60'!K12","v":0},{"$f":"'Multiple NPA 60'!L12","v":0},{"$error":"#N/A"},{"$error":"#N/A"},{"$error":"#N/A"},{"$error":"#N/A"},{"$error":"#N/A"},0,0,0,{"$error":"#N/A"},0,{"$error":"#N/A"},{"$error":"#N/A"},null,null,"2019-02-07",0,0,610,0,null,59,20.8,59,20.8,null,59,1.4,59,1.4,null,{"$error":"#N/A"},{"$error":"#N/A"}]
[{"$f":"'Multiple NPA 60'!A13","v":0},{"$f":"'Multiple NPA 60'!B13","v":0},{"$f":"'Multiple NPA 60'!C13","v":0},{"$f":"'Multiple NPA 60'!D13","v":0},{"$f":"'Multiple NPA 60'!E13","v":0},{"$f":"'Multiple NPA 60'!F13","v":0},{"$f":"'Multiple NPA 60'!G13","v":0},{"$f":"'Multiple NPA 60'!E13","v":"00:00:00"},{"$f":"'Multiple NPA 60'!F13","v":0},{"$f":"'Multiple NPA 60'!G13","v":"00:00:00"},{"$f":"'Multiple NPA 60'!H13","v":0},{"$f":"'Multiple NPA 60'!I13","v":0},{"$f":"'Multiple NPA 60'!J13","v":0},0,{"$f":"'Multiple NPA 60'!K13","v":0},{"$f":"'Multiple NPA 60'!L13","v":0},{"$error":"#N/A"},{"$error":"#N/A"},{"$error":"#N/A"},{"$error":"#N/A"},{"$error":"#N/A"},0,0,0,{"$error":"#N/A"},0,{"$error":"#N/A"},{"$error":"#N/A"},null,null,"2019-02-07",0,0,611,0,null,60,20.3,60,20.3,null,60,1.5,60,1.5,null,{"$error":"#N/A"},{"$error":"#N/A"}]
[{"$f":"'Multiple NPA 60'!A14","v":0},{"$f":"'Multiple NPA 60'!B14","v":0},{"$f":"'Multiple NPA 60'!C14","v":0},{"$f":"'Multiple NPA 60'!D14","v":0},{"$f":"'Multiple NPA 60'!E14","v":0},{"$f":"'Multiple NPA 60'!F14","v":0},{"$f":"'Multiple NPA 60'!G14","v":0},{"$f":"'Multiple NPA 60'!E14","v":"00:00:00"},{"$f":"'Multiple NPA 60'!F14","v":0},{"$f":"'Multiple NPA 60'!G14","v":"00:00:00"},{"$f":"'Multiple NPA 60'!H14","v":0},{"$f":"'Multiple NPA 60'!I14","v":0},{"$f":"'Multiple NPA 60'!J14","v":0},0,{"$f":"'Multiple NPA 60'!K14","v":0},{"$f":"'Multiple NPA 60'!L14","v":0},{"$error":"#N/A"},{"$error":"#N/A"},{"$error":"#N/A"},{"$error":"#N/A"},{"$error":"#N/A"},0,0,0,{"$error":"#N/A"},0,{"$error":"#N/A"},{"$error":"#N/A"},null,null,"2019-02-07",0,0,612,0,null,61,19.8,61,19.8,null,61,1.5,61,1.5,null,{"$error":"#N/A"},{"$error":"#N/A"}]
[{"$f":"'Multiple NPA 60'!A15","v":0},{"$f":"'Multiple NPA 60'!B15","v":0},{"$f":"'Multiple NPA 60'!C15","v":0},{"$f":"'Multiple NPA 60'!D15","v":0},{"$f":"'Multiple NPA 60'!E15","v":0},{"$f":"'Multiple NPA 60'!F15","v":0},{"$f":"'Multiple NPA 60'!G15","v":0},{"$f":"'Multiple NPA 60'!E15","v":"00:00:00"},{"$f":"'Multiple NPA 60'!F15","v":0},{"$f":"'Multiple NPA 60'!G15","v":"00:00:00"},{"$f":"'Multiple NPA 60'!H15","v":0},{"$f":"'Multiple NPA 60'!I15","v":0},{"$f":"'Multiple NPA 60'!J15","v":0},0,{"$f":"'Multiple NPA 60'!K15","v":0},{"$f":"'Multiple NPA 60'!L15","v":0},{"$error":"#N/A"},{"$error":"#N/A"},{"$error":"#N/A"},{"$error":"#N/A"},{"$error":"#N/A"},0,0,0,{"$error":"#N/A"},0,{"$error":"#N/A"},{"$error":"#N/A"},null,null,"2019-02-07",0,0,613,0,null,62,19.3,62,19.3,null,62,1.5,62,1.5,null,{"$error":"#N/A"},{"$error":"#N/A"}]
[{"$f":"'Multiple NPA 60'!A16","v":0},{"$f":"'Multiple NPA 60'!B16","v":0},{"$f":"'Multiple NPA 60'!C16","v":0},{"$f":"'Multiple NPA 60'!D16","v":0},{"$f":"'Multiple NPA 60'!E16","v":0},{"$f":"'Multiple NPA 60'!F16","v":0},{"$f":"'Multiple NPA 60'!G16","v":0},{"$f":"'Multiple NPA 60'!E16","v":"00:00:00"},{"$f":"'Multiple NPA 60'!F16","v":0},{"$f":"'Multiple NPA 60'!G16","v":"00:00:00"},{"$f":"'Multiple NPA 60'!H16","v":0},{"$f":"'Multiple NPA 60'!I16","v":0},{"$f":"'Multiple NPA 60'!J16","v":0},0,{"$f":"'Multiple NPA 60'!K16","v":0},{"$f":"'Multiple NPA 60'!L16","v":0},{"$error":"#N/A"},{"$error":"#N/A"},{"$error":"#N/A"},{"$error":"#N/A"},{"$error":"#N/A"},0,0,0,{"$error":"#N/A"},0,{"$error":"#N/A"},{"$error":"#N/A"},null,null,"2019-02-07",0,0,614,0,null,63,18.7,63,18.7,null,63,1.5,63,1.5,null,{"$error":"#N/A"},{"$error":"#N/A"}]
[{"$f":"'Multiple NPA 60'!A17","v":0},{"$f":"'Multiple NPA 60'!B17","v":0},{"$f":"'Multiple NPA 60'!C17","v":0},{"$f":"'Multiple NPA 60'!D17","v":0},{"$f":"'Multiple NPA 60'!E17","v":0},{"$f":"'Multiple NPA 60'!F17","v":0},{"$f":"'Multiple NPA 60'!G17","v":0},{"$f":"'Multiple NPA 60'!E17","v":"00:00:00"},{"$f":"'Multiple NPA 60'!F17","v":0},{"$f":"'Multiple NPA 60'!G17","v":"00:00:00"},{"$f":"'Multiple NPA 60'!H17","v":0},{"$f":"'Multiple NPA 60'!I17","v":0},{"$f":"'Multiple NPA 60'!J17","v":0},0,{"$f":"'Multiple NPA 60'!K17","v":0},{"$f":"'Multiple NPA 60'!L17","v":0},{"$error":"#N/A"},{"$error":"#N/A"},{"$error":"#N/A"},{"$error":"#N/A"},{"$error":"#N/A"},0,0,0,{"$error":"#N/A"},0,{"$error":"#N/A"},{"$error":"#N/A"},null,null,"2019-02-07",0,0,615,0,null,64,18.2,64,18.2,null,64,1.5,64,1.5,null,{"$error":"#N/A"},{"$error":"#N/A"}]
[{"$f":"'Multiple NPA 60'!A18","v":0},{"$f":"'Multiple NPA 60'!B18","v":0},{"$f":"'Multiple NPA 60'!C18","v":0},{"$f":"'Multiple NPA 60'!D18","v":0},{"$f":"'Multiple NPA 60'!E18","v":0},{"$f":"'Multiple NPA 60'!F18","v":0},{"$f":"'Multiple NPA 60'!G18","v":0},{"$f":"'Multiple NPA 60'!E18","v":"00:00:00"},{"$f":"'Multiple NPA 60'!F18","v":0},{"$f":"'Multiple NPA 60'!G18","v":"00:00:00"},{"$f":"'Multiple NPA 60'!H18","v":0},{"$f":"'Multiple NPA 60'!I18","v":0},{"$f":"'Multiple NPA 60'!J18","v":0},0,{"$f":"'Multiple NPA 60'!K18","v":0},{"$f":"'Multiple NPA 60'!L18","v":0},{"$error":"#N/A"},{"$error":"#N/A"},{"$error":"#N/A"},{"$error":"#N/A"},{"$error":"#N/A"},0,0,0,{"$error":"#N/A"},0,{"$error":"#N/A"},{"$error":"#N/A"},null,null,"2019-02-07",0,0,616,0,null,65,17.7,65,17.7,null,65,1.5,65,1.5,null,{"$error":"#N/A"},{"$error":"#N/A"}]
[{"$f":"'Multiple NPA 60'!A19","v":0},{"$f":"'Multiple NPA 60'!B19","v":0},{"$f":"'Multiple NPA 60'!C19","v":0},{"$f":"'Multiple NPA 60'!D19","v":0},{"$f":"'Multiple NPA 60'!E19","v":0},{"$f":"'Multiple NPA 60'!F19","v":0},{"$f":"'Multiple NPA 60'!G19","v":0},{"$f":"'Multiple NPA 60'!E19","v":"00:00:00"},{"$f":"'Multiple NPA 60'!F19","v":0},{"$f":"'Multiple NPA 60'!G19","v":"00:00:00"},{"$f":"'Multiple NPA 60'!H19","v":0},{"$f":"'Multiple NPA 60'!I19","v":0},{"$f":"'Multiple NPA 60'!J19","v":0},0,{"$f":"'Multiple NPA 60'!K19","v":0},{"$f":"'Multiple NPA 60'!L19","v":0},{"$error":"#N/A"},{"$error":"#N/A"},{"$error":"#N/A"},{"$error":"#N/A"},{"$error":"#N/A"},0,0,0,{"$error":"#N/A"},0,{"$error":"#N/A"},{"$error":"#N/A"},null,null,"2019-02-07",0,0,617,0,null,66,0,66,0,null,66,0,66,0,null,{"$error":"#N/A"},{"$error":"#N/A"}]
[{"$f":"'Multiple NPA 60'!A20","v":0},{"$f":"'Multiple NPA 60'!B20","v":0},{"$f":"'Multiple NPA 60'!C20","v":0},{"$f":"'Multiple NPA 60'!D20","v":0},{"$f":"'Multiple NPA 60'!E20","v":0},{"$f":"'Multiple NPA 60'!F20","v":0},{"$f":"'Multiple NPA 60'!G20","v":0},{"$f":"'Multiple NPA 60'!E20","v":"00:00:00"},{"$f":"'Multiple NPA 60'!F20","v":0},{"$f":"'Multiple NPA 60'!G20","v":"00:00:00"},{"$f":"'Multiple NPA 60'!H20","v":0},{"$f":"'Multiple NPA 60'!I20","v":0},{"$f":"'Multiple NPA 60'!J20","v":0},0,{"$f":"'Multiple NPA 60'!K20","v":0},{"$f":"'Multiple NPA 60'!L20","v":0},{"$error":"#N/A"},{"$error":"#N/A"},{"$error":"#N/A"},{"$error":"#N/A"},{"$error":"#N/A"},0,0,0,{"$error":"#N/A"},0,{"$error":"#N/A"},{"$error":"#N/A"},null,null,"2019-02-07",0,0,618,0,null,67,0,67,0,null,67,0,67,0,null,{"$error":"#N/A"},{"$error":"#N/A"}]
[{"$f":"'Multiple NPA 60'!A21","v":0},{"$f":"'Multiple NPA 60'!B21","v":0},{"$f":"'Multiple NPA 60'!C21","v":0},{"$f":"'Multiple NPA 60'!D21","v":0},{"$f":"'Multiple NPA 60'!E21","v":0},{"$f":"'Multiple NPA 60'!F21","v":0},{"$f":"'Multiple NPA 60'!G21","v":0},{"$f":"'Multiple NPA 60'!E21","v":"00:00:00"},{"$f":"'Multiple NPA 60'!F21","v":0},{"$f":"'Multiple NPA 60'!G21","v":"00:00:00"},{"$f":"'Multiple NPA 60'!H21","v":0},{"$f":"'Multiple NPA 60'!I21","v":0},{"$f":"'Multiple NPA 60'!J21","v":0},0,{"$f":"'Multiple NPA 60'!K21","v":0},{"$f":"'Multiple NPA 60'!L21","v":0},{"$error":"#N/A"},{"$error":"#N/A"},{"$error":"#N/A"},{"$error":"#N/A"},{"$error":"#N/A"},0,0,0,{"$error":"#N/A"},0,{"$error":"#N/A"},{"$error":"#N/A"},null,null,"2019-02-07",0,0,619,0,null,68,0,68,0,null,68,0,68,0,null,{"$error":"#N/A"},{"$error":"#N/A"}]
[{"$f":"'Multiple NPA 60'!A22","v":0},{"$f":"'Multiple NPA 60'!B22","v":0},{"$f":"'Multiple NPA 60'!C22","v":0},{"$f":"'Multiple NPA 60'!D22","v":0},{"$f":"'Multiple NPA 60'!E22","v":0},{"$f":"'Multiple NPA 60'!F22","v":0},{"$f":"'Multiple NPA 60'!G22","v":0},{"$f":"'Multiple NPA 60'!E22","v":"00:00:00"},{"$f":"'Multiple NPA 60'!F22","v":0},{"$f":"'Multiple NPA 60'!G22","v":"00:00:00"},{"$f":"'Multiple NPA 60'!H22","v":0},{"$f":"'Multiple NPA 60'!I22","v":0},{"$f":"'Multiple NPA 60'!J22","v":0},0,{"$f":"'Multiple NPA 60'!K22","v":0},{"$f":"'Multiple NPA 60'!L22","v":0},{"$error":"#N/A"},{"$error":"#N/A"},{"$error":"#N/A"},{"$error":"#N/A"},{"$error":"#N/A"},0,0,0,{"$error":"#N/A"},0,{"$error":"#N/A"},{"$error":"#N/A"},null,null,"2019-02-07",0,0,620,0,null,69,0,69,0,null,69,0,69,0,null,{"$error":"#N/A"},{"$error":"#N/A"}]
[{"$f":"'Multiple NPA 60'!A23","v":0},{"$f":"'Multiple NPA 60'!B23","v":0},{"$f":"'Multiple NPA 60'!C23","v":0},{"$f":"'Multiple NPA 60'!D23","v":0},{"$f":"'Multiple NPA 60'!E23","v":0},{"$f":"'Multiple NPA 60'!F23","v":0},{"$f":"'Multiple NPA 60'!G23","v":0},{"$f":"'Multiple NPA 60'!E23","v":"00:00:00"},{"$f":"'Multiple NPA 60'!F23","v":0},{"$f":"'Multiple NPA 60'!G23","v":"00:00:00"},{"$f":"'Multiple NPA 60'!H23","v":0},{"$f":"'Multiple NPA 60'!I23","v":0},{"$f":"'Multiple NPA 60'!J23","v":0},0,{"$f":"'Multiple NPA 60'!K23","v":0},{"$f":"'Multiple NPA 60'!L23","v":0},{"$error":"#N/A"},{"$error":"#N/A"},{"$error":"#N/A"},{"$error":"#N/A"},{"$error":"#N/A"},0,0,0,{"$error":"#N/A"},0,{"$error":"#N/A"},{"$error":"#N/A"},null,null,"2019-02-07",0,0,621,0,null,70,0,70,0,null,70,0,70,0,null,{"$error":"#N/A"},{"$error":"#N/A"}]
[{"$f":"'Multiple NPA 60'!A24","v":0},{"$f":"'Multiple NPA 60'!B24","v":0},{"$f":"'Multiple NPA 60'!C24","v":0},{"$f":"'Multiple NPA 60'!D24","v":0},{"$f":"'Multiple NPA 60'!E24","v":0},{"$f":"'Multiple NPA 60'!F24","v":0},{"$f":"'Multiple NPA 60'!G24","v":0},{"$f":"'Multiple NPA 60'!E24","v":"00:00:00"},{"$f":"'Multiple NPA 60'!F24","v":0},{"$f":"'Multiple NPA 60'!G24","v":"00:00:00"},{"$f":"'Multiple NPA 60'!H24","v":0},{"$f":"'Multiple NPA 60'!I24","v":0},{"$f":"'Multiple NPA 60'!J24","v":0},0,{"$f":"'Multiple NPA 60'!K24","v":0},{"$f":"'Multiple NPA 60'!L24","v":0},{"$error":"#N/A"},{"$error":"#N/A"},{"$error":"#N/A"},{"$error":"#N/A"},{"$error":"#N/A"},0,0,0,{"$error":"#N/A"},0,{"$error":"#N/A"},{"$error":"#N/A"},null,null,"2019-02-07",0,0,622,0,null,null,null,null,null,null,null,null,null,null,null,{"$error":"#N/A"},{"$error":"#N/A"}]
[{"$f":"'Multiple NPA 60'!A25","v":0},{"$f":"'Multiple NPA 60'!B25","v":0},{"$f":"'Multiple NPA 60'!C25","v":0},{"$f":"'Multiple NPA 60'!D25","v":0},{"$f":"'Multiple NPA 60'!E25","v":0},{"$f":"'Multiple NPA 60'!F25","v":0},{"$f":"'Multiple NPA 60'!G25","v":0},{"$f":"'Multiple NPA 60'!E25","v":"00:00:00"},{"$f":"'Multiple NPA 60'!F25","v":0},{"$f":"'Multiple NPA 60'!G25","v":"00:00:00"},{"$f":"'Multiple NPA 60'!H25","v":0},{"$f":"'Multiple NPA 60'!I25","v":0},{"$f":"'Multiple NPA 60'!J25","v":0},0,{"$f":"'Multiple NPA 60'!K25","v":0},{"$f":"'Multiple NPA 60'!L25","v":0},{"$error":"#N/A"},{"$error":"#N/A"},{"$error":"#N/A"},{"$error":"#N/A"},{"$error":"#N/A"},0,0,0,{"$error":"#N/A"},0,{"$error":"#N/A"},{"$error":"#N/A"},null,null,"2019-02-07",0,0,623,0,null,null,null,null,null,null,null,null,null,null,null,{"$error":"#N/A"},{"$error":"#N/A"}]
[{"$f":"'Multiple NPA 60'!A26","v":0},{"$f":"'Multiple NPA 60'!B26","v":0},{"$f":"'Multiple NPA 60'!C26","v":0},{"$f":"'Multiple NPA 60'!D26","v":0},{"$f":"'Multiple NPA 60'!E26","v":0},{"$f":"'Multiple NPA 60'!F26","v":0},{"$f":"'Multiple NPA 60'!G26","v":0},{"$f":"'Multiple NPA 60'!E26","v":"00:00:00"},{"$f":"'Multiple NPA 60'!F26","v":0},{"$f":"'Multiple NPA 60'!G26","v":"00:00:00"},{"$f":"'Multiple NPA 60'!H26","v":0},{"$f":"'Multiple NPA 60'!I26","v":0},{"$f":"'Multiple NPA 60'!J26","v":0},0,{"$f":"'Multiple NPA 60'!K26","v":0},{"$f":"'Multiple NPA 60'!L26","v":0},{"$error":"#N/A"},{"$error":"#N/A"},{"$error":"#N/A"},{"$error":"#N/A"},{"$error":"#N/A"},0,0,0,{"$error":"#N/A"},0,{"$error":"#N/A"},{"$error":"#N/A"},null,null,"2019-02-07",0,0,624,0,null,null,null,null,null,null,null,null,null,null,null,{"$error":"#N/A"},{"$error":"#N/A"}]
[{"$f":"'Multiple NPA 60'!A27","v":0},{"$f":"'Multiple NPA 60'!B27","v":0},{"$f":"'Multiple NPA 60'!C27","v":0},{"$f":"'Multiple NPA 60'!D27","v":0},{"$f":"'Multiple NPA 60'!E27","v":0},{"$f":"'Multiple NPA 60'!F27","v":0},{"$f":"'Multiple NPA 60'!G27","v":0},{"$f":"'Multiple NPA 60'!E27","v":"00:00:00"},{"$f":"'Multiple NPA 60'!F27","v":0},{"$f":"'Multiple NPA 60'!G27","v":"00:00:00"},{"$f":"'Multiple NPA 60'!H27","v":0},{"$f":"'Multiple NPA 60'!I27","v":0},{"$f":"'Multiple NPA 60'!J27","v":0},0,{"$f":"'Multiple NPA 60'!K27","v":0},{"$f":"'Multiple NPA 60'!L27","v":0},{"$error":"#N/A"},{"$error":"#N/A"},{"$error":"#N/A"},{"$error":"#N/A"},{"$error":"#N/A"},0,0,0,{"$error":"#N/A"},0,{"$error":"#N/A"},{"$error":"#N/A"},null,null,"2019-02-07",0,0,625,0,null,null,null,null,null,null,null,null,null,null,null,{"$error":"#N/A"},{"$error":"#N/A"}]
[{"$f":"'Multiple NPA 60'!A28","v":0},{"$f":"'Multiple NPA 60'!B28","v":0},{"$f":"'Multiple NPA 60'!C28","v":0},{"$f":"'Multiple NPA 60'!D28","v":0},{"$f":"'Multiple NPA 60'!E28","v":0},{"$f":"'Multiple NPA 60'!F28","v":0},{"$f":"'Multiple NPA 60'!G28","v":0},{"$f":"'Multiple NPA 60'!E28","v":"00:00:00"},{"$f":"'Multiple NPA 60'!F28","v":0},{"$f":"'Multiple NPA 60'!G28","v":"00:00:00"},{"$f":"'Multiple NPA 60'!H28","v":0},{"$f":"'Multiple NPA 60'!I28","v":0},{"$f":"'Multiple NPA 60'!J28","v":0},0,{"$f":"'Multiple NPA 60'!K28","v":0},{"$f":"'Multiple NPA 60'!L28","v":0},{"$error":"#N/A"},{"$error":"#N/A"},{"$error":"#N/A"},{"$error":"#N/A"},{"$error":"#N/A"},0,0,0,{"$error":"#N/A"},0,{"$error":"#N/A"},{"$error":"#N/A"},null,null,"2019-02-07",0,0,626,0,null,null,null,null,null,null,null,null,null,null,null,{"$error":"#N/A"},{"$error":"#N/A"}]
[{"$f":"'Multiple NPA 60'!A29","v":0},{"$f":"'Multiple NPA 60'!B29","v":0},{"$f":"'Multiple NPA 60'!C29","v":0},{"$f":"'Multiple NPA 60'!D29","v":0},{"$f":"'Multiple NPA 60'!E29","v":0},{"$f":"'Multiple NPA 60'!F29","v":0},{"$f":"'Multiple NPA 60'!G29","v":0},{"$f":"'Multiple NPA 60'!E29","v":"00:00:00"},{"$f":"'Multiple NPA 60'!F29","v":0},{"$f":"'Multiple NPA 60'!G29","v":"00:00:00"},{"$f":"'Multiple NPA 60'!H29","v":0},{"$f":"'Multiple NPA 60'!I29","v":0},{"$f":"'Multiple NPA 60'!J29","v":0},0,{"$f":"'Multiple NPA 60'!K29","v":0},{"$f":"'Multiple NPA 60'!L29","v":0},{"$error":"#N/A"},{"$error":"#N/A"},{"$error":"#N/A"},{"$error":"#N/A"},{"$error":"#N/A"},0,0,0,{"$error":"#N/A"},0,{"$error":"#N/A"},{"$error":"#N/A"},null,null,"2019-02-07",0,0,627,0,null,null,null,null,null,null,null,null,null,null,null,{"$error":"#N/A"},{"$error":"#N/A"}]
[{"$f":"'Multiple NPA 60'!A30","v":0},{"$f":"'Multiple NPA 60'!B30","v":0},{"$f":"'Multiple NPA 60'!C30","v":0},{"$f":"'Multiple NPA 60'!D30","v":0},{"$f":"'Multiple NPA 60'!E30","v":0},{"$f":"'Multiple NPA 60'!F30","v":0},{"$f":"'Multiple NPA 60'!G30","v":0},{"$f":"'Multiple NPA 60'!E30","v":"00:00:00"},{"$f":"'Multiple NPA 60'!F30","v":0},{"$f":"'Multiple NPA 60'!G30","v":"00:00:00"},{"$f":"'Multiple NPA 60'!H30","v":0},{"$f":"'Multiple NPA 60'!I30","v":0},{"$f":"'Multiple NPA 60'!J30","v":0},0,{"$f":"'Multiple NPA 60'!K30","v":0},{"$f":"'Multiple NPA 60'!L30","v":0},{"$error":"#N/A"},{"$error":"#N/A"},{"$error":"#N/A"},{"$error":"#N/A"},{"$error":"#N/A"},0,0,0,{"$error":"#N/A"},0,{"$error":"#N/A"},{"$error":"#N/A"},null,null,"2019-02-07",0,0,628,0,null,null,null,null,null,null,null,null,null,null,null,{"$error":"#N/A"},{"$error":"#N/A"}]
[{"$f":"'Multiple NPA 60'!A31","v":0},{"$f":"'Multiple NPA 60'!B31","v":0},{"$f":"'Multiple NPA 60'!C31","v":0},{"$f":"'Multiple NPA 60'!D31","v":0},{"$f":"'Multiple NPA 60'!E31","v":0},{"$f":"'Multiple NPA 60'!F31","v":0},{"$f":"'Multiple NPA 60'!G31","v":0},{"$f":"'Multiple NPA 60'!E31","v":"00:00:00"},{"$f":"'Multiple NPA 60'!F31","v":0},{"$f":"'Multiple NPA 60'!G31","v":"00:00:00"},{"$f":"'Multiple NPA 60'!H31","v":0},{"$f":"'Multiple NPA 60'!I31","v":0},{"$f":"'Multiple NPA 60'!J31","v":0},0,{"$f":"'Multiple NPA 60'!K31","v":0},{"$f":"'Multiple NPA 60'!L31","v":0},{"$error":"#N/A"},{"$error":"#N/A"},{"$error":"#N/A"},{"$error":"#N/A"},{"$error":"#N/A"},0,0,0,{"$error":"#N/A"},0,{"$error":"#N/A"},{"$error":"#N/A"},null,null,"2019-02-07",0,0,629,0,null,null,null,null,null,null,null,null,null,null,null,{"$error":"#N/A"},{"$error":"#N/A"}]
[{"$f":"'Multiple NPA 60'!A32","v":0},{"$f":"'Multiple NPA 60'!B32","v":0},{"$f":"'Multiple NPA 60'!C32","v":0},{"$f":"'Multiple NPA 60'!D32","v":0},{"$f":"'Multiple NPA 60'!E32","v":0},{"$f":"'Multiple NPA 60'!F32","v":0},{"$f":"'Multiple NPA 60'!G32","v":0},{"$f":"'Multiple NPA 60'!E32","v":"00:00:00"},{"$f":"'Multiple NPA 60'!F32","v":0},{"$f":"'Multiple NPA 60'!G32","v":"00:00:00"},{"$f":"'Multiple NPA 60'!H32","v":0},{"$f":"'Multiple NPA 60'!I32","v":0},{"$f":"'Multiple NPA 60'!J32","v":0},0,{"$f":"'Multiple NPA 60'!K32","v":0},{"$f":"'Multiple NPA 60'!L32","v":0},{"$error":"#N/A"},{"$error":"#N/A"},{"$error":"#N/A"},{"$error":"#N/A"},{"$error":"#N/A"},0,0,0,{"$error":"#N/A"},0,{"$error":"#N/A"},{"$error":"#N/A"},null,null,"2019-02-07",0,0,630,0,null,null,null,null,null,null,null,null,null,null,null,{"$error":"#N/A"},{"$error":"#N/A"}]
[{"$f":"'Multiple NPA 60'!A33","v":0},{"$f":"'Multiple NPA 60'!B33","v":0},{"$f":"'Multiple NPA 60'!C33","v":0},{"$f":"'Multiple NPA 60'!D33","v":0},{"$f":"'Multiple NPA 60'!E33","v":0},{"$f":"'Multiple NPA 60'!F33","v":0},{"$f":"'Multiple NPA 60'!G33","v":0},{"$f":"'Multiple NPA 60'!E33","v":"00:00:00"},{"$f":"'Multiple NPA 60'!F33","v":0},{"$f":"'Multiple NPA 60'!G33","v":"00:00:00"},{"$f":"'Multiple NPA 60'!H33","v":0},{"$f":"'Multiple NPA 60'!I33","v":0},{"$f":"'Multiple NPA 60'!J33","v":0},0,{"$f":"'Multiple NPA 60'!K33","v":0},{"$f":"'Multiple NPA 60'!L33","v":0},{"$error":"#N/A"},{"$error":"#N/A"},{"$error":"#N/A"},{"$error":"#N/A"},{"$error":"#N/A"},0,0,0,{"$error":"#N/A"},0,{"$error":"#N/A"},{"$error":"#N/A"},null,null,"2019-02-07",0,0,631,0,null,null,null,null,null,null,null,null,null,null,null,{"$error":"#N/A"},{"$error":"#N/A"}]
[{"$f":"'Multiple NPA 60'!A34","v":0},{"$f":"'Multiple NPA 60'!B34","v":0},{"$f":"'Multiple NPA 60'!C34","v":0},{"$f":"'Multiple NPA 60'!D34","v":0},{"$f":"'Multiple NPA 60'!E34","v":0},{"$f":"'Multiple NPA 60'!F34","v":0},{"$f":"'Multiple NPA 60'!G34","v":0},{"$f":"'Multiple NPA 60'!E34","v":"00:00:00"},{"$f":"'Multiple NPA 60'!F34","v":0},{"$f":"'Multiple NPA 60'!G34","v":"00:00:00"},{"$f":"'Multiple NPA 60'!H34","v":0},{"$f":"'Multiple NPA 60'!I34","v":0},{"$f":"'Multiple NPA 60'!J34","v":0},0,{"$f":"'Multiple NPA 60'!K34","v":0},{"$f":"'Multiple NPA 60'!L34","v":0},{"$error":"#N/A"},{"$error":"#N/A"},{"$error":"#N/A"},{"$error":"#N/A"},{"$error":"#N/A"},0,0,0,{"$error":"#N/A"},0,{"$error":"#N/A"},{"$error":"#N/A"},null,null,"2019-02-07",0,0,632,0,null,null,null,null,null,null,null,null,null,null,null,{"$error":"#N/A"},{"$error":"#N/A"}]
[{"$f":"'Multiple NPA 60'!A35","v":0},{"$f":"'Multiple NPA 60'!B35","v":0},{"$f":"'Multiple NPA 60'!C35","v":0},{"$f":"'Multiple NPA 60'!D35","v":0},{"$f":"'Multiple NPA 60'!E35","v":0},{"$f":"'Multiple NPA 60'!F35","v":0},{"$f":"'Multiple NPA 60'!G35","v":0},{"$f":"'Multiple NPA 60'!E35","v":"00:00:00"},{"$f":"'Multiple NPA 60'!F35","v":0},{"$f":"'Multiple NPA 60'!G35","v":"00:00:00"},{"$f":"'Multiple NPA 60'!H35","v":0},{"$f":"'Multiple NPA 60'!I35","v":0},{"$f":"'Multiple NPA 60'!J35","v":0},0,{"$f":"'Multiple NPA 60'!K35","v":0},{"$f":"'Multiple NPA 60'!L35","v":0},{"$error":"#N/A"},{"$error":"#N/A"},{"$error":"#N/A"},{"$error":"#N/A"},{"$error":"#N/A"},0,0,0,{"$error":"#N/A"},0,{"$error":"#N/A"},{"$error":"#N/A"},null,null,"2019-02-07",0,0,633,0,null,null,null,null,null,null,null,null,null,null,null,{"$f":"SUM((Q37*20)+(R37*(20/12)))/4.6667","v":{"$error":"#N/A"}},{"$f":"ROUNDDOWN(((AU37-R37)/12),0)","v":{"$error":"#N/A"}}]
[{"$f":"'Multiple NPA 60'!A36","v":0},{"$f":"'Multiple NPA 60'!B36","v":0},{"$f":"'Multiple NPA 60'!C36","v":0},{"$f":"'Multiple NPA 60'!D36","v":0},{"$f":"'Multiple NPA 60'!E36","v":0},{"$f":"'Multiple NPA 60'!F36","v":0},{"$f":"'Multiple NPA 60'!G36","v":0},{"$f":"'Multiple NPA 60'!E36","v":"00:00:00"},{"$f":"'Multiple NPA 60'!F36","v":0},{"$f":"'Multiple NPA 60'!G36","v":"00:00:00"},{"$f":"'Multiple NPA 60'!H36","v":0},{"$f":"'Multiple NPA 60'!I36","v":0},{"$f":"'Multiple NPA 60'!J36","v":0},0,{"$f":"'Multiple NPA 60'!K36","v":0},{"$f":"'Multiple NPA 60'!L36","v":0},{"$error":"#N/A"},{"$error":"#N/A"},{"$error":"#N/A"},{"$error":"#N/A"},{"$error":"#N/A"},0,0,0,{"$error":"#N/A"},0,{"$error":"#N/A"},{"$error":"#N/A"},null,null,"2019-02-07",0,0,634,0,null,null,null,null,null,null,null,null,null,null,null,{"$error":"#N/A"},{"$error":"#N/A"}]
[{"$f":"'Multiple NPA 60'!A37","v":0},{"$f":"'Multiple NPA 60'!B37","v":0},{"$f":"'Multiple NPA 60'!C37","v":0},{"$f":"'Multiple NPA 60'!D37","v":0},{"$f":"'Multiple NPA 60'!E37","v":0},{"$f":"'Multiple NPA 60'!F37","v":0},{"$f":"'Multiple NPA 60'!G37","v":0},{"$f":"'Multiple NPA 60'!E37","v":"00:00:00"},{"$f":"'Multiple NPA 60'!F37","v":0},{"$f":"'Multiple NPA 60'!G37","v":"00:00:00"},{"$f":"'Multiple NPA 60'!H37","v":0},{"$f":"'Multiple NPA 60'!I37","v":0},{"$f":"'Multiple NPA 60'!J37","v":0},0,{"$f":"'Multiple NPA 60'!K37","v":0},{"$f":"'Multiple NPA 60'!L37","v":0},{"$error":"#N/A"},{"$error":"#N/A"},{"$error":"#N/A"},{"$error":"#N/A"},{"$error":"#N/A"},0,0,0,{"$error":"#N/A"},0,{"$error":"#N/A"},{"$error":"#N/A"},null,null,"2019-02-07",0,0,635,0,null,null,null,null,null,null,null,null,null,null,null,{"$error":"#N/A"},{"$error":"#N/A"}]
[{"$f":"'Multiple NPA 60'!A38","v":0},{"$f":"'Multiple NPA 60'!B38","v":0},{"$f":"'Multiple NPA 60'!C38","v":0},{"$f":"'Multiple NPA 60'!D38","v":0},{"$f":"'Multiple NPA 60'!E38","v":0},{"$f":"'Multiple NPA 60'!F38","v":0},{"$f":"'Multiple NPA 60'!G38","v":0},{"$f":"'Multiple NPA 60'!E38","v":"00:00:00"},{"$f":"'Multiple NPA 60'!F38","v":0},{"$f":"'Multiple NPA 60'!G38","v":"00:00:00"},{"$f":"'Multiple NPA 60'!H38","v":0},{"$f":"'Multiple NPA 60'!I38","v":0},{"$f":"'Multiple NPA 60'!J38","v":0},0,{"$f":"'Multiple NPA 60'!K38","v":0},{"$f":"'Multiple NPA 60'!L38","v":0},{"$error":"#N/A"},{"$error":"#N/A"},{"$error":"#N/A"},{"$error":"#N/A"},{"$error":"#N/A"},0,0,0,{"$error":"#N/A"},0,{"$error":"#N/A"},{"$error":"#N/A"},null,null,"2019-02-07",0,0,636,0,null,null,null,null,null,null,null,null,null,null,null,{"$error":"#N/A"},{"$error":"#N/A"}]
[{"$f":"'Multiple NPA 60'!A39","v":0},{"$f":"'Multiple NPA 60'!B39","v":0},{"$f":"'Multiple NPA 60'!C39","v":0},{"$f":"'Multiple NPA 60'!D39","v":0},{"$f":"'Multiple NPA 60'!E39","v":0},{"$f":"'Multiple NPA 60'!F39","v":0},{"$f":"'Multiple NPA 60'!G39","v":0},{"$f":"'Multiple NPA 60'!E39","v":"00:00:00"},{"$f":"'Multiple NPA 60'!F39","v":0},{"$f":"'Multiple NPA 60'!G39","v":"00:00:00"},{"$f":"'Multiple NPA 60'!H39","v":0},{"$f":"'Multiple NPA 60'!I39","v":0},{"$f":"'Multiple NPA 60'!J39","v":0},0,{"$f":"'Multiple NPA 60'!K39","v":0},{"$f":"'Multiple NPA 60'!L39","v":0},{"$error":"#N/A"},{"$error":"#N/A"},{"$error":"#N/A"},{"$error":"#N/A"},{"$error":"#N/A"},0,0,0,{"$error":"#N/A"},0,{"$error":"#N/A"},{"$error":"#N/A"},null,null,"2019-02-07",0,0,637,0,null,null,null,null,null,null,null,null,null,null,null,{"$error":"#N/A"},{"$error":"#N/A"}]
[{"$f":"'Multiple NPA 60'!A40","v":0},{"$f":"'Multiple NPA 60'!B40","v":0},{"$f":"'Multiple NPA 60'!C40","v":0},{"$f":"'Multiple NPA 60'!D40","v":0},{"$f":"'Multiple NPA 60'!E40","v":0},{"$f":"'Multiple NPA 60'!F40","v":0},{"$f":"'Multiple NPA 60'!G40","v":0},{"$f":"'Multiple NPA 60'!E40","v":"00:00:00"},{"$f":"'Multiple NPA 60'!F40","v":0},{"$f":"'Multiple NPA 60'!G40","v":"00:00:00"},{"$f":"'Multiple NPA 60'!H40","v":0},{"$f":"'Multiple NPA 60'!I40","v":0},{"$f":"'Multiple NPA 60'!J40","v":0},0,{"$f":"'Multiple NPA 60'!K40","v":0},{"$f":"'Multiple NPA 60'!L40","v":0},{"$error":"#N/A"},{"$error":"#N/A"},{"$error":"#N/A"},{"$error":"#N/A"},{"$error":"#N/A"},0,0,0,{"$error":"#N/A"},0,{"$error":"#N/A"},{"$error":"#N/A"},null,null,"2019-02-07",0,0,638,0,null,null,null,null,null,null,null,null,null,null,null,{"$error":"#N/A"},{"$error":"#N/A"}]
[{"$f":"'Multiple NPA 60'!A41","v":0},{"$f":"'Multiple NPA 60'!B41","v":0},{"$f":"'Multiple NPA 60'!C41","v":0},{"$f":"'Multiple NPA 60'!D41","v":0},{"$f":"'Multiple NPA 60'!E41","v":0},{"$f":"'Multiple NPA 60'!F41","v":0},{"$f":"'Multiple NPA 60'!G41","v":0},{"$f":"'Multiple NPA 60'!E41","v":"00:00:00"},{"$f":"'Multiple NPA 60'!F41","v":0},{"$f":"'Multiple NPA 60'!G41","v":"00:00:00"},{"$f":"'Multiple NPA 60'!H41","v":0},{"$f":"'Multiple NPA 60'!I41","v":0},{"$f":"'Multiple NPA 60'!J41","v":0},0,{"$f":"'Multiple NPA 60'!K41","v":0},{"$f":"'Multiple NPA 60'!L41","v":0},{"$error":"#N/A"},{"$error":"#N/A"},{"$error":"#N/A"},{"$error":"#N/A"},{"$error":"#N/A"},0,0,0,{"$error":"#N/A"},0,{"$error":"#N/A"},{"$error":"#N/A"},null,null,"2019-02-07",0,0,639,0,null,null,null,null,null,null,null,null,null,null,null,{"$error":"#N/A"},{"$error":"#N/A"}]
[{"$f":"'Multiple NPA 60'!A42","v":0},{"$f":"'Multiple NPA 60'!B42","v":0},{"$f":"'Multiple NPA 60'!C42","v":0},{"$f":"'Multiple NPA 60'!D42","v":0},{"$f":"'Multiple NPA 60'!E42","v":0},{"$f":"'Multiple NPA 60'!F42","v":0},{"$f":"'Multiple NPA 60'!G42","v":0},{"$f":"'Multiple NPA 60'!E42","v":"00:00:00"},{"$f":"'Multiple NPA 60'!F42","v":0},{"$f":"'Multiple NPA 60'!G42","v":"00:00:00"},{"$f":"'Multiple NPA 60'!H42","v":0},{"$f":"'Multiple NPA 60'!I42","v":0},{"$f":"'Multiple NPA 60'!J42","v":0},0,{"$f":"'Multiple NPA 60'!K42","v":0},{"$f":"'Multiple NPA 60'!L42","v":0},{"$error":"#N/A"},{"$error":"#N/A"},{"$error":"#N/A"},{"$error":"#N/A"},{"$error":"#N/A"},0,0,0,{"$error":"#N/A"},0,{"$error":"#N/A"},{"$error":"#N/A"},null,null,"2019-02-07",0,0,640,0,null,null,null,null,null,null,null,null,null,null,null,{"$error":"#N/A"},{"$error":"#N/A"}]
[{"$f":"'Multiple NPA 60'!A43","v":0},{"$f":"'Multiple NPA 60'!B43","v":0},{"$f":"'Multiple NPA 60'!C43","v":0},{"$f":"'Multiple NPA 60'!D43","v":0},{"$f":"'Multiple NPA 60'!E43","v":0},{"$f":"'Multiple NPA 60'!F43","v":0},{"$f":"'Multiple NPA 60'!G43","v":0},{"$f":"'Multiple NPA 60'!E43","v":"00:00:00"},{"$f":"'Multiple NPA 60'!F43","v":0},{"$f":"'Multiple NPA 60'!G43","v":"00:00:00"},{"$f":"'Multiple NPA 60'!H43","v":0},{"$f":"'Multiple NPA 60'!I43","v":0},{"$f":"'Multiple NPA 60'!J43","v":0},0,{"$f":"'Multiple NPA 60'!K43","v":0},{"$f":"'Multiple NPA 60'!L43","v":0},{"$error":"#N/A"},{"$error":"#N/A"},{"$error":"#N/A"},{"$error":"#N/A"},{"$error":"#N/A"},0,0,0,{"$error":"#N/A"},0,{"$error":"#N/A"},{"$error":"#N/A"},null,null,"2019-02-07",0,0,641,0,null,null,null,null,null,null,null,null,null,null,null,{"$error":"#N/A"},{"$error":"#N/A"}]
[{"$f":"'Multiple NPA 60'!A44","v":0},{"$f":"'Multiple NPA 60'!B44","v":0},{"$f":"'Multiple NPA 60'!C44","v":0},{"$f":"'Multiple NPA 60'!D44","v":0},{"$f":"'Multiple NPA 60'!E44","v":0},{"$f":"'Multiple NPA 60'!F44","v":0},{"$f":"'Multiple NPA 60'!G44","v":0},{"$f":"'Multiple NPA 60'!E44","v":"00:00:00"},{"$f":"'Multiple NPA 60'!F44","v":0},{"$f":"'Multiple NPA 60'!G44","v":"00:00:00"},{"$f":"'Multiple NPA 60'!H44","v":0},{"$f":"'Multiple NPA 60'!I44","v":0},{"$f":"'Multiple NPA 60'!J44","v":0},0,{"$f":"'Multiple NPA 60'!K44","v":0},{"$f":"'Multiple NPA 60'!L44","v":0},{"$error":"#N/A"},{"$error":"#N/A"},{"$error":"#N/A"},{"$error":"#N/A"},{"$error":"#N/A"},0,0,0,{"$error":"#N/A"},0,{"$error":"#N/A"},{"$error":"#N/A"},null,null,"2019-02-07",0,0,642,0,null,null,null,null,null,null,null,null,null,null,null,{"$error":"#N/A"},{"$error":"#N/A"}]
[{"$f":"'Multiple NPA 60'!A45","v":0},{"$f":"'Multiple NPA 60'!B45","v":0},{"$f":"'Multiple NPA 60'!C45","v":0},{"$f":"'Multiple NPA 60'!D45","v":0},{"$f":"'Multiple NPA 60'!E45","v":0},{"$f":"'Multiple NPA 60'!F45","v":0},{"$f":"'Multiple NPA 60'!G45","v":0},{"$f":"'Multiple NPA 60'!E45","v":"00:00:00"},{"$f":"'Multiple NPA 60'!F45","v":0},{"$f":"'Multiple NPA 60'!G45","v":"00:00:00"},{"$f":"'Multiple NPA 60'!H45","v":0},{"$f":"'Multiple NPA 60'!I45","v":0},{"$f":"'Multiple NPA 60'!J45","v":0},0,{"$f":"'Multiple NPA 60'!K45","v":0},{"$f":"'Multiple NPA 60'!L45","v":0},{"$error":"#N/A"},{"$error":"#N/A"},{"$error":"#N/A"},{"$error":"#N/A"},{"$error":"#N/A"},0,0,0,{"$error":"#N/A"},0,{"$error":"#N/A"},{"$error":"#N/A"},null,null,"2019-02-07",0,0,643,0,null,null,null,null,null,null,null,null,null,null,null,{"$error":"#N/A"},{"$error":"#N/A"}]
[{"$f":"'Multiple NPA 60'!A46","v":0},{"$f":"'Multiple NPA 60'!B46","v":0},{"$f":"'Multiple NPA 60'!C46","v":0},{"$f":"'Multiple NPA 60'!D46","v":0},{"$f":"'Multiple NPA 60'!E46","v":0},{"$f":"'Multiple NPA 60'!F46","v":0},{"$f":"'Multiple NPA 60'!G46","v":0},{"$f":"'Multiple NPA 60'!E46","v":"00:00:00"},{"$f":"'Multiple NPA 60'!F46","v":0},{"$f":"'Multiple NPA 60'!G46","v":"00:00:00"},{"$f":"'Multiple NPA 60'!H46","v":0},{"$f":"'Multiple NPA 60'!I46","v":0},{"$f":"'Multiple NPA 60'!J46","v":0},0,{"$f":"'Multiple NPA 60'!K46","v":0},{"$f":"'Multiple NPA 60'!L46","v":0},{"$error":"#N/A"},{"$error":"#N/A"},{"$error":"#N/A"},{"$error":"#N/A"},{"$error":"#N/A"},0,0,0,{"$error":"#N/A"},0,{"$error":"#N/A"},{"$error":"#N/A"},null,null,"2019-02-07",0,0,644,0,null,null,null,null,null,null,null,null,null,null,null,{"$error":"#N/A"},{"$error":"#N/A"}]
[{"$f":"'Multiple NPA 60'!A47","v":0},{"$f":"'Multiple NPA 60'!B47","v":0},{"$f":"'Multiple NPA 60'!C47","v":0},{"$f":"'Multiple NPA 60'!D47","v":0},{"$f":"'Multiple NPA 60'!E47","v":0},{"$f":"'Multiple NPA 60'!F47","v":0},{"$f":"'Multiple NPA 60'!G47","v":0},{"$f":"'Multiple NPA 60'!E47","v":"00:00:00"},{"$f":"'Multiple NPA 60'!F47","v":0},{"$f":"'Multiple NPA 60'!G47","v":"00:00:00"},{"$f":"'Multiple NPA 60'!H47","v":0},{"$f":"'Multiple NPA 60'!I47","v":0},{"$f":"'Multiple NPA 60'!J47","v":0},0,{"$f":"'Multiple NPA 60'!K47","v":0},{"$f":"'Multiple NPA 60'!L47","v":0},{"$error":"#N/A"},{"$error":"#N/A"},{"$error":"#N/A"},{"$error":"#N/A"},{"$error":"#N/A"},0,0,0,{"$error":"#N/A"},0,{"$error":"#N/A"},{"$error":"#N/A"},null,null,"2019-02-07",0,0,645,0,null,null,null,null,null,null,null,null,null,null,null,{"$error":"#N/A"},{"$error":"#N/A"}]
[{"$f":"'Multiple NPA 60'!A48","v":0},{"$f":"'Multiple NPA 60'!B48","v":0},{"$f":"'Multiple NPA 60'!C48","v":0},{"$f":"'Multiple NPA 60'!D48","v":0},{"$f":"'Multiple NPA 60'!E48","v":0},{"$f":"'Multiple NPA 60'!F48","v":0},{"$f":"'Multiple NPA 60'!G48","v":0},{"$f":"'Multiple NPA 60'!E48","v":"00:00:00"},{"$f":"'Multiple NPA 60'!F48","v":0},{"$f":"'Multiple NPA 60'!G48","v":"00:00:00"},{"$f":"'Multiple NPA 60'!H48","v":0},{"$f":"'Multiple NPA 60'!I48","v":0},{"$f":"'Multiple NPA 60'!J48","v":0},0,{"$f":"'Multiple NPA 60'!K48","v":0},{"$f":"'Multiple NPA 60'!L48","v":0},{"$error":"#N/A"},{"$error":"#N/A"},{"$error":"#N/A"},{"$error":"#N/A"},{"$error":"#N/A"},0,0,0,{"$error":"#N/A"},0,{"$error":"#N/A"},{"$error":"#N/A"},null,null,"2019-02-07",0,0,646,0,null,null,null,null,null,null,null,null,null,null,null,{"$error":"#N/A"},{"$error":"#N/A"}]
[{"$f":"'Multiple NPA 60'!A49","v":0},{"$f":"'Multiple NPA 60'!B49","v":0},{"$f":"'Multiple NPA 60'!C49","v":0},{"$f":"'Multiple NPA 60'!D49","v":0},{"$f":"'Multiple NPA 60'!E49","v":0},{"$f":"'Multiple NPA 60'!F49","v":0},{"$f":"'Multiple NPA 60'!G49","v":0},{"$f":"'Multiple NPA 60'!E49","v":"00:00:00"},{"$f":"'Multiple NPA 60'!F49","v":0},{"$f":"'Multiple NPA 60'!G49","v":"00:00:00"},{"$f":"'Multiple NPA 60'!H49","v":0},{"$f":"'Multiple NPA 60'!I49","v":0},{"$f":"'Multiple NPA 60'!J49","v":0},0,{"$f":"'Multiple NPA 60'!K49","v":0},{"$f":"'Multiple NPA 60'!L49","v":0},{"$error":"#N/A"},{"$error":"#N/A"},{"$error":"#N/A"},{"$error":"#N/A"},{"$error":"#N/A"},0,0,0,{"$error":"#N/A"},0,{"$error":"#N/A"},{"$error":"#N/A"},null,null,"2019-02-07",0,0,647,0,null,null,null,null,null,null,null,null,null,null,null,{"$error":"#N/A"},{"$error":"#N/A"}]
[{"$f":"'Multiple NPA 60'!A50","v":0},{"$f":"'Multiple NPA 60'!B50","v":0},{"$f":"'Multiple NPA 60'!C50","v":0},{"$f":"'Multiple NPA 60'!D50","v":0},{"$f":"'Multiple NPA 60'!E50","v":0},{"$f":"'Multiple NPA 60'!F50","v":0},{"$f":"'Multiple NPA 60'!G50","v":0},{"$f":"'Multiple NPA 60'!E50","v":"00:00:00"},{"$f":"'Multiple NPA 60'!F50","v":0},{"$f":"'Multiple NPA 60'!G50","v":"00:00:00"},{"$f":"'Multiple NPA 60'!H50","v":0},{"$f":"'Multiple NPA 60'!I50","v":0},{"$f":"'Multiple NPA 60'!J50","v":0},0,{"$f":"'Multiple NPA 60'!K50","v":0},{"$f":"'Multiple NPA 60'!L50","v":0},{"$error":"#N/A"},{"$error":"#N/A"},{"$error":"#N/A"},{"$error":"#N/A"},{"$error":"#N/A"},0,0,0,{"$error":"#N/A"},0,{"$error":"#N/A"},{"$error":"#N/A"},null,null,"2019-02-07",0,0,648,0,null,null,null,null,null,null,null,null,null,null,null,{"$error":"#N/A"},{"$error":"#N/A"}]
[{"$f":"'Multiple NPA 60'!A51","v":0},{"$f":"'Multiple NPA 60'!B51","v":0},{"$f":"'Multiple NPA 60'!C51","v":0},{"$f":"'Multiple NPA 60'!D51","v":0},{"$f":"'Multiple NPA 60'!E51","v":0},{"$f":"'Multiple NPA 60'!F51","v":0},{"$f":"'Multiple NPA 60'!G51","v":0},{"$f":"'Multiple NPA 60'!E51","v":"00:00:00"},{"$f":"'Multiple NPA 60'!F51","v":0},{"$f":"'Multiple NPA 60'!G51","v":"00:00:00"},{"$f":"'Multiple NPA 60'!H51","v":0},{"$f":"'Multiple NPA 60'!I51","v":0},{"$f":"'Multiple NPA 60'!J51","v":0},0,{"$f":"'Multiple NPA 60'!K51","v":0},{"$f":"'Multiple NPA 60'!L51","v":0},{"$error":"#N/A"},{"$error":"#N/A"},{"$error":"#N/A"},{"$error":"#N/A"},{"$error":"#N/A"},0,0,0,{"$error":"#N/A"},0,{"$error":"#N/A"},{"$error":"#N/A"},null,null,"2019-02-07",0,0,649,0,null,null,null,null,null,null,null,null,null,null,null,{"$error":"#N/A"},{"$error":"#N/A"}]
[{"$f":"'Multiple NPA 60'!A52","v":0},{"$f":"'Multiple NPA 60'!B52","v":0},{"$f":"'Multiple NPA 60'!C52","v":0},{"$f":"'Multiple NPA 60'!D52","v":0},{"$f":"'Multiple NPA 60'!E52","v":0},{"$f":"'Multiple NPA 60'!F52","v":0},{"$f":"'Multiple NPA 60'!G52","v":0},{"$f":"'Multiple NPA 60'!E52","v":"00:00:00"},{"$f":"'Multiple NPA 60'!F52","v":0},{"$f":"'Multiple NPA 60'!G52","v":"00:00:00"},{"$f":"'Multiple NPA 60'!H52","v":0},{"$f":"'Multiple NPA 60'!I52","v":0},{"$f":"'Multiple NPA 60'!J52","v":0},0,{"$f":"'Multiple NPA 60'!K52","v":0},{"$f":"'Multiple NPA 60'!L52","v":0},{"$error":"#N/A"},{"$error":"#N/A"},{"$error":"#N/A"},{"$error":"#N/A"},{"$error":"#N/A"},0,0,0,{"$error":"#N/A"},0,{"$error":"#N/A"},{"$error":"#N/A"},null,null,"2019-02-07",0,0,650,0,null,null,null,null,null,null,null,null,null,null,null,{"$error":"#N/A"},{"$error":"#N/A"}]
[{"$f":"'Multiple NPA 60'!A53","v":0},{"$f":"'Multiple NPA 60'!B53","v":0},{"$f":"'Multiple NPA 60'!C53","v":0},{"$f":"'Multiple NPA 60'!D53","v":0},{"$f":"'Multiple NPA 60'!E53","v":0},{"$f":"'Multiple NPA 60'!F53","v":0},{"$f":"'Multiple NPA 60'!G53","v":0},{"$f":"'Multiple NPA 60'!E53","v":"00:00:00"},{"$f":"'Multiple NPA 60'!F53","v":0},{"$f":"'Multiple NPA 60'!G53","v":"00:00:00"},{"$f":"'Multiple NPA 60'!H53","v":0},{"$f":"'Multiple NPA 60'!I53","v":0},{"$f":"'Multiple NPA 60'!J53","v":0},0,{"$f":"'Multiple NPA 60'!K53","v":0},{"$f":"'Multiple NPA 60'!L53","v":0},{"$error":"#N/A"},{"$error":"#N/A"},{"$error":"#N/A"},{"$error":"#N/A"},{"$error":"#N/A"},0,0,0,{"$error":"#N/A"},0,{"$error":"#N/A"},{"$error":"#N/A"},null,null,"2019-02-07",0,0,651,0,null,null,null,null,null,null,null,null,null,null,null,{"$error":"#N/A"},{"$error":"#N/A"}]
[{"$f":"'Multiple NPA 60'!A54","v":0},{"$f":"'Multiple NPA 60'!B54","v":0},{"$f":"'Multiple NPA 60'!C54","v":0},{"$f":"'Multiple NPA 60'!D54","v":0},{"$f":"'Multiple NPA 60'!E54","v":0},{"$f":"'Multiple NPA 60'!F54","v":0},{"$f":"'Multiple NPA 60'!G54","v":0},{"$f":"'Multiple NPA 60'!E54","v":"00:00:00"},{"$f":"'Multiple NPA 60'!F54","v":0},{"$f":"'Multiple NPA 60'!G54","v":"00:00:00"},{"$f":"'Multiple NPA 60'!H54","v":0},{"$f":"'Multiple NPA 60'!I54","v":0},{"$f":"'Multiple NPA 60'!J54","v":0},0,{"$f":"'Multiple NPA 60'!K54","v":0},{"$f":"'Multiple NPA 60'!L54","v":0},{"$error":"#N/A"},{"$error":"#N/A"},{"$error":"#N/A"},{"$error":"#N/A"},{"$error":"#N/A"},0,0,0,{"$error":"#N/A"},0,{"$error":"#N/A"},{"$error":"#N/A"},null,null,"2019-02-07",0,0,652,0,null,null,null,null,null,null,null,null,null,null,null,{"$error":"#N/A"},{"$error":"#N/A"}]
[{"$f":"'Multiple NPA 60'!A55","v":0},{"$f":"'Multiple NPA 60'!B55","v":0},{"$f":"'Multiple NPA 60'!C55","v":0},{"$f":"'Multiple NPA 60'!D55","v":0},{"$f":"'Multiple NPA 60'!E55","v":0},{"$f":"'Multiple NPA 60'!F55","v":0},{"$f":"'Multiple NPA 60'!G55","v":0},{"$f":"'Multiple NPA 60'!E55","v":"00:00:00"},{"$f":"'Multiple NPA 60'!F55","v":0},{"$f":"'Multiple NPA 60'!G55","v":"00:00:00"},{"$f":"'Multiple NPA 60'!H55","v":0},{"$f":"'Multiple NPA 60'!I55","v":0},{"$f":"'Multiple NPA 60'!J55","v":0},0,{"$f":"'Multiple NPA 60'!K55","v":0},{"$f":"'Multiple NPA 60'!L55","v":0},{"$error":"#N/A"},{"$error":"#N/A"},{"$error":"#N/A"},{"$error":"#N/A"},{"$error":"#N/A"},0,0,0,{"$error":"#N/A"},0,{"$error":"#N/A"},{"$error":"#N/A"},null,null,"2019-02-07",0,0,653,0,null,null,null,null,null,null,null,null,null,null,null,{"$error":"#N/A"},{"$error":"#N/A"}]
[{"$f":"'Multiple NPA 60'!A56","v":0},{"$f":"'Multiple NPA 60'!B56","v":0},{"$f":"'Multiple NPA 60'!C56","v":0},{"$f":"'Multiple NPA 60'!D56","v":0},{"$f":"'Multiple NPA 60'!E56","v":0},{"$f":"'Multiple NPA 60'!F56","v":0},{"$f":"'Multiple NPA 60'!G56","v":0},{"$f":"'Multiple NPA 60'!E56","v":"00:00:00"},{"$f":"'Multiple NPA 60'!F56","v":0},{"$f":"'Multiple NPA 60'!G56","v":"00:00:00"},{"$f":"'Multiple NPA 60'!H56","v":0},{"$f":"'Multiple NPA 60'!I56","v":0},{"$f":"'Multiple NPA 60'!J56","v":0},0,{"$f":"'Multiple NPA 60'!K56","v":0},{"$f":"'Multiple NPA 60'!L56","v":0},{"$error":"#N/A"},{"$error":"#N/A"},{"$error":"#N/A"},{"$error":"#N/A"},{"$error":"#N/A"},0,0,0,{"$error":"#N/A"},0,{"$error":"#N/A"},{"$error":"#N/A"},null,null,"2019-02-07",0,0,654,0,null,null,null,null,null,null,null,null,null,null,null,{"$error":"#N/A"},{"$error":"#N/A"}]
[{"$f":"'Multiple NPA 60'!A57","v":0},{"$f":"'Multiple NPA 60'!B57","v":0},{"$f":"'Multiple NPA 60'!C57","v":0},{"$f":"'Multiple NPA 60'!D57","v":0},{"$f":"'Multiple NPA 60'!E57","v":0},{"$f":"'Multiple NPA 60'!F57","v":0},{"$f":"'Multiple NPA 60'!G57","v":0},{"$f":"'Multiple NPA 60'!E57","v":"00:00:00"},{"$f":"'Multiple NPA 60'!F57","v":0},{"$f":"'Multiple NPA 60'!G57","v":"00:00:00"},{"$f":"'Multiple NPA 60'!H57","v":0},{"$f":"'Multiple NPA 60'!I57","v":0},{"$f":"'Multiple NPA 60'!J57","v":0},0,{"$f":"'Multiple NPA 60'!K57","v":0},{"$f":"'Multiple NPA 60'!L57","v":0},{"$error":"#N/A"},{"$error":"#N/A"},{"$error":"#N/A"},{"$error":"#N/A"},{"$error":"#N/A"},0,0,0,{"$error":"#N/A"},0,{"$error":"#N/A"},{"$error":"#N/A"},null,null,"2019-02-07",0,0,655,0,null,null,null,null,null,null,null,null,null,null,null,{"$error":"#N/A"},{"$error":"#N/A"}]
[{"$f":"'Multiple NPA 60'!A58","v":0},{"$f":"'Multiple NPA 60'!B58","v":0},{"$f":"'Multiple NPA 60'!C58","v":0},{"$f":"'Multiple NPA 60'!D58","v":0},{"$f":"'Multiple NPA 60'!E58","v":0},{"$f":"'Multiple NPA 60'!F58","v":0},{"$f":"'Multiple NPA 60'!G58","v":0},{"$f":"'Multiple NPA 60'!E58","v":"00:00:00"},{"$f":"'Multiple NPA 60'!F58","v":0},{"$f":"'Multiple NPA 60'!G58","v":"00:00:00"},{"$f":"'Multiple NPA 60'!H58","v":0},{"$f":"'Multiple NPA 60'!I58","v":0},{"$f":"'Multiple NPA 60'!J58","v":0},0,{"$f":"'Multiple NPA 60'!K58","v":0},{"$f":"'Multiple NPA 60'!L58","v":0},{"$error":"#N/A"},{"$error":"#N/A"},{"$error":"#N/A"},{"$error":"#N/A"},{"$error":"#N/A"},0,0,0,{"$error":"#N/A"},0,{"$error":"#N/A"},{"$error":"#N/A"},null,null,"2019-02-07",0,0,656,0,null,null,null,null,null,null,null,null,null,null,null,{"$error":"#N/A"},{"$error":"#N/A"}]
[{"$f":"'Multiple NPA 60'!A59","v":0},{"$f":"'Multiple NPA 60'!B59","v":0},{"$f":"'Multiple NPA 60'!C59","v":0},{"$f":"'Multiple NPA 60'!D59","v":0},{"$f":"'Multiple NPA 60'!E59","v":0},{"$f":"'Multiple NPA 60'!F59","v":0},{"$f":"'Multiple NPA 60'!G59","v":0},{"$f":"'Multiple NPA 60'!E59","v":"00:00:00"},{"$f":"'Multiple NPA 60'!F59","v":0},{"$f":"'Multiple NPA 60'!G59","v":"00:00:00"},{"$f":"'Multiple NPA 60'!H59","v":0},{"$f":"'Multiple NPA 60'!I59","v":0},{"$f":"'Multiple NPA 60'!J59","v":0},0,{"$f":"'Multiple NPA 60'!K59","v":0},{"$f":"'Multiple NPA 60'!L59","v":0},{"$error":"#N/A"},{"$error":"#N/A"},{"$error":"#N/A"},{"$error":"#N/A"},{"$error":"#N/A"},0,0,0,{"$error":"#N/A"},0,{"$error":"#N/A"},{"$error":"#N/A"},null,null,"2019-02-07",0,0,657,0,null,null,null,null,null,null,null,null,null,null,null,{"$error":"#N/A"},{"$error":"#N/A"}]
[{"$f":"'Multiple NPA 60'!A60","v":0},{"$f":"'Multiple NPA 60'!B60","v":0},{"$f":"'Multiple NPA 60'!C60","v":0},{"$f":"'Multiple NPA 60'!D60","v":0},{"$f":"'Multiple NPA 60'!E60","v":0},{"$f":"'Multiple NPA 60'!F60","v":0},{"$f":"'Multiple NPA 60'!G60","v":0},{"$f":"'Multiple NPA 60'!E60","v":"00:00:00"},{"$f":"'Multiple NPA 60'!F60","v":0},{"$f":"'Multiple NPA 60'!G60","v":"00:00:00"},{"$f":"'Multiple NPA 60'!H60","v":0},{"$f":"'Multiple NPA 60'!I60","v":0},{"$f":"'Multiple NPA 60'!J60","v":0},0,{"$f":"'Multiple NPA 60'!K60","v":0},{"$f":"'Multiple NPA 60'!L60","v":0},{"$error":"#N/A"},{"$error":"#N/A"},{"$error":"#N/A"},{"$error":"#N/A"},{"$error":"#N/A"},0,0,0,{"$error":"#N/A"},0,{"$error":"#N/A"},{"$error":"#N/A"},null,null,"2019-02-07",0,0,658,0,null,null,null,null,null,null,null,null,null,null,null,{"$error":"#N/A"},{"$error":"#N/A"}]
[{"$f":"'Multiple NPA 60'!A61","v":0},{"$f":"'Multiple NPA 60'!B61","v":0},{"$f":"'Multiple NPA 60'!C61","v":0},{"$f":"'Multiple NPA 60'!D61","v":0},{"$f":"'Multiple NPA 60'!E61","v":0},{"$f":"'Multiple NPA 60'!F61","v":0},{"$f":"'Multiple NPA 60'!G61","v":0},{"$f":"'Multiple NPA 60'!E61","v":"00:00:00"},{"$f":"'Multiple NPA 60'!F61","v":0},{"$f":"'Multiple NPA 60'!G61","v":"00:00:00"},{"$f":"'Multiple NPA 60'!H61","v":0},{"$f":"'Multiple NPA 60'!I61","v":0},{"$f":"'Multiple NPA 60'!J61","v":0},0,{"$f":"'Multiple NPA 60'!K61","v":0},{"$f":"'Multiple NPA 60'!L61","v":0},{"$error":"#N/A"},{"$error":"#N/A"},{"$error":"#N/A"},{"$error":"#N/A"},{"$error":"#N/A"},0,0,0,{"$error":"#N/A"},0,{"$error":"#N/A"},{"$error":"#N/A"},null,null,"2019-02-07",0,0,659,0,null,null,null,null,null,null,null,null,null,null,null,{"$error":"#N/A"},{"$error":"#N/A"}]
[{"$f":"'Multiple NPA 60'!A62","v":0},{"$f":"'Multiple NPA 60'!B62","v":0},{"$f":"'Multiple NPA 60'!C62","v":0},{"$f":"'Multiple NPA 60'!D62","v":0},{"$f":"'Multiple NPA 60'!E62","v":0},{"$f":"'Multiple NPA 60'!F62","v":0},{"$f":"'Multiple NPA 60'!G62","v":0},{"$f":"'Multiple NPA 60'!E62","v":"00:00:00"},{"$f":"'Multiple NPA 60'!F62","v":0},{"$f":"'Multiple NPA 60'!G62","v":"00:00:00"},{"$f":"'Multiple NPA 60'!H62","v":0},{"$f":"'Multiple NPA 60'!I62","v":0},{"$f":"'Multiple NPA 60'!J62","v":0},0,{"$f":"'Multiple NPA 60'!K62","v":0},{"$f":"'Multiple NPA 60'!L62","v":0},{"$error":"#N/A"},{"$error":"#N/A"},{"$error":"#N/A"},{"$error":"#N/A"},{"$error":"#N/A"},0,0,0,{"$error":"#N/A"},0,{"$error":"#N/A"},{"$error":"#N/A"},null,null,"2019-02-07",0,0,660,0.80800000000000005,null,null,null,null,null,null,null,null,null,null,null,{"$error":"#N/A"},{"$error":"#N/A"}]
[{"$f":"'Multiple NPA 60'!A63","v":0},{"$f":"'Multiple NPA 60'!B63","v":0},{"$f":"'Multiple NPA 60'!C63","v":0},{"$f":"'Multiple NPA 60'!D63","v":0},{"$f":"'Multiple NPA 60'!E63","v":0},{"$f":"'Multiple NPA 60'!F63","v":0},{"$f":"'Multiple NPA 60'!G63","v":0},{"$f":"'Multiple NPA 60'!E63","v":"00:00:00"},{"$f":"'Multiple NPA 60'!F63","v":0},{"$f":"'Multiple NPA 60'!G63","v":"00:00:00"},{"$f":"'Multiple NPA 60'!H63","v":0},{"$f":"'Multiple NPA 60'!I63","v":0},{"$f":"'Multiple NPA 60'!J63","v":0},0,{"$f":"'Multiple NPA 60'!K63","v":0},{"$f":"'Multiple NPA 60'!L63","v":0},{"$error":"#N/A"},{"$error":"#N/A"},{"$error":"#N/A"},{"$error":"#N/A"},{"$error":"#N/A"},0,0,0,{"$error":"#N/A"},0,{"$error":"#N/A"},{"$error":"#N/A"},null,null,"2019-02-07",0,0,661,0.81100000000000005,null,null,null,null,null,null,null,null,null,null,null,{"$error":"#N/A"},{"$error":"#N/A"}]
[{"$f":"'Multiple NPA 60'!A64","v":0},{"$f":"'Multiple NPA 60'!B64","v":0},{"$f":"'Multiple NPA 60'!C64","v":0},{"$f":"'Multiple NPA 60'!D64","v":0},{"$f":"'Multiple NPA 60'!E64","v":0},{"$f":"'Multiple NPA 60'!F64","v":0},{"$f":"'Multiple NPA 60'!G64","v":0},{"$f":"'Multiple NPA 60'!E64","v":"00:00:00"},{"$f":"'Multiple NPA 60'!F64","v":0},{"$f":"'Multiple NPA 60'!G64","v":"00:00:00"},{"$f":"'Multiple NPA 60'!H64","v":0},{"$f":"'Multiple NPA 60'!I64","v":0},{"$f":"'Multiple NPA 60'!J64","v":0},0,{"$f":"'Multiple NPA 60'!K64","v":0},{"$f":"'Multiple NPA 60'!L64","v":0},{"$error":"#N/A"},{"$error":"#N/A"},{"$error":"#N/A"},{"$error":"#N/A"},{"$error":"#N/A"},0,0,0,{"$error":"#N/A"},0,{"$error":"#N/A"},{"$error":"#N/A"},null,null,"2019-02-07",0,0,662,0.81399999999999995,null,null,null,null,null,null,null,null,null,null,null,{"$error":"#N/A"},{"$error":"#N/A"}]
[{"$f":"'Multiple NPA 60'!A65","v":0},{"$f":"'Multiple NPA 60'!B65","v":0},{"$f":"'Multiple NPA 60'!C65","v":0},{"$f":"'Multiple NPA 60'!D65","v":0},{"$f":"'Multiple NPA 60'!E65","v":0},{"$f":"'Multiple NPA 60'!F65","v":0},{"$f":"'Multiple NPA 60'!G65","v":0},{"$f":"'Multiple NPA 60'!E65","v":"00:00:00"},{"$f":"'Multiple NPA 60'!F65","v":0},{"$f":"'Multiple NPA 60'!G65","v":"00:00:00"},{"$f":"'Multiple NPA 60'!H65","v":0},{"$f":"'Multiple NPA 60'!I65","v":0},{"$f":"'Multiple NPA 60'!J65","v":0},0,{"$f":"'Multiple NPA 60'!K65","v":0},{"$f":"'Multiple NPA 60'!L65","v":0},{"$error":"#N/A"},{"$error":"#N/A"},{"$error":"#N/A"},{"$error":"#N/A"},{"$error":"#N/A"},0,0,0,{"$error":"#N/A"},0,{"$error":"#N/A"},{"$error":"#N/A"},null,null,"2019-02-07",0,0,663,0.81699999999999995,null,null,null,null,null,null,null,null,null,null,null,{"$error":"#N/A"},{"$error":"#N/A"}]
[{"$f":"'Multiple NPA 60'!A66","v":0},{"$f":"'Multiple NPA 60'!B66","v":0},{"$f":"'Multiple NPA 60'!C66","v":0},{"$f":"'Multiple NPA 60'!D66","v":0},{"$f":"'Multiple NPA 60'!E66","v":0},{"$f":"'Multiple NPA 60'!F66","v":0},{"$f":"'Multiple NPA 60'!G66","v":0},{"$f":"'Multiple NPA 60'!E66","v":"00:00:00"},{"$f":"'Multiple NPA 60'!F66","v":0},{"$f":"'Multiple NPA 60'!G66","v":"00:00:00"},{"$f":"'Multiple NPA 60'!H66","v":0},{"$f":"'Multiple NPA 60'!I66","v":0},{"$f":"'Multiple NPA 60'!J66","v":0},0,{"$f":"'Multiple NPA 60'!K66","v":0},{"$f":"'Multiple NPA 60'!L66","v":0},{"$error":"#N/A"},{"$error":"#N/A"},{"$error":"#N/A"},{"$error":"#N/A"},{"$error":"#N/A"},0,0,0,{"$error":"#N/A"},0,{"$error":"#N/A"},{"$error":"#N/A"},null,null,"2019-02-07",0,0,664,0.81899999999999995,null,null,null,null,null,null,null,null,null,null,null,{"$error":"#N/A"},{"$error":"#N/A"}]
[{"$f":"'Multiple NPA 60'!A67","v":0},{"$f":"'Multiple NPA 60'!B67","v":0},{"$f":"'Multiple NPA 60'!C67","v":0},{"$f":"'Multiple NPA 60'!D67","v":0},{"$f":"'Multiple NPA 60'!E67","v":0},{"$f":"'Multiple NPA 60'!F67","v":0},{"$f":"'Multiple NPA 60'!G67","v":0},{"$f":"'Multiple NPA 60'!E67","v":"00:00:00"},{"$f":"'Multiple NPA 60'!F67","v":0},{"$f":"'Multiple NPA 60'!G67","v":"00:00:00"},{"$f":"'Multiple NPA 60'!H67","v":0},{"$f":"'Multiple NPA 60'!I67","v":0},{"$f":"'Multiple NPA 60'!J67","v":0},0,{"$f":"'Multiple NPA 60'!K67","v":0},{"$f":"'Multiple NPA 60'!L67","v":0},{"$error":"#N/A"},{"$error":"#N/A"},{"$f":"(((K69+(L69/365))*I69)/80)-Q69","v":{"$error":"#N/A"}},{"$error":"#N/A"},{"$error":"#N/A"},0,0,0,{"$error":"#N/A"},0,{"$error":"#N/A"},{"$error":"#N/A"},null,null,"2019-02-07",0,0,665,0.82199999999999995,null,null,null,null,null,null,null,null,null,null,null,{"$error":"#N/A"},{"$error":"#N/A"}]
[{"$f":"'Multiple NPA 60'!A68","v":0},{"$f":"'Multiple NPA 60'!B68","v":0},{"$f":"'Multiple NPA 60'!C68","v":0},{"$f":"'Multiple NPA 60'!D68","v":0},{"$f":"'Multiple NPA 60'!E68","v":0},{"$f":"'Multiple NPA 60'!F68","v":0},{"$f":"'Multiple NPA 60'!G68","v":0},{"$f":"'Multiple NPA 60'!E68","v":"00:00:00"},{"$f":"'Multiple NPA 60'!F68","v":0},{"$f":"'Multiple NPA 60'!G68","v":"00:00:00"},{"$f":"'Multiple NPA 60'!H68","v":0},{"$f":"'Multiple NPA 60'!I68","v":0},{"$f":"'Multiple NPA 60'!J68","v":0},{"$f":"O70+(P70/365)","v":0},{"$f":"'Multiple NPA 60'!K68","v":0},{"$f":"'Multiple NPA 60'!L68","v":0},{"$f":"VLOOKUP(AF70,$AH$4:$AI$244,2,FALSE)*(((K70+(L70/365))*I70)/80)","v":{"$error":"#N/A"}},{"$f":"Q70*3","v":{"$error":"#N/A"}},{"$error":"#N/A"},{"$error":"#N/A"},{"$error":"#N/A"},{"$f":"((O70+(P70/365))*I70)/80","v":0},{"$f":"V70/2","v":0},{"$f":"V70*3","v":0},{"$f":"IF(M70>1,(((VLOOKUP(AG70,$AM$5:$AN$25,2,FALSE)*I70)/80)*N70)+(((VLOOKUP(AG70,$AR$5:$AS$25,2,FALSE)*I70)/160)*N70),((((VLOOKUP(AG70,$AK$5:$AL$25,2,FALSE)*I70)/80)*N70))+(((VLOOKUP(AG70,$AP$5:$AQ$25,2,FALSE)*I70)/160)*N70))+(((N70*I70)/80)*3)","v":{"$error":"#N/A"}},0,{"$f":"SUM(Q70-AV70)","v":{"$error":"#N/A"}},{"$f":"SUM(AV70*12)+R70","v":{"$error":"#N/A"}},null,null,{"$f":"TODAY()","v":"2019-02-07"},0,{"$f":"(DATEDIF(H70, J70, \"Y\"))","v":0},666,0.82499999999999996,null,null,null,null,null,null,null,null,null,null,null,{"$error":"#N/A"},{"$error":"#N/A"}]
[{"$f":"'Multiple NPA 60'!A69","v":0},{"$f":"'Multiple NPA 60'!B69","v":0},{"$f":"'Multiple NPA 60'!C69","v":0},{"$f":"'Multiple NPA 60'!D69","v":0},{"$f":"'Multiple NPA 60'!E69","v":0},{"$f":"'Multiple NPA 60'!F69","v":0},{"$f":"'Multiple NPA 60'!G69","v":0},{"$f":"'Multiple NPA 60'!E69","v":"00:00:00"},{"$f":"'Multiple NPA 60'!F69","v":0},{"$f":"'Multiple NPA 60'!G69","v":"00:00:00"},{"$f":"'Multiple NPA 60'!H69","v":0},{"$f":"'Multiple NPA 60'!I69","v":0},{"$f":"'Multiple NPA 60'!J69","v":0},0,{"$f":"'Multiple NPA 60'!K69","v":0},{"$f":"'Multiple NPA 60'!L69","v":0},{"$error":"#N/A"},{"$error":"#N/A"},{"$error":"#N/A"},{"$f":"S71*3","v":{"$error":"#N/A"}},{"$f":"IF(M71>1,(((VLOOKUP(AG71, $AM$5:$AN$25,2,FALSE)*S71)))+(S71*3),(((VLOOKUP(AG71,$AK$5:$AL$25,2,FALSE)*S71)))+(S71*3))","v":{"$error":"#N/A"}},0,0,0,{"$error":"#N/A"},0,{"$error":"#N/A"},{"$error":"#N/A"},null,null,"2019-02-07",0,0,667,0.82799999999999996,null,null,null,null,null,null,null,null,null,null,null,{"$error":"#N/A"},{"$error":"#N/A"}]
[{"$f":"'Multiple NPA 60'!A70","v":0},{"$f":"'Multiple NPA 60'!B70","v":0},{"$f":"'Multiple NPA 60'!C70","v":0},{"$f":"'Multiple NPA 60'!D70","v":0},{"$f":"'Multiple NPA 60'!E70","v":0},{"$f":"'Multiple NPA 60'!F70","v":0},{"$f":"'Multiple NPA 60'!G70","v":0},{"$f":"'Multiple NPA 60'!E70","v":"00:00:00"},{"$f":"'Multiple NPA 60'!F70","v":0},{"$f":"'Multiple NPA 60'!G70","v":"00:00:00"},{"$f":"'Multiple NPA 60'!H70","v":0},{"$f":"'Multiple NPA 60'!I70","v":0},{"$f":"'Multiple NPA 60'!J70","v":0},0,{"$f":"'Multiple NPA 60'!K70","v":0},{"$f":"'Multiple NPA 60'!L70","v":0},{"$error":"#N/A"},{"$error":"#N/A"},{"$error":"#N/A"},{"$error":"#N/A"},{"$error":"#N/A"},0,0,0,{"$error":"#N/A"},0,{"$error":"#N/A"},{"$error":"#N/A"},null,null,"2019-02-07",{"$f":"(DATEDIF(H72, J72, \"M\"))","v":0},0,668,0.83099999999999996,null,null,null,null,null,null,null,null,null,null,null,{"$error":"#N/A"},{"$error":"#N/A"}]
[{"$f":"'Multiple NPA 60'!A71","v":0},{"$f":"'Multiple NPA 60'!B71","v":0},{"$f":"'Multiple NPA 60'!C71","v":0},{"$f":"'Multiple NPA 60'!D71","v":0},{"$f":"'Multiple NPA 60'!E71","v":0},{"$f":"'Multiple NPA 60'!F71","v":0},{"$f":"'Multiple NPA 60'!G71","v":0},{"$f":"'Multiple NPA 60'!E71","v":"00:00:00"},{"$f":"'Multiple NPA 60'!F71","v":0},{"$f":"'Multiple NPA 60'!G71","v":"00:00:00"},{"$f":"'Multiple NPA 60'!H71","v":0},{"$f":"'Multiple NPA 60'!I71","v":0},{"$f":"'Multiple NPA 60'!J71","v":0},0,{"$f":"'Multiple NPA 60'!K71","v":0},{"$f":"'Multiple NPA 60'!L71","v":0},{"$error":"#N/A"},{"$error":"#N/A"},{"$error":"#N/A"},{"$error":"#N/A"},{"$error":"#N/A"},0,0,0,{"$error":"#N/A"},{"$f":"(SUMIF(U73:Y73,\">0\",U73:Y73))-(V73+X73+W73)","v":0},{"$error":"#N/A"},{"$error":"#N/A"},null,null,"2019-02-07",0,0,669,0.83399999999999996,null,null,null,null,null,null,null,null,null,null,null,{"$error":"#N/A"},{"$error":"#N/A"}]
[{"$f":"'Multiple NPA 60'!A72","v":0},{"$f":"'Multiple NPA 60'!B72","v":0},{"$f":"'Multiple NPA 60'!C72","v":0},{"$f":"'Multiple NPA 60'!D72","v":0},{"$f":"'Multiple NPA 60'!E72","v":"00:00:00"},{"$f":"'Multiple NPA 60'!F72","v":0},{"$f":"'Multiple NPA 60'!G72","v":0},{"$f":"'Multiple NPA 60'!E72","v":"00:00:00"},{"$f":"'Multiple NPA 60'!F72","v":0},{"$f":"'Multiple NPA 60'!G72","v":"00:00:00"},{"$f":"'Multiple NPA 60'!H72","v":0},{"$f":"'Multiple NPA 60'!I72","v":0},{"$f":"'Multiple NPA 60'!J72","v":0},0,{"$f":"'Multiple NPA 60'!K72","v":0},{"$f":"'Multiple NPA 60'!L72","v":0},{"$error":"#N/A"},{"$error":"#N/A"},{"$error":"#N/A"},{"$error":"#N/A"},{"$error":"#N/A"},0,0,0,{"$error":"#N/A"},0,{"$error":"#N/A"},{"$error":"#N/A"},null,null,"2019-02-07",0,0,670,0.83599999999999997,null,null,null,null,null,null,null,null,null,null,null,{"$error":"#N/A"},{"$error":"#N/A"}]
[{"$f":"'Multiple NPA 60'!A73","v":0},{"$f":"'Multiple NPA 60'!B73","v":0},{"$f":"'Multiple NPA 60'!C73","v":0},{"$f":"'Multiple NPA 60'!D73","v":0},{"$f":"'Multiple NPA 60'!E73","v":"00:00:00"},{"$f":"'Multiple NPA 60'!F73","v":0},{"$f":"'Multiple NPA 60'!G73","v":0},{"$f":"'Multiple NPA 60'!E73","v":"00:00:00"},{"$f":"'Multiple NPA 60'!F73","v":0},{"$f":"'Multiple NPA 60'!G73","v":"00:00:00"},{"$f":"'Multiple NPA 60'!H73","v":0},{"$f":"'Multiple NPA 60'!I73","v":0},{"$f":"'Multiple NPA 60'!J73","v":0},0,{"$f":"'Multiple NPA 60'!K73","v":0},{"$f":"'Multiple NPA 60'!L73","v":0},{"$error":"#N/A"},{"$error":"#N/A"},{"$error":"#N/A"},{"$error":"#N/A"},{"$error":"#N/A"},0,0,0,{"$error":"#N/A"},0,{"$error":"#N/A"},{"$error":"#N/A"},null,null,"2019-02-07",0,0,671,0.83899999999999997,null,null,null,null,null,null,null,null,null,null,null,{"$error":"#N/A"},{"$error":"#N/A"}]
[{"$f":"'Multiple NPA 60'!A74","v":0},{"$f":"'Multiple NPA 60'!B74","v":0},{"$f":"'Multiple NPA 60'!C74","v":0},{"$f":"'Multiple NPA 60'!D74","v":0},{"$f":"'Multiple NPA 60'!E74","v":"00:00:00"},{"$f":"'Multiple NPA 60'!F74","v":0},{"$f":"'Multiple NPA 60'!G74","v":0},{"$f":"'Multiple NPA 60'!E74","v":"00:00:00"},{"$f":"'Multiple NPA 60'!F74","v":0},{"$f":"'Multiple NPA 60'!G74","v":"00:00:00"},{"$f":"'Multiple NPA 60'!H74","v":0},{"$f":"'Multiple NPA 60'!I74","v":0},{"$f":"'Multiple NPA 60'!J74","v":0},0,{"$f":"'Multiple NPA 60'!K74","v":0},{"$f":"'Multiple NPA 60'!L74","v":0},{"$error":"#N/A"},{"$error":"#N/A"},{"$error":"#N/A"},{"$error":"#N/A"},{"$error":"#N/A"},0,0,0,{"$error":"#N/A"},0,{"$error":"#N/A"},{"$error":"#N/A"},null,null,"2019-02-07",0,0,672,0.84199999999999997,null,null,null,null,null,null,null,null,null,null,null,{"$error":"#N/A"},{"$error":"#N/A"}]
[{"$f":"'Multiple NPA 60'!A75","v":0},{"$f":"'Multiple NPA 60'!B75","v":0},{"$f":"'Multiple NPA 60'!C75","v":0},{"$f":"'Multiple NPA 60'!D75","v":0},{"$f":"'Multiple NPA 60'!E75","v":"00:00:00"},{"$f":"'Multiple NPA 60'!F75","v":0},{"$f":"'Multiple NPA 60'!G75","v":0},{"$f":"'Multiple NPA 60'!E75","v":"00:00:00"},{"$f":"'Multiple NPA 60'!F75","v":0},{"$f":"'Multiple NPA 60'!G75","v":"00:00:00"},{"$f":"'Multiple NPA 60'!H75","v":0},{"$f":"'Multiple NPA 60'!I75","v":0},{"$f":"'Multiple NPA 60'!J75","v":0},0,{"$f":"'Multiple NPA 60'!K75","v":0},{"$f":"'Multiple NPA 60'!L75","v":0},{"$error":"#N/A"},{"$error":"#N/A"},{"$error":"#N/A"},{"$error":"#N/A"},{"$error":"#N/A"},0,0,0,{"$error":"#N/A"},0,{"$error":"#N/A"},{"$error":"#N/A"},null,null,"2019-02-07",0,0,673,0.84499999999999997,null,null,null,null,null,null,null,null,null,null,null,{"$error":"#N/A"},{"$error":"#N/A"}]
[{"$f":"'Multiple NPA 60'!A76","v":0},{"$f":"'Multiple NPA 60'!B76","v":0},{"$f":"'Multiple NPA 60'!C76","v":0},{"$f":"'Multiple NPA 60'!D76","v":0},{"$f":"'Multiple NPA 60'!E76","v":"00:00:00"},{"$f":"'Multiple NPA 60'!F76","v":0},{"$f":"'Multiple NPA 60'!G76","v":0},{"$f":"'Multiple NPA 60'!E76","v":"00:00:00"},{"$f":"'Multiple NPA 60'!F76","v":0},{"$f":"'Multiple NPA 60'!G76","v":"00:00:00"},{"$f":"'Multiple NPA 60'!H76","v":0},{"$f":"'Multiple NPA 60'!I76","v":0},{"$f":"'Multiple NPA 60'!J76","v":0},0,{"$f":"'Multiple NPA 60'!K76","v":0},{"$f":"'Multiple NPA 60'!L76","v":0},{"$error":"#N/A"},{"$error":"#N/A"},{"$error":"#N/A"},{"$error":"#N/A"},{"$error":"#N/A"},0,0,0,{"$error":"#N/A"},0,{"$error":"#N/A"},{"$error":"#N/A"},null,null,"2019-02-07",0,0,674,0.84799999999999998,null,null,null,null,null,null,null,null,null,null,null,{"$error":"#N/A"},{"$error":"#N/A"}]
[{"$f":"'Multiple NPA 60'!A77","v":0},{"$f":"'Multiple NPA 60'!B77","v":0},{"$f":"'Multiple NPA 60'!C77","v":0},{"$f":"'Multiple NPA 60'!D77","v":0},{"$f":"'Multiple NPA 60'!E77","v":"00:00:00"},{"$f":"'Multiple NPA 60'!F77","v":0},{"$f":"'Multiple NPA 60'!G77","v":0},{"$f":"'Multiple NPA 60'!E77","v":"00:00:00"},{"$f":"'Multiple NPA 60'!F77","v":0},{"$f":"'Multiple NPA 60'!G77","v":"00:00:00"},{"$f":"'Multiple NPA 60'!H77","v":0},{"$f":"'Multiple NPA 60'!I77","v":0},{"$f":"'Multiple NPA 60'!J77","v":0},0,{"$f":"'Multiple NPA 60'!K77","v":0},{"$f":"'Multiple NPA 60'!L77","v":0},{"$error":"#N/A"},{"$error":"#N/A"},{"$error":"#N/A"},{"$error":"#N/A"},{"$error":"#N/A"},0,0,0,{"$error":"#N/A"},0,{"$error":"#N/A"},{"$error":"#N/A"},null,null,"2019-02-07",0,0,675,0.85099999999999998,null,null,null,null,null,null,null,null,null,null,null,{"$error":"#N/A"},{"$error":"#N/A"}]
[{"$f":"'Multiple NPA 60'!A78","v":0},{"$f":"'Multiple NPA 60'!B78","v":0},{"$f":"'Multiple NPA 60'!C78","v":0},{"$f":"'Multiple NPA 60'!D78","v":0},{"$f":"'Multiple NPA 60'!E78","v":"00:00:00"},{"$f":"'Multiple NPA 60'!F78","v":0},{"$f":"'Multiple NPA 60'!G78","v":0},{"$f":"'Multiple NPA 60'!E78","v":"00:00:00"},{"$f":"'Multiple NPA 60'!F78","v":0},{"$f":"'Multiple NPA 60'!G78","v":"00:00:00"},{"$f":"'Multiple NPA 60'!H78","v":0},{"$f":"'Multiple NPA 60'!I78","v":0},{"$f":"'Multiple NPA 60'!J78","v":0},0,{"$f":"'Multiple NPA 60'!K78","v":0},{"$f":"'Multiple NPA 60'!L78","v":0},{"$error":"#N/A"},{"$error":"#N/A"},{"$error":"#N/A"},{"$error":"#N/A"},{"$error":"#N/A"},0,0,0,{"$error":"#N/A"},0,{"$error":"#N/A"},{"$error":"#N/A"},null,null,"2019-02-07",0,0,676,0.85399999999999998,null,null,null,null,null,null,null,null,null,null,null,{"$error":"#N/A"},{"$error":"#N/A"}]
[{"$f":"'Multiple NPA 60'!A79","v":0},{"$f":"'Multiple NPA 60'!B79","v":0},{"$f":"'Multiple NPA 60'!C79","v":0},{"$f":"'Multiple NPA 60'!D79","v":0},{"$f":"'Multiple NPA 60'!E79","v":"00:00:00"},{"$f":"'Multiple NPA 60'!F79","v":0},{"$f":"'Multiple NPA 60'!G79","v":0},{"$f":"'Multiple NPA 60'!E79","v":"00:00:00"},{"$f":"'Multiple NPA 60'!F79","v":0},{"$f":"'Multiple NPA 60'!G79","v":"00:00:00"},{"$f":"'Multiple NPA 60'!H79","v":0},{"$f":"'Multiple NPA 60'!I79","v":0},{"$f":"'Multiple NPA 60'!J79","v":0},0,{"$f":"'Multiple NPA 60'!K79","v":0},{"$f":"'Multiple NPA 60'!L79","v":0},{"$error":"#N/A"},{"$error":"#N/A"},{"$error":"#N/A"},{"$error":"#N/A"},{"$error":"#N/A"},0,0,0,{"$error":"#N/A"},0,{"$error":"#N/A"},{"$error":"#N/A"},null,null,"2019-02-07",0,0,677,0.85699999999999998,null,null,null,null,null,null,null,null,null,null,null,{"$error":"#N/A"},{"$error":"#N/A"}]
[{"$f":"'Multiple NPA 60'!A80","v":0},{"$f":"'Multiple NPA 60'!B80","v":0},{"$f":"'Multiple NPA 60'!C80","v":0},{"$f":"'Multiple NPA 60'!D80","v":0},{"$f":"'Multiple NPA 60'!E80","v":"00:00:00"},{"$f":"'Multiple NPA 60'!F80","v":0},{"$f":"'Multiple NPA 60'!G80","v":0},{"$f":"'Multiple NPA 60'!E80","v":"00:00:00"},{"$f":"'Multiple NPA 60'!F80","v":0},{"$f":"'Multiple NPA 60'!G80","v":"00:00:00"},{"$f":"'Multiple NPA 60'!H80","v":0},{"$f":"'Multiple NPA 60'!I80","v":0},{"$f":"'Multiple NPA 60'!J80","v":0},0,{"$f":"'Multiple NPA 60'!K80","v":0},{"$f":"'Multiple NPA 60'!L80","v":0},{"$error":"#N/A"},{"$error":"#N/A"},{"$error":"#N/A"},{"$error":"#N/A"},{"$error":"#N/A"},0,0,0,{"$error":"#N/A"},0,{"$error":"#N/A"},{"$error":"#N/A"},null,null,"2019-02-07",0,0,678,0.86,null,null,null,null,null,null,null,null,null,null,null,{"$error":"#N/A"},{"$error":"#N/A"}]
[{"$f":"'Multiple NPA 60'!A81","v":0},{"$f":"'Multiple NPA 60'!B81","v":0},{"$f":"'Multiple NPA 60'!C81","v":0},{"$f":"'Multiple NPA 60'!D81","v":0},{"$f":"'Multiple NPA 60'!E81","v":"00:00:00"},{"$f":"'Multiple NPA 60'!F81","v":0},{"$f":"'Multiple NPA 60'!G81","v":0},{"$f":"'Multiple NPA 60'!E81","v":"00:00:00"},{"$f":"'Multiple NPA 60'!F81","v":0},{"$f":"'Multiple NPA 60'!G81","v":"00:00:00"},{"$f":"'Multiple NPA 60'!H81","v":0},{"$f":"'Multiple NPA 60'!I81","v":0},{"$f":"'Multiple NPA 60'!J81","v":0},0,{"$f":"'Multiple NPA 60'!K81","v":0},{"$f":"'Multiple NPA 60'!L81","v":0},{"$error":"#N/A"},{"$error":"#N/A"},{"$error":"#N/A"},{"$error":"#N/A"},{"$error":"#N/A"},0,0,0,{"$error":"#N/A"},0,{"$error":"#N/A"},{"$error":"#N/A"},null,null,"2019-02-07",0,0,679,0.86299999999999999,null,null,null,null,null,null,null,null,null,null,null,{"$error":"#N/A"},{"$error":"#N/A"}]
[{"$f":"'Multiple NPA 60'!A82","v":0},{"$f":"'Multiple NPA 60'!B82","v":0},{"$f":"'Multiple NPA 60'!C82","v":0},{"$f":"'Multiple NPA 60'!D82","v":0},{"$f":"'Multiple NPA 60'!E82","v":"00:00:00"},{"$f":"'Multiple NPA 60'!F82","v":0},{"$f":"'Multiple NPA 60'!G82","v":0},{"$f":"'Multiple NPA 60'!E82","v":"00:00:00"},{"$f":"'Multiple NPA 60'!F82","v":0},{"$f":"'Multiple NPA 60'!G82","v":"00:00:00"},{"$f":"'Multiple NPA 60'!H82","v":0},{"$f":"'Multiple NPA 60'!I82","v":0},{"$f":"'Multiple NPA 60'!J82","v":0},0,{"$f":"'Multiple NPA 60'!K82","v":0},{"$f":"'Multiple NPA 60'!L82","v":0},{"$error":"#N/A"},{"$error":"#N/A"},{"$error":"#N/A"},{"$error":"#N/A"},{"$error":"#N/A"},0,0,0,{"$error":"#N/A"},0,{"$error":"#N/A"},{"$error":"#N/A"},null,null,"2019-02-07",0,0,680,0.86599999999999999,null,null,null,null,null,null,null,null,null,null,null,{"$error":"#N/A"},{"$error":"#N/A"}]
[{"$f":"'Multiple NPA 60'!A83","v":0},{"$f":"'Multiple NPA 60'!B83","v":0},{"$f":"'Multiple NPA 60'!C83","v":0},{"$f":"'Multiple NPA 60'!D83","v":0},{"$f":"'Multiple NPA 60'!E83","v":"00:00:00"},{"$f":"'Multiple NPA 60'!F83","v":0},{"$f":"'Multiple NPA 60'!G83","v":0},{"$f":"'Multiple NPA 60'!E83","v":"00:00:00"},{"$f":"'Multiple NPA 60'!F83","v":0},{"$f":"'Multiple NPA 60'!G83","v":"00:00:00"},{"$f":"'Multiple NPA 60'!H83","v":0},{"$f":"'Multiple NPA 60'!I83","v":0},{"$f":"'Multiple NPA 60'!J83","v":0},0,{"$f":"'Multiple NPA 60'!K83","v":0},{"$f":"'Multiple NPA 60'!L83","v":0},{"$error":"#N/A"},{"$error":"#N/A"},{"$error":"#N/A"},{"$error":"#N/A"},{"$error":"#N/A"},0,0,0,{"$error":"#N/A"},0,{"$error":"#N/A"},{"$error":"#N/A"},null,null,"2019-02-07",0,0,681,0.86899999999999999,null,null,null,null,null,null,null,null,null,null,null,{"$error":"#N/A"},{"$error":"#N/A"}]
[{"$f":"'Multiple NPA 60'!A84","v":0},{"$f":"'Multiple NPA 60'!B84","v":0},{"$f":"'Multiple NPA 60'!C84","v":0},{"$f":"'Multiple NPA 60'!D84","v":0},{"$f":"'Multiple NPA 60'!E84","v":"00:00:00"},{"$f":"'Multiple NPA 60'!F84","v":0},{"$f":"'Multiple NPA 60'!G84","v":0},{"$f":"'Multiple NPA 60'!E84","v":"00:00:00"},{"$f":"'Multiple NPA 60'!F84","v":0},{"$f":"'Multiple NPA 60'!G84","v":"00:00:00"},{"$f":"'Multiple NPA 60'!H84","v":0},{"$f":"'Multiple NPA 60'!I84","v":0},{"$f":"'Multiple NPA 60'!J84","v":0},0,{"$f":"'Multiple NPA 60'!K84","v":0},{"$f":"'Multiple NPA 60'!L84","v":0},{"$error":"#N/A"},{"$error":"#N/A"},{"$error":"#N/A"},{"$error":"#N/A"},{"$error":"#N/A"},0,0,0,{"$error":"#N/A"},0,{"$error":"#N/A"},{"$error":"#N/A"},null,null,"2019-02-07",0,0,682,0.872,null,null,null,null,null,null,null,null,null,null,null,{"$error":"#N/A"},{"$error":"#N/A"}]
[{"$f":"'Multiple NPA 60'!A85","v":0},{"$f":"'Multiple NPA 60'!B85","v":0},{"$f":"'Multiple NPA 60'!C85","v":0},{"$f":"'Multiple NPA 60'!D85","v":0},{"$f":"'Multiple NPA 60'!E85","v":"00:00:00"},{"$f":"'Multiple NPA 60'!F85","v":0},{"$f":"'Multiple NPA 60'!G85","v":0},{"$f":"'Multiple NPA 60'!E85","v":"00:00:00"},{"$f":"'Multiple NPA 60'!F85","v":0},{"$f":"'Multiple NPA 60'!G85","v":"00:00:00"},{"$f":"'Multiple NPA 60'!H85","v":0},{"$f":"'Multiple NPA 60'!I85","v":0},{"$f":"'Multiple NPA 60'!J85","v":0},0,{"$f":"'Multiple NPA 60'!K85","v":0},{"$f":"'Multiple NPA 60'!L85","v":0},{"$error":"#N/A"},{"$error":"#N/A"},{"$error":"#N/A"},{"$error":"#N/A"},{"$error":"#N/A"},0,0,0,{"$error":"#N/A"},0,{"$error":"#N/A"},{"$error":"#N/A"},null,null,"2019-02-07",0,0,683,0.875,null,null,null,null,null,null,null,null,null,null,null,{"$error":"#N/A"},{"$error":"#N/A"}]
[{"$f":"'Multiple NPA 60'!A86","v":0},{"$f":"'Multiple NPA 60'!B86","v":0},{"$f":"'Multiple NPA 60'!C86","v":0},{"$f":"'Multiple NPA 60'!D86","v":0},{"$f":"'Multiple NPA 60'!E86","v":"00:00:00"},{"$f":"'Multiple NPA 60'!F86","v":0},{"$f":"'Multiple NPA 60'!G86","v":0},{"$f":"'Multiple NPA 60'!E86","v":"00:00:00"},{"$f":"'Multiple NPA 60'!F86","v":0},{"$f":"'Multiple NPA 60'!G86","v":"00:00:00"},{"$f":"'Multiple NPA 60'!H86","v":0},{"$f":"'Multiple NPA 60'!I86","v":0},{"$f":"'Multiple NPA 60'!J86","v":0},0,{"$f":"'Multiple NPA 60'!K86","v":0},{"$f":"'Multiple NPA 60'!L86","v":0},{"$error":"#N/A"},{"$error":"#N/A"},{"$error":"#N/A"},{"$error":"#N/A"},{"$error":"#N/A"},0,0,0,{"$error":"#N/A"},0,{"$error":"#N/A"},{"$error":"#N/A"},null,null,"2019-02-07",0,0,684,0.878,null,null,null,null,null,null,null,null,null,null,null,{"$error":"#N/A"},{"$error":"#N/A"}]
[{"$f":"'Multiple NPA 60'!A87","v":0},{"$f":"'Multiple NPA 60'!B87","v":0},{"$f":"'Multiple NPA 60'!C87","v":0},{"$f":"'Multiple NPA 60'!D87","v":0},{"$f":"'Multiple NPA 60'!E87","v":"00:00:00"},{"$f":"'Multiple NPA 60'!F87","v":0},{"$f":"'Multiple NPA 60'!G87","v":0},{"$f":"'Multiple NPA 60'!E87","v":"00:00:00"},{"$f":"'Multiple NPA 60'!F87","v":0},{"$f":"'Multiple NPA 60'!G87","v":"00:00:00"},{"$f":"'Multiple NPA 60'!H87","v":0},{"$f":"'Multiple NPA 60'!I87","v":0},{"$f":"'Multiple NPA 60'!J87","v":0},0,{"$f":"'Multiple NPA 60'!K87","v":0},{"$f":"'Multiple NPA 60'!L87","v":0},{"$error":"#N/A"},{"$error":"#N/A"},{"$error":"#N/A"},{"$error":"#N/A"},{"$error":"#N/A"},0,0,0,{"$error":"#N/A"},0,{"$error":"#N/A"},{"$error":"#N/A"},null,null,"2019-02-07",0,0,685,0.88200000000000001,null,null,null,null,null,null,null,null,null,null,null,{"$error":"#N/A"},{"$error":"#N/A"}]
[{"$f":"'Multiple NPA 60'!A88","v":0},{"$f":"'Multiple NPA 60'!B88","v":0},{"$f":"'Multiple NPA 60'!C88","v":0},{"$f":"'Multiple NPA 60'!D88","v":0},{"$f":"'Multiple NPA 60'!E88","v":"00:00:00"},{"$f":"'Multiple NPA 60'!F88","v":0},{"$f":"'Multiple NPA 60'!G88","v":0},{"$f":"'Multiple NPA 60'!E88","v":"00:00:00"},{"$f":"'Multiple NPA 60'!F88","v":0},{"$f":"'Multiple NPA 60'!G88","v":"00:00:00"},{"$f":"'Multiple NPA 60'!H88","v":0},{"$f":"'Multiple NPA 60'!I88","v":0},{"$f":"'Multiple NPA 60'!J88","v":0},0,{"$f":"'Multiple NPA 60'!K88","v":0},{"$f":"'Multiple NPA 60'!L88","v":0},{"$error":"#N/A"},{"$error":"#N/A"},{"$error":"#N/A"},{"$error":"#N/A"},{"$error":"#N/A"},0,0,0,{"$error":"#N/A"},0,{"$error":"#N/A"},{"$error":"#N/A"},null,null,"2019-02-07",0,0,686,0.88500000000000001,null,null,null,null,null,null,null,null,null,null,null,{"$error":"#N/A"},{"$error":"#N/A"}]
[{"$f":"'Multiple NPA 60'!A89","v":0},{"$f":"'Multiple NPA 60'!B89","v":0},{"$f":"'Multiple NPA 60'!C89","v":0},{"$f":"'Multiple NPA 60'!D89","v":0},{"$f":"'Multiple NPA 60'!E89","v":"00:00:00"},{"$f":"'Multiple NPA 60'!F89","v":0},{"$f":"'Multiple NPA 60'!G89","v":0},{"$f":"'Multiple NPA 60'!E89","v":"00:00:00"},{"$f":"'Multiple NPA 60'!F89","v":0},{"$f":"'Multiple NPA 60'!G89","v":"00:00:00"},{"$f":"'Multiple NPA 60'!H89","v":0},{"$f":"'Multiple NPA 60'!I89","v":0},{"$f":"'Multiple NPA 60'!J89","v":0},0,{"$f":"'Multiple NPA 60'!K89","v":0},{"$f":"'Multiple NPA 60'!L89","v":0},{"$error":"#N/A"},{"$error":"#N/A"},{"$error":"#N/A"},{"$error":"#N/A"},{"$error":"#N/A"},0,0,0,{"$error":"#N/A"},0,{"$error":"#N/A"},{"$error":"#N/A"},null,null,"2019-02-07",0,0,687,0.88800000000000001,null,null,null,null,null,null,null,null,null,null,null,{"$error":"#N/A"},{"$error":"#N/A"}]
[{"$f":"'Multiple NPA 60'!A90","v":0},{"$f":"'Multiple NPA 60'!B90","v":0},{"$f":"'Multiple NPA 60'!C90","v":0},{"$f":"'Multiple NPA 60'!D90","v":0},{"$f":"'Multiple NPA 60'!E90","v":"00:00:00"},{"$f":"'Multiple NPA 60'!F90","v":0},{"$f":"'Multiple NPA 60'!G90","v":0},{"$f":"'Multiple NPA 60'!E90","v":"00:00:00"},{"$f":"'Multiple NPA 60'!F90","v":0},{"$f":"'Multiple NPA 60'!G90","v":"00:00:00"},{"$f":"'Multiple NPA 60'!H90","v":0},{"$f":"'Multiple NPA 60'!I90","v":0},{"$f":"'Multiple NPA 60'!J90","v":0},0,{"$f":"'Multiple NPA 60'!K90","v":0},{"$f":"'Multiple NPA 60'!L90","v":0},{"$error":"#N/A"},{"$error":"#N/A"},{"$error":"#N/A"},{"$error":"#N/A"},{"$error":"#N/A"},0,0,0,{"$error":"#N/A"},0,{"$error":"#N/A"},{"$error":"#N/A"},null,null,"2019-02-07",0,0,688,0.89100000000000001,null,null,null,null,null,null,null,null,null,null,null,{"$error":"#N/A"},{"$error":"#N/A"}]
[{"$f":"'Multiple NPA 60'!A91","v":0},{"$f":"'Multiple NPA 60'!B91","v":0},{"$f":"'Multiple NPA 60'!C91","v":0},{"$f":"'Multiple NPA 60'!D91","v":0},{"$f":"'Multiple NPA 60'!E91","v":"00:00:00"},{"$f":"'Multiple NPA 60'!F91","v":0},{"$f":"'Multiple NPA 60'!G91","v":0},{"$f":"'Multiple NPA 60'!E91","v":"00:00:00"},{"$f":"'Multiple NPA 60'!F91","v":0},{"$f":"'Multiple NPA 60'!G91","v":"00:00:00"},{"$f":"'Multiple NPA 60'!H91","v":0},{"$f":"'Multiple NPA 60'!I91","v":0},{"$f":"'Multiple NPA 60'!J91","v":0},0,{"$f":"'Multiple NPA 60'!K91","v":0},{"$f":"'Multiple NPA 60'!L91","v":0},{"$error":"#N/A"},{"$error":"#N/A"},{"$error":"#N/A"},{"$error":"#N/A"},{"$error":"#N/A"},0,0,0,{"$error":"#N/A"},0,{"$error":"#N/A"},{"$error":"#N/A"},null,null,"2019-02-07",0,0,689,0.89400000000000002,null,null,null,null,null,null,null,null,null,null,null,{"$error":"#N/A"},{"$error":"#N/A"}]
[{"$f":"'Multiple NPA 60'!A92","v":0},{"$f":"'Multiple NPA 60'!B92","v":0},{"$f":"'Multiple NPA 60'!C92","v":0},{"$f":"'Multiple NPA 60'!D92","v":0},{"$f":"'Multiple NPA 60'!E92","v":"00:00:00"},{"$f":"'Multiple NPA 60'!F92","v":0},{"$f":"'Multiple NPA 60'!G92","v":0},{"$f":"'Multiple NPA 60'!E92","v":"00:00:00"},{"$f":"'Multiple NPA 60'!F92","v":0},{"$f":"'Multiple NPA 60'!G92","v":0},{"$f":"'Multiple NPA 60'!H92","v":0},{"$f":"'Multiple NPA 60'!I92","v":0},{"$f":"'Multiple NPA 60'!J92","v":0},0,{"$f":"'Multiple NPA 60'!K92","v":0},{"$f":"'Multiple NPA 60'!L92","v":0},{"$error":"#N/A"},{"$error":"#N/A"},{"$error":"#N/A"},{"$error":"#N/A"},{"$error":"#N/A"},0,0,0,{"$error":"#N/A"},0,{"$error":"#N/A"},{"$error":"#N/A"},null,null,"2019-02-07",0,0,690,0.89800000000000002,null,null,null,null,null,null,null,null,null,null,null,{"$error":"#N/A"},{"$error":"#N/A"}]
[{"$f":"'Multiple NPA 60'!A93","v":0},{"$f":"'Multiple NPA 60'!B93","v":0},{"$f":"'Multiple NPA 60'!C93","v":0},{"$f":"'Multiple NPA 60'!D93","v":0},{"$f":"'Multiple NPA 60'!E93","v":"00:00:00"},{"$f":"'Multiple NPA 60'!F93","v":0},{"$f":"'Multiple NPA 60'!G93","v":0},{"$f":"'Multiple NPA 60'!E93","v":"00:00:00"},{"$f":"'Multiple NPA 60'!F93","v":0},{"$f":"'Multiple NPA 60'!G93","v":0},{"$f":"'Multiple NPA 60'!H93","v":0},{"$f":"'Multiple NPA 60'!I93","v":0},{"$f":"'Multiple NPA 60'!J93","v":0},0,{"$f":"'Multiple NPA 60'!K93","v":0},{"$f":"'Multiple NPA 60'!L93","v":0},{"$error":"#N/A"},{"$error":"#N/A"},{"$error":"#N/A"},{"$error":"#N/A"},{"$error":"#N/A"},0,0,0,{"$error":"#N/A"},0,{"$error":"#N/A"},{"$error":"#N/A"},null,null,"2019-02-07",0,0,691,0.90100000000000002,null,null,null,null,null,null,null,null,null,null,null,{"$error":"#N/A"},{"$error":"#N/A"}]
[{"$f":"'Multiple NPA 60'!A94","v":0},{"$f":"'Multiple NPA 60'!B94","v":0},{"$f":"'Multiple NPA 60'!C94","v":0},{"$f":"'Multiple NPA 60'!D94","v":0},{"$f":"'Multiple NPA 60'!E94","v":"00:00:00"},{"$f":"'Multiple NPA 60'!F94","v":0},{"$f":"'Multiple NPA 60'!G94","v":0},{"$f":"'Multiple NPA 60'!E94","v":"00:00:00"},{"$f":"'Multiple NPA 60'!F94","v":0},{"$f":"'Multiple NPA 60'!G94","v":0},{"$f":"'Multiple NPA 60'!H94","v":0},{"$f":"'Multiple NPA 60'!I94","v":0},{"$f":"'Multiple NPA 60'!J94","v":0},0,{"$f":"'Multiple NPA 60'!K94","v":0},{"$f":"'Multiple NPA 60'!L94","v":0},{"$error":"#N/A"},{"$error":"#N/A"},{"$error":"#N/A"},{"$error":"#N/A"},{"$error":"#N/A"},0,0,0,{"$error":"#N/A"},0,{"$error":"#N/A"},{"$error":"#N/A"},null,null,"2019-02-07",0,0,692,0.90400000000000003,null,null,null,null,null,null,null,null,null,null,null,{"$error":"#N/A"},{"$error":"#N/A"}]
[{"$f":"'Multiple NPA 60'!A95","v":0},{"$f":"'Multiple NPA 60'!B95","v":0},{"$f":"'Multiple NPA 60'!C95","v":0},{"$f":"'Multiple NPA 60'!D95","v":0},{"$f":"'Multiple NPA 60'!E95","v":"00:00:00"},{"$f":"'Multiple NPA 60'!F95","v":0},{"$f":"'Multiple NPA 60'!G95","v":0},{"$f":"'Multiple NPA 60'!E95","v":"00:00:00"},{"$f":"'Multiple NPA 60'!F95","v":0},{"$f":"'Multiple NPA 60'!G95","v":0},{"$f":"'Multiple NPA 60'!H95","v":0},{"$f":"'Multiple NPA 60'!I95","v":0},{"$f":"'Multiple NPA 60'!J95","v":0},0,{"$f":"'Multiple NPA 60'!K95","v":0},{"$f":"'Multiple NPA 60'!L95","v":0},{"$error":"#N/A"},{"$error":"#N/A"},{"$error":"#N/A"},{"$error":"#N/A"},{"$error":"#N/A"},0,0,0,{"$error":"#N/A"},0,{"$error":"#N/A"},{"$error":"#N/A"},null,null,"2019-02-07",0,0,693,0.90700000000000003,null,null,null,null,null,null,null,null,null,null,null,{"$error":"#N/A"},{"$error":"#N/A"}]
[{"$f":"'Multiple NPA 60'!A96","v":0},{"$f":"'Multiple NPA 60'!B96","v":0},{"$f":"'Multiple NPA 60'!C96","v":0},{"$f":"'Multiple NPA 60'!D96","v":0},{"$f":"'Multiple NPA 60'!E96","v":"00:00:00"},{"$f":"'Multiple NPA 60'!F96","v":0},{"$f":"'Multiple NPA 60'!G96","v":0},{"$f":"'Multiple NPA 60'!E96","v":"00:00:00"},{"$f":"'Multiple NPA 60'!F96","v":0},{"$f":"'Multiple NPA 60'!G96","v":0},{"$f":"'Multiple NPA 60'!H96","v":0},{"$f":"'Multiple NPA 60'!I96","v":0},{"$f":"'Multiple NPA 60'!J96","v":0},0,{"$f":"'Multiple NPA 60'!K96","v":0},{"$f":"'Multiple NPA 60'!L96","v":0},{"$error":"#N/A"},{"$error":"#N/A"},{"$error":"#N/A"},{"$error":"#N/A"},{"$error":"#N/A"},0,0,0,{"$error":"#N/A"},0,{"$error":"#N/A"},{"$error":"#N/A"},null,null,"2019-02-07",0,0,694,0.91,null,null,null,null,null,null,null,null,null,null,null,{"$error":"#N/A"},{"$error":"#N/A"}]
[{"$f":"'Multiple NPA 60'!A97","v":0},{"$f":"'Multiple NPA 60'!B97","v":0},{"$f":"'Multiple NPA 60'!C97","v":0},{"$f":"'Multiple NPA 60'!D97","v":0},{"$f":"'Multiple NPA 60'!E97","v":"00:00:00"},{"$f":"'Multiple NPA 60'!F97","v":0},{"$f":"'Multiple NPA 60'!G97","v":0},{"$f":"'Multiple NPA 60'!E97","v":"00:00:00"},{"$f":"'Multiple NPA 60'!F97","v":0},{"$f":"'Multiple NPA 60'!G97","v":0},{"$f":"'Multiple NPA 60'!H97","v":0},{"$f":"'Multiple NPA 60'!I97","v":0},{"$f":"'Multiple NPA 60'!J97","v":0},0,{"$f":"'Multiple NPA 60'!K97","v":0},{"$f":"'Multiple NPA 60'!L97","v":0},{"$error":"#N/A"},{"$error":"#N/A"},{"$error":"#N/A"},{"$error":"#N/A"},{"$error":"#N/A"},0,0,0,{"$error":"#N/A"},0,{"$error":"#N/A"},{"$error":"#N/A"},null,null,"2019-02-07",0,0,695,0.91400000000000003,null,null,null,null,null,null,null,null,null,null,null,{"$error":"#N/A"},{"$error":"#N/A"}]
[{"$f":"'Multiple NPA 60'!A98","v":0},{"$f":"'Multiple NPA 60'!B98","v":0},{"$f":"'Multiple NPA 60'!C98","v":0},{"$f":"'Multiple NPA 60'!D98","v":0},{"$f":"'Multiple NPA 60'!E98","v":"00:00:00"},{"$f":"'Multiple NPA 60'!F98","v":0},{"$f":"'Multiple NPA 60'!G98","v":0},{"$f":"'Multiple NPA 60'!E98","v":"00:00:00"},{"$f":"'Multiple NPA 60'!F98","v":0},{"$f":"'Multiple NPA 60'!G98","v":0},{"$f":"'Multiple NPA 60'!H98","v":0},{"$f":"'Multiple NPA 60'!I98","v":0},{"$f":"'Multiple NPA 60'!J98","v":0},0,{"$f":"'Multiple NPA 60'!K98","v":0},{"$f":"'Multiple NPA 60'!L98","v":0},{"$error":"#N/A"},{"$error":"#N/A"},{"$error":"#N/A"},{"$error":"#N/A"},{"$error":"#N/A"},0,0,0,{"$error":"#N/A"},0,{"$error":"#N/A"},{"$error":"#N/A"},null,null,"2019-02-07",0,0,696,0.91700000000000004,null,null,null,null,null,null,null,null,null,null,null,{"$error":"#N/A"},{"$error":"#N/A"}]
[{"$f":"'Multiple NPA 60'!A99","v":0},{"$f":"'Multiple NPA 60'!B99","v":0},{"$f":"'Multiple NPA 60'!C99","v":0},{"$f":"'Multiple NPA 60'!D99","v":0},{"$f":"'Multiple NPA 60'!E99","v":"00:00:00"},{"$f":"'Multiple NPA 60'!F99","v":0},{"$f":"'Multiple NPA 60'!G99","v":0},{"$f":"'Multiple NPA 60'!E99","v":"00:00:00"},{"$f":"'Multiple NPA 60'!F99","v":0},{"$f":"'Multiple NPA 60'!G99","v":0},{"$f":"'Multiple NPA 60'!H99","v":0},{"$f":"'Multiple NPA 60'!I99","v":0},{"$f":"'Multiple NPA 60'!J99","v":0},0,{"$f":"'Multiple NPA 60'!K99","v":0},{"$f":"'Multiple NPA 60'!L99","v":0},{"$error":"#N/A"},{"$error":"#N/A"},{"$error":"#N/A"},{"$error":"#N/A"},{"$error":"#N/A"},0,0,0,{"$error":"#N/A"},0,{"$error":"#N/A"},{"$error":"#N/A"},null,null,"2019-02-07",0,0,697,0.92,null,null,null,null,null,null,null,null,null,null,null,{"$f":"SUM((Q101*20)+(R101*(20/12)))/4.6667","v":{"$error":"#N/A"}},{"$f":"ROUNDDOWN(((AU101-R101)/12),0)","v":{"$error":"#N/A"}}]
[{"$f":"'Multiple NPA 60'!A100","v":0},{"$f":"'Multiple NPA 60'!B100","v":0},{"$f":"'Multiple NPA 60'!C100","v":0},{"$f":"'Multiple NPA 60'!D100","v":0},{"$f":"'Multiple NPA 60'!E100","v":"00:00:00"},{"$f":"'Multiple NPA 60'!F100","v":0},{"$f":"'Multiple NPA 60'!G100","v":0},{"$f":"'Multiple NPA 60'!E100","v":"00:00:00"},{"$f":"'Multiple NPA 60'!F100","v":0},{"$f":"'Multiple NPA 60'!G100","v":0},{"$f":"'Multiple NPA 60'!H100","v":0},{"$f":"'Multiple NPA 60'!I100","v":0},{"$f":"'Multiple NPA 60'!J100","v":0},0,{"$f":"'Multiple NPA 60'!K100","v":0},{"$f":"'Multiple NPA 60'!L100","v":0},{"$error":"#N/A"},{"$error":"#N/A"},{"$error":"#N/A"},{"$error":"#N/A"},{"$error":"#N/A"},0,0,0,{"$error":"#N/A"},0,{"$error":"#N/A"},{"$error":"#N/A"},null,null,"2019-02-07",0,0,698,0.92400000000000004,null,null,null,null,null,null,null,null,null,null,null,{"$error":"#N/A"},{"$error":"#N/A"}]
[{"$f":"'Multiple NPA 60'!A101","v":0},{"$f":"'Multiple NPA 60'!B101","v":0},{"$f":"'Multiple NPA 60'!C101","v":0},{"$f":"'Multiple NPA 60'!D101","v":0},{"$f":"'Multiple NPA 60'!E101","v":"00:00:00"},{"$f":"'Multiple NPA 60'!F101","v":0},{"$f":"'Multiple NPA 60'!G101","v":0},{"$f":"'Multiple NPA 60'!E101","v":"00:00:00"},{"$f":"'Multiple NPA 60'!F101","v":0},{"$f":"'Multiple NPA 60'!G101","v":0},{"$f":"'Multiple NPA 60'!H101","v":0},{"$f":"'Multiple NPA 60'!I101","v":0},{"$f":"'Multiple NPA 60'!J101","v":0},0,{"$f":"'Multiple NPA 60'!K101","v":0},{"$f":"'Multiple NPA 60'!L101","v":0},{"$error":"#N/A"},{"$error":"#N/A"},{"$error":"#N/A"},{"$error":"#N/A"},{"$error":"#N/A"},0,0,0,{"$error":"#N/A"},0,{"$error":"#N/A"},{"$error":"#N/A"},null,null,"2019-02-07",0,0,699,0.92700000000000005,null,null,null,null,null,null,null,null,null,null,null,{"$error":"#N/A"},{"$error":"#N/A"}]
[{"$f":"'Multiple NPA 60'!A102","v":0},{"$f":"'Multiple NPA 60'!B102","v":0},{"$f":"'Multiple NPA 60'!C102","v":0},{"$f":"'Multiple NPA 60'!D102","v":0},{"$f":"'Multiple NPA 60'!E102","v":"00:00:00"},{"$f":"'Multiple NPA 60'!F102","v":0},{"$f":"'Multiple NPA 60'!G102","v":0},{"$f":"'Multiple NPA 60'!E102","v":"00:00:00"},{"$f":"'Multiple NPA 60'!F102","v":0},{"$f":"'Multiple NPA 60'!G102","v":0},{"$f":"'Multiple NPA 60'!H102","v":0},{"$f":"'Multiple NPA 60'!I102","v":0},{"$f":"'Multiple NPA 60'!J102","v":0},0,{"$f":"'Multiple NPA 60'!K102","v":0},{"$f":"'Multiple NPA 60'!L102","v":0},{"$error":"#N/A"},{"$error":"#N/A"},{"$error":"#N/A"},{"$error":"#N/A"},{"$error":"#N/A"},0,0,0,{"$error":"#N/A"},0,{"$error":"#N/A"},{"$error":"#N/A"},null,null,"2019-02-07",0,0,700,0.93100000000000005,null,null,null,null,null,null,null,null,null,null,null,{"$error":"#N/A"},{"$error":"#N/A"}]
[{"$f":"'Multiple NPA 60'!A103","v":0},{"$f":"'Multiple NPA 60'!B103","v":0},{"$f":"'Multiple NPA 60'!C103","v":0},{"$f":"'Multiple NPA 60'!D103","v":0},{"$f":"'Multiple NPA 60'!E103","v":"00:00:00"},{"$f":"'Multiple NPA 60'!F103","v":0},{"$f":"'Multiple NPA 60'!G103","v":0},{"$f":"'Multiple NPA 60'!E103","v":"00:00:00"},{"$f":"'Multiple NPA 60'!F103","v":0},{"$f":"'Multiple NPA 60'!G103","v":0},{"$f":"'Multiple NPA 60'!H103","v":0},{"$f":"'Multiple NPA 60'!I103","v":0},{"$f":"'Multiple NPA 60'!J103","v":0},0,{"$f":"'Multiple NPA 60'!K103","v":0},{"$f":"'Multiple NPA 60'!L103","v":0},{"$error":"#N/A"},{"$error":"#N/A"},{"$error":"#N/A"},{"$error":"#N/A"},{"$error":"#N/A"},0,0,0,{"$error":"#N/A"},0,{"$error":"#N/A"},{"$error":"#N/A"},null,null,"2019-02-07",0,0,701,0.93400000000000005,null,null,null,null,null,null,null,null,null,null,null,{"$error":"#N/A"},{"$error":"#N/A"}]
[{"$f":"'Multiple NPA 60'!A104","v":0},{"$f":"'Multiple NPA 60'!B104","v":0},{"$f":"'Multiple NPA 60'!C104","v":0},{"$f":"'Multiple NPA 60'!D104","v":0},{"$f":"'Multiple NPA 60'!E104","v":"00:00:00"},{"$f":"'Multiple NPA 60'!F104","v":0},{"$f":"'Multiple NPA 60'!G104","v":0},{"$f":"'Multiple NPA 60'!E104","v":"00:00:00"},{"$f":"'Multiple NPA 60'!F104","v":0},{"$f":"'Multiple NPA 60'!G104","v":0},{"$f":"'Multiple NPA 60'!H104","v":0},{"$f":"'Multiple NPA 60'!I104","v":0},{"$f":"'Multiple NPA 60'!J104","v":0},0,{"$f":"'Multiple NPA 60'!K104","v":0},{"$f":"'Multiple NPA 60'!L104","v":0},{"$error":"#N/A"},{"$error":"#N/A"},{"$error":"#N/A"},{"$error":"#N/A"},{"$error":"#N/A"},0,0,0,{"$error":"#N/A"},0,{"$error":"#N/A"},{"$error":"#N/A"},null,null,"2019-02-07",0,0,702,0.93700000000000006,null,null,null,null,null,null,null,null,null,null,null,{"$error":"#N/A"},{"$error":"#N/A"}]
[{"$f":"'Multiple NPA 60'!A105","v":0},{"$f":"'Multiple NPA 60'!B105","v":0},{"$f":"'Multiple NPA 60'!C105","v":0},{"$f":"'Multiple NPA 60'!D105","v":0},{"$f":"'Multiple NPA 60'!E105","v":"00:00:00"},{"$f":"'Multiple NPA 60'!F105","v":0},{"$f":"'Multiple NPA 60'!G105","v":0},{"$f":"'Multiple NPA 60'!E105","v":"00:00:00"},{"$f":"'Multiple NPA 60'!F105","v":0},{"$f":"'Multiple NPA 60'!G105","v":0},{"$f":"'Multiple NPA 60'!H105","v":0},{"$f":"'Multiple NPA 60'!I105","v":0},{"$f":"'Multiple NPA 60'!J105","v":0},0,{"$f":"'Multiple NPA 60'!K105","v":0},{"$f":"'Multiple NPA 60'!L105","v":0},{"$error":"#N/A"},{"$error":"#N/A"},{"$error":"#N/A"},{"$error":"#N/A"},{"$error":"#N/A"},0,0,0,{"$error":"#N/A"},0,{"$error":"#N/A"},{"$error":"#N/A"},null,null,"2019-02-07",0,0,703,0.94099999999999995,null,null,null,null,null,null,null,null,null,null,null,{"$error":"#N/A"},{"$error":"#N/A"}]
[{"$f":"'Multiple NPA 60'!A106","v":0},{"$f":"'Multiple NPA 60'!B106","v":0},{"$f":"'Multiple NPA 60'!C106","v":0},{"$f":"'Multiple NPA 60'!D106","v":0},{"$f":"'Multiple NPA 60'!E106","v":"00:00:00"},{"$f":"'Multiple NPA 60'!F106","v":0},{"$f":"'Multiple NPA 60'!G106","v":0},{"$f":"'Multiple NPA 60'!E106","v":"00:00:00"},{"$f":"'Multiple NPA 60'!F106","v":0},{"$f":"'Multiple NPA 60'!G106","v":0},{"$f":"'Multiple NPA 60'!H106","v":0},{"$f":"'Multiple NPA 60'!I106","v":0},{"$f":"'Multiple NPA 60'!J106","v":0},0,{"$f":"'Multiple NPA 60'!K106","v":0},{"$f":"'Multiple NPA 60'!L106","v":0},{"$error":"#N/A"},{"$error":"#N/A"},{"$error":"#N/A"},{"$error":"#N/A"},{"$error":"#N/A"},0,0,0,{"$error":"#N/A"},0,{"$error":"#N/A"},{"$error":"#N/A"},null,null,"2019-02-07",0,0,704,0.94399999999999995,null,null,null,null,null,null,null,null,null,null,null,{"$error":"#N/A"},{"$error":"#N/A"}]
[{"$f":"'Multiple NPA 60'!A107","v":0},{"$f":"'Multiple NPA 60'!B107","v":0},{"$f":"'Multiple NPA 60'!C107","v":0},{"$f":"'Multiple NPA 60'!D107","v":0},{"$f":"'Multiple NPA 60'!E107","v":"00:00:00"},{"$f":"'Multiple NPA 60'!F107","v":0},{"$f":"'Multiple NPA 60'!G107","v":0},{"$f":"'Multiple NPA 60'!E107","v":"00:00:00"},{"$f":"'Multiple NPA 60'!F107","v":0},{"$f":"'Multiple NPA 60'!G107","v":0},{"$f":"'Multiple NPA 60'!H107","v":0},{"$f":"'Multiple NPA 60'!I107","v":0},{"$f":"'Multiple NPA 60'!J107","v":0},0,{"$f":"'Multiple NPA 60'!K107","v":0},{"$f":"'Multiple NPA 60'!L107","v":0},{"$error":"#N/A"},{"$error":"#N/A"},{"$error":"#N/A"},{"$error":"#N/A"},{"$error":"#N/A"},0,0,0,{"$error":"#N/A"},0,{"$error":"#N/A"},{"$error":"#N/A"},null,null,"2019-02-07",0,0,705,0.94799999999999995,null,null,null,null,null,null,null,null,null,null,null,{"$error":"#N/A"},{"$error":"#N/A"}]
[{"$f":"'Multiple NPA 60'!A108","v":0},{"$f":"'Multiple NPA 60'!B108","v":0},{"$f":"'Multiple NPA 60'!C108","v":0},{"$f":"'Multiple NPA 60'!D108","v":0},{"$f":"'Multiple NPA 60'!E108","v":"00:00:00"},{"$f":"'Multiple NPA 60'!F108","v":0},{"$f":"'Multiple NPA 60'!G108","v":0},{"$f":"'Multiple NPA 60'!E108","v":"00:00:00"},{"$f":"'Multiple NPA 60'!F108","v":0},{"$f":"'Multiple NPA 60'!G108","v":0},{"$f":"'Multiple NPA 60'!H108","v":0},{"$f":"'Multiple NPA 60'!I108","v":0},{"$f":"'Multiple NPA 60'!J108","v":0},0,{"$f":"'Multiple NPA 60'!K108","v":0},{"$f":"'Multiple NPA 60'!L108","v":0},{"$error":"#N/A"},{"$error":"#N/A"},{"$error":"#N/A"},{"$error":"#N/A"},{"$error":"#N/A"},0,0,0,{"$error":"#N/A"},0,{"$error":"#N/A"},{"$error":"#N/A"},null,null,"2019-02-07",0,0,706,0.95099999999999996,null,null,null,null,null,null,null,null,null,null,null,{"$error":"#N/A"},{"$error":"#N/A"}]
[{"$f":"'Multiple NPA 60'!A109","v":0},{"$f":"'Multiple NPA 60'!B109","v":0},{"$f":"'Multiple NPA 60'!C109","v":0},{"$f":"'Multiple NPA 60'!D109","v":0},{"$f":"'Multiple NPA 60'!E109","v":"00:00:00"},{"$f":"'Multiple NPA 60'!F109","v":0},{"$f":"'Multiple NPA 60'!G109","v":0},{"$f":"'Multiple NPA 60'!E109","v":"00:00:00"},{"$f":"'Multiple NPA 60'!F109","v":0},{"$f":"'Multiple NPA 60'!G109","v":0},{"$f":"'Multiple NPA 60'!H109","v":0},{"$f":"'Multiple NPA 60'!I109","v":0},{"$f":"'Multiple NPA 60'!J109","v":0},0,{"$f":"'Multiple NPA 60'!K109","v":0},{"$f":"'Multiple NPA 60'!L109","v":0},{"$error":"#N/A"},{"$error":"#N/A"},{"$error":"#N/A"},{"$error":"#N/A"},{"$error":"#N/A"},0,0,0,{"$error":"#N/A"},0,{"$error":"#N/A"},{"$error":"#N/A"},null,null,"2019-02-07",0,0,707,0.95399999999999996,null,null,null,null,null,null,null,null,null,null,null,{"$error":"#N/A"},{"$error":"#N/A"}]
[{"$f":"'Multiple NPA 60'!A110","v":0},{"$f":"'Multiple NPA 60'!B110","v":0},{"$f":"'Multiple NPA 60'!C110","v":0},{"$f":"'Multiple NPA 60'!D110","v":0},{"$f":"'Multiple NPA 60'!E110","v":"00:00:00"},{"$f":"'Multiple NPA 60'!F110","v":0},{"$f":"'Multiple NPA 60'!G110","v":0},{"$f":"'Multiple NPA 60'!E110","v":"00:00:00"},{"$f":"'Multiple NPA 60'!F110","v":0},{"$f":"'Multiple NPA 60'!G110","v":0},{"$f":"'Multiple NPA 60'!H110","v":0},{"$f":"'Multiple NPA 60'!I110","v":0},{"$f":"'Multiple NPA 60'!J110","v":0},0,{"$f":"'Multiple NPA 60'!K110","v":0},{"$f":"'Multiple NPA 60'!L110","v":0},{"$error":"#N/A"},{"$error":"#N/A"},{"$error":"#N/A"},{"$error":"#N/A"},{"$error":"#N/A"},0,0,0,{"$error":"#N/A"},0,{"$error":"#N/A"},{"$error":"#N/A"},null,null,"2019-02-07",0,0,708,0.95799999999999996,null,null,null,null,null,null,null,null,null,null,null,{"$error":"#N/A"},{"$error":"#N/A"}]
[{"$f":"'Multiple NPA 60'!A111","v":0},{"$f":"'Multiple NPA 60'!B111","v":0},{"$f":"'Multiple NPA 60'!C111","v":0},{"$f":"'Multiple NPA 60'!D111","v":0},{"$f":"'Multiple NPA 60'!E111","v":"00:00:00"},{"$f":"'Multiple NPA 60'!F111","v":0},{"$f":"'Multiple NPA 60'!G111","v":0},{"$f":"'Multiple NPA 60'!E111","v":"00:00:00"},{"$f":"'Multiple NPA 60'!F111","v":0},{"$f":"'Multiple NPA 60'!G111","v":0},{"$f":"'Multiple NPA 60'!H111","v":0},{"$f":"'Multiple NPA 60'!I111","v":0},{"$f":"'Multiple NPA 60'!J111","v":0},0,{"$f":"'Multiple NPA 60'!K111","v":0},{"$f":"'Multiple NPA 60'!L111","v":0},{"$error":"#N/A"},{"$error":"#N/A"},{"$error":"#N/A"},{"$error":"#N/A"},{"$error":"#N/A"},0,0,0,{"$error":"#N/A"},0,{"$error":"#N/A"},{"$error":"#N/A"},null,null,"2019-02-07",0,0,709,0.96199999999999997,null,null,null,null,null,null,null,null,null,null,null,{"$error":"#N/A"},{"$error":"#N/A"}]
[{"$f":"'Multiple NPA 60'!A112","v":0},{"$f":"'Multiple NPA 60'!B112","v":0},{"$f":"'Multiple NPA 60'!C112","v":0},{"$f":"'Multiple NPA 60'!D112","v":0},{"$f":"'Multiple NPA 60'!E112","v":"00:00:00"},{"$f":"'Multiple NPA 60'!F112","v":0},{"$f":"'Multiple NPA 60'!G112","v":0},{"$f":"'Multiple NPA 60'!E112","v":"00:00:00"},{"$f":"'Multiple NPA 60'!F112","v":0},{"$f":"'Multiple NPA 60'!G112","v":0},{"$f":"'Multiple NPA 60'!H112","v":0},{"$f":"'Multiple NPA 60'!I112","v":0},{"$f":"'Multiple NPA 60'!J112","v":0},0,{"$f":"'Multiple NPA 60'!K112","v":0},{"$f":"'Multiple NPA 60'!L112","v":0},{"$error":"#N/A"},{"$error":"#N/A"},{"$error":"#N/A"},{"$error":"#N/A"},{"$error":"#N/A"},0,0,0,{"$error":"#N/A"},0,{"$error":"#N/A"},{"$error":"#N/A"},null,null,"2019-02-07",0,0,710,0.96499999999999997,null,null,null,null,null,null,null,null,null,null,null,{"$error":"#N/A"},{"$error":"#N/A"}]
[{"$f":"'Multiple NPA 60'!A113","v":0},{"$f":"'Multiple NPA 60'!B113","v":0},{"$f":"'Multiple NPA 60'!C113","v":0},{"$f":"'Multiple NPA 60'!D113","v":0},{"$f":"'Multiple NPA 60'!E113","v":"00:00:00"},{"$f":"'Multiple NPA 60'!F113","v":0},{"$f":"'Multiple NPA 60'!G113","v":0},{"$f":"'Multiple NPA 60'!E113","v":"00:00:00"},{"$f":"'Multiple NPA 60'!F113","v":0},{"$f":"'Multiple NPA 60'!G113","v":0},{"$f":"'Multiple NPA 60'!H113","v":0},{"$f":"'Multiple NPA 60'!I113","v":0},{"$f":"'Multiple NPA 60'!J113","v":0},0,{"$f":"'Multiple NPA 60'!K113","v":0},{"$f":"'Multiple NPA 60'!L113","v":0},{"$error":"#N/A"},{"$error":"#N/A"},{"$error":"#N/A"},{"$error":"#N/A"},{"$error":"#N/A"},0,0,0,{"$error":"#N/A"},0,{"$error":"#N/A"},{"$error":"#N/A"},null,null,"2019-02-07",0,0,711,0.96899999999999997,null,null,null,null,null,null,null,null,null,null,null,{"$error":"#N/A"},{"$error":"#N/A"}]
[{"$f":"'Multiple NPA 60'!A114","v":0},{"$f":"'Multiple NPA 60'!B114","v":0},{"$f":"'Multiple NPA 60'!C114","v":0},{"$f":"'Multiple NPA 60'!D114","v":0},{"$f":"'Multiple NPA 60'!E114","v":"00:00:00"},{"$f":"'Multiple NPA 60'!F114","v":0},{"$f":"'Multiple NPA 60'!G114","v":0},{"$f":"'Multiple NPA 60'!E114","v":"00:00:00"},{"$f":"'Multiple NPA 60'!F114","v":0},{"$f":"'Multiple NPA 60'!G114","v":0},{"$f":"'Multiple NPA 60'!H114","v":0},{"$f":"'Multiple NPA 60'!I114","v":0},{"$f":"'Multiple NPA 60'!J114","v":0},0,{"$f":"'Multiple NPA 60'!K114","v":0},{"$f":"'Multiple NPA 60'!L114","v":0},{"$error":"#N/A"},{"$error":"#N/A"},{"$error":"#N/A"},{"$error":"#N/A"},{"$error":"#N/A"},0,0,0,{"$error":"#N/A"},0,{"$error":"#N/A"},{"$error":"#N/A"},null,null,"2019-02-07",0,0,712,0.97299999999999998,null,null,null,null,null,null,null,null,null,null,null,{"$error":"#N/A"},{"$error":"#N/A"}]
[{"$f":"'Multiple NPA 60'!A115","v":0},{"$f":"'Multiple NPA 60'!B115","v":0},{"$f":"'Multiple NPA 60'!C115","v":0},{"$f":"'Multiple NPA 60'!D115","v":0},{"$f":"'Multiple NPA 60'!E115","v":"00:00:00"},{"$f":"'Multiple NPA 60'!F115","v":0},{"$f":"'Multiple NPA 60'!G115","v":0},{"$f":"'Multiple NPA 60'!E115","v":"00:00:00"},{"$f":"'Multiple NPA 60'!F115","v":0},{"$f":"'Multiple NPA 60'!G115","v":0},{"$f":"'Multiple NPA 60'!H115","v":0},{"$f":"'Multiple NPA 60'!I115","v":0},{"$f":"'Multiple NPA 60'!J115","v":0},0,{"$f":"'Multiple NPA 60'!K115","v":0},{"$f":"'Multiple NPA 60'!L115","v":0},{"$error":"#N/A"},{"$error":"#N/A"},{"$error":"#N/A"},{"$error":"#N/A"},{"$error":"#N/A"},0,0,0,{"$error":"#N/A"},0,{"$error":"#N/A"},{"$error":"#N/A"},null,null,"2019-02-07",0,0,713,0.97599999999999998,null,null,null,null,null,null,null,null,null,null,null,{"$error":"#N/A"},{"$error":"#N/A"}]
[{"$f":"'Multiple NPA 60'!A116","v":0},{"$f":"'Multiple NPA 60'!B116","v":0},{"$f":"'Multiple NPA 60'!C116","v":0},{"$f":"'Multiple NPA 60'!D116","v":0},{"$f":"'Multiple NPA 60'!E116","v":"00:00:00"},{"$f":"'Multiple NPA 60'!F116","v":0},{"$f":"'Multiple NPA 60'!G116","v":0},{"$f":"'Multiple NPA 60'!E116","v":"00:00:00"},{"$f":"'Multiple NPA 60'!F116","v":0},{"$f":"'Multiple NPA 60'!G116","v":0},{"$f":"'Multiple NPA 60'!H116","v":0},{"$f":"'Multiple NPA 60'!I116","v":0},{"$f":"'Multiple NPA 60'!J116","v":0},0,{"$f":"'Multiple NPA 60'!K116","v":0},{"$f":"'Multiple NPA 60'!L116","v":0},{"$error":"#N/A"},{"$error":"#N/A"},{"$error":"#N/A"},{"$error":"#N/A"},{"$error":"#N/A"},0,0,0,{"$error":"#N/A"},0,{"$error":"#N/A"},{"$error":"#N/A"},null,null,"2019-02-07",0,0,714,0.98,null,null,null,null,null,null,null,null,null,null,null,{"$error":"#N/A"},{"$error":"#N/A"}]
[{"$f":"'Multiple NPA 60'!A117","v":0},{"$f":"'Multiple NPA 60'!B117","v":0},{"$f":"'Multiple NPA 60'!C117","v":0},{"$f":"'Multiple NPA 60'!D117","v":0},{"$f":"'Multiple NPA 60'!E117","v":"00:00:00"},{"$f":"'Multiple NPA 60'!F117","v":0},{"$f":"'Multiple NPA 60'!G117","v":0},{"$f":"'Multiple NPA 60'!E117","v":"00:00:00"},{"$f":"'Multiple NPA 60'!F117","v":0},{"$f":"'Multiple NPA 60'!G117","v":0},{"$f":"'Multiple NPA 60'!H117","v":0},{"$f":"'Multiple NPA 60'!I117","v":0},{"$f":"'Multiple NPA 60'!J117","v":0},0,{"$f":"'Multiple NPA 60'!K117","v":0},{"$f":"'Multiple NPA 60'!L117","v":0},{"$error":"#N/A"},{"$error":"#N/A"},{"$error":"#N/A"},{"$error":"#N/A"},{"$error":"#N/A"},0,0,0,{"$error":"#N/A"},0,{"$error":"#N/A"},{"$error":"#N/A"},null,null,"2019-02-07",0,0,715,0.98399999999999999,null,null,null,null,null,null,null,null,null,null,null,{"$error":"#N/A"},{"$error":"#N/A"}]
[{"$f":"'Multiple NPA 60'!A118","v":0},{"$f":"'Multiple NPA 60'!B118","v":0},{"$f":"'Multiple NPA 60'!C118","v":0},{"$f":"'Multiple NPA 60'!D118","v":0},{"$f":"'Multiple NPA 60'!E118","v":"00:00:00"},{"$f":"'Multiple NPA 60'!F118","v":0},{"$f":"'Multiple NPA 60'!G118","v":0},{"$f":"'Multiple NPA 60'!E118","v":"00:00:00"},{"$f":"'Multiple NPA 60'!F118","v":0},{"$f":"'Multiple NPA 60'!G118","v":0},{"$f":"'Multiple NPA 60'!H118","v":0},{"$f":"'Multiple NPA 60'!I118","v":0},{"$f":"'Multiple NPA 60'!J118","v":0},0,{"$f":"'Multiple NPA 60'!K118","v":0},{"$f":"'Multiple NPA 60'!L118","v":0},{"$error":"#N/A"},{"$error":"#N/A"},{"$error":"#N/A"},{"$error":"#N/A"},{"$error":"#N/A"},0,0,0,{"$error":"#N/A"},0,{"$error":"#N/A"},{"$error":"#N/A"},null,null,"2019-02-07",0,0,716,0.98699999999999999,null,null,null,null,null,null,null,null,null,null,null,{"$error":"#N/A"},{"$error":"#N/A"}]
[{"$f":"'Multiple NPA 60'!A119","v":0},{"$f":"'Multiple NPA 60'!B119","v":0},{"$f":"'Multiple NPA 60'!C119","v":0},{"$f":"'Multiple NPA 60'!D119","v":0},{"$f":"'Multiple NPA 60'!E119","v":"00:00:00"},{"$f":"'Multiple NPA 60'!F119","v":0},{"$f":"'Multiple NPA 60'!G119","v":0},{"$f":"'Multiple NPA 60'!E119","v":"00:00:00"},{"$f":"'Multiple NPA 60'!F119","v":0},{"$f":"'Multiple NPA 60'!G119","v":0},{"$f":"'Multiple NPA 60'!H119","v":0},{"$f":"'Multiple NPA 60'!I119","v":0},{"$f":"'Multiple NPA 60'!J119","v":0},0,{"$f":"'Multiple NPA 60'!K119","v":0},{"$f":"'Multiple NPA 60'!L119","v":0},{"$error":"#N/A"},{"$error":"#N/A"},{"$error":"#N/A"},{"$error":"#N/A"},{"$error":"#N/A"},0,0,0,{"$error":"#N/A"},0,{"$error":"#N/A"},{"$error":"#N/A"},null,null,"2019-02-07",0,0,717,0.99099999999999999,null,null,null,null,null,null,null,null,null,null,null,{"$error":"#N/A"},{"$error":"#N/A"}]
[{"$f":"'Multiple NPA 60'!A120","v":0},{"$f":"'Multiple NPA 60'!B120","v":0},{"$f":"'Multiple NPA 60'!C120","v":0},{"$f":"'Multiple NPA 60'!D120","v":0},{"$f":"'Multiple NPA 60'!E120","v":"00:00:00"},{"$f":"'Multiple NPA 60'!F120","v":0},{"$f":"'Multiple NPA 60'!G120","v":0},{"$f":"'Multiple NPA 60'!E120","v":"00:00:00"},{"$f":"'Multiple NPA 60'!F120","v":0},{"$f":"'Multiple NPA 60'!G120","v":0},{"$f":"'Multiple NPA 60'!H120","v":0},{"$f":"'Multiple NPA 60'!I120","v":0},{"$f":"'Multiple NPA 60'!J120","v":0},0,{"$f":"'Multiple NPA 60'!K120","v":0},{"$f":"'Multiple NPA 60'!L120","v":0},{"$error":"#N/A"},{"$error":"#N/A"},{"$error":"#N/A"},{"$error":"#N/A"},{"$error":"#N/A"},0,0,0,{"$error":"#N/A"},0,{"$error":"#N/A"},{"$error":"#N/A"},null,null,"2019-02-07",0,0,718,0.995,null,null,null,null,null,null,null,null,null,null,null,{"$error":"#N/A"},{"$error":"#N/A"}]
[{"$f":"'Multiple NPA 60'!A121","v":0},{"$f":"'Multiple NPA 60'!B121","v":0},{"$f":"'Multiple NPA 60'!C121","v":0},{"$f":"'Multiple NPA 60'!D121","v":0},{"$f":"'Multiple NPA 60'!E121","v":"00:00:00"},{"$f":"'Multiple NPA 60'!F121","v":0},{"$f":"'Multiple NPA 60'!G121","v":0},{"$f":"'Multiple NPA 60'!E121","v":"00:00:00"},{"$f":"'Multiple NPA 60'!F121","v":0},{"$f":"'Multiple NPA 60'!G121","v":0},{"$f":"'Multiple NPA 60'!H121","v":0},{"$f":"'Multiple NPA 60'!I121","v":0},{"$f":"'Multiple NPA 60'!J121","v":0},0,{"$f":"'Multiple NPA 60'!K121","v":0},{"$f":"'Multiple NPA 60'!L121","v":0},{"$error":"#N/A"},{"$error":"#N/A"},{"$error":"#N/A"},{"$error":"#N/A"},{"$error":"#N/A"},0,0,0,{"$error":"#N/A"},0,{"$error":"#N/A"},{"$error":"#N/A"},null,null,"2019-02-07",0,0,719,0.998,null,null,null,null,null,null,null,null,null,null,null,{"$error":"#N/A"},{"$error":"#N/A"}]
[{"$f":"'Multiple NPA 60'!A122","v":0},{"$f":"'Multiple NPA 60'!B122","v":0},{"$f":"'Multiple NPA 60'!C122","v":0},{"$f":"'Multiple NPA 60'!D122","v":0},{"$f":"'Multiple NPA 60'!E122","v":"00:00:00"},{"$f":"'Multiple NPA 60'!F122","v":0},{"$f":"'Multiple NPA 60'!G122","v":0},{"$f":"'Multiple NPA 60'!E122","v":"00:00:00"},{"$f":"'Multiple NPA 60'!F122","v":0},{"$f":"'Multiple NPA 60'!G122","v":0},{"$f":"'Multiple NPA 60'!H122","v":0},{"$f":"'Multiple NPA 60'!I122","v":0},{"$f":"'Multiple NPA 60'!J122","v":0},0,{"$f":"'Multiple NPA 60'!K122","v":0},{"$f":"'Multiple NPA 60'!L122","v":0},{"$error":"#N/A"},{"$error":"#N/A"},{"$error":"#N/A"},{"$error":"#N/A"},{"$error":"#N/A"},0,0,0,{"$error":"#N/A"},0,{"$error":"#N/A"},{"$error":"#N/A"},null,null,"2019-02-07",0,0,720,1,null,null,null,null,null,null,null,null,null,null,null,{"$error":"#N/A"},{"$error":"#N/A"}]
[{"$f":"'Multiple NPA 60'!A123","v":0},{"$f":"'Multiple NPA 60'!B123","v":0},{"$f":"'Multiple NPA 60'!C123","v":0},{"$f":"'Multiple NPA 60'!D123","v":0},{"$f":"'Multiple NPA 60'!E123","v":"00:00:00"},{"$f":"'Multiple NPA 60'!F123","v":0},{"$f":"'Multiple NPA 60'!G123","v":0},{"$f":"'Multiple NPA 60'!E123","v":"00:00:00"},{"$f":"'Multiple NPA 60'!F123","v":0},{"$f":"'Multiple NPA 60'!G123","v":0},{"$f":"'Multiple NPA 60'!H123","v":0},{"$f":"'Multiple NPA 60'!I123","v":0},{"$f":"'Multiple NPA 60'!J123","v":0},0,{"$f":"'Multiple NPA 60'!K123","v":0},{"$f":"'Multiple NPA 60'!L123","v":0},{"$error":"#N/A"},{"$error":"#N/A"},{"$error":"#N/A"},{"$error":"#N/A"},{"$error":"#N/A"},0,0,0,{"$error":"#N/A"},0,{"$error":"#N/A"},{"$error":"#N/A"},null,null,"2019-02-07",0,0,721,1,null,null,null,null,null,null,null,null,null,null,null,{"$error":"#N/A"},{"$error":"#N/A"}]
[{"$f":"'Multiple NPA 60'!A124","v":0},{"$f":"'Multiple NPA 60'!B124","v":0},{"$f":"'Multiple NPA 60'!C124","v":0},{"$f":"'Multiple NPA 60'!D124","v":0},{"$f":"'Multiple NPA 60'!E124","v":"00:00:00"},{"$f":"'Multiple NPA 60'!F124","v":0},{"$f":"'Multiple NPA 60'!G124","v":0},{"$f":"'Multiple NPA 60'!E124","v":"00:00:00"},{"$f":"'Multiple NPA 60'!F124","v":0},{"$f":"'Multiple NPA 60'!G124","v":0},{"$f":"'Multiple NPA 60'!H124","v":0},{"$f":"'Multiple NPA 60'!I124","v":0},{"$f":"'Multiple NPA 60'!J124","v":0},0,{"$f":"'Multiple NPA 60'!K124","v":0},{"$f":"'Multiple NPA 60'!L124","v":0},{"$error":"#N/A"},{"$error":"#N/A"},{"$error":"#N/A"},{"$error":"#N/A"},{"$error":"#N/A"},0,0,0,{"$error":"#N/A"},0,{"$error":"#N/A"},{"$error":"#N/A"},null,null,"2019-02-07",0,0,722,1,null,null,null,null,null,null,null,null,null,null,null,{"$error":"#N/A"},{"$error":"#N/A"}]
[{"$f":"'Multiple NPA 60'!A125","v":0},{"$f":"'Multiple NPA 60'!B125","v":0},{"$f":"'Multiple NPA 60'!C125","v":0},{"$f":"'Multiple NPA 60'!D125","v":0},{"$f":"'Multiple NPA 60'!E125","v":"00:00:00"},{"$f":"'Multiple NPA 60'!F125","v":0},{"$f":"'Multiple NPA 60'!G125","v":0},{"$f":"'Multiple NPA 60'!E125","v":"00:00:00"},{"$f":"'Multiple NPA 60'!F125","v":0},{"$f":"'Multiple NPA 60'!G125","v":0},{"$f":"'Multiple NPA 60'!H125","v":0},{"$f":"'Multiple NPA 60'!I125","v":0},{"$f":"'Multiple NPA 60'!J125","v":0},0,{"$f":"'Multiple NPA 60'!K125","v":0},{"$f":"'Multiple NPA 60'!L125","v":0},{"$error":"#N/A"},{"$error":"#N/A"},{"$error":"#N/A"},{"$error":"#N/A"},{"$error":"#N/A"},0,0,0,{"$error":"#N/A"},0,{"$error":"#N/A"},{"$error":"#N/A"},null,null,"2019-02-07",0,0,723,1,null,null,null,null,null,null,null,null,null,null,null,{"$error":"#N/A"},{"$error":"#N/A"}]
[{"$f":"'Multiple NPA 60'!A126","v":0},{"$f":"'Multiple NPA 60'!B126","v":0},{"$f":"'Multiple NPA 60'!C126","v":0},{"$f":"'Multiple NPA 60'!D126","v":0},{"$f":"'Multiple NPA 60'!E126","v":"00:00:00"},{"$f":"'Multiple NPA 60'!F126","v":0},{"$f":"'Multiple NPA 60'!G126","v":0},{"$f":"'Multiple NPA 60'!E126","v":"00:00:00"},{"$f":"'Multiple NPA 60'!F126","v":0},{"$f":"'Multiple NPA 60'!G126","v":0},{"$f":"'Multiple NPA 60'!H126","v":0},{"$f":"'Multiple NPA 60'!I126","v":0},{"$f":"'Multiple NPA 60'!J126","v":0},0,{"$f":"'Multiple NPA 60'!K126","v":0},{"$f":"'Multiple NPA 60'!L126","v":0},{"$error":"#N/A"},{"$error":"#N/A"},{"$error":"#N/A"},{"$error":"#N/A"},{"$error":"#N/A"},0,0,0,{"$error":"#N/A"},0,{"$error":"#N/A"},{"$error":"#N/A"},null,null,"2019-02-07",0,0,724,1,null,null,null,null,null,null,null,null,null,null,null,{"$error":"#N/A"},{"$error":"#N/A"}]
[{"$f":"'Multiple NPA 60'!A127","v":0},{"$f":"'Multiple NPA 60'!B127","v":0},{"$f":"'Multiple NPA 60'!C127","v":0},{"$f":"'Multiple NPA 60'!D127","v":0},{"$f":"'Multiple NPA 60'!E127","v":"00:00:00"},{"$f":"'Multiple NPA 60'!F127","v":0},{"$f":"'Multiple NPA 60'!G127","v":0},{"$f":"'Multiple NPA 60'!E127","v":"00:00:00"},{"$f":"'Multiple NPA 60'!F127","v":0},{"$f":"'Multiple NPA 60'!G127","v":0},{"$f":"'Multiple NPA 60'!H127","v":0},{"$f":"'Multiple NPA 60'!I127","v":0},{"$f":"'Multiple NPA 60'!J127","v":0},0,{"$f":"'Multiple NPA 60'!K127","v":0},{"$f":"'Multiple NPA 60'!L127","v":0},{"$error":"#N/A"},{"$error":"#N/A"},{"$error":"#N/A"},{"$error":"#N/A"},{"$error":"#N/A"},0,0,0,{"$error":"#N/A"},0,{"$error":"#N/A"},{"$error":"#N/A"},null,null,"2019-02-07",0,0,725,1,null,null,null,null,null,null,null,null,null,null,null,{"$error":"#N/A"},{"$error":"#N/A"}]
[{"$f":"'Multiple NPA 60'!A128","v":0},{"$f":"'Multiple NPA 60'!B128","v":0},{"$f":"'Multiple NPA 60'!C128","v":0},{"$f":"'Multiple NPA 60'!D128","v":0},{"$f":"'Multiple NPA 60'!E128","v":"00:00:00"},{"$f":"'Multiple NPA 60'!F128","v":0},{"$f":"'Multiple NPA 60'!G128","v":0},{"$f":"'Multiple NPA 60'!E128","v":"00:00:00"},{"$f":"'Multiple NPA 60'!F128","v":0},{"$f":"'Multiple NPA 60'!G128","v":0},{"$f":"'Multiple NPA 60'!H128","v":0},{"$f":"'Multiple NPA 60'!I128","v":0},{"$f":"'Multiple NPA 60'!J128","v":0},0,{"$f":"'Multiple NPA 60'!K128","v":0},{"$f":"'Multiple NPA 60'!L128","v":0},{"$error":"#N/A"},{"$error":"#N/A"},{"$error":"#N/A"},{"$error":"#N/A"},{"$error":"#N/A"},0,0,0,{"$error":"#N/A"},0,{"$error":"#N/A"},{"$error":"#N/A"},null,null,"2019-02-07",0,0,726,1,null,null,null,null,null,null,null,null,null,null,null,{"$error":"#N/A"},{"$error":"#N/A"}]
[{"$f":"'Multiple NPA 60'!A129","v":0},{"$f":"'Multiple NPA 60'!B129","v":0},{"$f":"'Multiple NPA 60'!C129","v":0},{"$f":"'Multiple NPA 60'!D129","v":0},{"$f":"'Multiple NPA 60'!E129","v":"00:00:00"},{"$f":"'Multiple NPA 60'!F129","v":0},{"$f":"'Multiple NPA 60'!G129","v":0},{"$f":"'Multiple NPA 60'!E129","v":"00:00:00"},{"$f":"'Multiple NPA 60'!F129","v":0},{"$f":"'Multiple NPA 60'!G129","v":0},{"$f":"'Multiple NPA 60'!H129","v":0},{"$f":"'Multiple NPA 60'!I129","v":0},{"$f":"'Multiple NPA 60'!J129","v":0},0,{"$f":"'Multiple NPA 60'!K129","v":0},{"$f":"'Multiple NPA 60'!L129","v":0},{"$error":"#N/A"},{"$error":"#N/A"},{"$error":"#N/A"},{"$error":"#N/A"},{"$error":"#N/A"},0,0,0,{"$error":"#N/A"},0,{"$error":"#N/A"},{"$error":"#N/A"},null,null,"2019-02-07",0,0,727,1,null,null,null,null,null,null,null,null,null,null,null,{"$error":"#N/A"},{"$error":"#N/A"}]
[{"$f":"'Multiple NPA 60'!A130","v":0},{"$f":"'Multiple NPA 60'!B130","v":0},{"$f":"'Multiple NPA 60'!C130","v":0},{"$f":"'Multiple NPA 60'!D130","v":0},{"$f":"'Multiple NPA 60'!E130","v":"00:00:00"},{"$f":"'Multiple NPA 60'!F130","v":0},{"$f":"'Multiple NPA 60'!G130","v":0},{"$f":"'Multiple NPA 60'!E130","v":"00:00:00"},{"$f":"'Multiple NPA 60'!F130","v":0},{"$f":"'Multiple NPA 60'!G130","v":0},{"$f":"'Multiple NPA 60'!H130","v":0},{"$f":"'Multiple NPA 60'!I130","v":0},{"$f":"'Multiple NPA 60'!J130","v":0},0,{"$f":"'Multiple NPA 60'!K130","v":0},{"$f":"'Multiple NPA 60'!L130","v":0},{"$error":"#N/A"},{"$error":"#N/A"},{"$error":"#N/A"},{"$error":"#N/A"},{"$error":"#N/A"},0,0,0,{"$error":"#N/A"},0,{"$error":"#N/A"},{"$error":"#N/A"},null,null,"2019-02-07",0,0,728,1,null,null,null,null,null,null,null,null,null,null,null,{"$error":"#N/A"},{"$error":"#N/A"}]
[{"$f":"'Multiple NPA 60'!A131","v":0},{"$f":"'Multiple NPA 60'!B131","v":0},{"$f":"'Multiple NPA 60'!C131","v":0},{"$f":"'Multiple NPA 60'!D131","v":0},{"$f":"'Multiple NPA 60'!E131","v":"00:00:00"},{"$f":"'Multiple NPA 60'!F131","v":0},{"$f":"'Multiple NPA 60'!G131","v":0},{"$f":"'Multiple NPA 60'!E131","v":"00:00:00"},{"$f":"'Multiple NPA 60'!F131","v":0},{"$f":"'Multiple NPA 60'!G131","v":0},{"$f":"'Multiple NPA 60'!H131","v":0},{"$f":"'Multiple NPA 60'!I131","v":0},{"$f":"'Multiple NPA 60'!J131","v":0},0,{"$f":"'Multiple NPA 60'!K131","v":0},{"$f":"'Multiple NPA 60'!L131","v":0},{"$error":"#N/A"},{"$error":"#N/A"},{"$f":"(((K133+(L133/365))*I133)/80)-Q133","v":{"$error":"#N/A"}},{"$error":"#N/A"},{"$error":"#N/A"},0,0,0,{"$error":"#N/A"},0,{"$error":"#N/A"},{"$error":"#N/A"},null,null,"2019-02-07",0,0,729,1,null,null,null,null,null,null,null,null,null,null,null,{"$error":"#N/A"},{"$error":"#N/A"}]
[{"$f":"'Multiple NPA 60'!A132","v":0},{"$f":"'Multiple NPA 60'!B132","v":0},{"$f":"'Multiple NPA 60'!C132","v":0},{"$f":"'Multiple NPA 60'!D132","v":0},{"$f":"'Multiple NPA 60'!E132","v":"00:00:00"},{"$f":"'Multiple NPA 60'!F132","v":0},{"$f":"'Multiple NPA 60'!G132","v":0},{"$f":"'Multiple NPA 60'!E132","v":"00:00:00"},{"$f":"'Multiple NPA 60'!F132","v":0},{"$f":"'Multiple NPA 60'!G132","v":0},{"$f":"'Multiple NPA 60'!H132","v":0},{"$f":"'Multiple NPA 60'!I132","v":0},{"$f":"'Multiple NPA 60'!J132","v":0},{"$f":"O134+(P134/365)","v":0},{"$f":"'Multiple NPA 60'!K132","v":0},{"$f":"'Multiple NPA 60'!L132","v":0},{"$f":"VLOOKUP(AF134,$AH$4:$AI$244,2,FALSE)*(((K134+(L134/365))*I134)/80)","v":{"$error":"#N/A"}},{"$f":"Q134*3","v":{"$error":"#N/A"}},{"$error":"#N/A"},{"$error":"#N/A"},{"$error":"#N/A"},{"$f":"((O134+(P134/365))*I134)/80","v":0},{"$f":"V134/2","v":0},{"$f":"V134*3","v":0},{"$f":"IF(M134>1,(((VLOOKUP(AG134,$AM$5:$AN$25,2,FALSE)*I134)/80)*N134)+(((VLOOKUP(AG134,$AR$5:$AS$25,2,FALSE)*I134)/160)*N134),((((VLOOKUP(AG134,$AK$5:$AL$25,2,FALSE)*I134)/80)*N134))+(((VLOOKUP(AG134,$AP$5:$AQ$25,2,FALSE)*I134)/160)*N134))+(((N134*I134)/80)*3)","v":{"$error":"#N/A"}},0,{"$f":"SUM(Q134-AV134)","v":{"$error":"#N/A"}},{"$f":"SUM(AV134*12)+R134","v":{"$error":"#N/A"}},null,null,{"$f":"TODAY()","v":"2019-02-07"},0,{"$f":"(DATEDIF(H134, J134, \"Y\"))","v":0},730,1,null,null,null,null,null,null,null,null,null,null,null,{"$error":"#N/A"},{"$error":"#N/A"}]
[{"$f":"'Multiple NPA 60'!A133","v":0},{"$f":"'Multiple NPA 60'!B133","v":0},{"$f":"'Multiple NPA 60'!C133","v":0},{"$f":"'Multiple NPA 60'!D133","v":0},{"$f":"'Multiple NPA 60'!E133","v":"00:00:00"},{"$f":"'Multiple NPA 60'!F133","v":0},{"$f":"'Multiple NPA 60'!G133","v":0},{"$f":"'Multiple NPA 60'!E133","v":"00:00:00"},{"$f":"'Multiple NPA 60'!F133","v":0},{"$f":"'Multiple NPA 60'!G133","v":0},{"$f":"'Multiple NPA 60'!H133","v":0},{"$f":"'Multiple NPA 60'!I133","v":0},{"$f":"'Multiple NPA 60'!J133","v":0},0,{"$f":"'Multiple NPA 60'!K133","v":0},{"$f":"'Multiple NPA 60'!L133","v":0},{"$error":"#N/A"},{"$error":"#N/A"},{"$error":"#N/A"},{"$f":"S135*3","v":{"$error":"#N/A"}},{"$f":"IF(M135>1,(((VLOOKUP(AG135, $AM$5:$AN$25,2,FALSE)*S135)))+(S135*3),(((VLOOKUP(AG135,$AK$5:$AL$25,2,FALSE)*S135)))+(S135*3))","v":{"$error":"#N/A"}},0,0,0,{"$error":"#N/A"},0,{"$error":"#N/A"},{"$error":"#N/A"},null,null,"2019-02-07",0,0,731,1,null,null,null,null,null,null,null,null,null,null,null,{"$error":"#N/A"},{"$error":"#N/A"}]
[{"$f":"'Multiple NPA 60'!A134","v":0},{"$f":"'Multiple NPA 60'!B134","v":0},{"$f":"'Multiple NPA 60'!C134","v":0},{"$f":"'Multiple NPA 60'!D134","v":0},{"$f":"'Multiple NPA 60'!E134","v":"00:00:00"},{"$f":"'Multiple NPA 60'!F134","v":0},{"$f":"'Multiple NPA 60'!G134","v":0},{"$f":"'Multiple NPA 60'!E134","v":"00:00:00"},{"$f":"'Multiple NPA 60'!F134","v":0},{"$f":"'Multiple NPA 60'!G134","v":0},{"$f":"'Multiple NPA 60'!H134","v":0},{"$f":"'Multiple NPA 60'!I134","v":0},{"$f":"'Multiple NPA 60'!J134","v":0},0,{"$f":"'Multiple NPA 60'!K134","v":0},{"$f":"'Multiple NPA 60'!L134","v":0},{"$error":"#N/A"},{"$error":"#N/A"},{"$error":"#N/A"},{"$error":"#N/A"},{"$error":"#N/A"},0,0,0,{"$error":"#N/A"},0,{"$error":"#N/A"},{"$error":"#N/A"},null,null,"2019-02-07",{"$f":"(DATEDIF(H136, J136, \"M\"))","v":0},0,732,1,null,null,null,null,null,null,null,null,null,null,null,{"$error":"#N/A"},{"$error":"#N/A"}]
[{"$f":"'Multiple NPA 60'!A135","v":0},{"$f":"'Multiple NPA 60'!B135","v":0},{"$f":"'Multiple NPA 60'!C135","v":0},{"$f":"'Multiple NPA 60'!D135","v":0},{"$f":"'Multiple NPA 60'!E135","v":"00:00:00"},{"$f":"'Multiple NPA 60'!F135","v":0},{"$f":"'Multiple NPA 60'!G135","v":0},{"$f":"'Multiple NPA 60'!E135","v":"00:00:00"},{"$f":"'Multiple NPA 60'!F135","v":0},{"$f":"'Multiple NPA 60'!G135","v":0},{"$f":"'Multiple NPA 60'!H135","v":0},{"$f":"'Multiple NPA 60'!I135","v":0},{"$f":"'Multiple NPA 60'!J135","v":0},0,{"$f":"'Multiple NPA 60'!K135","v":0},{"$f":"'Multiple NPA 60'!L135","v":0},{"$error":"#N/A"},{"$error":"#N/A"},{"$error":"#N/A"},{"$error":"#N/A"},{"$error":"#N/A"},0,0,0,{"$error":"#N/A"},{"$f":"(SUMIF(U137:Y137,\">0\",U137:Y137))-(V137+X137+W137)","v":0},{"$error":"#N/A"},{"$error":"#N/A"},null,null,"2019-02-07",0,0,733,1,null,null,null,null,null,null,null,null,null,null,null,{"$error":"#N/A"},{"$error":"#N/A"}]
[{"$f":"'Multiple NPA 60'!A136","v":0},{"$f":"'Multiple NPA 60'!B136","v":0},{"$f":"'Multiple NPA 60'!C136","v":0},{"$f":"'Multiple NPA 60'!D136","v":0},{"$f":"'Multiple NPA 60'!E136","v":"00:00:00"},{"$f":"'Multiple NPA 60'!F136","v":0},{"$f":"'Multiple NPA 60'!G136","v":0},{"$f":"'Multiple NPA 60'!E136","v":"00:00:00"},{"$f":"'Multiple NPA 60'!F136","v":0},{"$f":"'Multiple NPA 60'!G136","v":0},{"$f":"'Multiple NPA 60'!H136","v":0},{"$f":"'Multiple NPA 60'!I136","v":0},{"$f":"'Multiple NPA 60'!J136","v":0},0,{"$f":"'Multiple NPA 60'!K136","v":0},{"$f":"'Multiple NPA 60'!L136","v":0},{"$error":"#N/A"},{"$error":"#N/A"},{"$error":"#N/A"},{"$error":"#N/A"},{"$error":"#N/A"},0,0,0,{"$error":"#N/A"},0,{"$error":"#N/A"},{"$error":"#N/A"},null,null,"2019-02-07",0,0,734,1,null,null,null,null,null,null,null,null,null,null,null,{"$error":"#N/A"},{"$error":"#N/A"}]
[{"$f":"'Multiple NPA 60'!A137","v":0},{"$f":"'Multiple NPA 60'!B137","v":0},{"$f":"'Multiple NPA 60'!C137","v":0},{"$f":"'Multiple NPA 60'!D137","v":0},{"$f":"'Multiple NPA 60'!E137","v":"00:00:00"},{"$f":"'Multiple NPA 60'!F137","v":0},{"$f":"'Multiple NPA 60'!G137","v":0},{"$f":"'Multiple NPA 60'!E137","v":"00:00:00"},{"$f":"'Multiple NPA 60'!F137","v":0},{"$f":"'Multiple NPA 60'!G137","v":0},{"$f":"'Multiple NPA 60'!H137","v":0},{"$f":"'Multiple NPA 60'!I137","v":0},{"$f":"'Multiple NPA 60'!J137","v":0},0,{"$f":"'Multiple NPA 60'!K137","v":0},{"$f":"'Multiple NPA 60'!L137","v":0},{"$error":"#N/A"},{"$error":"#N/A"},{"$error":"#N/A"},{"$error":"#N/A"},{"$error":"#N/A"},0,0,0,{"$error":"#N/A"},0,{"$error":"#N/A"},{"$error":"#N/A"},null,null,"2019-02-07",0,0,735,1,null,null,null,null,null,null,null,null,null,null,null,{"$error":"#N/A"},{"$error":"#N/A"}]
[{"$f":"'Multiple NPA 60'!A138","v":0},{"$f":"'Multiple NPA 60'!B138","v":0},{"$f":"'Multiple NPA 60'!C138","v":0},{"$f":"'Multiple NPA 60'!D138","v":0},{"$f":"'Multiple NPA 60'!E138","v":"00:00:00"},{"$f":"'Multiple NPA 60'!F138","v":0},{"$f":"'Multiple NPA 60'!G138","v":0},{"$f":"'Multiple NPA 60'!E138","v":"00:00:00"},{"$f":"'Multiple NPA 60'!F138","v":0},{"$f":"'Multiple NPA 60'!G138","v":0},{"$f":"'Multiple NPA 60'!H138","v":0},{"$f":"'Multiple NPA 60'!I138","v":0},{"$f":"'Multiple NPA 60'!J138","v":0},0,{"$f":"'Multiple NPA 60'!K138","v":0},{"$f":"'Multiple NPA 60'!L138","v":0},{"$error":"#N/A"},{"$error":"#N/A"},{"$error":"#N/A"},{"$error":"#N/A"},{"$error":"#N/A"},0,0,0,{"$error":"#N/A"},0,{"$error":"#N/A"},{"$error":"#N/A"},null,null,"2019-02-07",0,0,736,1,null,null,null,null,null,null,null,null,null,null,null,{"$error":"#N/A"},{"$error":"#N/A"}]
[{"$f":"'Multiple NPA 60'!A139","v":0},{"$f":"'Multiple NPA 60'!B139","v":0},{"$f":"'Multiple NPA 60'!C139","v":0},{"$f":"'Multiple NPA 60'!D139","v":0},{"$f":"'Multiple NPA 60'!E139","v":"00:00:00"},{"$f":"'Multiple NPA 60'!F139","v":0},{"$f":"'Multiple NPA 60'!G139","v":0},{"$f":"'Multiple NPA 60'!E139","v":"00:00:00"},{"$f":"'Multiple NPA 60'!F139","v":0},{"$f":"'Multiple NPA 60'!G139","v":0},{"$f":"'Multiple NPA 60'!H139","v":0},{"$f":"'Multiple NPA 60'!I139","v":0},{"$f":"'Multiple NPA 60'!J139","v":0},0,{"$f":"'Multiple NPA 60'!K139","v":0},{"$f":"'Multiple NPA 60'!L139","v":0},{"$error":"#N/A"},{"$error":"#N/A"},{"$error":"#N/A"},{"$error":"#N/A"},{"$error":"#N/A"},0,0,0,{"$error":"#N/A"},0,{"$error":"#N/A"},{"$error":"#N/A"},null,null,"2019-02-07",0,0,737,1,null,null,null,null,null,null,null,null,null,null,null,{"$error":"#N/A"},{"$error":"#N/A"}]
[{"$f":"'Multiple NPA 60'!A140","v":0},{"$f":"'Multiple NPA 60'!B140","v":0},{"$f":"'Multiple NPA 60'!C140","v":0},{"$f":"'Multiple NPA 60'!D140","v":0},{"$f":"'Multiple NPA 60'!E140","v":"00:00:00"},{"$f":"'Multiple NPA 60'!F140","v":0},{"$f":"'Multiple NPA 60'!G140","v":0},{"$f":"'Multiple NPA 60'!E140","v":"00:00:00"},{"$f":"'Multiple NPA 60'!F140","v":0},{"$f":"'Multiple NPA 60'!G140","v":0},{"$f":"'Multiple NPA 60'!H140","v":0},{"$f":"'Multiple NPA 60'!I140","v":0},{"$f":"'Multiple NPA 60'!J140","v":0},0,{"$f":"'Multiple NPA 60'!K140","v":0},{"$f":"'Multiple NPA 60'!L140","v":0},{"$error":"#N/A"},{"$error":"#N/A"},{"$error":"#N/A"},{"$error":"#N/A"},{"$error":"#N/A"},0,0,0,{"$error":"#N/A"},0,{"$error":"#N/A"},{"$error":"#N/A"},null,null,"2019-02-07",0,0,738,1,null,null,null,null,null,null,null,null,null,null,null,{"$error":"#N/A"},{"$error":"#N/A"}]
[{"$f":"'Multiple NPA 60'!A141","v":0},{"$f":"'Multiple NPA 60'!B141","v":0},{"$f":"'Multiple NPA 60'!C141","v":0},{"$f":"'Multiple NPA 60'!D141","v":0},{"$f":"'Multiple NPA 60'!E141","v":"00:00:00"},{"$f":"'Multiple NPA 60'!F141","v":0},{"$f":"'Multiple NPA 60'!G141","v":0},{"$f":"'Multiple NPA 60'!E141","v":"00:00:00"},{"$f":"'Multiple NPA 60'!F141","v":0},{"$f":"'Multiple NPA 60'!G141","v":0},{"$f":"'Multiple NPA 60'!H141","v":0},{"$f":"'Multiple NPA 60'!I141","v":0},{"$f":"'Multiple NPA 60'!J141","v":0},0,{"$f":"'Multiple NPA 60'!K141","v":0},{"$f":"'Multiple NPA 60'!L141","v":0},{"$error":"#N/A"},{"$error":"#N/A"},{"$error":"#N/A"},{"$error":"#N/A"},{"$error":"#N/A"},0,0,0,{"$error":"#N/A"},0,{"$error":"#N/A"},{"$error":"#N/A"},null,null,"2019-02-07",0,0,739,1,null,null,null,null,null,null,null,null,null,null,null,{"$error":"#N/A"},{"$error":"#N/A"}]
[{"$f":"'Multiple NPA 60'!A142","v":0},{"$f":"'Multiple NPA 60'!B142","v":0},{"$f":"'Multiple NPA 60'!C142","v":0},{"$f":"'Multiple NPA 60'!D142","v":0},{"$f":"'Multiple NPA 60'!E142","v":"00:00:00"},{"$f":"'Multiple NPA 60'!F142","v":0},{"$f":"'Multiple NPA 60'!G142","v":0},{"$f":"'Multiple NPA 60'!E142","v":"00:00:00"},{"$f":"'Multiple NPA 60'!F142","v":0},{"$f":"'Multiple NPA 60'!G142","v":0},{"$f":"'Multiple NPA 60'!H142","v":0},{"$f":"'Multiple NPA 60'!I142","v":0},{"$f":"'Multiple NPA 60'!J142","v":0},0,{"$f":"'Multiple NPA 60'!K142","v":0},{"$f":"'Multiple NPA 60'!L142","v":0},{"$error":"#N/A"},{"$error":"#N/A"},{"$error":"#N/A"},{"$error":"#N/A"},{"$error":"#N/A"},0,0,0,{"$error":"#N/A"},0,{"$error":"#N/A"},{"$error":"#N/A"},null,null,"2019-02-07",0,0,740,1,null,null,null,null,null,null,null,null,null,null,null,{"$error":"#N/A"},{"$error":"#N/A"}]
[{"$f":"'Multiple NPA 60'!A143","v":0},{"$f":"'Multiple NPA 60'!B143","v":0},{"$f":"'Multiple NPA 60'!C143","v":0},{"$f":"'Multiple NPA 60'!D143","v":0},{"$f":"'Multiple NPA 60'!E143","v":"00:00:00"},{"$f":"'Multiple NPA 60'!F143","v":0},{"$f":"'Multiple NPA 60'!G143","v":0},{"$f":"'Multiple NPA 60'!E143","v":"00:00:00"},{"$f":"'Multiple NPA 60'!F143","v":0},{"$f":"'Multiple NPA 60'!G143","v":0},{"$f":"'Multiple NPA 60'!H143","v":0},{"$f":"'Multiple NPA 60'!I143","v":0},{"$f":"'Multiple NPA 60'!J143","v":0},0,{"$f":"'Multiple NPA 60'!K143","v":0},{"$f":"'Multiple NPA 60'!L143","v":0},{"$error":"#N/A"},{"$error":"#N/A"},{"$error":"#N/A"},{"$error":"#N/A"},{"$error":"#N/A"},0,0,0,{"$error":"#N/A"},0,{"$error":"#N/A"},{"$error":"#N/A"},null,null,"2019-02-07",0,0,741,1,null,null,null,null,null,null,null,null,null,null,null,{"$error":"#N/A"},{"$error":"#N/A"}]
[{"$f":"'Multiple NPA 60'!A144","v":0},{"$f":"'Multiple NPA 60'!B144","v":0},{"$f":"'Multiple NPA 60'!C144","v":0},{"$f":"'Multiple NPA 60'!D144","v":0},{"$f":"'Multiple NPA 60'!E144","v":"00:00:00"},{"$f":"'Multiple NPA 60'!F144","v":0},{"$f":"'Multiple NPA 60'!G144","v":0},{"$f":"'Multiple NPA 60'!E144","v":"00:00:00"},{"$f":"'Multiple NPA 60'!F144","v":0},{"$f":"'Multiple NPA 60'!G144","v":0},{"$f":"'Multiple NPA 60'!H144","v":0},{"$f":"'Multiple NPA 60'!I144","v":0},{"$f":"'Multiple NPA 60'!J144","v":0},0,{"$f":"'Multiple NPA 60'!K144","v":0},{"$f":"'Multiple NPA 60'!L144","v":0},{"$error":"#N/A"},{"$error":"#N/A"},{"$error":"#N/A"},{"$error":"#N/A"},{"$error":"#N/A"},0,0,0,{"$error":"#N/A"},0,{"$error":"#N/A"},{"$error":"#N/A"},null,null,"2019-02-07",0,0,742,1,null,null,null,null,null,null,null,null,null,null,null,{"$error":"#N/A"},{"$error":"#N/A"}]
[{"$f":"'Multiple NPA 60'!A145","v":0},{"$f":"'Multiple NPA 60'!B145","v":0},{"$f":"'Multiple NPA 60'!C145","v":0},{"$f":"'Multiple NPA 60'!D145","v":0},{"$f":"'Multiple NPA 60'!E145","v":"00:00:00"},{"$f":"'Multiple NPA 60'!F145","v":0},{"$f":"'Multiple NPA 60'!G145","v":0},{"$f":"'Multiple NPA 60'!E145","v":"00:00:00"},{"$f":"'Multiple NPA 60'!F145","v":0},{"$f":"'Multiple NPA 60'!G145","v":0},{"$f":"'Multiple NPA 60'!H145","v":0},{"$f":"'Multiple NPA 60'!I145","v":0},{"$f":"'Multiple NPA 60'!J145","v":0},0,{"$f":"'Multiple NPA 60'!K145","v":0},{"$f":"'Multiple NPA 60'!L145","v":0},{"$error":"#N/A"},{"$error":"#N/A"},{"$error":"#N/A"},{"$error":"#N/A"},{"$error":"#N/A"},0,0,0,{"$error":"#N/A"},0,{"$error":"#N/A"},{"$error":"#N/A"},null,null,"2019-02-07",0,0,743,1,null,null,null,null,null,null,null,null,null,null,null,{"$error":"#N/A"},{"$error":"#N/A"}]
[{"$f":"'Multiple NPA 60'!A146","v":0},{"$f":"'Multiple NPA 60'!B146","v":0},{"$f":"'Multiple NPA 60'!C146","v":0},{"$f":"'Multiple NPA 60'!D146","v":0},{"$f":"'Multiple NPA 60'!E146","v":"00:00:00"},{"$f":"'Multiple NPA 60'!F146","v":0},{"$f":"'Multiple NPA 60'!G146","v":0},{"$f":"'Multiple NPA 60'!E146","v":"00:00:00"},{"$f":"'Multiple NPA 60'!F146","v":0},{"$f":"'Multiple NPA 60'!G146","v":0},{"$f":"'Multiple NPA 60'!H146","v":0},{"$f":"'Multiple NPA 60'!I146","v":0},{"$f":"'Multiple NPA 60'!J146","v":0},0,{"$f":"'Multiple NPA 60'!K146","v":0},{"$f":"'Multiple NPA 60'!L146","v":0},{"$error":"#N/A"},{"$error":"#N/A"},{"$error":"#N/A"},{"$error":"#N/A"},{"$error":"#N/A"},0,0,0,{"$error":"#N/A"},0,{"$error":"#N/A"},{"$error":"#N/A"},null,null,"2019-02-07",0,0,744,1,null,null,null,null,null,null,null,null,null,null,null,{"$error":"#N/A"},{"$error":"#N/A"}]
[{"$f":"'Multiple NPA 60'!A147","v":0},{"$f":"'Multiple NPA 60'!B147","v":0},{"$f":"'Multiple NPA 60'!C147","v":0},{"$f":"'Multiple NPA 60'!D147","v":0},{"$f":"'Multiple NPA 60'!E147","v":"00:00:00"},{"$f":"'Multiple NPA 60'!F147","v":0},{"$f":"'Multiple NPA 60'!G147","v":0},{"$f":"'Multiple NPA 60'!E147","v":"00:00:00"},{"$f":"'Multiple NPA 60'!F147","v":0},{"$f":"'Multiple NPA 60'!G147","v":0},{"$f":"'Multiple NPA 60'!H147","v":0},{"$f":"'Multiple NPA 60'!I147","v":0},{"$f":"'Multiple NPA 60'!J147","v":0},0,{"$f":"'Multiple NPA 60'!K147","v":0},{"$f":"'Multiple NPA 60'!L147","v":0},{"$error":"#N/A"},{"$error":"#N/A"},{"$error":"#N/A"},{"$error":"#N/A"},{"$error":"#N/A"},0,0,0,{"$error":"#N/A"},0,{"$error":"#N/A"},{"$error":"#N/A"},null,null,"2019-02-07",0,0,745,1,null,null,null,null,null,null,null,null,null,null,null,{"$error":"#N/A"},{"$error":"#N/A"}]
[{"$f":"'Multiple NPA 60'!A148","v":0},{"$f":"'Multiple NPA 60'!B148","v":0},{"$f":"'Multiple NPA 60'!C148","v":0},{"$f":"'Multiple NPA 60'!D148","v":0},{"$f":"'Multiple NPA 60'!E148","v":"00:00:00"},{"$f":"'Multiple NPA 60'!F148","v":0},{"$f":"'Multiple NPA 60'!G148","v":0},{"$f":"'Multiple NPA 60'!E148","v":"00:00:00"},{"$f":"'Multiple NPA 60'!F148","v":0},{"$f":"'Multiple NPA 60'!G148","v":0},{"$f":"'Multiple NPA 60'!H148","v":0},{"$f":"'Multiple NPA 60'!I148","v":0},{"$f":"'Multiple NPA 60'!J148","v":0},0,{"$f":"'Multiple NPA 60'!K148","v":0},{"$f":"'Multiple NPA 60'!L148","v":0},{"$error":"#N/A"},{"$error":"#N/A"},{"$error":"#N/A"},{"$error":"#N/A"},{"$error":"#N/A"},0,0,0,{"$error":"#N/A"},0,{"$error":"#N/A"},{"$error":"#N/A"},null,null,"2019-02-07",0,0,746,1,null,null,null,null,null,null,null,null,null,null,null,{"$error":"#N/A"},{"$error":"#N/A"}]
[{"$f":"'Multiple NPA 60'!A149","v":0},{"$f":"'Multiple NPA 60'!B149","v":0},{"$f":"'Multiple NPA 60'!C149","v":0},{"$f":"'Multiple NPA 60'!D149","v":0},{"$f":"'Multiple NPA 60'!E149","v":"00:00:00"},{"$f":"'Multiple NPA 60'!F149","v":0},{"$f":"'Multiple NPA 60'!G149","v":0},{"$f":"'Multiple NPA 60'!E149","v":"00:00:00"},{"$f":"'Multiple NPA 60'!F149","v":0},{"$f":"'Multiple NPA 60'!G149","v":0},{"$f":"'Multiple NPA 60'!H149","v":0},{"$f":"'Multiple NPA 60'!I149","v":0},{"$f":"'Multiple NPA 60'!J149","v":0},0,{"$f":"'Multiple NPA 60'!K149","v":0},{"$f":"'Multiple NPA 60'!L149","v":0},{"$error":"#N/A"},{"$error":"#N/A"},{"$error":"#N/A"},{"$error":"#N/A"},{"$error":"#N/A"},0,0,0,{"$error":"#N/A"},0,{"$error":"#N/A"},{"$error":"#N/A"},null,null,"2019-02-07",0,0,747,1,null,null,null,null,null,null,null,null,null,null,null,{"$error":"#N/A"},{"$error":"#N/A"}]
[{"$f":"'Multiple NPA 60'!A150","v":0},{"$f":"'Multiple NPA 60'!B150","v":0},{"$f":"'Multiple NPA 60'!C150","v":0},{"$f":"'Multiple NPA 60'!D150","v":0},{"$f":"'Multiple NPA 60'!E150","v":"00:00:00"},{"$f":"'Multiple NPA 60'!F150","v":0},{"$f":"'Multiple NPA 60'!G150","v":0},{"$f":"'Multiple NPA 60'!E150","v":"00:00:00"},{"$f":"'Multiple NPA 60'!F150","v":0},{"$f":"'Multiple NPA 60'!G150","v":0},{"$f":"'Multiple NPA 60'!H150","v":0},{"$f":"'Multiple NPA 60'!I150","v":0},{"$f":"'Multiple NPA 60'!J150","v":0},0,{"$f":"'Multiple NPA 60'!K150","v":0},{"$f":"'Multiple NPA 60'!L150","v":0},{"$error":"#N/A"},{"$error":"#N/A"},{"$error":"#N/A"},{"$error":"#N/A"},{"$error":"#N/A"},0,0,0,{"$error":"#N/A"},0,{"$error":"#N/A"},{"$error":"#N/A"},null,null,"2019-02-07",0,0,748,1,null,null,null,null,null,null,null,null,null,null,null,{"$error":"#N/A"},{"$error":"#N/A"}]
[{"$f":"'Multiple NPA 60'!A151","v":0},{"$f":"'Multiple NPA 60'!B151","v":0},{"$f":"'Multiple NPA 60'!C151","v":0},{"$f":"'Multiple NPA 60'!D151","v":0},{"$f":"'Multiple NPA 60'!E151","v":"00:00:00"},{"$f":"'Multiple NPA 60'!F151","v":0},{"$f":"'Multiple NPA 60'!G151","v":0},{"$f":"'Multiple NPA 60'!E151","v":"00:00:00"},{"$f":"'Multiple NPA 60'!F151","v":0},{"$f":"'Multiple NPA 60'!G151","v":0},{"$f":"'Multiple NPA 60'!H151","v":0},{"$f":"'Multiple NPA 60'!I151","v":0},{"$f":"'Multiple NPA 60'!J151","v":0},0,{"$f":"'Multiple NPA 60'!K151","v":0},{"$f":"'Multiple NPA 60'!L151","v":0},{"$error":"#N/A"},{"$error":"#N/A"},{"$error":"#N/A"},{"$error":"#N/A"},{"$error":"#N/A"},0,0,0,{"$error":"#N/A"},0,{"$error":"#N/A"},{"$error":"#N/A"},null,null,"2019-02-07",0,0,749,1,null,null,null,null,null,null,null,null,null,null,null,{"$error":"#N/A"},{"$error":"#N/A"}]
[{"$f":"'Multiple NPA 60'!A152","v":0},{"$f":"'Multiple NPA 60'!B152","v":0},{"$f":"'Multiple NPA 60'!C152","v":0},{"$f":"'Multiple NPA 60'!D152","v":0},{"$f":"'Multiple NPA 60'!E152","v":"00:00:00"},{"$f":"'Multiple NPA 60'!F152","v":0},{"$f":"'Multiple NPA 60'!G152","v":0},{"$f":"'Multiple NPA 60'!E152","v":"00:00:00"},{"$f":"'Multiple NPA 60'!F152","v":0},{"$f":"'Multiple NPA 60'!G152","v":0},{"$f":"'Multiple NPA 60'!H152","v":0},{"$f":"'Multiple NPA 60'!I152","v":0},{"$f":"'Multiple NPA 60'!J152","v":0},0,{"$f":"'Multiple NPA 60'!K152","v":0},{"$f":"'Multiple NPA 60'!L152","v":0},{"$error":"#N/A"},{"$error":"#N/A"},{"$error":"#N/A"},{"$error":"#N/A"},{"$error":"#N/A"},0,0,0,{"$error":"#N/A"},0,{"$error":"#N/A"},{"$error":"#N/A"},null,null,"2019-02-07",0,0,750,1,null,null,null,null,null,null,null,null,null,null,null,{"$error":"#N/A"},{"$error":"#N/A"}]
[{"$f":"'Multiple NPA 60'!A153","v":0},{"$f":"'Multiple NPA 60'!B153","v":0},{"$f":"'Multiple NPA 60'!C153","v":0},{"$f":"'Multiple NPA 60'!D153","v":0},{"$f":"'Multiple NPA 60'!E153","v":"00:00:00"},{"$f":"'Multiple NPA 60'!F153","v":0},{"$f":"'Multiple NPA 60'!G153","v":0},{"$f":"'Multiple NPA 60'!E153","v":"00:00:00"},{"$f":"'Multiple NPA 60'!F153","v":0},{"$f":"'Multiple NPA 60'!G153","v":0},{"$f":"'Multiple NPA 60'!H153","v":0},{"$f":"'Multiple NPA 60'!I153","v":0},{"$f":"'Multiple NPA 60'!J153","v":0},0,{"$f":"'Multiple NPA 60'!K153","v":0},{"$f":"'Multiple NPA 60'!L153","v":0},{"$error":"#N/A"},{"$error":"#N/A"},{"$error":"#N/A"},{"$error":"#N/A"},{"$error":"#N/A"},0,0,0,{"$error":"#N/A"},0,{"$error":"#N/A"},{"$error":"#N/A"},null,null,"2019-02-07",0,0,751,1,null,null,null,null,null,null,null,null,null,null,null,{"$error":"#N/A"},{"$error":"#N/A"}]
[{"$f":"'Multiple NPA 60'!A154","v":0},{"$f":"'Multiple NPA 60'!B154","v":0},{"$f":"'Multiple NPA 60'!C154","v":0},{"$f":"'Multiple NPA 60'!D154","v":0},{"$f":"'Multiple NPA 60'!E154","v":"00:00:00"},{"$f":"'Multiple NPA 60'!F154","v":0},{"$f":"'Multiple NPA 60'!G154","v":0},{"$f":"'Multiple NPA 60'!E154","v":"00:00:00"},{"$f":"'Multiple NPA 60'!F154","v":0},{"$f":"'Multiple NPA 60'!G154","v":0},{"$f":"'Multiple NPA 60'!H154","v":0},{"$f":"'Multiple NPA 60'!I154","v":0},{"$f":"'Multiple NPA 60'!J154","v":0},0,{"$f":"'Multiple NPA 60'!K154","v":0},{"$f":"'Multiple NPA 60'!L154","v":0},{"$error":"#N/A"},{"$error":"#N/A"},{"$error":"#N/A"},{"$error":"#N/A"},{"$error":"#N/A"},0,0,0,{"$error":"#N/A"},0,{"$error":"#N/A"},{"$error":"#N/A"},null,null,"2019-02-07",0,0,752,1,null,null,null,null,null,null,null,null,null,null,null,{"$error":"#N/A"},{"$error":"#N/A"}]
[{"$f":"'Multiple NPA 60'!A155","v":0},{"$f":"'Multiple NPA 60'!B155","v":0},{"$f":"'Multiple NPA 60'!C155","v":0},{"$f":"'Multiple NPA 60'!D155","v":0},{"$f":"'Multiple NPA 60'!E155","v":"00:00:00"},{"$f":"'Multiple NPA 60'!F155","v":0},{"$f":"'Multiple NPA 60'!G155","v":0},{"$f":"'Multiple NPA 60'!E155","v":"00:00:00"},{"$f":"'Multiple NPA 60'!F155","v":0},{"$f":"'Multiple NPA 60'!G155","v":0},{"$f":"'Multiple NPA 60'!H155","v":0},{"$f":"'Multiple NPA 60'!I155","v":0},{"$f":"'Multiple NPA 60'!J155","v":0},0,{"$f":"'Multiple NPA 60'!K155","v":0},{"$f":"'Multiple NPA 60'!L155","v":0},{"$error":"#N/A"},{"$error":"#N/A"},{"$error":"#N/A"},{"$error":"#N/A"},{"$error":"#N/A"},0,0,0,{"$error":"#N/A"},0,{"$error":"#N/A"},{"$error":"#N/A"},null,null,"2019-02-07",0,0,753,1,null,null,null,null,null,null,null,null,null,null,null,{"$error":"#N/A"},{"$error":"#N/A"}]
[{"$f":"'Multiple NPA 60'!A156","v":0},{"$f":"'Multiple NPA 60'!B156","v":0},{"$f":"'Multiple NPA 60'!C156","v":0},{"$f":"'Multiple NPA 60'!D156","v":0},{"$f":"'Multiple NPA 60'!E156","v":"00:00:00"},{"$f":"'Multiple NPA 60'!F156","v":0},{"$f":"'Multiple NPA 60'!G156","v":0},{"$f":"'Multiple NPA 60'!E156","v":"00:00:00"},{"$f":"'Multiple NPA 60'!F156","v":0},{"$f":"'Multiple NPA 60'!G156","v":0},{"$f":"'Multiple NPA 60'!H156","v":0},{"$f":"'Multiple NPA 60'!I156","v":0},{"$f":"'Multiple NPA 60'!J156","v":0},0,{"$f":"'Multiple NPA 60'!K156","v":0},{"$f":"'Multiple NPA 60'!L156","v":0},{"$error":"#N/A"},{"$error":"#N/A"},{"$error":"#N/A"},{"$error":"#N/A"},{"$error":"#N/A"},0,0,0,{"$error":"#N/A"},0,{"$error":"#N/A"},{"$error":"#N/A"},null,null,"2019-02-07",0,0,754,1,null,null,null,null,null,null,null,null,null,null,null,{"$error":"#N/A"},{"$error":"#N/A"}]
[{"$f":"'Multiple NPA 60'!A157","v":0},{"$f":"'Multiple NPA 60'!B157","v":0},{"$f":"'Multiple NPA 60'!C157","v":0},{"$f":"'Multiple NPA 60'!D157","v":0},{"$f":"'Multiple NPA 60'!E157","v":"00:00:00"},{"$f":"'Multiple NPA 60'!F157","v":0},{"$f":"'Multiple NPA 60'!G157","v":0},{"$f":"'Multiple NPA 60'!E157","v":"00:00:00"},{"$f":"'Multiple NPA 60'!F157","v":0},{"$f":"'Multiple NPA 60'!G157","v":0},{"$f":"'Multiple NPA 60'!H157","v":0},{"$f":"'Multiple NPA 60'!I157","v":0},{"$f":"'Multiple NPA 60'!J157","v":0},0,{"$f":"'Multiple NPA 60'!K157","v":0},{"$f":"'Multiple NPA 60'!L157","v":0},{"$error":"#N/A"},{"$error":"#N/A"},{"$error":"#N/A"},{"$error":"#N/A"},{"$error":"#N/A"},0,0,0,{"$error":"#N/A"},0,{"$error":"#N/A"},{"$error":"#N/A"},null,null,"2019-02-07",0,0,755,1,null,null,null,null,null,null,null,null,null,null,null,{"$error":"#N/A"},{"$error":"#N/A"}]
[{"$f":"'Multiple NPA 60'!A158","v":0},{"$f":"'Multiple NPA 60'!B158","v":0},{"$f":"'Multiple NPA 60'!C158","v":0},{"$f":"'Multiple NPA 60'!D158","v":0},{"$f":"'Multiple NPA 60'!E158","v":"00:00:00"},{"$f":"'Multiple NPA 60'!F158","v":0},{"$f":"'Multiple NPA 60'!G158","v":0},{"$f":"'Multiple NPA 60'!E158","v":"00:00:00"},{"$f":"'Multiple NPA 60'!F158","v":0},{"$f":"'Multiple NPA 60'!G158","v":0},{"$f":"'Multiple NPA 60'!H158","v":0},{"$f":"'Multiple NPA 60'!I158","v":0},{"$f":"'Multiple NPA 60'!J158","v":0},0,{"$f":"'Multiple NPA 60'!K158","v":0},{"$f":"'Multiple NPA 60'!L158","v":0},{"$error":"#N/A"},{"$error":"#N/A"},{"$error":"#N/A"},{"$error":"#N/A"},{"$error":"#N/A"},0,0,0,{"$error":"#N/A"},0,{"$error":"#N/A"},{"$error":"#N/A"},null,null,"2019-02-07",0,0,756,1,null,null,null,null,null,null,null,null,null,null,null,{"$error":"#N/A"},{"$error":"#N/A"}]
[{"$f":"'Multiple NPA 60'!A159","v":0},{"$f":"'Multiple NPA 60'!B159","v":0},{"$f":"'Multiple NPA 60'!C159","v":0},{"$f":"'Multiple NPA 60'!D159","v":0},{"$f":"'Multiple NPA 60'!E159","v":"00:00:00"},{"$f":"'Multiple NPA 60'!F159","v":0},{"$f":"'Multiple NPA 60'!G159","v":0},{"$f":"'Multiple NPA 60'!E159","v":"00:00:00"},{"$f":"'Multiple NPA 60'!F159","v":0},{"$f":"'Multiple NPA 60'!G159","v":0},{"$f":"'Multiple NPA 60'!H159","v":0},{"$f":"'Multiple NPA 60'!I159","v":0},{"$f":"'Multiple NPA 60'!J159","v":0},0,{"$f":"'Multiple NPA 60'!K159","v":0},{"$f":"'Multiple NPA 60'!L159","v":0},{"$error":"#N/A"},{"$error":"#N/A"},{"$error":"#N/A"},{"$error":"#N/A"},{"$error":"#N/A"},0,0,0,{"$error":"#N/A"},0,{"$error":"#N/A"},{"$error":"#N/A"},null,null,"2019-02-07",0,0,757,1,null,null,null,null,null,null,null,null,null,null,null,{"$error":"#N/A"},{"$error":"#N/A"}]
[{"$f":"'Multiple NPA 60'!A160","v":0},{"$f":"'Multiple NPA 60'!B160","v":0},{"$f":"'Multiple NPA 60'!C160","v":0},{"$f":"'Multiple NPA 60'!D160","v":0},{"$f":"'Multiple NPA 60'!E160","v":"00:00:00"},{"$f":"'Multiple NPA 60'!F160","v":0},{"$f":"'Multiple NPA 60'!G160","v":0},{"$f":"'Multiple NPA 60'!E160","v":"00:00:00"},{"$f":"'Multiple NPA 60'!F160","v":0},{"$f":"'Multiple NPA 60'!G160","v":0},{"$f":"'Multiple NPA 60'!H160","v":0},{"$f":"'Multiple NPA 60'!I160","v":0},{"$f":"'Multiple NPA 60'!J160","v":0},0,{"$f":"'Multiple NPA 60'!K160","v":0},{"$f":"'Multiple NPA 60'!L160","v":0},{"$error":"#N/A"},{"$error":"#N/A"},{"$error":"#N/A"},{"$error":"#N/A"},{"$error":"#N/A"},0,0,0,{"$error":"#N/A"},0,{"$error":"#N/A"},{"$error":"#N/A"},null,null,"2019-02-07",0,0,758,1,null,null,null,null,null,null,null,null,null,null,null,{"$error":"#N/A"},{"$error":"#N/A"}]
[{"$f":"'Multiple NPA 60'!A161","v":0},{"$f":"'Multiple NPA 60'!B161","v":0},{"$f":"'Multiple NPA 60'!C161","v":0},{"$f":"'Multiple NPA 60'!D161","v":0},{"$f":"'Multiple NPA 60'!E161","v":"00:00:00"},{"$f":"'Multiple NPA 60'!F161","v":0},{"$f":"'Multiple NPA 60'!G161","v":0},{"$f":"'Multiple NPA 60'!E161","v":"00:00:00"},{"$f":"'Multiple NPA 60'!F161","v":0},{"$f":"'Multiple NPA 60'!G161","v":0},{"$f":"'Multiple NPA 60'!H161","v":0},{"$f":"'Multiple NPA 60'!I161","v":0},{"$f":"'Multiple NPA 60'!J161","v":0},0,{"$f":"'Multiple NPA 60'!K161","v":0},{"$f":"'Multiple NPA 60'!L161","v":0},{"$error":"#N/A"},{"$error":"#N/A"},{"$error":"#N/A"},{"$error":"#N/A"},{"$error":"#N/A"},0,0,0,{"$error":"#N/A"},0,{"$error":"#N/A"},{"$error":"#N/A"},null,null,"2019-02-07",0,0,759,1,null,null,null,null,null,null,null,null,null,null,null,{"$error":"#N/A"},{"$error":"#N/A"}]
[{"$f":"'Multiple NPA 60'!A162","v":0},{"$f":"'Multiple NPA 60'!B162","v":0},{"$f":"'Multiple NPA 60'!C162","v":0},{"$f":"'Multiple NPA 60'!D162","v":0},{"$f":"'Multiple NPA 60'!E162","v":"00:00:00"},{"$f":"'Multiple NPA 60'!F162","v":0},{"$f":"'Multiple NPA 60'!G162","v":0},{"$f":"'Multiple NPA 60'!E162","v":"00:00:00"},{"$f":"'Multiple NPA 60'!F162","v":0},{"$f":"'Multiple NPA 60'!G162","v":0},{"$f":"'Multiple NPA 60'!H162","v":0},{"$f":"'Multiple NPA 60'!I162","v":0},{"$f":"'Multiple NPA 60'!J162","v":0},0,{"$f":"'Multiple NPA 60'!K162","v":0},{"$f":"'Multiple NPA 60'!L162","v":0},{"$error":"#N/A"},{"$error":"#N/A"},{"$error":"#N/A"},{"$error":"#N/A"},{"$error":"#N/A"},0,0,0,{"$error":"#N/A"},0,{"$error":"#N/A"},{"$error":"#N/A"},null,null,"2019-02-07",0,0,760,1,null,null,null,null,null,null,null,null,null,null,null,{"$error":"#N/A"},{"$error":"#N/A"}]
[{"$f":"'Multiple NPA 60'!A163","v":0},{"$f":"'Multiple NPA 60'!B163","v":0},{"$f":"'Multiple NPA 60'!C163","v":0},{"$f":"'Multiple NPA 60'!D163","v":0},{"$f":"'Multiple NPA 60'!E163","v":"00:00:00"},{"$f":"'Multiple NPA 60'!F163","v":0},{"$f":"'Multiple NPA 60'!G163","v":0},{"$f":"'Multiple NPA 60'!E163","v":"00:00:00"},{"$f":"'Multiple NPA 60'!F163","v":0},{"$f":"'Multiple NPA 60'!G163","v":0},{"$f":"'Multiple NPA 60'!H163","v":0},{"$f":"'Multiple NPA 60'!I163","v":0},{"$f":"'Multiple NPA 60'!J163","v":0},0,{"$f":"'Multiple NPA 60'!K163","v":0},{"$f":"'Multiple NPA 60'!L163","v":0},{"$error":"#N/A"},{"$error":"#N/A"},{"$error":"#N/A"},{"$error":"#N/A"},{"$error":"#N/A"},0,0,0,{"$error":"#N/A"},0,{"$error":"#N/A"},{"$error":"#N/A"},null,null,"2019-02-07",0,0,761,1,null,null,null,null,null,null,null,null,null,null,null,{"$f":"SUM((Q165*20)+(R165*(20/12)))/4.6667","v":{"$error":"#N/A"}},{"$f":"ROUNDDOWN(((AU165-R165)/12),0)","v":{"$error":"#N/A"}}]
[{"$f":"'Multiple NPA 60'!A164","v":0},{"$f":"'Multiple NPA 60'!B164","v":0},{"$f":"'Multiple NPA 60'!C164","v":0},{"$f":"'Multiple NPA 60'!D164","v":0},{"$f":"'Multiple NPA 60'!E164","v":"00:00:00"},{"$f":"'Multiple NPA 60'!F164","v":0},{"$f":"'Multiple NPA 60'!G164","v":0},{"$f":"'Multiple NPA 60'!E164","v":"00:00:00"},{"$f":"'Multiple NPA 60'!F164","v":0},{"$f":"'Multiple NPA 60'!G164","v":0},{"$f":"'Multiple NPA 60'!H164","v":0},{"$f":"'Multiple NPA 60'!I164","v":0},{"$f":"'Multiple NPA 60'!J164","v":0},0,{"$f":"'Multiple NPA 60'!K164","v":0},{"$f":"'Multiple NPA 60'!L164","v":0},{"$error":"#N/A"},{"$error":"#N/A"},{"$error":"#N/A"},{"$error":"#N/A"},{"$error":"#N/A"},0,0,0,{"$error":"#N/A"},0,{"$error":"#N/A"},{"$error":"#N/A"},null,null,"2019-02-07",0,0,762,1,null,null,null,null,null,null,null,null,null,null,null,{"$error":"#N/A"},{"$error":"#N/A"}]
[{"$f":"'Multiple NPA 60'!A165","v":0},{"$f":"'Multiple NPA 60'!B165","v":0},{"$f":"'Multiple NPA 60'!C165","v":0},{"$f":"'Multiple NPA 60'!D165","v":0},{"$f":"'Multiple NPA 60'!E165","v":"00:00:00"},{"$f":"'Multiple NPA 60'!F165","v":0},{"$f":"'Multiple NPA 60'!G165","v":0},{"$f":"'Multiple NPA 60'!E165","v":"00:00:00"},{"$f":"'Multiple NPA 60'!F165","v":0},{"$f":"'Multiple NPA 60'!G165","v":0},{"$f":"'Multiple NPA 60'!H165","v":0},{"$f":"'Multiple NPA 60'!I165","v":0},{"$f":"'Multiple NPA 60'!J165","v":0},0,{"$f":"'Multiple NPA 60'!K165","v":0},{"$f":"'Multiple NPA 60'!L165","v":0},{"$error":"#N/A"},{"$error":"#N/A"},{"$error":"#N/A"},{"$error":"#N/A"},{"$error":"#N/A"},0,0,0,{"$error":"#N/A"},0,{"$error":"#N/A"},{"$error":"#N/A"},null,null,"2019-02-07",0,0,763,1,null,null,null,null,null,null,null,null,null,null,null,{"$error":"#N/A"},{"$error":"#N/A"}]
[{"$f":"'Multiple NPA 60'!A166","v":0},{"$f":"'Multiple NPA 60'!B166","v":0},{"$f":"'Multiple NPA 60'!C166","v":0},{"$f":"'Multiple NPA 60'!D166","v":0},{"$f":"'Multiple NPA 60'!E166","v":"00:00:00"},{"$f":"'Multiple NPA 60'!F166","v":0},{"$f":"'Multiple NPA 60'!G166","v":0},{"$f":"'Multiple NPA 60'!E166","v":"00:00:00"},{"$f":"'Multiple NPA 60'!F166","v":0},{"$f":"'Multiple NPA 60'!G166","v":0},{"$f":"'Multiple NPA 60'!H166","v":0},{"$f":"'Multiple NPA 60'!I166","v":0},{"$f":"'Multiple NPA 60'!J166","v":0},0,{"$f":"'Multiple NPA 60'!K166","v":0},{"$f":"'Multiple NPA 60'!L166","v":0},{"$error":"#N/A"},{"$error":"#N/A"},{"$error":"#N/A"},{"$error":"#N/A"},{"$error":"#N/A"},0,0,0,{"$error":"#N/A"},0,{"$error":"#N/A"},{"$error":"#N/A"},null,null,"2019-02-07",0,0,764,1,null,null,null,null,null,null,null,null,null,null,null,{"$error":"#N/A"},{"$error":"#N/A"}]
[{"$f":"'Multiple NPA 60'!A167","v":0},{"$f":"'Multiple NPA 60'!B167","v":0},{"$f":"'Multiple NPA 60'!C167","v":0},{"$f":"'Multiple NPA 60'!D167","v":0},{"$f":"'Multiple NPA 60'!E167","v":"00:00:00"},{"$f":"'Multiple NPA 60'!F167","v":0},{"$f":"'Multiple NPA 60'!G167","v":0},{"$f":"'Multiple NPA 60'!E167","v":"00:00:00"},{"$f":"'Multiple NPA 60'!F167","v":0},{"$f":"'Multiple NPA 60'!G167","v":0},{"$f":"'Multiple NPA 60'!H167","v":0},{"$f":"'Multiple NPA 60'!I167","v":0},{"$f":"'Multiple NPA 60'!J167","v":0},0,{"$f":"'Multiple NPA 60'!K167","v":0},{"$f":"'Multiple NPA 60'!L167","v":0},{"$error":"#N/A"},{"$error":"#N/A"},{"$error":"#N/A"},{"$error":"#N/A"},{"$error":"#N/A"},0,0,0,{"$error":"#N/A"},0,{"$error":"#N/A"},{"$error":"#N/A"},null,null,"2019-02-07",0,0,765,1,null,null,null,null,null,null,null,null,null,null,null,{"$error":"#N/A"},{"$error":"#N/A"}]
[{"$f":"'Multiple NPA 60'!A168","v":0},{"$f":"'Multiple NPA 60'!B168","v":0},{"$f":"'Multiple NPA 60'!C168","v":0},{"$f":"'Multiple NPA 60'!D168","v":0},{"$f":"'Multiple NPA 60'!E168","v":"00:00:00"},{"$f":"'Multiple NPA 60'!F168","v":0},{"$f":"'Multiple NPA 60'!G168","v":0},{"$f":"'Multiple NPA 60'!E168","v":"00:00:00"},{"$f":"'Multiple NPA 60'!F168","v":0},{"$f":"'Multiple NPA 60'!G168","v":0},{"$f":"'Multiple NPA 60'!H168","v":0},{"$f":"'Multiple NPA 60'!I168","v":0},{"$f":"'Multiple NPA 60'!J168","v":0},0,{"$f":"'Multiple NPA 60'!K168","v":0},{"$f":"'Multiple NPA 60'!L168","v":0},{"$error":"#N/A"},{"$error":"#N/A"},{"$error":"#N/A"},{"$error":"#N/A"},{"$error":"#N/A"},0,0,0,{"$error":"#N/A"},0,{"$error":"#N/A"},{"$error":"#N/A"},null,null,"2019-02-07",0,0,766,1,null,null,null,null,null,null,null,null,null,null,null,{"$error":"#N/A"},{"$error":"#N/A"}]
[{"$f":"'Multiple NPA 60'!A169","v":0},{"$f":"'Multiple NPA 60'!B169","v":0},{"$f":"'Multiple NPA 60'!C169","v":0},{"$f":"'Multiple NPA 60'!D169","v":0},{"$f":"'Multiple NPA 60'!E169","v":"00:00:00"},{"$f":"'Multiple NPA 60'!F169","v":0},{"$f":"'Multiple NPA 60'!G169","v":0},{"$f":"'Multiple NPA 60'!E169","v":"00:00:00"},{"$f":"'Multiple NPA 60'!F169","v":0},{"$f":"'Multiple NPA 60'!G169","v":0},{"$f":"'Multiple NPA 60'!H169","v":0},{"$f":"'Multiple NPA 60'!I169","v":0},{"$f":"'Multiple NPA 60'!J169","v":0},0,{"$f":"'Multiple NPA 60'!K169","v":0},{"$f":"'Multiple NPA 60'!L169","v":0},{"$error":"#N/A"},{"$error":"#N/A"},{"$error":"#N/A"},{"$error":"#N/A"},{"$error":"#N/A"},0,0,0,{"$error":"#N/A"},0,{"$error":"#N/A"},{"$error":"#N/A"},null,null,"2019-02-07",0,0,767,1,null,null,null,null,null,null,null,null,null,null,null,{"$error":"#N/A"},{"$error":"#N/A"}]
[{"$f":"'Multiple NPA 60'!A170","v":0},{"$f":"'Multiple NPA 60'!B170","v":0},{"$f":"'Multiple NPA 60'!C170","v":0},{"$f":"'Multiple NPA 60'!D170","v":0},{"$f":"'Multiple NPA 60'!E170","v":"00:00:00"},{"$f":"'Multiple NPA 60'!F170","v":0},{"$f":"'Multiple NPA 60'!G170","v":0},{"$f":"'Multiple NPA 60'!E170","v":"00:00:00"},{"$f":"'Multiple NPA 60'!F170","v":0},{"$f":"'Multiple NPA 60'!G170","v":0},{"$f":"'Multiple NPA 60'!H170","v":0},{"$f":"'Multiple NPA 60'!I170","v":0},{"$f":"'Multiple NPA 60'!J170","v":0},0,{"$f":"'Multiple NPA 60'!K170","v":0},{"$f":"'Multiple NPA 60'!L170","v":0},{"$error":"#N/A"},{"$error":"#N/A"},{"$error":"#N/A"},{"$error":"#N/A"},{"$error":"#N/A"},0,0,0,{"$error":"#N/A"},0,{"$error":"#N/A"},{"$error":"#N/A"},null,null,"2019-02-07",0,0,768,1,null,null,null,null,null,null,null,null,null,null,null,{"$error":"#N/A"},{"$error":"#N/A"}]
[{"$f":"'Multiple NPA 60'!A171","v":0},{"$f":"'Multiple NPA 60'!B171","v":0},{"$f":"'Multiple NPA 60'!C171","v":0},{"$f":"'Multiple NPA 60'!D171","v":0},{"$f":"'Multiple NPA 60'!E171","v":"00:00:00"},{"$f":"'Multiple NPA 60'!F171","v":0},{"$f":"'Multiple NPA 60'!G171","v":0},{"$f":"'Multiple NPA 60'!E171","v":"00:00:00"},{"$f":"'Multiple NPA 60'!F171","v":0},{"$f":"'Multiple NPA 60'!G171","v":0},{"$f":"'Multiple NPA 60'!H171","v":0},{"$f":"'Multiple NPA 60'!I171","v":0},{"$f":"'Multiple NPA 60'!J171","v":0},0,{"$f":"'Multiple NPA 60'!K171","v":0},{"$f":"'Multiple NPA 60'!L171","v":0},{"$error":"#N/A"},{"$error":"#N/A"},{"$error":"#N/A"},{"$error":"#N/A"},{"$error":"#N/A"},0,0,0,{"$error":"#N/A"},0,{"$error":"#N/A"},{"$error":"#N/A"},null,null,"2019-02-07",0,0,769,1,null,null,null,null,null,null,null,null,null,null,null,{"$error":"#N/A"},{"$error":"#N/A"}]
[{"$f":"'Multiple NPA 60'!A172","v":0},{"$f":"'Multiple NPA 60'!B172","v":0},{"$f":"'Multiple NPA 60'!C172","v":0},{"$f":"'Multiple NPA 60'!D172","v":0},{"$f":"'Multiple NPA 60'!E172","v":"00:00:00"},{"$f":"'Multiple NPA 60'!F172","v":0},{"$f":"'Multiple NPA 60'!G172","v":0},{"$f":"'Multiple NPA 60'!E172","v":"00:00:00"},{"$f":"'Multiple NPA 60'!F172","v":0},{"$f":"'Multiple NPA 60'!G172","v":0},{"$f":"'Multiple NPA 60'!H172","v":0},{"$f":"'Multiple NPA 60'!I172","v":0},{"$f":"'Multiple NPA 60'!J172","v":0},0,{"$f":"'Multiple NPA 60'!K172","v":0},{"$f":"'Multiple NPA 60'!L172","v":0},{"$error":"#N/A"},{"$error":"#N/A"},{"$error":"#N/A"},{"$error":"#N/A"},{"$error":"#N/A"},0,0,0,{"$error":"#N/A"},0,{"$error":"#N/A"},{"$error":"#N/A"},null,null,"2019-02-07",0,0,770,1,null,null,null,null,null,null,null,null,null,null,null,{"$error":"#N/A"},{"$error":"#N/A"}]
[{"$f":"'Multiple NPA 60'!A173","v":0},{"$f":"'Multiple NPA 60'!B173","v":0},{"$f":"'Multiple NPA 60'!C173","v":0},{"$f":"'Multiple NPA 60'!D173","v":0},{"$f":"'Multiple NPA 60'!E173","v":"00:00:00"},{"$f":"'Multiple NPA 60'!F173","v":0},{"$f":"'Multiple NPA 60'!G173","v":0},{"$f":"'Multiple NPA 60'!E173","v":"00:00:00"},{"$f":"'Multiple NPA 60'!F173","v":0},{"$f":"'Multiple NPA 60'!G173","v":0},{"$f":"'Multiple NPA 60'!H173","v":0},{"$f":"'Multiple NPA 60'!I173","v":0},{"$f":"'Multiple NPA 60'!J173","v":0},0,{"$f":"'Multiple NPA 60'!K173","v":0},{"$f":"'Multiple NPA 60'!L173","v":0},{"$error":"#N/A"},{"$error":"#N/A"},{"$error":"#N/A"},{"$error":"#N/A"},{"$error":"#N/A"},0,0,0,{"$error":"#N/A"},0,{"$error":"#N/A"},{"$error":"#N/A"},null,null,"2019-02-07",0,0,771,1,null,null,null,null,null,null,null,null,null,null,null,{"$error":"#N/A"},{"$error":"#N/A"}]
[{"$f":"'Multiple NPA 60'!A174","v":0},{"$f":"'Multiple NPA 60'!B174","v":0},{"$f":"'Multiple NPA 60'!C174","v":0},{"$f":"'Multiple NPA 60'!D174","v":0},{"$f":"'Multiple NPA 60'!E174","v":"00:00:00"},{"$f":"'Multiple NPA 60'!F174","v":0},{"$f":"'Multiple NPA 60'!G174","v":0},{"$f":"'Multiple NPA 60'!E174","v":"00:00:00"},{"$f":"'Multiple NPA 60'!F174","v":0},{"$f":"'Multiple NPA 60'!G174","v":0},{"$f":"'Multiple NPA 60'!H174","v":0},{"$f":"'Multiple NPA 60'!I174","v":0},{"$f":"'Multiple NPA 60'!J174","v":0},0,{"$f":"'Multiple NPA 60'!K174","v":0},{"$f":"'Multiple NPA 60'!L174","v":0},{"$error":"#N/A"},{"$error":"#N/A"},{"$error":"#N/A"},{"$error":"#N/A"},{"$error":"#N/A"},0,0,0,{"$error":"#N/A"},0,{"$error":"#N/A"},{"$error":"#N/A"},null,null,"2019-02-07",0,0,772,1,null,null,null,null,null,null,null,null,null,null,null,{"$error":"#N/A"},{"$error":"#N/A"}]
[{"$f":"'Multiple NPA 60'!A175","v":0},{"$f":"'Multiple NPA 60'!B175","v":0},{"$f":"'Multiple NPA 60'!C175","v":0},{"$f":"'Multiple NPA 60'!D175","v":0},{"$f":"'Multiple NPA 60'!E175","v":"00:00:00"},{"$f":"'Multiple NPA 60'!F175","v":0},{"$f":"'Multiple NPA 60'!G175","v":0},{"$f":"'Multiple NPA 60'!E175","v":"00:00:00"},{"$f":"'Multiple NPA 60'!F175","v":0},{"$f":"'Multiple NPA 60'!G175","v":0},{"$f":"'Multiple NPA 60'!H175","v":0},{"$f":"'Multiple NPA 60'!I175","v":0},{"$f":"'Multiple NPA 60'!J175","v":0},0,{"$f":"'Multiple NPA 60'!K175","v":0},{"$f":"'Multiple NPA 60'!L175","v":0},{"$error":"#N/A"},{"$error":"#N/A"},{"$error":"#N/A"},{"$error":"#N/A"},{"$error":"#N/A"},0,0,0,{"$error":"#N/A"},0,{"$error":"#N/A"},{"$error":"#N/A"},null,null,"2019-02-07",0,0,773,1,null,null,null,null,null,null,null,null,null,null,null,{"$error":"#N/A"},{"$error":"#N/A"}]
[{"$f":"'Multiple NPA 60'!A176","v":0},{"$f":"'Multiple NPA 60'!B176","v":0},{"$f":"'Multiple NPA 60'!C176","v":0},{"$f":"'Multiple NPA 60'!D176","v":0},{"$f":"'Multiple NPA 60'!E176","v":"00:00:00"},{"$f":"'Multiple NPA 60'!F176","v":0},{"$f":"'Multiple NPA 60'!G176","v":0},{"$f":"'Multiple NPA 60'!E176","v":"00:00:00"},{"$f":"'Multiple NPA 60'!F176","v":0},{"$f":"'Multiple NPA 60'!G176","v":0},{"$f":"'Multiple NPA 60'!H176","v":0},{"$f":"'Multiple NPA 60'!I176","v":0},{"$f":"'Multiple NPA 60'!J176","v":0},0,{"$f":"'Multiple NPA 60'!K176","v":0},{"$f":"'Multiple NPA 60'!L176","v":0},{"$error":"#N/A"},{"$error":"#N/A"},{"$error":"#N/A"},{"$error":"#N/A"},{"$error":"#N/A"},0,0,0,{"$error":"#N/A"},0,{"$error":"#N/A"},{"$error":"#N/A"},null,null,"2019-02-07",0,0,774,1,null,null,null,null,null,null,null,null,null,null,null,{"$error":"#N/A"},{"$error":"#N/A"}]
[{"$f":"'Multiple NPA 60'!A177","v":0},{"$f":"'Multiple NPA 60'!B177","v":0},{"$f":"'Multiple NPA 60'!C177","v":0},{"$f":"'Multiple NPA 60'!D177","v":0},{"$f":"'Multiple NPA 60'!E177","v":"00:00:00"},{"$f":"'Multiple NPA 60'!F177","v":0},{"$f":"'Multiple NPA 60'!G177","v":0},{"$f":"'Multiple NPA 60'!E177","v":"00:00:00"},{"$f":"'Multiple NPA 60'!F177","v":0},{"$f":"'Multiple NPA 60'!G177","v":0},{"$f":"'Multiple NPA 60'!H177","v":0},{"$f":"'Multiple NPA 60'!I177","v":0},{"$f":"'Multiple NPA 60'!J177","v":0},0,{"$f":"'Multiple NPA 60'!K177","v":0},{"$f":"'Multiple NPA 60'!L177","v":0},{"$error":"#N/A"},{"$error":"#N/A"},{"$error":"#N/A"},{"$error":"#N/A"},{"$error":"#N/A"},0,0,0,{"$error":"#N/A"},0,{"$error":"#N/A"},{"$error":"#N/A"},null,null,"2019-02-07",0,0,775,1,null,null,null,null,null,null,null,null,null,null,null,{"$error":"#N/A"},{"$error":"#N/A"}]
[{"$f":"'Multiple NPA 60'!A178","v":0},{"$f":"'Multiple NPA 60'!B178","v":0},{"$f":"'Multiple NPA 60'!C178","v":0},{"$f":"'Multiple NPA 60'!D178","v":0},{"$f":"'Multiple NPA 60'!E178","v":"00:00:00"},{"$f":"'Multiple NPA 60'!F178","v":0},{"$f":"'Multiple NPA 60'!G178","v":0},{"$f":"'Multiple NPA 60'!E178","v":"00:00:00"},{"$f":"'Multiple NPA 60'!F178","v":0},{"$f":"'Multiple NPA 60'!G178","v":0},{"$f":"'Multiple NPA 60'!H178","v":0},{"$f":"'Multiple NPA 60'!I178","v":0},{"$f":"'Multiple NPA 60'!J178","v":0},0,{"$f":"'Multiple NPA 60'!K178","v":0},{"$f":"'Multiple NPA 60'!L178","v":0},{"$error":"#N/A"},{"$error":"#N/A"},{"$error":"#N/A"},{"$error":"#N/A"},{"$error":"#N/A"},0,0,0,{"$error":"#N/A"},0,{"$error":"#N/A"},{"$error":"#N/A"},null,null,"2019-02-07",0,0,776,1,null,null,null,null,null,null,null,null,null,null,null,{"$error":"#N/A"},{"$error":"#N/A"}]
[{"$f":"'Multiple NPA 60'!A179","v":0},{"$f":"'Multiple NPA 60'!B179","v":0},{"$f":"'Multiple NPA 60'!C179","v":0},{"$f":"'Multiple NPA 60'!D179","v":0},{"$f":"'Multiple NPA 60'!E179","v":"00:00:00"},{"$f":"'Multiple NPA 60'!F179","v":0},{"$f":"'Multiple NPA 60'!G179","v":0},{"$f":"'Multiple NPA 60'!E179","v":"00:00:00"},{"$f":"'Multiple NPA 60'!F179","v":0},{"$f":"'Multiple NPA 60'!G179","v":0},{"$f":"'Multiple NPA 60'!H179","v":0},{"$f":"'Multiple NPA 60'!I179","v":0},{"$f":"'Multiple NPA 60'!J179","v":0},0,{"$f":"'Multiple NPA 60'!K179","v":0},{"$f":"'Multiple NPA 60'!L179","v":0},{"$error":"#N/A"},{"$error":"#N/A"},{"$error":"#N/A"},{"$error":"#N/A"},{"$error":"#N/A"},0,0,0,{"$error":"#N/A"},0,{"$error":"#N/A"},{"$error":"#N/A"},null,null,"2019-02-07",0,0,777,1,null,null,null,null,null,null,null,null,null,null,null,{"$error":"#N/A"},{"$error":"#N/A"}]
[{"$f":"'Multiple NPA 60'!A180","v":0},{"$f":"'Multiple NPA 60'!B180","v":0},{"$f":"'Multiple NPA 60'!C180","v":0},{"$f":"'Multiple NPA 60'!D180","v":0},{"$f":"'Multiple NPA 60'!E180","v":"00:00:00"},{"$f":"'Multiple NPA 60'!F180","v":0},{"$f":"'Multiple NPA 60'!G180","v":0},{"$f":"'Multiple NPA 60'!E180","v":"00:00:00"},{"$f":"'Multiple NPA 60'!F180","v":0},{"$f":"'Multiple NPA 60'!G180","v":0},{"$f":"'Multiple NPA 60'!H180","v":0},{"$f":"'Multiple NPA 60'!I180","v":0},{"$f":"'Multiple NPA 60'!J180","v":0},0,{"$f":"'Multiple NPA 60'!K180","v":0},{"$f":"'Multiple NPA 60'!L180","v":0},{"$error":"#N/A"},{"$error":"#N/A"},{"$error":"#N/A"},{"$error":"#N/A"},{"$error":"#N/A"},0,0,0,{"$error":"#N/A"},0,{"$error":"#N/A"},{"$error":"#N/A"},null,null,"2019-02-07",0,0,778,1,null,null,null,null,null,null,null,null,null,null,null,{"$error":"#N/A"},{"$error":"#N/A"}]
[{"$f":"'Multiple NPA 60'!A181","v":0},{"$f":"'Multiple NPA 60'!B181","v":0},{"$f":"'Multiple NPA 60'!C181","v":0},{"$f":"'Multiple NPA 60'!D181","v":0},{"$f":"'Multiple NPA 60'!E181","v":"00:00:00"},{"$f":"'Multiple NPA 60'!F181","v":0},{"$f":"'Multiple NPA 60'!G181","v":0},{"$f":"'Multiple NPA 60'!E181","v":"00:00:00"},{"$f":"'Multiple NPA 60'!F181","v":0},{"$f":"'Multiple NPA 60'!G181","v":0},{"$f":"'Multiple NPA 60'!H181","v":0},{"$f":"'Multiple NPA 60'!I181","v":0},{"$f":"'Multiple NPA 60'!J181","v":0},0,{"$f":"'Multiple NPA 60'!K181","v":0},{"$f":"'Multiple NPA 60'!L181","v":0},{"$error":"#N/A"},{"$error":"#N/A"},{"$error":"#N/A"},{"$error":"#N/A"},{"$error":"#N/A"},0,0,0,{"$error":"#N/A"},0,{"$error":"#N/A"},{"$error":"#N/A"},null,null,"2019-02-07",0,0,779,1,null,null,null,null,null,null,null,null,null,null,null,{"$error":"#N/A"},{"$error":"#N/A"}]
[{"$f":"'Multiple NPA 60'!A182","v":0},{"$f":"'Multiple NPA 60'!B182","v":0},{"$f":"'Multiple NPA 60'!C182","v":0},{"$f":"'Multiple NPA 60'!D182","v":0},{"$f":"'Multiple NPA 60'!E182","v":"00:00:00"},{"$f":"'Multiple NPA 60'!F182","v":0},{"$f":"'Multiple NPA 60'!G182","v":0},{"$f":"'Multiple NPA 60'!E182","v":"00:00:00"},{"$f":"'Multiple NPA 60'!F182","v":0},{"$f":"'Multiple NPA 60'!G182","v":0},{"$f":"'Multiple NPA 60'!H182","v":0},{"$f":"'Multiple NPA 60'!I182","v":0},{"$f":"'Multiple NPA 60'!J182","v":0},0,{"$f":"'Multiple NPA 60'!K182","v":0},{"$f":"'Multiple NPA 60'!L182","v":0},{"$error":"#N/A"},{"$error":"#N/A"},{"$error":"#N/A"},{"$error":"#N/A"},{"$error":"#N/A"},0,0,0,{"$error":"#N/A"},0,{"$error":"#N/A"},{"$error":"#N/A"},null,null,"2019-02-07",0,0,780,1,null,null,null,null,null,null,null,null,null,null,null,{"$error":"#N/A"},{"$error":"#N/A"}]
[{"$f":"'Multiple NPA 60'!A183","v":0},{"$f":"'Multiple NPA 60'!B183","v":0},{"$f":"'Multiple NPA 60'!C183","v":0},{"$f":"'Multiple NPA 60'!D183","v":0},{"$f":"'Multiple NPA 60'!E183","v":"00:00:00"},{"$f":"'Multiple NPA 60'!F183","v":0},{"$f":"'Multiple NPA 60'!G183","v":0},{"$f":"'Multiple NPA 60'!E183","v":"00:00:00"},{"$f":"'Multiple NPA 60'!F183","v":0},{"$f":"'Multiple NPA 60'!G183","v":0},{"$f":"'Multiple NPA 60'!H183","v":0},{"$f":"'Multiple NPA 60'!I183","v":0},{"$f":"'Multiple NPA 60'!J183","v":0},0,{"$f":"'Multiple NPA 60'!K183","v":0},{"$f":"'Multiple NPA 60'!L183","v":0},{"$error":"#N/A"},{"$error":"#N/A"},{"$error":"#N/A"},{"$error":"#N/A"},{"$error":"#N/A"},0,0,0,{"$error":"#N/A"},0,{"$error":"#N/A"},{"$error":"#N/A"},null,null,"2019-02-07",0,0,781,1,null,null,null,null,null,null,null,null,null,null,null,{"$error":"#N/A"},{"$error":"#N/A"}]
[{"$f":"'Multiple NPA 60'!A184","v":0},{"$f":"'Multiple NPA 60'!B184","v":0},{"$f":"'Multiple NPA 60'!C184","v":0},{"$f":"'Multiple NPA 60'!D184","v":0},{"$f":"'Multiple NPA 60'!E184","v":"00:00:00"},{"$f":"'Multiple NPA 60'!F184","v":0},{"$f":"'Multiple NPA 60'!G184","v":0},{"$f":"'Multiple NPA 60'!E184","v":"00:00:00"},{"$f":"'Multiple NPA 60'!F184","v":0},{"$f":"'Multiple NPA 60'!G184","v":0},{"$f":"'Multiple NPA 60'!H184","v":0},{"$f":"'Multiple NPA 60'!I184","v":0},{"$f":"'Multiple NPA 60'!J184","v":0},0,{"$f":"'Multiple NPA 60'!K184","v":0},{"$f":"'Multiple NPA 60'!L184","v":0},{"$error":"#N/A"},{"$error":"#N/A"},{"$error":"#N/A"},{"$error":"#N/A"},{"$error":"#N/A"},0,0,0,{"$error":"#N/A"},0,{"$error":"#N/A"},{"$error":"#N/A"},null,null,"2019-02-07",0,0,782,1,null,null,null,null,null,null,null,null,null,null,null,{"$error":"#N/A"},{"$error":"#N/A"}]
[{"$f":"'Multiple NPA 60'!A185","v":0},{"$f":"'Multiple NPA 60'!B185","v":0},{"$f":"'Multiple NPA 60'!C185","v":0},{"$f":"'Multiple NPA 60'!D185","v":0},{"$f":"'Multiple NPA 60'!E185","v":"00:00:00"},{"$f":"'Multiple NPA 60'!F185","v":0},{"$f":"'Multiple NPA 60'!G185","v":0},{"$f":"'Multiple NPA 60'!E185","v":"00:00:00"},{"$f":"'Multiple NPA 60'!F185","v":0},{"$f":"'Multiple NPA 60'!G185","v":0},{"$f":"'Multiple NPA 60'!H185","v":0},{"$f":"'Multiple NPA 60'!I185","v":0},{"$f":"'Multiple NPA 60'!J185","v":0},0,{"$f":"'Multiple NPA 60'!K185","v":0},{"$f":"'Multiple NPA 60'!L185","v":0},{"$error":"#N/A"},{"$error":"#N/A"},{"$error":"#N/A"},{"$error":"#N/A"},{"$error":"#N/A"},0,0,0,{"$error":"#N/A"},0,{"$error":"#N/A"},{"$error":"#N/A"},null,null,"2019-02-07",0,0,783,1,null,null,null,null,null,null,null,null,null,null,null,{"$error":"#N/A"},{"$error":"#N/A"}]
[{"$f":"'Multiple NPA 60'!A186","v":0},{"$f":"'Multiple NPA 60'!B186","v":0},{"$f":"'Multiple NPA 60'!C186","v":0},{"$f":"'Multiple NPA 60'!D186","v":0},{"$f":"'Multiple NPA 60'!E186","v":"00:00:00"},{"$f":"'Multiple NPA 60'!F186","v":0},{"$f":"'Multiple NPA 60'!G186","v":0},{"$f":"'Multiple NPA 60'!E186","v":"00:00:00"},{"$f":"'Multiple NPA 60'!F186","v":0},{"$f":"'Multiple NPA 60'!G186","v":0},{"$f":"'Multiple NPA 60'!H186","v":0},{"$f":"'Multiple NPA 60'!I186","v":0},{"$f":"'Multiple NPA 60'!J186","v":0},0,{"$f":"'Multiple NPA 60'!K186","v":0},{"$f":"'Multiple NPA 60'!L186","v":0},{"$error":"#N/A"},{"$error":"#N/A"},{"$error":"#N/A"},{"$error":"#N/A"},{"$error":"#N/A"},0,0,0,{"$error":"#N/A"},0,{"$error":"#N/A"},{"$error":"#N/A"},null,null,"2019-02-07",0,0,784,1,null,null,null,null,null,null,null,null,null,null,null,{"$error":"#N/A"},{"$error":"#N/A"}]
[{"$f":"'Multiple NPA 60'!A187","v":0},{"$f":"'Multiple NPA 60'!B187","v":0},{"$f":"'Multiple NPA 60'!C187","v":0},{"$f":"'Multiple NPA 60'!D187","v":0},{"$f":"'Multiple NPA 60'!E187","v":"00:00:00"},{"$f":"'Multiple NPA 60'!F187","v":0},{"$f":"'Multiple NPA 60'!G187","v":0},{"$f":"'Multiple NPA 60'!E187","v":"00:00:00"},{"$f":"'Multiple NPA 60'!F187","v":0},{"$f":"'Multiple NPA 60'!G187","v":0},{"$f":"'Multiple NPA 60'!H187","v":0},{"$f":"'Multiple NPA 60'!I187","v":0},{"$f":"'Multiple NPA 60'!J187","v":0},0,{"$f":"'Multiple NPA 60'!K187","v":0},{"$f":"'Multiple NPA 60'!L187","v":0},{"$error":"#N/A"},{"$error":"#N/A"},{"$error":"#N/A"},{"$error":"#N/A"},{"$error":"#N/A"},0,0,0,{"$error":"#N/A"},0,{"$error":"#N/A"},{"$error":"#N/A"},null,null,"2019-02-07",0,0,785,1,null,null,null,null,null,null,null,null,null,null,null,{"$error":"#N/A"},{"$error":"#N/A"}]
[{"$f":"'Multiple NPA 60'!A188","v":0},{"$f":"'Multiple NPA 60'!B188","v":0},{"$f":"'Multiple NPA 60'!C188","v":0},{"$f":"'Multiple NPA 60'!D188","v":0},{"$f":"'Multiple NPA 60'!E188","v":"00:00:00"},{"$f":"'Multiple NPA 60'!F188","v":0},{"$f":"'Multiple NPA 60'!G188","v":0},{"$f":"'Multiple NPA 60'!E188","v":"00:00:00"},{"$f":"'Multiple NPA 60'!F188","v":0},{"$f":"'Multiple NPA 60'!G188","v":0},{"$f":"'Multiple NPA 60'!H188","v":0},{"$f":"'Multiple NPA 60'!I188","v":0},{"$f":"'Multiple NPA 60'!J188","v":0},0,{"$f":"'Multiple NPA 60'!K188","v":0},{"$f":"'Multiple NPA 60'!L188","v":0},{"$error":"#N/A"},{"$error":"#N/A"},{"$error":"#N/A"},{"$error":"#N/A"},{"$error":"#N/A"},0,0,0,{"$error":"#N/A"},0,{"$error":"#N/A"},{"$error":"#N/A"},null,null,"2019-02-07",0,0,786,1,null,null,null,null,null,null,null,null,null,null,null,{"$error":"#N/A"},{"$error":"#N/A"}]
[{"$f":"'Multiple NPA 60'!A189","v":0},{"$f":"'Multiple NPA 60'!B189","v":0},{"$f":"'Multiple NPA 60'!C189","v":0},{"$f":"'Multiple NPA 60'!D189","v":0},{"$f":"'Multiple NPA 60'!E189","v":"00:00:00"},{"$f":"'Multiple NPA 60'!F189","v":0},{"$f":"'Multiple NPA 60'!G189","v":0},{"$f":"'Multiple NPA 60'!E189","v":"00:00:00"},{"$f":"'Multiple NPA 60'!F189","v":0},{"$f":"'Multiple NPA 60'!G189","v":0},{"$f":"'Multiple NPA 60'!H189","v":0},{"$f":"'Multiple NPA 60'!I189","v":0},{"$f":"'Multiple NPA 60'!J189","v":0},0,{"$f":"'Multiple NPA 60'!K189","v":0},{"$f":"'Multiple NPA 60'!L189","v":0},{"$error":"#N/A"},{"$error":"#N/A"},{"$error":"#N/A"},{"$error":"#N/A"},{"$error":"#N/A"},0,0,0,{"$error":"#N/A"},0,{"$error":"#N/A"},{"$error":"#N/A"},null,null,"2019-02-07",0,0,787,1,null,null,null,null,null,null,null,null,null,null,null,{"$error":"#N/A"},{"$error":"#N/A"}]
[{"$f":"'Multiple NPA 60'!A190","v":0},{"$f":"'Multiple NPA 60'!B190","v":0},{"$f":"'Multiple NPA 60'!C190","v":0},{"$f":"'Multiple NPA 60'!D190","v":0},{"$f":"'Multiple NPA 60'!E190","v":"00:00:00"},{"$f":"'Multiple NPA 60'!F190","v":0},{"$f":"'Multiple NPA 60'!G190","v":0},{"$f":"'Multiple NPA 60'!E190","v":"00:00:00"},{"$f":"'Multiple NPA 60'!F190","v":0},{"$f":"'Multiple NPA 60'!G190","v":0},{"$f":"'Multiple NPA 60'!H190","v":0},{"$f":"'Multiple NPA 60'!I190","v":0},{"$f":"'Multiple NPA 60'!J190","v":0},0,{"$f":"'Multiple NPA 60'!K190","v":0},{"$f":"'Multiple NPA 60'!L190","v":0},{"$error":"#N/A"},{"$error":"#N/A"},{"$error":"#N/A"},{"$error":"#N/A"},{"$error":"#N/A"},0,0,0,{"$error":"#N/A"},0,{"$error":"#N/A"},{"$error":"#N/A"},null,null,"2019-02-07",0,0,788,1,null,null,null,null,null,null,null,null,null,null,null,{"$error":"#N/A"},{"$error":"#N/A"}]
[{"$f":"'Multiple NPA 60'!A191","v":0},{"$f":"'Multiple NPA 60'!B191","v":0},{"$f":"'Multiple NPA 60'!C191","v":0},{"$f":"'Multiple NPA 60'!D191","v":0},{"$f":"'Multiple NPA 60'!E191","v":"00:00:00"},{"$f":"'Multiple NPA 60'!F191","v":0},{"$f":"'Multiple NPA 60'!G191","v":0},{"$f":"'Multiple NPA 60'!E191","v":"00:00:00"},{"$f":"'Multiple NPA 60'!F191","v":0},{"$f":"'Multiple NPA 60'!G191","v":0},{"$f":"'Multiple NPA 60'!H191","v":0},{"$f":"'Multiple NPA 60'!I191","v":0},{"$f":"'Multiple NPA 60'!J191","v":0},0,{"$f":"'Multiple NPA 60'!K191","v":0},{"$f":"'Multiple NPA 60'!L191","v":0},{"$error":"#N/A"},{"$error":"#N/A"},{"$error":"#N/A"},{"$error":"#N/A"},{"$error":"#N/A"},0,0,0,{"$error":"#N/A"},0,{"$error":"#N/A"},{"$error":"#N/A"},null,null,"2019-02-07",0,0,789,1,null,null,null,null,null,null,null,null,null,null,null,{"$error":"#N/A"},{"$error":"#N/A"}]
[{"$f":"'Multiple NPA 60'!A192","v":0},{"$f":"'Multiple NPA 60'!B192","v":0},{"$f":"'Multiple NPA 60'!C192","v":0},{"$f":"'Multiple NPA 60'!D192","v":0},{"$f":"'Multiple NPA 60'!E192","v":"00:00:00"},{"$f":"'Multiple NPA 60'!F192","v":0},{"$f":"'Multiple NPA 60'!G192","v":0},{"$f":"'Multiple NPA 60'!E192","v":"00:00:00"},{"$f":"'Multiple NPA 60'!F192","v":0},{"$f":"'Multiple NPA 60'!G192","v":0},{"$f":"'Multiple NPA 60'!H192","v":0},{"$f":"'Multiple NPA 60'!I192","v":0},{"$f":"'Multiple NPA 60'!J192","v":0},0,{"$f":"'Multiple NPA 60'!K192","v":0},{"$f":"'Multiple NPA 60'!L192","v":0},{"$error":"#N/A"},{"$error":"#N/A"},{"$error":"#N/A"},{"$error":"#N/A"},{"$error":"#N/A"},0,0,0,{"$error":"#N/A"},0,{"$error":"#N/A"},{"$error":"#N/A"},null,null,"2019-02-07",0,0,790,1,null,null,null,null,null,null,null,null,null,null,null,{"$error":"#N/A"},{"$error":"#N/A"}]
[{"$f":"'Multiple NPA 60'!A193","v":0},{"$f":"'Multiple NPA 60'!B193","v":0},{"$f":"'Multiple NPA 60'!C193","v":0},{"$f":"'Multiple NPA 60'!D193","v":0},{"$f":"'Multiple NPA 60'!E193","v":"00:00:00"},{"$f":"'Multiple NPA 60'!F193","v":0},{"$f":"'Multiple NPA 60'!G193","v":0},{"$f":"'Multiple NPA 60'!E193","v":"00:00:00"},{"$f":"'Multiple NPA 60'!F193","v":0},{"$f":"'Multiple NPA 60'!G193","v":0},{"$f":"'Multiple NPA 60'!H193","v":0},{"$f":"'Multiple NPA 60'!I193","v":0},{"$f":"'Multiple NPA 60'!J193","v":0},0,{"$f":"'Multiple NPA 60'!K193","v":0},{"$f":"'Multiple NPA 60'!L193","v":0},{"$error":"#N/A"},{"$error":"#N/A"},{"$error":"#N/A"},{"$error":"#N/A"},{"$error":"#N/A"},0,0,0,{"$error":"#N/A"},0,{"$error":"#N/A"},{"$error":"#N/A"},null,null,"2019-02-07",0,0,791,1,null,null,null,null,null,null,null,null,null,null,null,{"$error":"#N/A"},{"$error":"#N/A"}]
[{"$f":"'Multiple NPA 60'!A194","v":0},{"$f":"'Multiple NPA 60'!B194","v":0},{"$f":"'Multiple NPA 60'!C194","v":0},{"$f":"'Multiple NPA 60'!D194","v":0},{"$f":"'Multiple NPA 60'!E194","v":"00:00:00"},{"$f":"'Multiple NPA 60'!F194","v":0},{"$f":"'Multiple NPA 60'!G194","v":0},{"$f":"'Multiple NPA 60'!E194","v":"00:00:00"},{"$f":"'Multiple NPA 60'!F194","v":0},{"$f":"'Multiple NPA 60'!G194","v":0},{"$f":"'Multiple NPA 60'!H194","v":0},{"$f":"'Multiple NPA 60'!I194","v":0},{"$f":"'Multiple NPA 60'!J194","v":0},0,{"$f":"'Multiple NPA 60'!K194","v":0},{"$f":"'Multiple NPA 60'!L194","v":0},{"$error":"#N/A"},{"$error":"#N/A"},{"$error":"#N/A"},{"$error":"#N/A"},{"$error":"#N/A"},0,0,0,{"$error":"#N/A"},0,{"$error":"#N/A"},{"$error":"#N/A"},null,null,"2019-02-07",0,0,792,1,null,null,null,null,null,null,null,null,null,null,null,{"$error":"#N/A"},{"$error":"#N/A"}]
[{"$f":"'Multiple NPA 60'!A195","v":0},{"$f":"'Multiple NPA 60'!B195","v":0},{"$f":"'Multiple NPA 60'!C195","v":0},{"$f":"'Multiple NPA 60'!D195","v":0},{"$f":"'Multiple NPA 60'!E195","v":"00:00:00"},{"$f":"'Multiple NPA 60'!F195","v":0},{"$f":"'Multiple NPA 60'!G195","v":0},{"$f":"'Multiple NPA 60'!E195","v":"00:00:00"},{"$f":"'Multiple NPA 60'!F195","v":0},{"$f":"'Multiple NPA 60'!G195","v":0},{"$f":"'Multiple NPA 60'!H195","v":0},{"$f":"'Multiple NPA 60'!I195","v":0},{"$f":"'Multiple NPA 60'!J195","v":0},0,{"$f":"'Multiple NPA 60'!K195","v":0},{"$f":"'Multiple NPA 60'!L195","v":0},{"$error":"#N/A"},{"$error":"#N/A"},{"$f":"(((K197+(L197/365))*I197)/80)-Q197","v":{"$error":"#N/A"}},{"$error":"#N/A"},{"$error":"#N/A"},0,0,0,{"$error":"#N/A"},0,{"$error":"#N/A"},{"$error":"#N/A"},null,null,"2019-02-07",0,0,793,1,null,null,null,null,null,null,null,null,null,null,null,{"$error":"#N/A"},{"$error":"#N/A"}]
[{"$f":"'Multiple NPA 60'!A196","v":0},{"$f":"'Multiple NPA 60'!B196","v":0},{"$f":"'Multiple NPA 60'!C196","v":0},{"$f":"'Multiple NPA 60'!D196","v":0},{"$f":"'Multiple NPA 60'!E196","v":"00:00:00"},{"$f":"'Multiple NPA 60'!F196","v":0},{"$f":"'Multiple NPA 60'!G196","v":0},{"$f":"'Multiple NPA 60'!E196","v":"00:00:00"},{"$f":"'Multiple NPA 60'!F196","v":0},{"$f":"'Multiple NPA 60'!G196","v":0},{"$f":"'Multiple NPA 60'!H196","v":0},{"$f":"'Multiple NPA 60'!I196","v":0},{"$f":"'Multiple NPA 60'!J196","v":0},{"$f":"O198+(P198/365)","v":0},{"$f":"'Multiple NPA 60'!K196","v":0},{"$f":"'Multiple NPA 60'!L196","v":0},{"$f":"VLOOKUP(AF198,$AH$4:$AI$244,2,FALSE)*(((K198+(L198/365))*I198)/80)","v":{"$error":"#N/A"}},{"$f":"Q198*3","v":{"$error":"#N/A"}},{"$error":"#N/A"},{"$error":"#N/A"},{"$error":"#N/A"},{"$f":"((O198+(P198/365))*I198)/80","v":0},{"$f":"V198/2","v":0},{"$f":"V198*3","v":0},{"$f":"IF(M198>1,(((VLOOKUP(AG198,$AM$5:$AN$25,2,FALSE)*I198)/80)*N198)+(((VLOOKUP(AG198,$AR$5:$AS$25,2,FALSE)*I198)/160)*N198),((((VLOOKUP(AG198,$AK$5:$AL$25,2,FALSE)*I198)/80)*N198))+(((VLOOKUP(AG198,$AP$5:$AQ$25,2,FALSE)*I198)/160)*N198))+(((N198*I198)/80)*3)","v":{"$error":"#N/A"}},0,{"$f":"SUM(Q198-AV198)","v":{"$error":"#N/A"}},{"$f":"SUM(AV198*12)+R198","v":{"$error":"#N/A"}},null,null,{"$f":"TODAY()","v":"2019-02-07"},0,{"$f":"(DATEDIF(H198, J198, \"Y\"))","v":0},794,1,null,null,null,null,null,null,null,null,null,null,null,{"$error":"#N/A"},{"$error":"#N/A"}]
[{"$f":"'Multiple NPA 60'!A197","v":0},{"$f":"'Multiple NPA 60'!B197","v":0},{"$f":"'Multiple NPA 60'!C197","v":0},{"$f":"'Multiple NPA 60'!D197","v":0},{"$f":"'Multiple NPA 60'!E197","v":"00:00:00"},{"$f":"'Multiple NPA 60'!F197","v":0},{"$f":"'Multiple NPA 60'!G197","v":0},{"$f":"'Multiple NPA 60'!E197","v":"00:00:00"},{"$f":"'Multiple NPA 60'!F197","v":0},{"$f":"'Multiple NPA 60'!G197","v":0},{"$f":"'Multiple NPA 60'!H197","v":0},{"$f":"'Multiple NPA 60'!I197","v":0},{"$f":"'Multiple NPA 60'!J197","v":0},{"$f":"O199+(P199/365)","v":0},{"$f":"'Multiple NPA 60'!K197","v":0},{"$f":"'Multiple NPA 60'!L197","v":0},{"$f":"VLOOKUP(AF199,$AH$4:$AI$244,2,FALSE)*(((K199+(L199/365))*I199)/80)","v":{"$error":"#N/A"}},{"$f":"Q199*3","v":{"$error":"#N/A"}},{"$error":"#N/A"},{"$f":"S199*3","v":{"$error":"#N/A"}},{"$f":"IF(M199>1,(((VLOOKUP(AG199, $AM$5:$AN$25,2,FALSE)*S199)))+(S199*3),(((VLOOKUP(AG199,$AK$5:$AL$25,2,FALSE)*S199)))+(S199*3))","v":{"$error":"#N/A"}},{"$f":"((O199+(P199/365))*I199)/80","v":0},{"$f":"V199/2","v":0},{"$f":"V199*3","v":0},{"$f":"IF(M199>1,(((VLOOKUP(AG199,$AM$5:$AN$25,2,FALSE)*I199)/80)*N199)+(((VLOOKUP(AG199,$AR$5:$AS$25,2,FALSE)*I199)/160)*N199),((((VLOOKUP(AG199,$AK$5:$AL$25,2,FALSE)*I199)/80)*N199))+(((VLOOKUP(AG199,$AP$5:$AQ$25,2,FALSE)*I199)/160)*N199))+(((N199*I199)/80)*3)","v":{"$error":"#N/A"}},0,{"$f":"SUM(Q199-AV199)","v":{"$error":"#N/A"}},{"$f":"SUM(AV199*12)+R199","v":{"$error":"#N/A"}},null,null,{"$f":"TODAY()","v":"2019-02-07"},0,0,795,1,null,null,null,null,null,null,null,null,null,null,null,{"$error":"#N/A"},{"$error":"#N/A"}]
[{"$f":"'Multiple NPA 60'!A198","v":0},{"$f":"'Multiple NPA 60'!B198","v":0},{"$f":"'Multiple NPA 60'!C198","v":0},{"$f":"'Multiple NPA 60'!D198","v":0},{"$f":"'Multiple NPA 60'!E198","v":"00:00:00"},{"$f":"'Multiple NPA 60'!F198","v":0},{"$f":"'Multiple NPA 60'!G198","v":0},{"$f":"'Multiple NPA 60'!E198","v":"00:00:00"},{"$f":"'Multiple NPA 60'!F198","v":0},{"$f":"'Multiple NPA 60'!G198","v":0},{"$f":"'Multiple NPA 60'!H198","v":0},{"$f":"'Multiple NPA 60'!I198","v":0},{"$f":"'Multiple NPA 60'!J198","v":0},{"$f":"O200+(P200/365)","v":0},{"$f":"'Multiple NPA 60'!K198","v":0},{"$f":"'Multiple NPA 60'!L198","v":0},{"$f":"VLOOKUP(AF200,$AH$4:$AI$244,2,FALSE)*(((K200+(L200/365))*I200)/80)","v":{"$error":"#N/A"}},{"$f":"Q200*3","v":{"$error":"#N/A"}},{"$error":"#N/A"},{"$f":"S200*3","v":{"$error":"#N/A"}},{"$f":"IF(M200>1,(((VLOOKUP(AG200, $AM$5:$AN$25,2,FALSE)*S200)))+(S200*3),(((VLOOKUP(AG200,$AK$5:$AL$25,2,FALSE)*S200)))+(S200*3))","v":{"$error":"#N/A"}},{"$f":"((O200+(P200/365))*I200)/80","v":0},{"$f":"V200/2","v":0},{"$f":"V200*3","v":0},{"$f":"IF(M200>1,(((VLOOKUP(AG200,$AM$5:$AN$25,2,FALSE)*I200)/80)*N200)+(((VLOOKUP(AG200,$AR$5:$AS$25,2,FALSE)*I200)/160)*N200),((((VLOOKUP(AG200,$AK$5:$AL$25,2,FALSE)*I200)/80)*N200))+(((VLOOKUP(AG200,$AP$5:$AQ$25,2,FALSE)*I200)/160)*N200))+(((N200*I200)/80)*3)","v":{"$error":"#N/A"}},0,{"$f":"SUM(Q200-AV200)","v":{"$error":"#N/A"}},{"$f":"SUM(AV200*12)+R200","v":{"$error":"#N/A"}},null,null,{"$f":"TODAY()","v":"2019-02-07"},{"$f":"(DATEDIF(H200, J200, \"M\"))","v":0},0,796,1,null,null,null,null,null,null,null,null,null,null,null,{"$error":"#N/A"},{"$error":"#N/A"}]
[{"$f":"'Multiple NPA 60'!A199","v":0},{"$f":"'Multiple NPA 60'!B199","v":0},{"$f":"'Multiple NPA 60'!C199","v":0},{"$f":"'Multiple NPA 60'!D199","v":0},{"$f":"'Multiple NPA 60'!E199","v":"00:00:00"},{"$f":"'Multiple NPA 60'!F199","v":0},{"$f":"'Multiple NPA 60'!G199","v":0},{"$f":"'Multiple NPA 60'!E199","v":"00:00:00"},{"$f":"'Multiple NPA 60'!F199","v":0},{"$f":"'Multiple NPA 60'!G199","v":0},{"$f":"'Multiple NPA 60'!H199","v":0},{"$f":"'Multiple NPA 60'!I199","v":0},{"$f":"'Multiple NPA 60'!J199","v":0},{"$f":"O201+(P201/365)","v":0},{"$f":"'Multiple NPA 60'!K199","v":0},{"$f":"'Multiple NPA 60'!L199","v":0},{"$f":"VLOOKUP(AF201,$AH$4:$AI$244,2,FALSE)*(((K201+(L201/365))*I201)/80)","v":{"$error":"#N/A"}},{"$f":"Q201*3","v":{"$error":"#N/A"}},{"$error":"#N/A"},{"$f":"S201*3","v":{"$error":"#N/A"}},{"$f":"IF(M201>1,(((VLOOKUP(AG201, $AM$5:$AN$25,2,FALSE)*S201)))+(S201*3),(((VLOOKUP(AG201,$AK$5:$AL$25,2,FALSE)*S201)))+(S201*3))","v":{"$error":"#N/A"}},{"$f":"((O201+(P201/365))*I201)/80","v":0},{"$f":"V201/2","v":0},{"$f":"V201*3","v":0},{"$f":"IF(M201>1,(((VLOOKUP(AG201,$AM$5:$AN$25,2,FALSE)*I201)/80)*N201)+(((VLOOKUP(AG201,$AR$5:$AS$25,2,FALSE)*I201)/160)*N201),((((VLOOKUP(AG201,$AK$5:$AL$25,2,FALSE)*I201)/80)*N201))+(((VLOOKUP(AG201,$AP$5:$AQ$25,2,FALSE)*I201)/160)*N201))+(((N201*I201)/80)*3)","v":{"$error":"#N/A"}},{"$f":"(SUMIF(U201:Y201,\">0\",U201:Y201))-(V201+X201+W201)","v":0},null,null,null,null,{"$f":"TODAY()","v":"2019-02-07"},0,0,797,1]
[{"$f":"'Multiple NPA 60'!A200","v":0},{"$f":"'Multiple NPA 60'!B200","v":0},{"$f":"'Multiple NPA 60'!C200","v":0},{"$f":"'Multiple NPA 60'!D200","v":0},{"$f":"'Multiple NPA 60'!E200","v":"00:00:00"},{"$f":"'Multiple NPA 60'!F200","v":0},{"$f":"'Multiple NPA 60'!G200","v":0},{"$f":"'Multiple NPA 60'!E200","v":"00:00:00"},{"$f":"'Multiple NPA 60'!F200","v":0},{"$f":"'Multiple NPA 60'!G200","v":0},{"$f":"'Multiple NPA 60'!H200","v":0},{"$f":"'Multiple NPA 60'!I200","v":0},{"$f":"'Multiple NPA 60'!J200","v":0},{"$f":"O202+(P202/365)","v":0},{"$f":"'Multiple NPA 60'!K200","v":0},{"$f":"'Multiple NPA 60'!L200","v":0},{"$f":"VLOOKUP(AF202,$AH$4:$AI$244,2,FALSE)*(((K202+(L202/365))*I202)/80)","v":{"$error":"#N/A"}},{"$f":"Q202*3","v":{"$error":"#N/A"}},{"$error":"#N/A"},{"$f":"S202*3","v":{"$error":"#N/A"}},{"$f":"IF(M202>1,(((VLOOKUP(AG202, $AM$5:$AN$25,2,FALSE)*S202)))+(S202*3),(((VLOOKUP(AG202,$AK$5:$AL$25,2,FALSE)*S202)))+(S202*3))","v":{"$error":"#N/A"}},{"$f":"((O202+(P202/365))*I202)/80","v":0},{"$f":"V202/2","v":0},{"$f":"V202*3","v":0},{"$f":"IF(M202>1,(((VLOOKUP(AG202,$AM$5:$AN$25,2,FALSE)*I202)/80)*N202)+(((VLOOKUP(AG202,$AR$5:$AS$25,2,FALSE)*I202)/160)*N202),((((VLOOKUP(AG202,$AK$5:$AL$25,2,FALSE)*I202)/80)*N202))+(((VLOOKUP(AG202,$AP$5:$AQ$25,2,FALSE)*I202)/160)*N202))+(((N202*I202)/80)*3)","v":{"$error":"#N/A"}},{"$f":"(SUMIF(U202:Y202,\">0\",U202:Y202))-(V202+X202+W202)","v":0},null,null,null,null,{"$f":"TODAY()","v":"2019-02-07"},0,0,798,1]
[{"$f":"'Multiple NPA 60'!A201","v":0},{"$f":"'Multiple NPA 60'!B201","v":0},{"$f":"'Multiple NPA 60'!C201","v":0},{"$f":"'Multiple NPA 60'!D201","v":0},{"$f":"'Multiple NPA 60'!E201","v":"00:00:00"},{"$f":"'Multiple NPA 60'!F201","v":0},{"$f":"'Multiple NPA 60'!G201","v":0},{"$f":"'Multiple NPA 60'!E201","v":"00:00:00"},{"$f":"'Multiple NPA 60'!F201","v":0},{"$f":"'Multiple NPA 60'!G201","v":0},{"$f":"'Multiple NPA 60'!H201","v":0},{"$f":"'Multiple NPA 60'!I201","v":0},{"$f":"'Multiple NPA 60'!J201","v":0},{"$f":"'Multiple NPA 60'!K201","v":0},{"$f":"'Multiple NPA 60'!K201","v":0},{"$f":"'Multiple NPA 60'!L201","v":0},null,null,null,null,null,null,null,null,null,null,null,null,null,null,null,0,0,799,1]
[{"$f":"'Multiple NPA 60'!A202","v":0},{"$f":"'Multiple NPA 60'!B202","v":0},{"$f":"'Multiple NPA 60'!C202","v":0},{"$f":"'Multiple NPA 60'!D202","v":0},{"$f":"'Multiple NPA 60'!E202","v":"00:00:00"},{"$f":"'Multiple NPA 60'!F202","v":0},{"$f":"'Multiple NPA 60'!G202","v":0},{"$f":"'Multiple NPA 60'!E202","v":"00:00:00"},{"$f":"'Multiple NPA 60'!F202","v":0},{"$f":"'Multiple NPA 60'!G202","v":0},{"$f":"'Multiple NPA 60'!H202","v":0},{"$f":"'Multiple NPA 60'!I202","v":0},{"$f":"'Multiple NPA 60'!J202","v":0},{"$f":"'Multiple NPA 60'!K202","v":0},{"$f":"'Multiple NPA 60'!K202","v":0},{"$f":"'Multiple NPA 60'!L202","v":0},null,null,null,null,null,null,null,null,null,null,null,null,null,null,null,0,0,800,1]
[{"$f":"'Multiple NPA 60'!A203","v":0},{"$f":"'Multiple NPA 60'!B203","v":0},{"$f":"'Multiple NPA 60'!C203","v":0},{"$f":"'Multiple NPA 60'!D203","v":0},{"$f":"'Multiple NPA 60'!E203","v":"00:00:00"},{"$f":"'Multiple NPA 60'!F203","v":0},{"$f":"'Multiple NPA 60'!G203","v":0},{"$f":"'Multiple NPA 60'!E203","v":"00:00:00"},{"$f":"'Multiple NPA 60'!F203","v":0},{"$f":"'Multiple NPA 60'!G203","v":0},{"$f":"'Multiple NPA 60'!H203","v":0},{"$f":"'Multiple NPA 60'!I203","v":0},{"$f":"'Multiple NPA 60'!J203","v":0},{"$f":"'Multiple NPA 60'!K203","v":0},{"$f":"'Multiple NPA 60'!K203","v":0},{"$f":"'Multiple NPA 60'!L203","v":0},null,null,null,null,null,null,null,null,null,null,null,null,null,null,null,0,0,801,1]
[{"$f":"'Multiple NPA 60'!A204","v":0},{"$f":"'Multiple NPA 60'!B204","v":0},{"$f":"'Multiple NPA 60'!C204","v":0},{"$f":"'Multiple NPA 60'!D204","v":0},{"$f":"'Multiple NPA 60'!E204","v":"00:00:00"},{"$f":"'Multiple NPA 60'!F204","v":0},{"$f":"'Multiple NPA 60'!G204","v":0},{"$f":"'Multiple NPA 60'!E204","v":"00:00:00"},{"$f":"'Multiple NPA 60'!F204","v":0},{"$f":"'Multiple NPA 60'!G204","v":0},{"$f":"'Multiple NPA 60'!H204","v":0},{"$f":"'Multiple NPA 60'!I204","v":0},{"$f":"'Multiple NPA 60'!J204","v":0},{"$f":"'Multiple NPA 60'!K204","v":0},{"$f":"'Multiple NPA 60'!K204","v":0},{"$f":"'Multiple NPA 60'!L204","v":0},null,null,null,null,null,null,null,null,null,null,null,null,null,null,null,0,0,802,1]
[{"$f":"'Multiple NPA 60'!A205","v":0},{"$f":"'Multiple NPA 60'!B205","v":0},{"$f":"'Multiple NPA 60'!C205","v":0},{"$f":"'Multiple NPA 60'!D205","v":0},{"$f":"'Multiple NPA 60'!E205","v":"00:00:00"},{"$f":"'Multiple NPA 60'!F205","v":0},{"$f":"'Multiple NPA 60'!G205","v":0},{"$f":"'Multiple NPA 60'!E205","v":"00:00:00"},{"$f":"'Multiple NPA 60'!F205","v":0},{"$f":"'Multiple NPA 60'!G205","v":0},{"$f":"'Multiple NPA 60'!H205","v":0},{"$f":"'Multiple NPA 60'!I205","v":0},{"$f":"'Multiple NPA 60'!J205","v":0},{"$f":"'Multiple NPA 60'!K205","v":0},{"$f":"'Multiple NPA 60'!K205","v":0},{"$f":"'Multiple NPA 60'!L205","v":0},null,null,null,null,null,null,null,null,null,null,null,null,null,null,null,0,0,803,1]
[{"$f":"'Multiple NPA 60'!A206","v":0},{"$f":"'Multiple NPA 60'!B206","v":0},{"$f":"'Multiple NPA 60'!C206","v":0},{"$f":"'Multiple NPA 60'!D206","v":0},{"$f":"'Multiple NPA 60'!E206","v":"00:00:00"},{"$f":"'Multiple NPA 60'!F206","v":0},{"$f":"'Multiple NPA 60'!G206","v":0},{"$f":"'Multiple NPA 60'!E206","v":"00:00:00"},{"$f":"'Multiple NPA 60'!F206","v":0},{"$f":"'Multiple NPA 60'!G206","v":0},{"$f":"'Multiple NPA 60'!H206","v":0},{"$f":"'Multiple NPA 60'!I206","v":0},{"$f":"'Multiple NPA 60'!J206","v":0},{"$f":"'Multiple NPA 60'!K206","v":0},{"$f":"'Multiple NPA 60'!K206","v":0},{"$f":"'Multiple NPA 60'!L206","v":0},null,null,null,null,null,null,null,null,null,null,null,null,null,null,null,0,0,804,1]
[{"$f":"'Multiple NPA 60'!A207","v":0},{"$f":"'Multiple NPA 60'!B207","v":0},{"$f":"'Multiple NPA 60'!C207","v":0},{"$f":"'Multiple NPA 60'!D207","v":0},{"$f":"'Multiple NPA 60'!E207","v":"00:00:00"},{"$f":"'Multiple NPA 60'!F207","v":0},{"$f":"'Multiple NPA 60'!G207","v":0},{"$f":"'Multiple NPA 60'!E207","v":"00:00:00"},{"$f":"'Multiple NPA 60'!F207","v":0},{"$f":"'Multiple NPA 60'!G207","v":0},{"$f":"'Multiple NPA 60'!H207","v":0},{"$f":"'Multiple NPA 60'!I207","v":0},{"$f":"'Multiple NPA 60'!J207","v":0},{"$f":"'Multiple NPA 60'!K207","v":0},{"$f":"'Multiple NPA 60'!K207","v":0},{"$f":"'Multiple NPA 60'!L207","v":0},null,null,null,null,null,null,null,null,null,null,null,null,null,null,null,0,0,805,1]
[{"$f":"'Multiple NPA 60'!A208","v":0},{"$f":"'Multiple NPA 60'!B208","v":0},{"$f":"'Multiple NPA 60'!C208","v":0},{"$f":"'Multiple NPA 60'!D208","v":0},{"$f":"'Multiple NPA 60'!E208","v":"00:00:00"},{"$f":"'Multiple NPA 60'!F208","v":0},{"$f":"'Multiple NPA 60'!G208","v":0},{"$f":"'Multiple NPA 60'!E208","v":"00:00:00"},{"$f":"'Multiple NPA 60'!F208","v":0},{"$f":"'Multiple NPA 60'!G208","v":0},{"$f":"'Multiple NPA 60'!H208","v":0},{"$f":"'Multiple NPA 60'!I208","v":0},{"$f":"'Multiple NPA 60'!J208","v":0},{"$f":"'Multiple NPA 60'!K208","v":0},{"$f":"'Multiple NPA 60'!K208","v":0},{"$f":"'Multiple NPA 60'!L208","v":0},null,null,null,null,null,null,null,null,null,null,null,null,null,null,null,0,0,806,1]
[{"$f":"'Multiple NPA 60'!A209","v":0},{"$f":"'Multiple NPA 60'!B209","v":0},{"$f":"'Multiple NPA 60'!C209","v":0},{"$f":"'Multiple NPA 60'!D209","v":0},{"$f":"'Multiple NPA 60'!E209","v":"00:00:00"},{"$f":"'Multiple NPA 60'!F209","v":0},{"$f":"'Multiple NPA 60'!G209","v":0},{"$f":"'Multiple NPA 60'!E209","v":"00:00:00"},{"$f":"'Multiple NPA 60'!F209","v":0},{"$f":"'Multiple NPA 60'!G209","v":0},{"$f":"'Multiple NPA 60'!H209","v":0},{"$f":"'Multiple NPA 60'!I209","v":0},{"$f":"'Multiple NPA 60'!J209","v":0},{"$f":"'Multiple NPA 60'!K209","v":0},{"$f":"'Multiple NPA 60'!K209","v":0},{"$f":"'Multiple NPA 60'!L209","v":0},null,null,null,null,null,null,null,null,null,null,null,null,null,null,null,0,0,807,1]
[{"$f":"'Multiple NPA 60'!A210","v":0},{"$f":"'Multiple NPA 60'!B210","v":0},{"$f":"'Multiple NPA 60'!C210","v":0},{"$f":"'Multiple NPA 60'!D210","v":0},{"$f":"'Multiple NPA 60'!E210","v":"00:00:00"},{"$f":"'Multiple NPA 60'!F210","v":0},{"$f":"'Multiple NPA 60'!G210","v":0},{"$f":"'Multiple NPA 60'!E210","v":"00:00:00"},{"$f":"'Multiple NPA 60'!F210","v":0},{"$f":"'Multiple NPA 60'!G210","v":0},{"$f":"'Multiple NPA 60'!H210","v":0},{"$f":"'Multiple NPA 60'!I210","v":0},{"$f":"'Multiple NPA 60'!J210","v":0},{"$f":"'Multiple NPA 60'!K210","v":0},{"$f":"'Multiple NPA 60'!K210","v":0},{"$f":"'Multiple NPA 60'!L210","v":0},null,null,null,null,null,null,null,null,null,null,null,null,null,null,null,0,0,808,1]
[{"$f":"'Multiple NPA 60'!A211","v":0},{"$f":"'Multiple NPA 60'!B211","v":0},{"$f":"'Multiple NPA 60'!C211","v":0},{"$f":"'Multiple NPA 60'!D211","v":0},{"$f":"'Multiple NPA 60'!E211","v":"00:00:00"},{"$f":"'Multiple NPA 60'!F211","v":0},{"$f":"'Multiple NPA 60'!G211","v":0},{"$f":"'Multiple NPA 60'!E211","v":"00:00:00"},{"$f":"'Multiple NPA 60'!F211","v":0},{"$f":"'Multiple NPA 60'!G211","v":0},{"$f":"'Multiple NPA 60'!H211","v":0},{"$f":"'Multiple NPA 60'!I211","v":0},{"$f":"'Multiple NPA 60'!J211","v":0},{"$f":"'Multiple NPA 60'!K211","v":0},{"$f":"'Multiple NPA 60'!K211","v":0},{"$f":"'Multiple NPA 60'!L211","v":0},null,null,null,null,null,null,null,null,null,null,null,null,null,null,null,0,0,809,1]
[{"$f":"'Multiple NPA 60'!A212","v":0},{"$f":"'Multiple NPA 60'!B212","v":0},{"$f":"'Multiple NPA 60'!C212","v":0},{"$f":"'Multiple NPA 60'!D212","v":0},{"$f":"'Multiple NPA 60'!E212","v":"00:00:00"},{"$f":"'Multiple NPA 60'!F212","v":0},{"$f":"'Multiple NPA 60'!G212","v":0},{"$f":"'Multiple NPA 60'!E212","v":"00:00:00"},{"$f":"'Multiple NPA 60'!F212","v":0},{"$f":"'Multiple NPA 60'!G212","v":0},{"$f":"'Multiple NPA 60'!H212","v":0},{"$f":"'Multiple NPA 60'!I212","v":0},{"$f":"'Multiple NPA 60'!J212","v":0},{"$f":"'Multiple NPA 60'!K212","v":0},{"$f":"'Multiple NPA 60'!K212","v":0},{"$f":"'Multiple NPA 60'!L212","v":0},null,null,null,null,null,null,null,null,null,null,null,null,null,null,null,0,0,810,1]
[{"$f":"'Multiple NPA 60'!A213","v":0},{"$f":"'Multiple NPA 60'!B213","v":0},{"$f":"'Multiple NPA 60'!C213","v":0},{"$f":"'Multiple NPA 60'!D213","v":0},{"$f":"'Multiple NPA 60'!E213","v":"00:00:00"},{"$f":"'Multiple NPA 60'!F213","v":0},{"$f":"'Multiple NPA 60'!G213","v":0},{"$f":"'Multiple NPA 60'!E213","v":"00:00:00"},{"$f":"'Multiple NPA 60'!F213","v":0},{"$f":"'Multiple NPA 60'!G213","v":0},{"$f":"'Multiple NPA 60'!H213","v":0},{"$f":"'Multiple NPA 60'!I213","v":0},{"$f":"'Multiple NPA 60'!J213","v":0},{"$f":"'Multiple NPA 60'!K213","v":0},{"$f":"'Multiple NPA 60'!K213","v":0},{"$f":"'Multiple NPA 60'!L213","v":0},null,null,null,null,null,null,null,null,null,null,null,null,null,null,null,0,0,811,1]
[{"$f":"'Multiple NPA 60'!A214","v":0},{"$f":"'Multiple NPA 60'!B214","v":0},{"$f":"'Multiple NPA 60'!C214","v":0},{"$f":"'Multiple NPA 60'!D214","v":0},{"$f":"'Multiple NPA 60'!E214","v":"00:00:00"},{"$f":"'Multiple NPA 60'!F214","v":0},{"$f":"'Multiple NPA 60'!G214","v":0},{"$f":"'Multiple NPA 60'!E214","v":"00:00:00"},{"$f":"'Multiple NPA 60'!F214","v":0},{"$f":"'Multiple NPA 60'!G214","v":0},{"$f":"'Multiple NPA 60'!H214","v":0},{"$f":"'Multiple NPA 60'!I214","v":0},{"$f":"'Multiple NPA 60'!J214","v":0},{"$f":"'Multiple NPA 60'!K214","v":0},{"$f":"'Multiple NPA 60'!K214","v":0},{"$f":"'Multiple NPA 60'!L214","v":0},null,null,null,null,null,null,null,null,null,null,null,null,null,null,null,0,0,812,1]
[{"$f":"'Multiple NPA 60'!A215","v":0},{"$f":"'Multiple NPA 60'!B215","v":0},{"$f":"'Multiple NPA 60'!C215","v":0},{"$f":"'Multiple NPA 60'!D215","v":0},{"$f":"'Multiple NPA 60'!E215","v":"00:00:00"},{"$f":"'Multiple NPA 60'!F215","v":0},{"$f":"'Multiple NPA 60'!G215","v":0},{"$f":"'Multiple NPA 60'!E215","v":"00:00:00"},{"$f":"'Multiple NPA 60'!F215","v":0},{"$f":"'Multiple NPA 60'!G215","v":0},{"$f":"'Multiple NPA 60'!H215","v":0},{"$f":"'Multiple NPA 60'!I215","v":0},{"$f":"'Multiple NPA 60'!J215","v":0},{"$f":"'Multiple NPA 60'!K215","v":0},{"$f":"'Multiple NPA 60'!K215","v":0},{"$f":"'Multiple NPA 60'!L215","v":0},null,null,null,null,null,null,null,null,null,null,null,null,null,null,null,0,0,813,1]
[{"$f":"'Multiple NPA 60'!A216","v":0},{"$f":"'Multiple NPA 60'!B216","v":0},{"$f":"'Multiple NPA 60'!C216","v":0},{"$f":"'Multiple NPA 60'!D216","v":0},{"$f":"'Multiple NPA 60'!E216","v":"00:00:00"},{"$f":"'Multiple NPA 60'!F216","v":0},{"$f":"'Multiple NPA 60'!G216","v":0},{"$f":"'Multiple NPA 60'!E216","v":"00:00:00"},{"$f":"'Multiple NPA 60'!F216","v":0},{"$f":"'Multiple NPA 60'!G216","v":0},{"$f":"'Multiple NPA 60'!H216","v":0},{"$f":"'Multiple NPA 60'!I216","v":0},{"$f":"'Multiple NPA 60'!J216","v":0},{"$f":"'Multiple NPA 60'!K216","v":0},{"$f":"'Multiple NPA 60'!K216","v":0},{"$f":"'Multiple NPA 60'!L216","v":0},null,null,null,null,null,null,null,null,null,null,null,null,null,null,null,0,0,814,1]
[{"$f":"'Multiple NPA 60'!A217","v":0},{"$f":"'Multiple NPA 60'!B217","v":0},{"$f":"'Multiple NPA 60'!C217","v":0},{"$f":"'Multiple NPA 60'!D217","v":0},{"$f":"'Multiple NPA 60'!E217","v":"00:00:00"},{"$f":"'Multiple NPA 60'!F217","v":0},{"$f":"'Multiple NPA 60'!G217","v":0},{"$f":"'Multiple NPA 60'!E217","v":"00:00:00"},{"$f":"'Multiple NPA 60'!F217","v":0},{"$f":"'Multiple NPA 60'!G217","v":0},{"$f":"'Multiple NPA 60'!H217","v":0},{"$f":"'Multiple NPA 60'!I217","v":0},{"$f":"'Multiple NPA 60'!J217","v":0},{"$f":"'Multiple NPA 60'!K217","v":0},{"$f":"'Multiple NPA 60'!K217","v":0},{"$f":"'Multiple NPA 60'!L217","v":0},null,null,null,null,null,null,null,null,null,null,null,null,null,null,null,0,0,815,1]
[{"$f":"'Multiple NPA 60'!A218","v":0},{"$f":"'Multiple NPA 60'!B218","v":0},{"$f":"'Multiple NPA 60'!C218","v":0},{"$f":"'Multiple NPA 60'!D218","v":0},{"$f":"'Multiple NPA 60'!E218","v":"00:00:00"},{"$f":"'Multiple NPA 60'!F218","v":0},{"$f":"'Multiple NPA 60'!G218","v":0},{"$f":"'Multiple NPA 60'!E218","v":"00:00:00"},{"$f":"'Multiple NPA 60'!F218","v":0},{"$f":"'Multiple NPA 60'!G218","v":0},{"$f":"'Multiple NPA 60'!H218","v":0},{"$f":"'Multiple NPA 60'!I218","v":0},{"$f":"'Multiple NPA 60'!J218","v":0},{"$f":"'Multiple NPA 60'!K218","v":0},{"$f":"'Multiple NPA 60'!K218","v":0},{"$f":"'Multiple NPA 60'!L218","v":0},null,null,null,null,null,null,null,null,null,null,null,null,null,null,null,0,0,816,1]
[{"$f":"'Multiple NPA 60'!A219","v":0},{"$f":"'Multiple NPA 60'!B219","v":0},{"$f":"'Multiple NPA 60'!C219","v":0},{"$f":"'Multiple NPA 60'!D219","v":0},{"$f":"'Multiple NPA 60'!E219","v":"00:00:00"},{"$f":"'Multiple NPA 60'!F219","v":0},{"$f":"'Multiple NPA 60'!G219","v":0},{"$f":"'Multiple NPA 60'!E219","v":"00:00:00"},{"$f":"'Multiple NPA 60'!F219","v":0},{"$f":"'Multiple NPA 60'!G219","v":0},{"$f":"'Multiple NPA 60'!H219","v":0},{"$f":"'Multiple NPA 60'!I219","v":0},{"$f":"'Multiple NPA 60'!J219","v":0},{"$f":"'Multiple NPA 60'!K219","v":0},{"$f":"'Multiple NPA 60'!K219","v":0},{"$f":"'Multiple NPA 60'!L219","v":0},null,null,null,null,null,null,null,null,null,null,null,null,null,null,null,0,0,817,1]
[{"$f":"'Multiple NPA 60'!A220","v":0},{"$f":"'Multiple NPA 60'!B220","v":0},{"$f":"'Multiple NPA 60'!C220","v":0},{"$f":"'Multiple NPA 60'!D220","v":0},{"$f":"'Multiple NPA 60'!E220","v":"00:00:00"},{"$f":"'Multiple NPA 60'!F220","v":0},{"$f":"'Multiple NPA 60'!G220","v":0},{"$f":"'Multiple NPA 60'!E220","v":"00:00:00"},{"$f":"'Multiple NPA 60'!F220","v":0},{"$f":"'Multiple NPA 60'!G220","v":0},{"$f":"'Multiple NPA 60'!H220","v":0},{"$f":"'Multiple NPA 60'!I220","v":0},{"$f":"'Multiple NPA 60'!J220","v":0},{"$f":"'Multiple NPA 60'!K220","v":0},{"$f":"'Multiple NPA 60'!K220","v":0},{"$f":"'Multiple NPA 60'!L220","v":0},null,null,null,null,null,null,null,null,null,null,null,null,null,null,null,0,0,818,1]
[{"$f":"'Multiple NPA 60'!A221","v":0},{"$f":"'Multiple NPA 60'!B221","v":0},{"$f":"'Multiple NPA 60'!C221","v":0},{"$f":"'Multiple NPA 60'!D221","v":0},{"$f":"'Multiple NPA 60'!E221","v":"00:00:00"},{"$f":"'Multiple NPA 60'!F221","v":0},{"$f":"'Multiple NPA 60'!G221","v":0},{"$f":"'Multiple NPA 60'!E221","v":"00:00:00"},{"$f":"'Multiple NPA 60'!F221","v":0},{"$f":"'Multiple NPA 60'!G221","v":0},{"$f":"'Multiple NPA 60'!H221","v":0},{"$f":"'Multiple NPA 60'!I221","v":0},{"$f":"'Multiple NPA 60'!J221","v":0},{"$f":"'Multiple NPA 60'!K221","v":0},{"$f":"'Multiple NPA 60'!K221","v":0},{"$f":"'Multiple NPA 60'!L221","v":0},null,null,null,null,null,null,null,null,null,null,null,null,null,null,null,0,0,819,1]
[{"$f":"'Multiple NPA 60'!A222","v":0},{"$f":"'Multiple NPA 60'!B222","v":0},{"$f":"'Multiple NPA 60'!C222","v":0},{"$f":"'Multiple NPA 60'!D222","v":0},{"$f":"'Multiple NPA 60'!E222","v":"00:00:00"},{"$f":"'Multiple NPA 60'!F222","v":0},{"$f":"'Multiple NPA 60'!G222","v":0},{"$f":"'Multiple NPA 60'!E222","v":"00:00:00"},{"$f":"'Multiple NPA 60'!F222","v":0},{"$f":"'Multiple NPA 60'!G222","v":0},{"$f":"'Multiple NPA 60'!H222","v":0},{"$f":"'Multiple NPA 60'!I222","v":0},{"$f":"'Multiple NPA 60'!J222","v":0},{"$f":"'Multiple NPA 60'!K222","v":0},{"$f":"'Multiple NPA 60'!K222","v":0},{"$f":"'Multiple NPA 60'!L222","v":0},null,null,null,null,null,null,null,null,null,null,null,null,null,null,null,0,0,820,1]
[{"$f":"'Multiple NPA 60'!A223","v":0},{"$f":"'Multiple NPA 60'!B223","v":0},{"$f":"'Multiple NPA 60'!C223","v":0},{"$f":"'Multiple NPA 60'!D223","v":0},{"$f":"'Multiple NPA 60'!E223","v":"00:00:00"},{"$f":"'Multiple NPA 60'!F223","v":0},{"$f":"'Multiple NPA 60'!G223","v":0},{"$f":"'Multiple NPA 60'!E223","v":"00:00:00"},{"$f":"'Multiple NPA 60'!F223","v":0},{"$f":"'Multiple NPA 60'!G223","v":0},{"$f":"'Multiple NPA 60'!H223","v":0},{"$f":"'Multiple NPA 60'!I223","v":0},{"$f":"'Multiple NPA 60'!J223","v":0},{"$f":"'Multiple NPA 60'!K223","v":0},{"$f":"'Multiple NPA 60'!K223","v":0},{"$f":"'Multiple NPA 60'!L223","v":0},null,null,null,null,null,null,null,null,null,null,null,null,null,null,null,0,0,821,1]
[{"$f":"'Multiple NPA 60'!A224","v":0},{"$f":"'Multiple NPA 60'!B224","v":0},{"$f":"'Multiple NPA 60'!C224","v":0},{"$f":"'Multiple NPA 60'!D224","v":0},{"$f":"'Multiple NPA 60'!E224","v":"00:00:00"},{"$f":"'Multiple NPA 60'!F224","v":0},{"$f":"'Multiple NPA 60'!G224","v":0},{"$f":"'Multiple NPA 60'!E224","v":"00:00:00"},{"$f":"'Multiple NPA 60'!F224","v":0},{"$f":"'Multiple NPA 60'!G224","v":0},{"$f":"'Multiple NPA 60'!H224","v":0},{"$f":"'Multiple NPA 60'!I224","v":0},{"$f":"'Multiple NPA 60'!J224","v":0},{"$f":"'Multiple NPA 60'!K224","v":0},{"$f":"'Multiple NPA 60'!K224","v":0},{"$f":"'Multiple NPA 60'!L224","v":0},null,null,null,null,null,null,null,null,null,null,null,null,null,null,null,0,0,822,1]
[{"$f":"'Multiple NPA 60'!A225","v":0},{"$f":"'Multiple NPA 60'!B225","v":0},{"$f":"'Multiple NPA 60'!C225","v":0},{"$f":"'Multiple NPA 60'!D225","v":0},{"$f":"'Multiple NPA 60'!E225","v":"00:00:00"},{"$f":"'Multiple NPA 60'!F225","v":0},{"$f":"'Multiple NPA 60'!G225","v":0},{"$f":"'Multiple NPA 60'!E225","v":"00:00:00"},{"$f":"'Multiple NPA 60'!F225","v":0},{"$f":"'Multiple NPA 60'!G225","v":0},{"$f":"'Multiple NPA 60'!H225","v":0},{"$f":"'Multiple NPA 60'!I225","v":0},{"$f":"'Multiple NPA 60'!J225","v":0},{"$f":"'Multiple NPA 60'!K225","v":0},{"$f":"'Multiple NPA 60'!K225","v":0},{"$f":"'Multiple NPA 60'!L225","v":0},null,null,null,null,null,null,null,null,null,null,null,null,null,null,null,0,0,823,1]
[{"$f":"'Multiple NPA 60'!A226","v":0},{"$f":"'Multiple NPA 60'!B226","v":0},{"$f":"'Multiple NPA 60'!C226","v":0},{"$f":"'Multiple NPA 60'!D226","v":0},{"$f":"'Multiple NPA 60'!E226","v":"00:00:00"},{"$f":"'Multiple NPA 60'!F226","v":0},{"$f":"'Multiple NPA 60'!G226","v":0},{"$f":"'Multiple NPA 60'!E226","v":"00:00:00"},{"$f":"'Multiple NPA 60'!F226","v":0},{"$f":"'Multiple NPA 60'!G226","v":0},{"$f":"'Multiple NPA 60'!H226","v":0},{"$f":"'Multiple NPA 60'!I226","v":0},{"$f":"'Multiple NPA 60'!J226","v":0},{"$f":"'Multiple NPA 60'!K226","v":0},{"$f":"'Multiple NPA 60'!K226","v":0},{"$f":"'Multiple NPA 60'!L226","v":0},null,null,null,null,null,null,null,null,null,null,null,null,null,null,null,0,0,824,1]
[{"$f":"'Multiple NPA 60'!A227","v":0},{"$f":"'Multiple NPA 60'!B227","v":0},{"$f":"'Multiple NPA 60'!C227","v":0},{"$f":"'Multiple NPA 60'!D227","v":0},{"$f":"'Multiple NPA 60'!E227","v":"00:00:00"},{"$f":"'Multiple NPA 60'!F227","v":0},{"$f":"'Multiple NPA 60'!G227","v":0},{"$f":"'Multiple NPA 60'!E227","v":"00:00:00"},{"$f":"'Multiple NPA 60'!F227","v":0},{"$f":"'Multiple NPA 60'!G227","v":0},{"$f":"'Multiple NPA 60'!H227","v":0},{"$f":"'Multiple NPA 60'!I227","v":0},{"$f":"'Multiple NPA 60'!J227","v":0},{"$f":"'Multiple NPA 60'!K227","v":0},{"$f":"'Multiple NPA 60'!K227","v":0},{"$f":"'Multiple NPA 60'!L227","v":0},null,null,null,null,null,null,null,null,null,null,null,null,null,null,null,0,0,825,1]
[{"$f":"'Multiple NPA 60'!A228","v":0},{"$f":"'Multiple NPA 60'!B228","v":0},{"$f":"'Multiple NPA 60'!C228","v":0},{"$f":"'Multiple NPA 60'!D228","v":0},{"$f":"'Multiple NPA 60'!E228","v":"00:00:00"},{"$f":"'Multiple NPA 60'!F228","v":0},{"$f":"'Multiple NPA 60'!G228","v":0},{"$f":"'Multiple NPA 60'!E228","v":"00:00:00"},{"$f":"'Multiple NPA 60'!F228","v":0},{"$f":"'Multiple NPA 60'!G228","v":0},{"$f":"'Multiple NPA 60'!H228","v":0},{"$f":"'Multiple NPA 60'!I228","v":0},{"$f":"'Multiple NPA 60'!J228","v":0},{"$f":"'Multiple NPA 60'!K228","v":0},{"$f":"'Multiple NPA 60'!K228","v":0},{"$f":"'Multiple NPA 60'!L228","v":0},null,null,null,null,null,null,null,null,null,null,null,null,null,null,null,0,0,826,1]
[{"$f":"'Multiple NPA 60'!A229","v":0},{"$f":"'Multiple NPA 60'!B229","v":0},{"$f":"'Multiple NPA 60'!C229","v":0},{"$f":"'Multiple NPA 60'!D229","v":0},{"$f":"'Multiple NPA 60'!E229","v":"00:00:00"},{"$f":"'Multiple NPA 60'!F229","v":0},{"$f":"'Multiple NPA 60'!G229","v":0},{"$f":"'Multiple NPA 60'!E229","v":"00:00:00"},{"$f":"'Multiple NPA 60'!F229","v":0},{"$f":"'Multiple NPA 60'!G229","v":0},{"$f":"'Multiple NPA 60'!H229","v":0},{"$f":"'Multiple NPA 60'!I229","v":0},{"$f":"'Multiple NPA 60'!J229","v":0},{"$f":"'Multiple NPA 60'!K229","v":0},{"$f":"'Multiple NPA 60'!K229","v":0},{"$f":"'Multiple NPA 60'!L229","v":0},null,null,null,null,null,null,null,null,null,null,null,null,null,null,null,0,0,827,1]
[{"$f":"'Multiple NPA 60'!A230","v":0},{"$f":"'Multiple NPA 60'!B230","v":0},{"$f":"'Multiple NPA 60'!C230","v":0},{"$f":"'Multiple NPA 60'!D230","v":0},{"$f":"'Multiple NPA 60'!E230","v":"00:00:00"},{"$f":"'Multiple NPA 60'!F230","v":0},{"$f":"'Multiple NPA 60'!G230","v":0},{"$f":"'Multiple NPA 60'!E230","v":"00:00:00"},{"$f":"'Multiple NPA 60'!F230","v":0},{"$f":"'Multiple NPA 60'!G230","v":0},{"$f":"'Multiple NPA 60'!H230","v":0},{"$f":"'Multiple NPA 60'!I230","v":0},{"$f":"'Multiple NPA 60'!J230","v":0},{"$f":"'Multiple NPA 60'!K230","v":0},{"$f":"'Multiple NPA 60'!K230","v":0},{"$f":"'Multiple NPA 60'!L230","v":0},null,null,null,null,null,null,null,null,null,null,null,null,null,null,null,0,0,828,1]
[{"$f":"'Multiple NPA 60'!A231","v":0},{"$f":"'Multiple NPA 60'!B231","v":0},{"$f":"'Multiple NPA 60'!C231","v":0},{"$f":"'Multiple NPA 60'!D231","v":0},{"$f":"'Multiple NPA 60'!E231","v":"00:00:00"},{"$f":"'Multiple NPA 60'!F231","v":0},{"$f":"'Multiple NPA 60'!G231","v":0},{"$f":"'Multiple NPA 60'!E231","v":"00:00:00"},{"$f":"'Multiple NPA 60'!F231","v":0},{"$f":"'Multiple NPA 60'!G231","v":0},{"$f":"'Multiple NPA 60'!H231","v":0},{"$f":"'Multiple NPA 60'!I231","v":0},{"$f":"'Multiple NPA 60'!J231","v":0},{"$f":"'Multiple NPA 60'!K231","v":0},{"$f":"'Multiple NPA 60'!K231","v":0},{"$f":"'Multiple NPA 60'!L231","v":0},null,null,null,null,null,null,null,null,null,null,null,null,null,null,null,0,0,829,1]
[{"$f":"'Multiple NPA 60'!A232","v":0},{"$f":"'Multiple NPA 60'!B232","v":0},{"$f":"'Multiple NPA 60'!C232","v":0},{"$f":"'Multiple NPA 60'!D232","v":0},{"$f":"'Multiple NPA 60'!E232","v":"00:00:00"},{"$f":"'Multiple NPA 60'!F232","v":0},{"$f":"'Multiple NPA 60'!G232","v":0},{"$f":"'Multiple NPA 60'!E232","v":"00:00:00"},{"$f":"'Multiple NPA 60'!F232","v":0},{"$f":"'Multiple NPA 60'!G232","v":0},{"$f":"'Multiple NPA 60'!H232","v":0},{"$f":"'Multiple NPA 60'!I232","v":0},{"$f":"'Multiple NPA 60'!J232","v":0},{"$f":"'Multiple NPA 60'!K232","v":0},{"$f":"'Multiple NPA 60'!K232","v":0},{"$f":"'Multiple NPA 60'!L232","v":0},null,null,null,null,null,null,null,null,null,null,null,null,null,null,null,0,0,830,1]
[{"$f":"'Multiple NPA 60'!A233","v":0},{"$f":"'Multiple NPA 60'!B233","v":0},{"$f":"'Multiple NPA 60'!C233","v":0},{"$f":"'Multiple NPA 60'!D233","v":0},{"$f":"'Multiple NPA 60'!E233","v":"00:00:00"},{"$f":"'Multiple NPA 60'!F233","v":0},{"$f":"'Multiple NPA 60'!G233","v":0},{"$f":"'Multiple NPA 60'!E233","v":"00:00:00"},{"$f":"'Multiple NPA 60'!F233","v":0},{"$f":"'Multiple NPA 60'!G233","v":0},{"$f":"'Multiple NPA 60'!H233","v":0},{"$f":"'Multiple NPA 60'!I233","v":0},{"$f":"'Multiple NPA 60'!J233","v":0},{"$f":"'Multiple NPA 60'!K233","v":0},{"$f":"'Multiple NPA 60'!K233","v":0},{"$f":"'Multiple NPA 60'!L233","v":0},null,null,null,null,null,null,null,null,null,null,null,null,null,null,null,0,0,831,1]
[{"$f":"'Multiple NPA 60'!A234","v":0},{"$f":"'Multiple NPA 60'!B234","v":0},{"$f":"'Multiple NPA 60'!C234","v":0},{"$f":"'Multiple NPA 60'!D234","v":0},{"$f":"'Multiple NPA 60'!E234","v":"00:00:00"},{"$f":"'Multiple NPA 60'!F234","v":0},{"$f":"'Multiple NPA 60'!G234","v":0},{"$f":"'Multiple NPA 60'!E234","v":"00:00:00"},{"$f":"'Multiple NPA 60'!F234","v":0},{"$f":"'Multiple NPA 60'!G234","v":0},{"$f":"'Multiple NPA 60'!H234","v":0},{"$f":"'Multiple NPA 60'!I234","v":0},{"$f":"'Multiple NPA 60'!J234","v":0},{"$f":"'Multiple NPA 60'!K234","v":0},{"$f":"'Multiple NPA 60'!K234","v":0},{"$f":"'Multiple NPA 60'!L234","v":0},null,null,null,null,null,null,null,null,null,null,null,null,null,null,null,0,0,832,1]
[{"$f":"'Multiple NPA 60'!A235","v":0},{"$f":"'Multiple NPA 60'!B235","v":0},{"$f":"'Multiple NPA 60'!C235","v":0},{"$f":"'Multiple NPA 60'!D235","v":0},{"$f":"'Multiple NPA 60'!E235","v":"00:00:00"},{"$f":"'Multiple NPA 60'!F235","v":0},{"$f":"'Multiple NPA 60'!G235","v":0},{"$f":"'Multiple NPA 60'!E235","v":"00:00:00"},{"$f":"'Multiple NPA 60'!F235","v":0},{"$f":"'Multiple NPA 60'!G235","v":0},{"$f":"'Multiple NPA 60'!H235","v":0},{"$f":"'Multiple NPA 60'!I235","v":0},{"$f":"'Multiple NPA 60'!J235","v":0},{"$f":"'Multiple NPA 60'!K235","v":0},{"$f":"'Multiple NPA 60'!K235","v":0},{"$f":"'Multiple NPA 60'!L235","v":0},null,null,null,null,null,null,null,null,null,null,null,null,null,null,null,0,0,833,1]
[{"$f":"'Multiple NPA 60'!A236","v":0},{"$f":"'Multiple NPA 60'!B236","v":0},{"$f":"'Multiple NPA 60'!C236","v":0},{"$f":"'Multiple NPA 60'!D236","v":0},{"$f":"'Multiple NPA 60'!E236","v":"00:00:00"},{"$f":"'Multiple NPA 60'!F236","v":0},{"$f":"'Multiple NPA 60'!G236","v":0},{"$f":"'Multiple NPA 60'!E236","v":"00:00:00"},{"$f":"'Multiple NPA 60'!F236","v":0},{"$f":"'Multiple NPA 60'!G236","v":0},{"$f":"'Multiple NPA 60'!H236","v":0},{"$f":"'Multiple NPA 60'!I236","v":0},{"$f":"'Multiple NPA 60'!J236","v":0},{"$f":"'Multiple NPA 60'!K236","v":0},{"$f":"'Multiple NPA 60'!K236","v":0},{"$f":"'Multiple NPA 60'!L236","v":0},null,null,null,null,null,null,null,null,null,null,null,null,null,null,null,0,0,834,1]
[{"$f":"'Multiple NPA 60'!A237","v":0},{"$f":"'Multiple NPA 60'!B237","v":0},{"$f":"'Multiple NPA 60'!C237","v":0},{"$f":"'Multiple NPA 60'!D237","v":0},{"$f":"'Multiple NPA 60'!E237","v":"00:00:00"},{"$f":"'Multiple NPA 60'!F237","v":0},{"$f":"'Multiple NPA 60'!G237","v":0},{"$f":"'Multiple NPA 60'!E237","v":"00:00:00"},{"$f":"'Multiple NPA 60'!F237","v":0},{"$f":"'Multiple NPA 60'!G237","v":0},{"$f":"'Multiple NPA 60'!H237","v":0},{"$f":"'Multiple NPA 60'!I237","v":0},{"$f":"'Multiple NPA 60'!J237","v":0},{"$f":"'Multiple NPA 60'!K237","v":0},{"$f":"'Multiple NPA 60'!K237","v":0},{"$f":"'Multiple NPA 60'!L237","v":0},null,null,null,null,null,null,null,null,null,null,null,null,null,null,null,0,0,835,1]
[{"$f":"'Multiple NPA 60'!A238","v":0},{"$f":"'Multiple NPA 60'!B238","v":0},{"$f":"'Multiple NPA 60'!C238","v":0},{"$f":"'Multiple NPA 60'!D238","v":0},{"$f":"'Multiple NPA 60'!E238","v":"00:00:00"},{"$f":"'Multiple NPA 60'!F238","v":0},{"$f":"'Multiple NPA 60'!G238","v":0},{"$f":"'Multiple NPA 60'!E238","v":"00:00:00"},{"$f":"'Multiple NPA 60'!F238","v":0},{"$f":"'Multiple NPA 60'!G238","v":0},{"$f":"'Multiple NPA 60'!H238","v":0},{"$f":"'Multiple NPA 60'!I238","v":0},{"$f":"'Multiple NPA 60'!J238","v":0},{"$f":"'Multiple NPA 60'!K238","v":0},{"$f":"'Multiple NPA 60'!K238","v":0},{"$f":"'Multiple NPA 60'!L238","v":0},null,null,null,null,null,null,null,null,null,null,null,null,null,null,null,0,0,836,1]
[{"$f":"'Multiple NPA 60'!A239","v":0},{"$f":"'Multiple NPA 60'!B239","v":0},{"$f":"'Multiple NPA 60'!C239","v":0},{"$f":"'Multiple NPA 60'!D239","v":0},{"$f":"'Multiple NPA 60'!E239","v":"00:00:00"},{"$f":"'Multiple NPA 60'!F239","v":0},{"$f":"'Multiple NPA 60'!G239","v":0},{"$f":"'Multiple NPA 60'!E239","v":"00:00:00"},{"$f":"'Multiple NPA 60'!F239","v":0},{"$f":"'Multiple NPA 60'!G239","v":0},{"$f":"'Multiple NPA 60'!H239","v":0},{"$f":"'Multiple NPA 60'!I239","v":0},{"$f":"'Multiple NPA 60'!J239","v":0},{"$f":"'Multiple NPA 60'!K239","v":0},{"$f":"'Multiple NPA 60'!K239","v":0},{"$f":"'Multiple NPA 60'!L239","v":0},null,null,null,null,null,null,null,null,null,null,null,null,null,null,null,0,0,837,1]
[{"$f":"'Multiple NPA 60'!A240","v":0},{"$f":"'Multiple NPA 60'!B240","v":0},{"$f":"'Multiple NPA 60'!C240","v":0},{"$f":"'Multiple NPA 60'!D240","v":0},{"$f":"'Multiple NPA 60'!E240","v":"00:00:00"},{"$f":"'Multiple NPA 60'!F240","v":0},{"$f":"'Multiple NPA 60'!G240","v":0},{"$f":"'Multiple NPA 60'!E240","v":"00:00:00"},{"$f":"'Multiple NPA 60'!F240","v":0},{"$f":"'Multiple NPA 60'!G240","v":0},{"$f":"'Multiple NPA 60'!H240","v":0},{"$f":"'Multiple NPA 60'!I240","v":0},{"$f":"'Multiple NPA 60'!J240","v":0},{"$f":"'Multiple NPA 60'!K240","v":0},{"$f":"'Multiple NPA 60'!K240","v":0},{"$f":"'Multiple NPA 60'!L240","v":0},null,null,null,null,null,null,null,null,null,null,null,null,null,null,null,0,0,838,1]
[{"$f":"'Multiple NPA 60'!A241","v":0},{"$f":"'Multiple NPA 60'!B241","v":0},{"$f":"'Multiple NPA 60'!C241","v":0},{"$f":"'Multiple NPA 60'!D241","v":0},null,null,null,{"$f":"'Multiple NPA 60'!E241","v":"00:00:00"},{"$f":"'Multiple NPA 60'!F241","v":0},{"$f":"'Multiple NPA 60'!G241","v":0},{"$f":"'Multiple NPA 60'!H241","v":0},{"$f":"'Multiple NPA 60'!I241","v":0},{"$f":"'Multiple NPA 60'!J241","v":0},{"$f":"'Multiple NPA 60'!K241","v":0},{"$f":"'Multiple NPA 60'!K241","v":0},{"$f":"'Multiple NPA 60'!L241","v":0},null,null,null,null,null,null,null,null,null,null,null,null,null,null,null,0,0,839,1]
[{"$f":"'Multiple NPA 60'!A242","v":0},{"$f":"'Multiple NPA 60'!B242","v":0},{"$f":"'Multiple NPA 60'!C242","v":0},{"$f":"'Multiple NPA 60'!D242","v":0},null,null,null,{"$f":"'Multiple NPA 60'!E242","v":"00:00:00"},{"$f":"'Multiple NPA 60'!F242","v":0},{"$f":"'Multiple NPA 60'!G242","v":0},{"$f":"'Multiple NPA 60'!H242","v":0},{"$f":"'Multiple NPA 60'!I242","v":0},{"$f":"'Multiple NPA 60'!J242","v":0},{"$f":"'Multiple NPA 60'!K242","v":0},{"$f":"'Multiple NPA 60'!K242","v":0},{"$f":"'Multiple NPA 60'!L242","v":0},null,null,null,null,null,null,null,null,null,null,null,null,null,null,null,0,0,840,1]
[{"$f":"'Multiple NPA 60'!A243","v":0},{"$f":"'Multiple NPA 60'!B243","v":0},{"$f":"'Multiple NPA 60'!C243","v":0},{"$f":"'Multiple NPA 60'!D243","v":0},null,null,null,{"$f":"'Multiple NPA 60'!E243","v":"00:00:00"},{"$f":"'Multiple NPA 60'!F243","v":0},{"$f":"'Multiple NPA 60'!G243","v":0},{"$f":"'Multiple NPA 60'!H243","v":0},{"$f":"'Multiple NPA 60'!I243","v":0},{"$f":"'Multiple NPA 60'!J243","v":0},{"$f":"'Multiple NPA 60'!K243","v":0},{"$f":"'Multiple NPA 60'!K243","v":0},{"$f":"'Multiple NPA 60'!L243","v":0},null,null,null,null,null,null,null,null,null,null,null,null,null,null,null,0,0]
[{"$f":"'Multiple NPA 60'!A244","v":0},{"$f":"'Multiple NPA 60'!B244","v":0},{"$f":"'Multiple NPA 60'!C244","v":0},{"$f":"'Multiple NPA 60'!D244","v":0},null,null,null,{"$f":"'Multiple NPA 60'!E244","v":"00:00:00"},{"$f":"'Multiple NPA 60'!F244","v":0},{"$f":"'Multiple NPA 60'!G244","v":0},{"$f":"'Multiple NPA 60'!H244","v":0},{"$f":"'Multiple NPA 60'!I244","v":0},{"$f":"'Multiple NPA 60'!J244","v":0},{"$f":"'Multiple NPA 60'!K244","v":0},{"$f":"'Multiple NPA 60'!K244","v":0},{"$f":"'Multiple NPA 60'!L244","v":0},null,null,null,null,null,null,null,null,null,null,null,null,null,null,null,0,0]
[{"$f":"'Multiple NPA 60'!A245","v":0},{"$f":"'Multiple NPA 60'!B245","v":0},{"$f":"'Multiple NPA 60'!C245","v":0},{"$f":"'Multiple NPA 60'!D245","v":0},null,null,null,{"$f":"'Multiple NPA 60'!E245","v":"00:00:00"},{"$f":"'Multiple NPA 60'!F245","v":0},{"$f":"'Multiple NPA 60'!G245","v":0},{"$f":"'Multiple NPA 60'!H245","v":0},{"$f":"'Multiple NPA 60'!I245","v":0},{"$f":"'Multiple NPA 60'!J245","v":0},{"$f":"'Multiple NPA 60'!K245","v":0},{"$f":"'Multiple NPA 60'!K245","v":0},{"$f":"'Multiple NPA 60'!L245","v":0},null,null,null,null,null,null,null,null,null,null,null,null,null,null,null,0,0]
[{"$f":"'Multiple NPA 60'!A246","v":0},{"$f":"'Multiple NPA 60'!B246","v":0},{"$f":"'Multiple NPA 60'!C246","v":0},{"$f":"'Multiple NPA 60'!D246","v":0},null,null,null,{"$f":"'Multiple NPA 60'!E246","v":"00:00:00"},{"$f":"'Multiple NPA 60'!F246","v":0},{"$f":"'Multiple NPA 60'!G246","v":0},{"$f":"'Multiple NPA 60'!H246","v":0},{"$f":"'Multiple NPA 60'!I246","v":0},{"$f":"'Multiple NPA 60'!J246","v":0},{"$f":"'Multiple NPA 60'!K246","v":0},{"$f":"'Multiple NPA 60'!K246","v":0},{"$f":"'Multiple NPA 60'!L246","v":0},null,null,null,null,null,null,null,null,null,null,null,null,null,null,null,0,0]
[{"$f":"'Multiple NPA 60'!A247","v":0},{"$f":"'Multiple NPA 60'!B247","v":0},{"$f":"'Multiple NPA 60'!C247","v":0},{"$f":"'Multiple NPA 60'!D247","v":0},null,null,null,{"$f":"'Multiple NPA 60'!E247","v":"00:00:00"},{"$f":"'Multiple NPA 60'!F247","v":0},{"$f":"'Multiple NPA 60'!G247","v":0},{"$f":"'Multiple NPA 60'!H247","v":0},{"$f":"'Multiple NPA 60'!I247","v":0},{"$f":"'Multiple NPA 60'!J247","v":0},{"$f":"'Multiple NPA 60'!K247","v":0},{"$f":"'Multiple NPA 60'!K247","v":0},{"$f":"'Multiple NPA 60'!L247","v":0},null,null,null,null,null,null,null,null,null,null,null,null,null,null,null,0,0]
[{"$f":"'Multiple NPA 60'!A248","v":0},{"$f":"'Multiple NPA 60'!B248","v":0},{"$f":"'Multiple NPA 60'!C248","v":0},{"$f":"'Multiple NPA 60'!D248","v":0},null,null,null,{"$f":"'Multiple NPA 60'!E248","v":"00:00:00"},{"$f":"'Multiple NPA 60'!F248","v":0},{"$f":"'Multiple NPA 60'!G248","v":0},{"$f":"'Multiple NPA 60'!H248","v":0},{"$f":"'Multiple NPA 60'!I248","v":0},{"$f":"'Multiple NPA 60'!J248","v":0},{"$f":"'Multiple NPA 60'!K248","v":0},{"$f":"'Multiple NPA 60'!K248","v":0},{"$f":"'Multiple NPA 60'!L248","v":0},null,null,null,null,null,null,null,null,null,null,null,null,null,null,null,0,0]
[{"$f":"'Multiple NPA 60'!A249","v":0},{"$f":"'Multiple NPA 60'!B249","v":0},{"$f":"'Multiple NPA 60'!C249","v":0},{"$f":"'Multiple NPA 60'!D249","v":0},null,null,null,{"$f":"'Multiple NPA 60'!E249","v":"00:00:00"},{"$f":"'Multiple NPA 60'!F249","v":0},{"$f":"'Multiple NPA 60'!G249","v":0},{"$f":"'Multiple NPA 60'!H249","v":0},{"$f":"'Multiple NPA 60'!I249","v":0},{"$f":"'Multiple NPA 60'!J249","v":0},{"$f":"'Multiple NPA 60'!K249","v":0},{"$f":"'Multiple NPA 60'!K249","v":0},{"$f":"'Multiple NPA 60'!L249","v":0},null,null,null,null,null,null,null,null,null,null,null,null,null,null,null,0,0]
[{"$f":"'Multiple NPA 60'!A250","v":0},{"$f":"'Multiple NPA 60'!B250","v":0},{"$f":"'Multiple NPA 60'!C250","v":0},{"$f":"'Multiple NPA 60'!D250","v":0},null,null,null,{"$f":"'Multiple NPA 60'!E250","v":"00:00:00"},{"$f":"'Multiple NPA 60'!F250","v":0},{"$f":"'Multiple NPA 60'!G250","v":0},{"$f":"'Multiple NPA 60'!H250","v":0},{"$f":"'Multiple NPA 60'!I250","v":0},{"$f":"'Multiple NPA 60'!J250","v":0},{"$f":"'Multiple NPA 60'!K250","v":0},{"$f":"'Multiple NPA 60'!K250","v":0},{"$f":"'Multiple NPA 60'!L250","v":0},null,null,null,null,null,null,null,null,null,null,null,null,null,null,null,0,0]
[{"$f":"'Multiple NPA 60'!A251","v":0},{"$f":"'Multiple NPA 60'!B251","v":0},{"$f":"'Multiple NPA 60'!C251","v":0},{"$f":"'Multiple NPA 60'!D251","v":0},null,null,null,{"$f":"'Multiple NPA 60'!E251","v":"00:00:00"},{"$f":"'Multiple NPA 60'!F251","v":0},{"$f":"'Multiple NPA 60'!G251","v":0},{"$f":"'Multiple NPA 60'!H251","v":0},{"$f":"'Multiple NPA 60'!I251","v":0},{"$f":"'Multiple NPA 60'!J251","v":0},{"$f":"'Multiple NPA 60'!K251","v":0},{"$f":"'Multiple NPA 60'!K251","v":0},{"$f":"'Multiple NPA 60'!L251","v":0},null,null,null,null,null,null,null,null,null,null,null,null,null,null,null,0,0]
[{"$f":"'Multiple NPA 60'!A252","v":0},{"$f":"'Multiple NPA 60'!B252","v":0},{"$f":"'Multiple NPA 60'!C252","v":0},{"$f":"'Multiple NPA 60'!D252","v":0},null,null,null,{"$f":"'Multiple NPA 60'!E252","v":"00:00:00"},{"$f":"'Multiple NPA 60'!F252","v":0},{"$f":"'Multiple NPA 60'!G252","v":0},{"$f":"'Multiple NPA 60'!H252","v":0},{"$f":"'Multiple NPA 60'!I252","v":0},{"$f":"'Multiple NPA 60'!J252","v":0},{"$f":"'Multiple NPA 60'!K252","v":0},{"$f":"'Multiple NPA 60'!K252","v":0},{"$f":"'Multiple NPA 60'!L252","v":0},null,null,null,null,null,null,null,null,null,null,null,null,null,null,null,0,0]
[{"$f":"'Multiple NPA 60'!A253","v":0},{"$f":"'Multiple NPA 60'!B253","v":0},{"$f":"'Multiple NPA 60'!C253","v":0},{"$f":"'Multiple NPA 60'!D253","v":0},null,null,null,{"$f":"'Multiple NPA 60'!E253","v":"00:00:00"},{"$f":"'Multiple NPA 60'!F253","v":0},{"$f":"'Multiple NPA 60'!G253","v":0},{"$f":"'Multiple NPA 60'!H253","v":0},{"$f":"'Multiple NPA 60'!I253","v":0},{"$f":"'Multiple NPA 60'!J253","v":0},{"$f":"'Multiple NPA 60'!K253","v":0},{"$f":"'Multiple NPA 60'!K253","v":0},{"$f":"'Multiple NPA 60'!L253","v":0},null,null,null,null,null,null,null,null,null,null,null,null,null,null,null,0,0]
[{"$f":"'Multiple NPA 60'!A254","v":0},{"$f":"'Multiple NPA 60'!B254","v":0},{"$f":"'Multiple NPA 60'!C254","v":0},{"$f":"'Multiple NPA 60'!D254","v":0},null,null,null,{"$f":"'Multiple NPA 60'!E254","v":"00:00:00"},{"$f":"'Multiple NPA 60'!F254","v":0},{"$f":"'Multiple NPA 60'!G254","v":0},{"$f":"'Multiple NPA 60'!H254","v":0},{"$f":"'Multiple NPA 60'!I254","v":0},{"$f":"'Multiple NPA 60'!J254","v":0},{"$f":"'Multiple NPA 60'!K254","v":0},{"$f":"'Multiple NPA 60'!K254","v":0},{"$f":"'Multiple NPA 60'!L254","v":0},null,null,null,null,null,null,null,null,null,null,null,null,null,null,null,0,0]
[{"$f":"'Multiple NPA 60'!A255","v":0},{"$f":"'Multiple NPA 60'!B255","v":0},{"$f":"'Multiple NPA 60'!C255","v":0},{"$f":"'Multiple NPA 60'!D255","v":0},null,null,null,{"$f":"'Multiple NPA 60'!E255","v":"00:00:00"},{"$f":"'Multiple NPA 60'!F255","v":0},{"$f":"'Multiple NPA 60'!G255","v":0},{"$f":"'Multiple NPA 60'!H255","v":0},{"$f":"'Multiple NPA 60'!I255","v":0},{"$f":"'Multiple NPA 60'!J255","v":0},{"$f":"'Multiple NPA 60'!K255","v":0},{"$f":"'Multiple NPA 60'!K255","v":0},{"$f":"'Multiple NPA 60'!L255","v":0},null,null,null,null,null,null,null,null,null,null,null,null,null,null,null,0,0]
[{"$f":"'Multiple NPA 60'!A256","v":0},{"$f":"'Multiple NPA 60'!B256","v":0},{"$f":"'Multiple NPA 60'!C256","v":0},{"$f":"'Multiple NPA 60'!D256","v":0},null,null,null,{"$f":"'Multiple NPA 60'!E256","v":"00:00:00"},{"$f":"'Multiple NPA 60'!F256","v":0},{"$f":"'Multiple NPA 60'!G256","v":0},{"$f":"'Multiple NPA 60'!H256","v":0},{"$f":"'Multiple NPA 60'!I256","v":0},{"$f":"'Multiple NPA 60'!J256","v":0},{"$f":"'Multiple NPA 60'!K256","v":0},{"$f":"'Multiple NPA 60'!K256","v":0},{"$f":"'Multiple NPA 60'!L256","v":0},null,null,null,null,null,null,null,null,null,null,null,null,null,null,null,0,0]
[{"$f":"'Multiple NPA 60'!A257","v":0},{"$f":"'Multiple NPA 60'!B257","v":0},{"$f":"'Multiple NPA 60'!C257","v":0},{"$f":"'Multiple NPA 60'!D257","v":0},null,null,null,{"$f":"'Multiple NPA 60'!E257","v":"00:00:00"},{"$f":"'Multiple NPA 60'!F257","v":0},{"$f":"'Multiple NPA 60'!G257","v":0},{"$f":"'Multiple NPA 60'!H257","v":0},{"$f":"'Multiple NPA 60'!I257","v":0},{"$f":"'Multiple NPA 60'!J257","v":0},{"$f":"'Multiple NPA 60'!K257","v":0},{"$f":"'Multiple NPA 60'!K257","v":0},{"$f":"'Multiple NPA 60'!L257","v":0},null,null,null,null,null,null,null,null,null,null,null,null,null,null,null,0,0]
[{"$f":"'Multiple NPA 60'!A258","v":0},{"$f":"'Multiple NPA 60'!B258","v":0},{"$f":"'Multiple NPA 60'!C258","v":0},{"$f":"'Multiple NPA 60'!D258","v":0},null,null,null,{"$f":"'Multiple NPA 60'!E258","v":"00:00:00"},{"$f":"'Multiple NPA 60'!F258","v":0},{"$f":"'Multiple NPA 60'!G258","v":0},{"$f":"'Multiple NPA 60'!H258","v":0},{"$f":"'Multiple NPA 60'!I258","v":0},{"$f":"'Multiple NPA 60'!J258","v":0},{"$f":"'Multiple NPA 60'!K258","v":0},{"$f":"'Multiple NPA 60'!K258","v":0},{"$f":"'Multiple NPA 60'!L258","v":0},null,null,null,null,null,null,null,null,null,null,null,null,null,null,null,0,0]
[{"$f":"'Multiple NPA 60'!A259","v":0},{"$f":"'Multiple NPA 60'!B259","v":0},{"$f":"'Multiple NPA 60'!C259","v":0},{"$f":"'Multiple NPA 60'!D259","v":0},null,null,null,{"$f":"'Multiple NPA 60'!E259","v":"00:00:00"},{"$f":"'Multiple NPA 60'!F259","v":0},{"$f":"'Multiple NPA 60'!G259","v":0},{"$f":"'Multiple NPA 60'!H259","v":0},{"$f":"'Multiple NPA 60'!I259","v":0},{"$f":"'Multiple NPA 60'!J259","v":0},{"$f":"'Multiple NPA 60'!K259","v":0},{"$f":"'Multiple NPA 60'!K259","v":0},{"$f":"'Multiple NPA 60'!L259","v":0},null,null,null,null,null,null,null,null,null,null,null,null,null,null,null,0,0]
[{"$f":"'Multiple NPA 60'!A260","v":0},{"$f":"'Multiple NPA 60'!B260","v":0},{"$f":"'Multiple NPA 60'!C260","v":0},{"$f":"'Multiple NPA 60'!D260","v":0},null,null,null,{"$f":"'Multiple NPA 60'!E260","v":"00:00:00"},{"$f":"'Multiple NPA 60'!F260","v":0},{"$f":"'Multiple NPA 60'!G260","v":0},{"$f":"'Multiple NPA 60'!H260","v":0},{"$f":"'Multiple NPA 60'!I260","v":0},{"$f":"'Multiple NPA 60'!J260","v":0},{"$f":"'Multiple NPA 60'!K260","v":0},{"$f":"'Multiple NPA 60'!K260","v":0},{"$f":"'Multiple NPA 60'!L260","v":0},null,null,null,null,null,null,null,null,null,null,null,null,null,null,null,0,{"$f":"(DATEDIF(H262, J262, \"Y\"))","v":0}]
[{"$f":"'Multiple NPA 60'!A261","v":0},{"$f":"'Multiple NPA 60'!B261","v":0},{"$f":"'Multiple NPA 60'!C261","v":0},{"$f":"'Multiple NPA 60'!D261","v":0},null,null,null,{"$f":"'Multiple NPA 60'!E261","v":"00:00:00"},{"$f":"'Multiple NPA 60'!F261","v":0},{"$f":"'Multiple NPA 60'!G261","v":0},{"$f":"'Multiple NPA 60'!H261","v":0},{"$f":"'Multiple NPA 60'!I261","v":0},{"$f":"'Multiple NPA 60'!J261","v":0},{"$f":"'Multiple NPA 60'!K261","v":0},{"$f":"'Multiple NPA 60'!K261","v":0},{"$f":"'Multiple NPA 60'!L261","v":0},null,null,null,null,null,null,null,null,null,null,null,null,null,null,null,0,{"$f":"(DATEDIF(H263, J263, \"Y\"))","v":0}]
[{"$f":"'Multiple NPA 60'!A262","v":0},{"$f":"'Multiple NPA 60'!B262","v":0},{"$f":"'Multiple NPA 60'!C262","v":0},{"$f":"'Multiple NPA 60'!D262","v":0},null,null,null,{"$f":"'Multiple NPA 60'!E262","v":"00:00:00"},{"$f":"'Multiple NPA 60'!F262","v":0},{"$f":"'Multiple NPA 60'!G262","v":0},{"$f":"'Multiple NPA 60'!H262","v":0},{"$f":"'Multiple NPA 60'!I262","v":0},{"$f":"'Multiple NPA 60'!J262","v":0},{"$f":"'Multiple NPA 60'!K262","v":0},{"$f":"'Multiple NPA 60'!K262","v":0},{"$f":"'Multiple NPA 60'!L262","v":0},null,null,null,null,null,null,null,null,null,null,null,null,null,null,null,{"$f":"(DATEDIF(H264, J264, \"M\"))","v":0},{"$f":"(DATEDIF(H264, J264, \"Y\"))","v":0}]
[{"$f":"'Multiple NPA 60'!A263","v":0},{"$f":"'Multiple NPA 60'!B263","v":0},{"$f":"'Multiple NPA 60'!C263","v":0},{"$f":"'Multiple NPA 60'!D263","v":0},null,null,null,{"$f":"'Multiple NPA 60'!E263","v":"00:00:00"},{"$f":"'Multiple NPA 60'!F263","v":0},{"$f":"'Multiple NPA 60'!G263","v":0},{"$f":"'Multiple NPA 60'!H263","v":0},{"$f":"'Multiple NPA 60'!I263","v":0},{"$f":"'Multiple NPA 60'!J263","v":0},{"$f":"'Multiple NPA 60'!K263","v":0},{"$f":"'Multiple NPA 60'!K263","v":0},{"$f":"'Multiple NPA 60'!L263","v":0},null,null,null,null,null,null,null,null,null,null,null,null,null,null,null,0]
[{"$f":"'Multiple NPA 60'!A264","v":0},{"$f":"'Multiple NPA 60'!B264","v":0},{"$f":"'Multiple NPA 60'!C264","v":0},{"$f":"'Multiple NPA 60'!D264","v":0},null,null,null,{"$f":"'Multiple NPA 60'!E264","v":"00:00:00"},{"$f":"'Multiple NPA 60'!F264","v":0},{"$f":"'Multiple NPA 60'!G264","v":0},{"$f":"'Multiple NPA 60'!H264","v":0},{"$f":"'Multiple NPA 60'!I264","v":0},{"$f":"'Multiple NPA 60'!J264","v":0},{"$f":"'Multiple NPA 60'!K264","v":0},{"$f":"'Multiple NPA 60'!K264","v":0},{"$f":"'Multiple NPA 60'!L264","v":0},null,null,null,null,null,null,null,null,null,null,null,null,null,null,null,0]
[{"$f":"'Multiple NPA 60'!A265","v":0},{"$f":"'Multiple NPA 60'!B265","v":0},{"$f":"'Multiple NPA 60'!C265","v":0},{"$f":"'Multiple NPA 60'!D265","v":0},null,null,null,{"$f":"'Multiple NPA 60'!E265","v":"00:00:00"},{"$f":"'Multiple NPA 60'!F265","v":0},{"$f":"'Multiple NPA 60'!G265","v":0},{"$f":"'Multiple NPA 60'!H265","v":0},{"$f":"'Multiple NPA 60'!I265","v":0},{"$f":"'Multiple NPA 60'!J265","v":0},{"$f":"'Multiple NPA 60'!K265","v":0},{"$f":"'Multiple NPA 60'!K265","v":0},{"$f":"'Multiple NPA 60'!L265","v":0},null,null,null,null,null,null,null,null,null,null,null,null,null,null,null,0]
[{"$f":"'Multiple NPA 60'!A266","v":0},{"$f":"'Multiple NPA 60'!B266","v":0},{"$f":"'Multiple NPA 60'!C266","v":0},{"$f":"'Multiple NPA 60'!D266","v":0},null,null,null,{"$f":"'Multiple NPA 60'!E266","v":"00:00:00"},{"$f":"'Multiple NPA 60'!F266","v":0},{"$f":"'Multiple NPA 60'!G266","v":0},{"$f":"'Multiple NPA 60'!H266","v":0},{"$f":"'Multiple NPA 60'!I266","v":0},{"$f":"'Multiple NPA 60'!J266","v":0},{"$f":"'Multiple NPA 60'!K266","v":0},{"$f":"'Multiple NPA 60'!K266","v":0},{"$f":"'Multiple NPA 60'!L266","v":0},null,null,null,null,null,null,null,null,null,null,null,null,null,null,null,0]
[{"$f":"'Multiple NPA 60'!A267","v":0},{"$f":"'Multiple NPA 60'!B267","v":0},{"$f":"'Multiple NPA 60'!C267","v":0},{"$f":"'Multiple NPA 60'!D267","v":0},null,null,null,{"$f":"'Multiple NPA 60'!E267","v":"00:00:00"},{"$f":"'Multiple NPA 60'!F267","v":0},{"$f":"'Multiple NPA 60'!G267","v":0},{"$f":"'Multiple NPA 60'!H267","v":0},{"$f":"'Multiple NPA 60'!I267","v":0},{"$f":"'Multiple NPA 60'!J267","v":0},{"$f":"'Multiple NPA 60'!K267","v":0},{"$f":"'Multiple NPA 60'!K267","v":0},{"$f":"'Multiple NPA 60'!L267","v":0},null,null,null,null,null,null,null,null,null,null,null,null,null,null,null,0]
[{"$f":"'Multiple NPA 60'!A268","v":0},{"$f":"'Multiple NPA 60'!B268","v":0},{"$f":"'Multiple NPA 60'!C268","v":0},{"$f":"'Multiple NPA 60'!D268","v":0},null,null,null,{"$f":"'Multiple NPA 60'!E268","v":"00:00:00"},{"$f":"'Multiple NPA 60'!F268","v":0},{"$f":"'Multiple NPA 60'!G268","v":0},{"$f":"'Multiple NPA 60'!H268","v":0},{"$f":"'Multiple NPA 60'!I268","v":0},{"$f":"'Multiple NPA 60'!J268","v":0},{"$f":"'Multiple NPA 60'!K268","v":0},{"$f":"'Multiple NPA 60'!K268","v":0},{"$f":"'Multiple NPA 60'!L268","v":0},null,null,null,null,null,null,null,null,null,null,null,null,null,null,null,0]
[{"$f":"'Multiple NPA 60'!A269","v":0},{"$f":"'Multiple NPA 60'!B269","v":0},{"$f":"'Multiple NPA 60'!C269","v":0},{"$f":"'Multiple NPA 60'!D269","v":0},null,null,null,{"$f":"'Multiple NPA 60'!E269","v":"00:00:00"},{"$f":"'Multiple NPA 60'!F269","v":0},{"$f":"'Multiple NPA 60'!G269","v":0},{"$f":"'Multiple NPA 60'!H269","v":0},{"$f":"'Multiple NPA 60'!I269","v":0},{"$f":"'Multiple NPA 60'!J269","v":0},{"$f":"'Multiple NPA 60'!K269","v":0},{"$f":"'Multiple NPA 60'!K269","v":0},{"$f":"'Multiple NPA 60'!L269","v":0},null,null,null,null,null,null,null,null,null,null,null,null,null,null,null,0]
[{"$f":"'Multiple NPA 60'!A270","v":0},{"$f":"'Multiple NPA 60'!B270","v":0},{"$f":"'Multiple NPA 60'!C270","v":0},{"$f":"'Multiple NPA 60'!D270","v":0},null,null,null,{"$f":"'Multiple NPA 60'!E270","v":"00:00:00"},{"$f":"'Multiple NPA 60'!F270","v":0},{"$f":"'Multiple NPA 60'!G270","v":0},{"$f":"'Multiple NPA 60'!H270","v":0},{"$f":"'Multiple NPA 60'!I270","v":0},{"$f":"'Multiple NPA 60'!J270","v":0},{"$f":"'Multiple NPA 60'!K270","v":0},{"$f":"'Multiple NPA 60'!K270","v":0},{"$f":"'Multiple NPA 60'!L270","v":0},null,null,null,null,null,null,null,null,null,null,null,null,null,null,null,0]
[{"$f":"'Multiple NPA 60'!A271","v":0},{"$f":"'Multiple NPA 60'!B271","v":0},{"$f":"'Multiple NPA 60'!C271","v":0},{"$f":"'Multiple NPA 60'!D271","v":0},null,null,null,{"$f":"'Multiple NPA 60'!E271","v":"00:00:00"},{"$f":"'Multiple NPA 60'!F271","v":0},{"$f":"'Multiple NPA 60'!G271","v":0},{"$f":"'Multiple NPA 60'!H271","v":0},{"$f":"'Multiple NPA 60'!I271","v":0},{"$f":"'Multiple NPA 60'!J271","v":0},{"$f":"'Multiple NPA 60'!K271","v":0},{"$f":"'Multiple NPA 60'!K271","v":0},{"$f":"'Multiple NPA 60'!L271","v":0},null,null,null,null,null,null,null,null,null,null,null,null,null,null,null,0]
[{"$f":"'Multiple NPA 60'!A272","v":0},{"$f":"'Multiple NPA 60'!B272","v":0},{"$f":"'Multiple NPA 60'!C272","v":0},{"$f":"'Multiple NPA 60'!D272","v":0},null,null,null,{"$f":"'Multiple NPA 60'!E272","v":"00:00:00"},{"$f":"'Multiple NPA 60'!F272","v":0},{"$f":"'Multiple NPA 60'!G272","v":0},{"$f":"'Multiple NPA 60'!H272","v":0},{"$f":"'Multiple NPA 60'!I272","v":0},{"$f":"'Multiple NPA 60'!J272","v":0},{"$f":"'Multiple NPA 60'!K272","v":0},{"$f":"'Multiple NPA 60'!K272","v":0},{"$f":"'Multiple NPA 60'!L272","v":0},null,null,null,null,null,null,null,null,null,null,null,null,null,null,null,0]
[{"$f":"'Multiple NPA 60'!A273","v":0},{"$f":"'Multiple NPA 60'!B273","v":0},{"$f":"'Multiple NPA 60'!C273","v":0},{"$f":"'Multiple NPA 60'!D273","v":0},null,null,null,{"$f":"'Multiple NPA 60'!E273","v":"00:00:00"},{"$f":"'Multiple NPA 60'!F273","v":0},{"$f":"'Multiple NPA 60'!G273","v":0},{"$f":"'Multiple NPA 60'!H273","v":0},{"$f":"'Multiple NPA 60'!I273","v":0},{"$f":"'Multiple NPA 60'!J273","v":0},{"$f":"'Multiple NPA 60'!K273","v":0},{"$f":"'Multiple NPA 60'!K273","v":0},{"$f":"'Multiple NPA 60'!L273","v":0},null,null,null,null,null,null,null,null,null,null,null,null,null,null,null,0]
[{"$f":"'Multiple NPA 60'!A274","v":0},{"$f":"'Multiple NPA 60'!B274","v":0},{"$f":"'Multiple NPA 60'!C274","v":0},{"$f":"'Multiple NPA 60'!D274","v":0},null,null,null,{"$f":"'Multiple NPA 60'!E274","v":"00:00:00"},{"$f":"'Multiple NPA 60'!F274","v":0},{"$f":"'Multiple NPA 60'!G274","v":0},{"$f":"'Multiple NPA 60'!H274","v":0},{"$f":"'Multiple NPA 60'!I274","v":0},{"$f":"'Multiple NPA 60'!J274","v":0},{"$f":"'Multiple NPA 60'!K274","v":0},{"$f":"'Multiple NPA 60'!K274","v":0},{"$f":"'Multiple NPA 60'!L274","v":0},null,null,null,null,null,null,null,null,null,null,null,null,null,null,null,0]
[{"$f":"'Multiple NPA 60'!A275","v":0},{"$f":"'Multiple NPA 60'!B275","v":0},{"$f":"'Multiple NPA 60'!C275","v":0},{"$f":"'Multiple NPA 60'!D275","v":0},null,null,null,{"$f":"'Multiple NPA 60'!E275","v":"00:00:00"},{"$f":"'Multiple NPA 60'!F275","v":0},{"$f":"'Multiple NPA 60'!G275","v":0},{"$f":"'Multiple NPA 60'!H275","v":0},{"$f":"'Multiple NPA 60'!I275","v":0},{"$f":"'Multiple NPA 60'!J275","v":0},{"$f":"'Multiple NPA 60'!K275","v":0},{"$f":"'Multiple NPA 60'!K275","v":0},{"$f":"'Multiple NPA 60'!L275","v":0},null,null,null,null,null,null,null,null,null,null,null,null,null,null,null,0]
[null,null,{"$f":"'Multiple NPA 60'!C276","v":0},{"$f":"'Multiple NPA 60'!D276","v":0},null,null,null,{"$f":"'Multiple NPA 60'!E276","v":"00:00:00"},{"$f":"'Multiple NPA 60'!F276","v":0},{"$f":"'Multiple NPA 60'!G276","v":0},{"$f":"'Multiple NPA 60'!H276","v":0},{"$f":"'Multiple NPA 60'!I276","v":0},{"$f":"'Multiple NPA 60'!J276","v":0},{"$f":"'Multiple NPA 60'!K276","v":0},{"$f":"'Multiple NPA 60'!K276","v":0},{"$f":"'Multiple NPA 60'!L276","v":0},null,null,null,null,null,null,null,null,null,null,null,null,null,null,null,0]
[null,null,null,null,null,null,null,null,null,null,null,null,null,null,null,null,null,null,null,null,null,null,null,null,null,null,null,null,null,null,null,0]
[null,null,null,null,null,null,null,null,null,null,null,null,null,null,null,null,null,null,null,null,null,null,null,null,null,null,null,null,null,null,null,0]
[null,null,null,null,null,null,null,null,null,null,null,null,null,null,null,null,null,null,null,null,null,null,null,null,null,null,null,null,null,null,null,0]
[null,null,null,null,null,null,null,null,null,null,null,null,null,null,null,null,null,null,null,null,null,null,null,null,null,null,null,null,null,null,null,0]
[null,null,null,null,null,null,null,null,null,null,null,null,null,null,null,null,null,null,null,null,null,null,null,null,null,null,null,null,null,null,null,0]
[null,null,null,null,null,null,null,null,null,null,null,null,null,null,null,null,null,null,null,null,null,null,null,null,null,null,null,null,null,null,null,0]
[null,null,null,null,null,null,null,null,null,null,null,null,null,null,null,null,null,null,null,null,null,null,null,null,null,null,null,null,null,null,null,0]
[null,null,null,null,null,null,null,null,null,null,null,null,null,null,null,null,null,null,null,null,null,null,null,null,null,null,null,null,null,null,null,0]
[null,null,null,null,null,null,null,null,null,null,null,null,null,null,null,null,null,null,null,null,null,null,null,null,null,null,null,null,null,null,null,0]

{"sheet":"Multiple Results NPA 65","index":9,"n_rows":301,"n_cols":44,"rows_kept":301,"cut":false,"hidden":true,"merged":[[3,4,3,6],[0,0,1,1],[0,3,1,7]]}
["Return To Input Screen",null,null,"Return to Menu"]
[]
[]
["Last Name","First Name","Superan Number","NI NO","Date of Birth",null,null,"Date of Birth","Annual Salary","Proposed date of Retirement","Reckonable Years","Service Days","Male = 1, Female = 2",null,"Enhancement to pension (years)","Enhancement to pension (days)","SPPA Pension",null,"Employers Pension","Employers Lump Sum","Capitalised","Added Years Pension","Dependents Pension","Added Years Lump","Added years","Total Cost","Comm Pension","Comm Lump Sum","Grand Total",{"$f":"SUMIF(Z5:Z203,\">0\",Z5:Z203)","v":0},"Today's date","Age Months","Age Whole Years",600,0.61699999999999999,null,"Capitalisation",null,null,"Dependants"]
[{"$f":"'Multiple NPA 65'!A3","v":0},{"$f":"'Multiple NPA 65'!B3","v":0},{"$f":"'Multiple NPA 65'!C3","v":0},{"$f":"'Multiple NPA 65'!D3","v":0},{"$f":"'Multiple NPA 65'!E3","v":0},{"$f":"'Multiple NPA 65'!F3","v":0},{"$f":"'Multiple NPA 65'!G3","v":0},{"$f":"'Multiple NPA 65'!E3","v":"00:00:00"},{"$f":"'Multiple NPA 65'!F3","v":0},{"$f":"'Multiple NPA 65'!G3","v":"00:00:00"},{"$f":"'Multiple NPA 65'!H3","v":0},{"$f":"'Multiple NPA 65'!I3","v":0},{"$f":"'Multiple NPA 65'!J3","v":0},{"$f":"O5+(P5/365)","v":0},{"$f":"'Multiple NPA 65'!K3","v":0},{"$f":"'Multiple NPA 65'!L3","v":0},{"$f":"VLOOKUP(AF5,$AH$4:$AI$244,2,FALSE)*(((K5+(L5/365))*I5)/60)","v":{"$error":"#N/A"}},null,{"$f":"(((K5+(L5/365))*I5)/60)-Q5","v":{"$error":"#N/A"}},{"$f":"S5*3","v":{"$error":"#N/A"}},{"$f":"(((VLOOKUP(AG5, $AK$5:$AL$25,2,FALSE)*S5)))","v":{"$error":"#N/A"}},{"$f":"((O5+(P5/365))*I5)/60","v":0},{"$f":"((O5+(P5/365))*I5)/160","v":0},{"$f":"V5*3","v":0},{"$f":"(((VLOOKUP(AG5,$AK$5:$AL$25,2,FALSE)*V5)+(((VLOOKUP(AG5,$AN$5:$AO$25,2,FALSE)*W5)))))","v":{"$error":"#N/A"}},{"$f":"(SUMIF(U5:Y5,\">0\",U5:Y5))-(V5+X5+W5)","v":0},{"$f":"SUM(Q5-AR5)","v":{"$error":"#N/A"}},{"$f":"SUM(AR5*12)","v":{"$error":"#N/A"}},null,null,{"$f":"TODAY()","v":"2019-02-07"},{"$f":"(DATEDIF(H5, J5, \"M\"))","v":0},{"$f":"(DATEDIF(H5, J5, \"Y\"))","v":0},601,0,null,50,0,null,50,0,null,{"$f":"SUM((Q5*20)+(R5*(20/12)))/4.6667","v":{"$error":"#N/A"}},{"$f":"ROUNDDOWN(((AQ5-R5)/12),0)","v":{"$error":"#N/A"}}]
[{"$f":"'Multiple NPA 65'!A4","v":0},{"$f":"'Multiple NPA 65'!B4","v":0},{"$f":"'Multiple NPA 65'!C4","v":0},{"$f":"'Multiple NPA 65'!D4","v":0},{"$f":"'Multiple NPA 65'!E4","v":0},{"$f":"'Multiple NPA 65'!F4","v":0},{"$f":"'Multiple NPA 65'!G4","v":0},{"$f":"'Multiple NPA 65'!E4","v":"00:00:00"},{"$f":"'Multiple NPA 65'!F4","v":0},{"$f":"'Multiple NPA 65'!G4","v":"00:00:00"},{"$f":"'Multiple NPA 65'!H4","v":0},{"$f":"'Multiple NPA 65'!I4","v":0},{"$f":"'Multiple NPA 65'!J4","v":0},{"$f":"O6+(P6/365)","v":0},{"$f":"'Multiple NPA 65'!K4","v":0},{"$f":"'Multiple NPA 65'!L4","v":0},{"$error":"#N/A"},null,{"$f":"(((K6+(L6/365))*I6)/60)-Q6","v":{"$error":"#N/A"}},{"$error":"#N/A"},{"$f":"(((VLOOKUP(AG6, $AK$5:$AL$25,2,FALSE)*S6)))","v":{"$error":"#N/A"}},{"$f":"((O6+(P6/365))*I6)/60","v":0},{"$f":"((O6+(P6/365))*I6)/160","v":0},{"$f":"V6*3","v":0},{"$f":"(((VLOOKUP(AG6,$AK$5:$AL$25,2,FALSE)*V6)+(((VLOOKUP(AG6,$AN$5:$AO$25,2,FALSE)*W6)))))","v":{"$error":"#N/A"}},{"$f":"(SUMIF(U6:Y6,\">0\",U6:Y6))-(V6+X6+W6)","v":0},{"$error":"#N/A"},{"$f":"SUM(AR6*12)","v":{"$error":"#N/A"}},null,null,{"$f":"TODAY()","v":"2019-02-07"},0,0,602,0,null,51,0,null,51,0,null,{"$error":"#N/A"},{"$error":"#N/A"}]
[{"$f":"'Multiple NPA 65'!A5","v":0},{"$f":"'Multiple NPA 65'!B5","v":0},{"$f":"'Multiple NPA 65'!C5","v":0},{"$f":"'Multiple NPA 65'!D5","v":0},{"$f":"'Multiple NPA 65'!E5","v":0},{"$f":"'Multiple NPA 65'!F5","v":0},{"$f":"'Multiple NPA 65'!G5","v":0},{"$f":"'Multiple NPA 65'!E5","v":"00:00:00"},{"$f":"'Multiple NPA 65'!F5","v":0},{"$f":"'Multiple NPA 65'!G5","v":"00:00:00"},{"$f":"'Multiple NPA 65'!H5","v":0},{"$f":"'Multiple NPA 65'!I5","v":0},{"$f":"'Multiple NPA 65'!J5","v":0},0,{"$f":"'Multiple NPA 65'!K5","v":0},{"$f":"'Multiple NPA 65'!L5","v":0},{"$error":"#N/A"},null,{"$error":"#N/A"},{"$error":"#N/A"},{"$error":"#N/A"},{"$f":"((O7+(P7/365))*I7)/60","v":0},0,0,{"$error":"#N/A"},{"$f":"(SUMIF(U7:Y7,\">0\",U7:Y7))-(V7+X7+W7)","v":0},{"$error":"#N/A"},{"$error":"#N/A"},null,null,"2019-02-07",0,0,603,0,null,52,0,null,52,0,null,{"$error":"#N/A"},{"$error":"#N/A"}]
[{"$f":"'Multiple NPA 65'!A6","v":0},{"$f":"'Multiple NPA 65'!B6","v":0},{"$f":"'Multiple NPA 65'!C6","v":0},{"$f":"'Multiple NPA 65'!D6","v":0},{"$f":"'Multiple NPA 65'!E6","v":0},{"$f":"'Multiple NPA 65'!F6","v":0},{"$f":"'Multiple NPA 65'!G6","v":0},{"$f":"'Multiple NPA 65'!E6","v":"00:00:00"},{"$f":"'Multiple NPA 65'!F6","v":0},{"$f":"'Multiple NPA 65'!G6","v":"00:00:00"},{"$f":"'Multiple NPA 65'!H6","v":0},{"$f":"'Multiple NPA 65'!I6","v":0},{"$f":"'Multiple NPA 65'!J6","v":0},0,{"$f":"'Multiple NPA 65'!K6","v":0},{"$f":"'Multiple NPA 65'!L6","v":0},{"$error":"#N/A"},null,{"$error":"#N/A"},{"$error":"#N/A"},{"$error":"#N/A"},0,0,0,{"$error":"#N/A"},{"$f":"(SUMIF(U8:Y8,\">0\",U8:Y8))-(V8+X8+W8)","v":0},{"$error":"#N/A"},{"$error":"#N/A"},null,null,"2019-02-07",0,0,604,0,null,53,0,null,53,0,null,{"$error":"#N/A"},{"$error":"#N/A"}]
[{"$f":"'Multiple NPA 65'!A7","v":0},{"$f":"'Multiple NPA 65'!B7","v":0},{"$f":"'Multiple NPA 65'!C7","v":0},{"$f":"'Multiple NPA 65'!D7","v":0},{"$f":"'Multiple NPA 65'!E7","v":0},{"$f":"'Multiple NPA 65'!F7","v":0},{"$f":"'Multiple NPA 65'!G7","v":0},{"$f":"'Multiple NPA 65'!E7","v":"00:00:00"},{"$f":"'Multiple NPA 65'!F7","v":0},{"$f":"'Multiple NPA 65'!G7","v":"00:00:00"},{"$f":"'Multiple NPA 65'!H7","v":0},{"$f":"'Multiple NPA 65'!I7","v":0},{"$f":"'Multiple NPA 65'!J7","v":0},0,{"$f":"'Multiple NPA 65'!K7","v":0},{"$f":"'Multiple NPA 65'!L7","v":0},{"$error":"#N/A"},null,{"$error":"#N/A"},{"$error":"#N/A"},{"$error":"#N/A"},0,0,0,{"$error":"#N/A"},{"$f":"(SUMIF(U9:Y9,\">0\",U9:Y9))-(V9+X9+W9)","v":0},{"$error":"#N/A"},{"$error":"#N/A"},null,null,"2019-02-07",0,0,605,0,null,54,0,null,54,0,null,{"$error":"#N/A"},{"$error":"#N/A"}]
[{"$f":"'Multiple NPA 65'!A8","v":0},{"$f":"'Multiple NPA 65'!B8","v":0},{"$f":"'Multiple NPA 65'!C8","v":0},{"$f":"'Multiple NPA 65'!D8","v":0},{"$f":"'Multiple NPA 65'!E8","v":0},{"$f":"'Multiple NPA 65'!F8","v":0},{"$f":"'Multiple NPA 65'!G8","v":0},{"$f":"'Multiple NPA 65'!E8","v":"00:00:00"},{"$f":"'Multiple NPA 65'!F8","v":0},{"$f":"'Multiple NPA 65'!G8","v":"00:00:00"},{"$f":"'Multiple NPA 65'!H8","v":0},{"$f":"'Multiple NPA 65'!I8","v":0},{"$f":"'Multiple NPA 65'!J8","v":0},0,{"$f":"'Multiple NPA 65'!K8","v":0},{"$f":"'Multiple NPA 65'!L8","v":0},{"$error":"#N/A"},null,{"$error":"#N/A"},{"$error":"#N/A"},{"$error":"#N/A"},0,0,0,{"$error":"#N/A"},0,{"$error":"#N/A"},{"$error":"#N/A"},null,null,"2019-02-07",0,0,606,0,null,55,22.8,null,55,1.4,null,{"$error":"#N/A"},{"$error":"#N/A"}]
[{"$f":"'Multiple NPA 65'!A9","v":0},{"$f":"'Multiple NPA 65'!B9","v":0},{"$f":"'Multiple NPA 65'!C9","v":0},{"$f":"'Multiple NPA 65'!D9","v":0},{"$f":"'Multiple NPA 65'!E9","v":0},{"$f":"'Multiple NPA 65'!F9","v":0},{"$f":"'Multiple NPA 65'!G9","v":0},{"$f":"'Multiple NPA 65'!E9","v":"00:00:00"},{"$f":"'Multiple NPA 65'!F9","v":0},{"$f":"'Multiple NPA 65'!G9","v":"00:00:00"},{"$f":"'Multiple NPA 65'!H9","v":0},{"$f":"'Multiple NPA 65'!I9","v":0},{"$f":"'Multiple NPA 65'!J9","v":0},0,{"$f":"'Multiple NPA 65'!K9","v":0},{"$f":"'Multiple NPA 65'!L9","v":0},{"$error":"#N/A"},null,{"$error":"#N/A"},{"$error":"#N/A"},{"$error":"#N/A"},0,0,0,{"$error":"#N/A"},0,{"$error":"#N/A"},{"$error":"#N/A"},null,null,"2019-02-07",0,0,607,0,null,56,22.3,null,56,1.4,null,{"$error":"#N/A"},{"$error":"#N/A"}]
[{"$f":"'Multiple NPA 65'!A10","v":0},{"$f":"'Multiple NPA 65'!B10","v":0},{"$f":"'Multiple NPA 65'!C10","v":0},{"$f":"'Multiple NPA 65'!D10","v":0},{"$f":"'Multiple NPA 65'!E10","v":0},{"$f":"'Multiple NPA 65'!F10","v":0},{"$f":"'Multiple NPA 65'!G10","v":0},{"$f":"'Multiple NPA 65'!E10","v":"00:00:00"},{"$f":"'Multiple NPA 65'!F10","v":0},{"$f":"'Multiple NPA 65'!G10","v":"00:00:00"},{"$f":"'Multiple NPA 65'!H10","v":0},{"$f":"'Multiple NPA 65'!I10","v":0},{"$f":"'Multiple NPA 65'!J10","v":0},0,{"$f":"'Multiple NPA 65'!K10","v":0},{"$f":"'Multiple NPA 65'!L10","v":0},{"$error":"#N/A"},null,{"$error":"#N/A"},{"$error":"#N/A"},{"$error":"#N/A"},0,0,0,{"$error":"#N/A"},0,{"$error":"#N/A"},{"$error":"#N/A"},null,null,"2019-02-07",0,0,608,0,null,57,21.8,null,57,1.4,null,{"$error":"#N/A"},{"$error":"#N/A"}]
[{"$f":"'Multiple NPA 65'!A11","v":0},{"$f":"'Multiple NPA 65'!B11","v":0},{"$f":"'Multiple NPA 65'!C11","v":0},{"$f":"'Multiple NPA 65'!D11","v":0},{"$f":"'Multiple NPA 65'!E11","v":0},{"$f":"'Multiple NPA 65'!F11","v":0},{"$f":"'Multiple NPA 65'!G11","v":0},{"$f":"'Multiple NPA 65'!E11","v":"00:00:00"},{"$f":"'Multiple NPA 65'!F11","v":0},{"$f":"'Multiple NPA 65'!G11","v":"00:00:00"},{"$f":"'Multiple NPA 65'!H11","v":0},{"$f":"'Multiple NPA 65'!I11","v":0},{"$f":"'Multiple NPA 65'!J11","v":0},0,{"$f":"'Multiple NPA 65'!K11","v":0},{"$f":"'Multiple NPA 65'!L11","v":0},{"$error":"#N/A"},null,{"$error":"#N/A"},{"$error":"#N/A"},{"$error":"#N/A"},0,0,0,{"$error":"#N/A"},0,{"$error":"#N/A"},{"$error":"#N/A"},null,null,"2019-02-07",0,0,609,0,null,58,21.3,null,58,1.4,null,{"$error":"#N/A"},{"$error":"#N/A"}]
[{"$f":"'Multiple NPA 65'!A12","v":0},{"$f":"'Multiple NPA 65'!B12","v":0},{"$f":"'Multiple NPA 65'!C12","v":0},{"$f":"'Multiple NPA 65'!D12","v":0},{"$f":"'Multiple NPA 65'!E12","v":0},{"$f":"'Multiple NPA 65'!F12","v":0},{"$f":"'Multiple NPA 65'!G12","v":0},{"$f":"'Multiple NPA 65'!E12","v":"00:00:00"},{"$f":"'Multiple NPA 65'!F12","v":0},{"$f":"'Multiple NPA 65'!G12","v":"00:00:00"},{"$f":"'Multiple NPA 65'!H12","v":0},{"$f":"'Multiple NPA 65'!I12","v":0},{"$f":"'Multiple NPA 65'!J12","v":0},0,{"$f":"'Multiple NPA 65'!K12","v":0},{"$f":"'Multiple NPA 65'!L12","v":0},{"$error":"#N/A"},null,{"$error":"#N/A"},{"$error":"#N/A"},{"$error":"#N/A"},0,0,0,{"$error":"#N/A"},0,{"$error":"#N/A"},{"$error":"#N/A"},null,null,"2019-02-07",0,0,610,0,null,59,20.8,null,59,1.4,null,{"$error":"#N/A"},{"$error":"#N/A"}]
[{"$f":"'Multiple NPA 65'!A13","v":0},{"$f":"'Multiple NPA 65'!B13","v":0},{"$f":"'Multiple NPA 65'!C13","v":0},{"$f":"'Multiple NPA 65'!D13","v":0},{"$f":"'Multiple NPA 65'!E13","v":0},{"$f":"'Multiple NPA 65'!F13","v":0},{"$f":"'Multiple NPA 65'!G13","v":0},{"$f":"'Multiple NPA 65'!E13","v":"00:00:00"},{"$f":"'Multiple NPA 65'!F13","v":0},{"$f":"'Multiple NPA 65'!G13","v":"00:00:00"},{"$f":"'Multiple NPA 65'!H13","v":0},{"$f":"'Multiple NPA 65'!I13","v":0},{"$f":"'Multiple NPA 65'!J13","v":0},0,{"$f":"'Multiple NPA 65'!K13","v":0},{"$f":"'Multiple NPA 65'!L13","v":0},{"$error":"#N/A"},null,{"$error":"#N/A"},{"$error":"#N/A"},{"$error":"#N/A"},0,0,0,{"$error":"#N/A"},0,{"$error":"#N/A"},{"$error":"#N/A"},null,null,"2019-02-07",0,0,611,0,null,60,20.3,null,60,1.5,null,{"$error":"#N/A"},{"$error":"#N/A"}]
[{"$f":"'Multiple NPA 65'!A14","v":0},{"$f":"'Multiple NPA 65'!B14","v":0},{"$f":"'Multiple NPA 65'!C14","v":0},{"$f":"'Multiple NPA 65'!D14","v":0},{"$f":"'Multiple NPA 65'!E14","v":0},{"$f":"'Multiple NPA 65'!F14","v":0},{"$f":"'Multiple NPA 65'!G14","v":0},{"$f":"'Multiple NPA 65'!E14","v":"00:00:00"},{"$f":"'Multiple NPA 65'!F14","v":0},{"$f":"'Multiple NPA 65'!G14","v":"00:00:00"},{"$f":"'Multiple NPA 65'!H14","v":0},{"$f":"'Multiple NPA 65'!I14","v":0},{"$f":"'Multiple NPA 65'!J14","v":0},0,{"$f":"'Multiple NPA 65'!K14","v":0},{"$f":"'Multiple NPA 65'!L14","v":0},{"$error":"#N/A"},null,{"$error":"#N/A"},{"$error":"#N/A"},{"$error":"#N/A"},0,0,0,{"$error":"#N/A"},0,{"$error":"#N/A"},{"$error":"#N/A"},null,null,"2019-02-07",0,0,612,0,null,61,19.8,null,61,1.5,null,{"$error":"#N/A"},{"$error":"#N/A"}]
[{"$f":"'Multiple NPA 65'!A15","v":0},{"$f":"'Multiple NPA 65'!B15","v":0},{"$f":"'Multiple NPA 65'!C15","v":0},{"$f":"'Multiple NPA 65'!D15","v":0},{"$f":"'Multiple NPA 65'!E15","v":0},{"$f":"'Multiple NPA 65'!F15","v":0},{"$f":"'Multiple NPA 65'!G15","v":0},{"$f":"'Multiple NPA 65'!E15","v":"00:00:00"},{"$f":"'Multiple NPA 65'!F15","v":0},{"$f":"'Multiple NPA 65'!G15","v":"00:00:00"},{"$f":"'Multiple NPA 65'!H15","v":0},{"$f":"'Multiple NPA 65'!I15","v":0},{"$f":"'Multiple NPA 65'!J15","v":0},0,{"$f":"'Multiple NPA 65'!K15","v":0},{"$f":"'Multiple NPA 65'!L15","v":0},{"$error":"#N/A"},null,{"$error":"#N/A"},{"$error":"#N/A"},{"$error":"#N/A"},0,0,0,{"$error":"#N/A"},0,{"$error":"#N/A"},{"$error":"#N/A"},null,null,"2019-02-07",0,0,613,0,null,62,19.3,null,62,1.5,null,{"$error":"#N/A"},{"$error":"#N/A"}]
[{"$f":"'Multiple NPA 65'!A16","v":0},{"$f":"'Multiple NPA 65'!B16","v":0},{"$f":"'Multiple NPA 65'!C16","v":0},{"$f":"'Multiple NPA 65'!D16","v":0},{"$f":"'Multiple NPA 65'!E16","v":0},{"$f":"'Multiple NPA 65'!F16","v":0},{"$f":"'Multiple NPA 65'!G16","v":0},{"$f":"'Multiple NPA 65'!E16","v":"00:00:00"},{"$f":"'Multiple NPA 65'!F16","v":0},{"$f":"'Multiple NPA 65'!G16","v":"00:00:00"},{"$f":"'Multiple NPA 65'!H16","v":0},{"$f":"'Multiple NPA 65'!I16","v":0},{"$f":"'Multiple NPA 65'!J16","v":0},0,{"$f":"'Multiple NPA 65'!K16","v":0},{"$f":"'Multiple NPA 65'!L16","v":0},{"$error":"#N/A"},null,{"$error":"#N/A"},{"$error":"#N/A"},{"$error":"#N/A"},0,0,0,{"$error":"#N/A"},0,{"$error":"#N/A"},{"$error":"#N/A"},null,null,"2019-02-07",0,0,614,0,null,63,18.7,null,63,1.5,null,{"$error":"#N/A"},{"$error":"#N/A"}]
[{"$f":"'Multiple NPA 65'!A17","v":0},{"$f":"'Multiple NPA 65'!B17","v":0},{"$f":"'Multiple NPA 65'!C17","v":0},{"$f":"'Multiple NPA 65'!D17","v":0},{"$f":"'Multiple NPA 65'!E17","v":0},{"$f":"'Multiple NPA 65'!F17","v":0},{"$f":"'Multiple NPA 65'!G17","v":0},{"$f":"'Multiple NPA 65'!E17","v":"00:00:00"},{"$f":"'Multiple NPA 65'!F17","v":0},{"$f":"'Multiple NPA 65'!G17","v":"00:00:00"},{"$f":"'Multiple NPA 65'!H17","v":0},{"$f":"'Multiple NPA 65'!I17","v":0},{"$f":"'Multiple NPA 65'!J17","v":0},0,{"$f":"'Multiple NPA 65'!K17","v":0},{"$f":"'Multiple NPA 65'!L17","v":0},{"$error":"#N/A"},null,{"$error":"#N/A"},{"$error":"#N/A"},{"$error":"#N/A"},0,0,0,{"$error":"#N/A"},0,{"$error":"#N/A"},{"$error":"#N/A"},null,null,"2019-02-07",0,0,615,0,null,64,18.2,null,64,1.5,null,{"$error":"#N/A"},{"$error":"#N/A"}]
[{"$f":"'Multiple NPA 65'!A18","v":0},{"$f":"'Multiple NPA 65'!B18","v":0},{"$f":"'Multiple NPA 65'!C18","v":0},{"$f":"'Multiple NPA 65'!D18","v":0},{"$f":"'Multiple NPA 65'!E18","v":0},{"$f":"'Multiple NPA 65'!F18","v":0},{"$f":"'Multiple NPA 65'!G18","v":0},{"$f":"'Multiple NPA 65'!E18","v":"00:00:00"},{"$f":"'Multiple NPA 65'!F18","v":0},{"$f":"'Multiple NPA 65'!G18","v":"00:00:00"},{"$f":"'Multiple NPA 65'!H18","v":0},{"$f":"'Multiple NPA 65'!I18","v":0},{"$f":"'Multiple NPA 65'!J18","v":0},0,{"$f":"'Multiple NPA 65'!K18","v":0},{"$f":"'Multiple NPA 65'!L18","v":0},{"$error":"#N/A"},null,{"$error":"#N/A"},{"$error":"#N/A"},{"$error":"#N/A"},0,0,0,{"$error":"#N/A"},0,{"$error":"#N/A"},{"$error":"#N/A"},null,null,"2019-02-07",0,0,616,0,null,65,17.7,null,65,1.5,null,{"$error":"#N/A"},{"$error":"#N/A"}]
[{"$f":"'Multiple NPA 65'!A19","v":0},{"$f":"'Multiple NPA 65'!B19","v":0},{"$f":"'Multiple NPA 65'!C19","v":0},{"$f":"'Multiple NPA 65'!D19","v":0},{"$f":"'Multiple NPA 65'!E19","v":0},{"$f":"'Multiple NPA 65'!F19","v":0},{"$f":"'Multiple NPA 65'!G19","v":0},{"$f":"'Multiple NPA 65'!E19","v":"00:00:00"},{"$f":"'Multiple NPA 65'!F19","v":0},{"$f":"'Multiple NPA 65'!G19","v":"00:00:00"},{"$f":"'Multiple NPA 65'!H19","v":0},{"$f":"'Multiple NPA 65'!I19","v":0},{"$f":"'Multiple NPA 65'!J19","v":0},0,{"$f":"'Multiple NPA 65'!K19","v":0},{"$f":"'Multiple NPA 65'!L19","v":0},{"$error":"#N/A"},null,{"$error":"#N/A"},{"$error":"#N/A"},{"$error":"#N/A"},0,0,0,{"$error":"#N/A"},0,{"$error":"#N/A"},{"$error":"#N/A"},null,null,"2019-02-07",0,0,617,0,null,66,0,null,66,0,null,{"$error":"#N/A"},{"$error":"#N/A"}]
[{"$f":"'Multiple NPA 65'!A20","v":0},{"$f":"'Multiple NPA 65'!B20","v":0},{"$f":"'Multiple NPA 65'!C20","v":0},{"$f":"'Multiple NPA 65'!D20","v":0},{"$f":"'Multiple NPA 65'!E20","v":0},{"$f":"'Multiple NPA 65'!F20","v":0},{"$f":"'Multiple NPA 65'!G20","v":0},{"$f":"'Multiple NPA 65'!E20","v":"00:00:00"},{"$f":"'Multiple NPA 65'!F20","v":0},{"$f":"'Multiple NPA 65'!G20","v":"00:00:00"},{"$f":"'Multiple NPA 65'!H20","v":0},{"$f":"'Multiple NPA 65'!I20","v":0},{"$f":"'Multiple NPA 65'!J20","v":0},0,{"$f":"'Multiple NPA 65'!K20","v":0},{"$f":"'Multiple NPA 65'!L20","v":0},{"$error":"#N/A"},null,{"$error":"#N/A"},{"$error":"#N/A"},{"$error":"#N/A"},0,0,0,{"$error":"#N/A"},0,{"$error":"#N/A"},{"$error":"#N/A"},null,null,"2019-02-07",0,0,618,0,null,67,0,null,67,0,null,{"$error":"#N/A"},{"$error":"#N/A"}]
[{"$f":"'Multiple NPA 65'!A21","v":0},{"$f":"'Multiple NPA 65'!B21","v":0},{"$f":"'Multiple NPA 65'!C21","v":0},{"$f":"'Multiple NPA 65'!D21","v":0},{"$f":"'Multiple NPA 65'!E21","v":0},{"$f":"'Multiple NPA 65'!F21","v":0},{"$f":"'Multiple NPA 65'!G21","v":0},{"$f":"'Multiple NPA 65'!E21","v":"00:00:00"},{"$f":"'Multiple NPA 65'!F21","v":0},{"$f":"'Multiple NPA 65'!G21","v":"00:00:00"},{"$f":"'Multiple NPA 65'!H21","v":0},{"$f":"'Multiple NPA 65'!I21","v":0},{"$f":"'Multiple NPA 65'!J21","v":0},0,{"$f":"'Multiple NPA 65'!K21","v":0},{"$f":"'Multiple NPA 65'!L21","v":0},{"$error":"#N/A"},null,{"$error":"#N/A"},{"$error":"#N/A"},{"$error":"#N/A"},0,0,0,{"$error":"#N/A"},0,{"$error":"#N/A"},{"$error":"#N/A"},null,null,"2019-02-07",0,0,619,0,null,68,0,null,68,0,null,{"$error":"#N/A"},{"$error":"#N/A"}]
[{"$f":"'Multiple NPA 65'!A22","v":0},{"$f":"'Multiple NPA 65'!B22","v":0},{"$f":"'Multiple NPA 65'!C22","v":0},{"$f":"'Multiple NPA 65'!D22","v":0},{"$f":"'Multiple NPA 65'!E22","v":0},{"$f":"'Multiple NPA 65'!F22","v":0},{"$f":"'Multiple NPA 65'!G22","v":0},{"$f":"'Multiple NPA 65'!E22","v":"00:00:00"},{"$f":"'Multiple NPA 65'!F22","v":0},{"$f":"'Multiple NPA 65'!G22","v":"00:00:00"},{"$f":"'Multiple NPA 65'!H22","v":0},{"$f":"'Multiple NPA 65'!I22","v":0},{"$f":"'Multiple NPA 65'!J22","v":0},0,{"$f":"'Multiple NPA 65'!K22","v":0},{"$f":"'Multiple NPA 65'!L22","v":0},{"$error":"#N/A"},null,{"$error":"#N/A"},{"$error":"#N/A"},{"$error":"#N/A"},0,0,0,{"$error":"#N/A"},0,{"$error":"#N/A"},{"$error":"#N/A"},null,null,"2019-02-07",0,0,620,0,null,69,0,null,69,0,null,{"$error":"#N/A"},{"$error":"#N/A"}]
[{"$f":"'Multiple NPA 65'!A23","v":0},{"$f":"'Multiple NPA 65'!B23","v":0},{"$f":"'Multiple NPA 65'!C23","v":0},{"$f":"'Multiple NPA 65'!D23","v":0},{"$f":"'Multiple NPA 65'!E23","v":0},{"$f":"'Multiple NPA 65'!F23","v":0},{"$f":"'Multiple NPA 65'!G23","v":0},{"$f":"'Multiple NPA 65'!E23","v":"00:00:00"},{"$f":"'Multiple NPA 65'!F23","v":0},{"$f":"'Multiple NPA 65'!G23","v":"00:00:00"},{"$f":"'Multiple NPA 65'!H23","v":0},{"$f":"'Multiple NPA 65'!I23","v":0},{"$f":"'Multiple NPA 65'!J23","v":0},0,{"$f":"'Multiple NPA 65'!K23","v":0},{"$f":"'Multiple NPA 65'!L23","v":0},{"$error":"#N/A"},null,{"$error":"#N/A"},{"$error":"#N/A"},{"$error":"#N/A"},0,0,0,{"$error":"#N/A"},0,{"$error":"#N/A"},{"$error":"#N/A"},null,null,"2019-02-07",0,0,621,0,null,70,0,null,70,0,null,{"$error":"#N/A"},{"$error":"#N/A"}]
[{"$f":"'Multiple NPA 65'!A24","v":0},{"$f":"'Multiple NPA 65'!B24","v":0},{"$f":"'Multiple NPA 65'!C24","v":0},{"$f":"'Multiple NPA 65'!D24","v":0},{"$f":"'Multiple NPA 65'!E24","v":0},{"$f":"'Multiple NPA 65'!F24","v":0},{"$f":"'Multiple NPA 65'!G24","v":0},{"$f":"'Multiple NPA 65'!E24","v":"00:00:00"},{"$f":"'Multiple NPA 65'!F24","v":0},{"$f":"'Multiple NPA 65'!G24","v":"00:00:00"},{"$f":"'Multiple NPA 65'!H24","v":0},{"$f":"'Multiple NPA 65'!I24","v":0},{"$f":"'Multiple NPA 65'!J24","v":0},0,{"$f":"'Multiple NPA 65'!K24","v":0},{"$f":"'Multiple NPA 65'!L24","v":0},{"$error":"#N/A"},null,{"$error":"#N/A"},{"$error":"#N/A"},{"$error":"#N/A"},0,0,0,{"$error":"#N/A"},0,{"$error":"#N/A"},{"$error":"#N/A"},null,null,"2019-02-07",0,0,622,0,null,null,null,null,null,null,null,{"$error":"#N/A"},{"$error":"#N/A"}]
[{"$f":"'Multiple NPA 65'!A25","v":0},{"$f":"'Multiple NPA 65'!B25","v":0},{"$f":"'Multiple NPA 65'!C25","v":0},{"$f":"'Multiple NPA 65'!D25","v":0},{"$f":"'Multiple NPA 65'!E25","v":0},{"$f":"'Multiple NPA 65'!F25","v":0},{"$f":"'Multiple NPA 65'!G25","v":0},{"$f":"'Multiple NPA 65'!E25","v":"00:00:00"},{"$f":"'Multiple NPA 65'!F25","v":0},{"$f":"'Multiple NPA 65'!G25","v":"00:00:00"},{"$f":"'Multiple NPA 65'!H25","v":0},{"$f":"'Multiple NPA 65'!I25","v":0},{"$f":"'Multiple NPA 65'!J25","v":0},0,{"$f":"'Multiple NPA 65'!K25","v":0},{"$f":"'Multiple NPA 65'!L25","v":0},{"$error":"#N/A"},null,{"$error":"#N/A"},{"$error":"#N/A"},{"$error":"#N/A"},0,0,0,{"$error":"#N/A"},0,{"$error":"#N/A"},{"$error":"#N/A"},null,null,"2019-02-07",0,0,623,0,null,null,null,null,null,null,null,{"$error":"#N/A"},{"$error":"#N/A"}]
[{"$f":"'Multiple NPA 65'!A26","v":0},{"$f":"'Multiple NPA 65'!B26","v":0},{"$f":"'Multiple NPA 65'!C26","v":0},{"$f":"'Multiple NPA 65'!D26","v":0},{"$f":"'Multiple NPA 65'!E26","v":0},{"$f":"'Multiple NPA 65'!F26","v":0},{"$f":"'Multiple NPA 65'!G26","v":0},{"$f":"'Multiple NPA 65'!E26","v":"00:00:00"},{"$f":"'Multiple NPA 65'!F26","v":0},{"$f":"'Multiple NPA 65'!G26","v":"00:00:00"},{"$f":"'Multiple NPA 65'!H26","v":0},{"$f":"'Multiple NPA 65'!I26","v":0},{"$f":"'Multiple NPA 65'!J26","v":0},0,{"$f":"'Multiple NPA 65'!K26","v":0},{"$f":"'Multiple NPA 65'!L26","v":0},{"$error":"#N/A"},null,{"$error":"#N/A"},{"$error":"#N/A"},{"$error":"#N/A"},0,0,0,{"$error":"#N/A"},0,{"$error":"#N/A"},{"$error":"#N/A"},null,null,"2019-02-07",0,0,624,0,null,null,null,null,null,null,null,{"$error":"#N/A"},{"$error":"#N/A"}]
[{"$f":"'Multiple NPA 65'!A27","v":0},{"$f":"'Multiple NPA 65'!B27","v":0},{"$f":"'Multiple NPA 65'!C27","v":0},{"$f":"'Multiple NPA 65'!D27","v":0},{"$f":"'Multiple NPA 65'!E27","v":0},{"$f":"'Multiple NPA 65'!F27","v":0},{"$f":"'Multiple NPA 65'!G27","v":0},{"$f":"'Multiple NPA 65'!E27","v":"00:00:00"},{"$f":"'Multiple NPA 65'!F27","v":0},{"$f":"'Multiple NPA 65'!G27","v":"00:00:00"},{"$f":"'Multiple NPA 65'!H27","v":0},{"$f":"'Multiple NPA 65'!I27","v":0},{"$f":"'Multiple NPA 65'!J27","v":0},0,{"$f":"'Multiple NPA 65'!K27","v":0},{"$f":"'Multiple NPA 65'!L27","v":0},{"$error":"#N/A"},null,{"$error":"#N/A"},{"$error":"#N/A"},{"$error":"#N/A"},0,0,0,{"$error":"#N/A"},0,{"$error":"#N/A"},{"$error":"#N/A"},null,null,"2019-02-07",0,0,625,0,null,null,null,null,null,null,null,{"$error":"#N/A"},{"$error":"#N/A"}]
[{"$f":"'Multiple NPA 65'!A28","v":0},{"$f":"'Multiple NPA 65'!B28","v":0},{"$f":"'Multiple NPA 65'!C28","v":0},{"$f":"'Multiple NPA 65'!D28","v":0},{"$f":"'Multiple NPA 65'!E28","v":0},{"$f":"'Multiple NPA 65'!F28","v":0},{"$f":"'Multiple NPA 65'!G28","v":0},{"$f":"'Multiple NPA 65'!E28","v":"00:00:00"},{"$f":"'Multiple NPA 65'!F28","v":0},{"$f":"'Multiple NPA 65'!G28","v":"00:00:00"},{"$f":"'Multiple NPA 65'!H28","v":0},{"$f":"'Multiple NPA 65'!I28","v":0},{"$f":"'Multiple NPA 65'!J28","v":0},0,{"$f":"'Multiple NPA 65'!K28","v":0},{"$f":"'Multiple NPA 65'!L28","v":0},{"$error":"#N/A"},null,{"$error":"#N/A"},{"$error":"#N/A"},{"$error":"#N/A"},0,0,0,{"$error":"#N/A"},0,{"$error":"#N/A"},{"$error":"#N/A"},null,null,"2019-02-07",0,0,626,0,null,null,null,null,null,null,null,{"$error":"#N/A"},{"$error":"#N/A"}]
[{"$f":"'Multiple NPA 65'!A29","v":0},{"$f":"'Multiple NPA 65'!B29","v":0},{"$f":"'Multiple NPA 65'!C29","v":0},{"$f":"'Multiple NPA 65'!D29","v":0},{"$f":"'Multiple NPA 65'!E29","v":0},{"$f":"'Multiple NPA 65'!F29","v":0},{"$f":"'Multiple NPA 65'!G29","v":0},{"$f":"'Multiple NPA 65'!E29","v":"00:00:00"},{"$f":"'Multiple NPA 65'!F29","v":0},{"$f":"'Multiple NPA 65'!G29","v":"00:00:00"},{"$f":"'Multiple NPA 65'!H29","v":0},{"$f":"'Multiple NPA 65'!I29","v":0},{"$f":"'Multiple NPA 65'!J29","v":0},0,{"$f":"'Multiple NPA 65'!K29","v":0},{"$f":"'Multiple NPA 65'!L29","v":0},{"$error":"#N/A"},null,{"$error":"#N/A"},{"$error":"#N/A"},{"$error":"#N/A"},0,0,0,{"$error":"#N/A"},0,{"$error":"#N/A"},{"$error":"#N/A"},null,null,"2019-02-07",0,0,627,0,null,null,null,null,null,null,null,{"$error":"#N/A"},{"$error":"#N/A"}]
[{"$f":"'Multiple NPA 65'!A30","v":0},{"$f":"'Multiple NPA 65'!B30","v":0},{"$f":"'Multiple NPA 65'!C30","v":0},{"$f":"'Multiple NPA 65'!D30","v":0},{"$f":"'Multiple NPA 65'!E30","v":0},{"$f":"'Multiple NPA 65'!F30","v":0},{"$f":"'Multiple NPA 65'!G30","v":0},{"$f":"'Multiple NPA 65'!E30","v":"00:00:00"},{"$f":"'Multiple NPA 65'!F30","v":0},{"$f":"'Multiple NPA 65'!G30","v":"00:00:00"},{"$f":"'Multiple NPA 65'!H30","v":0},{"$f":"'Multiple NPA 65'!I30","v":0},{"$f":"'Multiple NPA 65'!J30","v":0},0,{"$f":"'Multiple NPA 65'!K30","v":0},{"$f":"'Multiple NPA 65'!L30","v":0},{"$error":"#N/A"},null,{"$error":"#N/A"},{"$error":"#N/A"},{"$error":"#N/A"},0,0,0,{"$error":"#N/A"},0,{"$error":"#N/A"},{"$error":"#N/A"},null,null,"2019-02-07",0,0,628,0,null,null,null,null,null,null,null,{"$error":"#N/A"},{"$error":"#N/A"}]
[{"$f":"'Multiple NPA 65'!A31","v":0},{"$f":"'Multiple NPA 65'!B31","v":0},{"$f":"'Multiple NPA 65'!C31","v":0},{"$f":"'Multiple NPA 65'!D31","v":0},{"$f":"'Multiple NPA 65'!E31","v":0},{"$f":"'Multiple NPA 65'!F31","v":0},{"$f":"'Multiple NPA 65'!G31","v":0},{"$f":"'Multiple NPA 65'!E31","v":"00:00:00"},{"$f":"'Multiple NPA 65'!F31","v":0},{"$f":"'Multiple NPA 65'!G31","v":"00:00:00"},{"$f":"'Multiple NPA 65'!H31","v":0},{"$f":"'Multiple NPA 65'!I31","v":0},{"$f":"'Multiple NPA 65'!J31","v":0},0,{"$f":"'Multiple NPA 65'!K31","v":0},{"$f":"'Multiple NPA 65'!L31","v":0},{"$error":"#N/A"},null,{"$error":"#N/A"},{"$error":"#N/A"},{"$error":"#N/A"},0,0,0,{"$error":"#N/A"},0,{"$error":"#N/A"},{"$error":"#N/A"},null,null,"2019-02-07",0,0,629,0,null,null,null,null,null,null,null,{"$error":"#N/A"},{"$error":"#N/A"}]
[{"$f":"'Multiple NPA 65'!A32","v":0},{"$f":"'Multiple NPA 65'!B32","v":0},{"$f":"'Multiple NPA 65'!C32","v":0},{"$f":"'Multiple NPA 65'!D32","v":0},{"$f":"'Multiple NPA 65'!E32","v":0},{"$f":"'Multiple NPA 65'!F32","v":0},{"$f":"'Multiple NPA 65'!G32","v":0},{"$f":"'Multiple NPA 65'!E32","v":"00:00:00"},{"$f":"'Multiple NPA 65'!F32","v":0},{"$f":"'Multiple NPA 65'!G32","v":"00:00:00"},{"$f":"'Multiple NPA 65'!H32","v":0},{"$f":"'Multiple NPA 65'!I32","v":0},{"$f":"'Multiple NPA 65'!J32","v":0},0,{"$f":"'Multiple NPA 65'!K32","v":0},{"$f":"'Multiple NPA 65'!L32","v":0},{"$error":"#N/A"},null,{"$error":"#N/A"},{"$error":"#N/A"},{"$error":"#N/A"},0,0,0,{"$error":"#N/A"},0,{"$error":"#N/A"},{"$error":"#N/A"},null,null,"2019-02-07",0,0,630,0,null,null,null,null,null,null,null,{"$error":"#N/A"},{"$error":"#N/A"}]
[{"$f":"'Multiple NPA 65'!A33","v":0},{"$f":"'Multiple NPA 65'!B33","v":0},{"$f":"'Multiple NPA 65'!C33","v":0},{"$f":"'Multiple NPA 65'!D33","v":0},{"$f":"'Multiple NPA 65'!E33","v":0},{"$f":"'Multiple NPA 65'!F33","v":0},{"$f":"'Multiple NPA 65'!G33","v":0},{"$f":"'Multiple NPA 65'!E33","v":"00:00:00"},{"$f":"'Multiple NPA 65'!F33","v":0},{"$f":"'Multiple NPA 65'!G33","v":"00:00:00"},{"$f":"'Multiple NPA 65'!H33","v":0},{"$f":"'Multiple NPA 65'!I33","v":0},{"$f":"'Multiple NPA 65'!J33","v":0},0,{"$f":"'Multiple NPA 65'!K33","v":0},{"$f":"'Multiple NPA 65'!L33","v":0},{"$error":"#N/A"},null,{"$error":"#N/A"},{"$error":"#N/A"},{"$error":"#N/A"},0,0,0,{"$error":"#N/A"},0,{"$error":"#N/A"},{"$error":"#N/A"},null,null,"2019-02-07",0,0,631,0,null,null,null,null,null,null,null,{"$error":"#N/A"},{"$error":"#N/A"}]
[{"$f":"'Multiple NPA 65'!A34","v":0},{"$f":"'Multiple NPA 65'!B34","v":0},{"$f":"'Multiple NPA 65'!C34","v":0},{"$f":"'Multiple NPA 65'!D34","v":0},{"$f":"'Multiple NPA 65'!E34","v":0},{"$f":"'Multiple NPA 65'!F34","v":0},{"$f":"'Multiple NPA 65'!G34","v":0},{"$f":"'Multiple NPA 65'!E34","v":"00:00:00"},{"$f":"'Multiple NPA 65'!F34","v":0},{"$f":"'Multiple NPA 65'!G34","v":"00:00:00"},{"$f":"'Multiple NPA 65'!H34","v":0},{"$f":"'Multiple NPA 65'!I34","v":0},{"$f":"'Multiple NPA 65'!J34","v":0},0,{"$f":"'Multiple NPA 65'!K34","v":0},{"$f":"'Multiple NPA 65'!L34","v":0},{"$error":"#N/A"},null,{"$error":"#N/A"},{"$error":"#N/A"},{"$error":"#N/A"},0,0,0,{"$error":"#N/A"},0,{"$error":"#N/A"},{"$error":"#N/A"},null,null,"2019-02-07",0,0,632,0,null,null,null,null,null,null,null,{"$error":"#N/A"},{"$error":"#N/A"}]
[{"$f":"'Multiple NPA 65'!A35","v":0},{"$f":"'Multiple NPA 65'!B35","v":0},{"$f":"'Multiple NPA 65'!C35","v":0},{"$f":"'Multiple NPA 65'!D35","v":0},{"$f":"'Multiple NPA 65'!E35","v":0},{"$f":"'Multiple NPA 65'!F35","v":0},{"$f":"'Multiple NPA 65'!G35","v":0},{"$f":"'Multiple NPA 65'!E35","v":"00:00:00"},{"$f":"'Multiple NPA 65'!F35","v":0},{"$f":"'Multiple NPA 65'!G35","v":"00:00:00"},{"$f":"'Multiple NPA 65'!H35","v":0},{"$f":"'Multiple NPA 65'!I35","v":0},{"$f":"'Multiple NPA 65'!J35","v":0},0,{"$f":"'Multiple NPA 65'!K35","v":0},{"$f":"'Multiple NPA 65'!L35","v":0},{"$f":"VLOOKUP(AF37,$AH$4:$AI$244,2,FALSE)*(((K37+(L37/365))*I37)/60)","v":{"$error":"#N/A"}},null,{"$error":"#N/A"},{"$error":"#N/A"},{"$error":"#N/A"},0,0,0,{"$error":"#N/A"},0,{"$f":"SUM(Q37-AR37)","v":{"$error":"#N/A"}},{"$error":"#N/A"},null,null,"2019-02-07",0,0,633,0,null,null,null,null,null,null,null,{"$error":"#N/A"},{"$error":"#N/A"}]
[{"$f":"'Multiple NPA 65'!A36","v":0},{"$f":"'Multiple NPA 65'!B36","v":0},{"$f":"'Multiple NPA 65'!C36","v":0},{"$f":"'Multiple NPA 65'!D36","v":0},{"$f":"'Multiple NPA 65'!E36","v":0},{"$f":"'Multiple NPA 65'!F36","v":0},{"$f":"'Multiple NPA 65'!G36","v":0},{"$f":"'Multiple NPA 65'!E36","v":"00:00:00"},{"$f":"'Multiple NPA 65'!F36","v":0},{"$f":"'Multiple NPA 65'!G36","v":"00:00:00"},{"$f":"'Multiple NPA 65'!H36","v":0},{"$f":"'Multiple NPA 65'!I36","v":0},{"$f":"'Multiple NPA 65'!J36","v":0},0,{"$f":"'Multiple NPA 65'!K36","v":0},{"$f":"'Multiple NPA 65'!L36","v":0},{"$error":"#N/A"},null,{"$error":"#N/A"},{"$error":"#N/A"},{"$error":"#N/A"},0,0,0,{"$error":"#N/A"},0,{"$error":"#N/A"},{"$error":"#N/A"},null,null,"2019-02-07",0,0,634,0,null,null,null,null,null,null,null,{"$error":"#N/A"},{"$error":"#N/A"}]
[{"$f":"'Multiple NPA 65'!A37","v":0},{"$f":"'Multiple NPA 65'!B37","v":0},{"$f":"'Multiple NPA 65'!C37","v":0},{"$f":"'Multiple NPA 65'!D37","v":0},{"$f":"'Multiple NPA 65'!E37","v":0},{"$f":"'Multiple NPA 65'!F37","v":0},{"$f":"'Multiple NPA 65'!G37","v":0},{"$f":"'Multiple NPA 65'!E37","v":"00:00:00"},{"$f":"'Multiple NPA 65'!F37","v":0},{"$f":"'Multiple NPA 65'!G37","v":"00:00:00"},{"$f":"'Multiple NPA 65'!H37","v":0},{"$f":"'Multiple NPA 65'!I37","v":0},{"$f":"'Multiple NPA 65'!J37","v":0},0,{"$f":"'Multiple NPA 65'!K37","v":0},{"$f":"'Multiple NPA 65'!L37","v":0},{"$error":"#N/A"},null,{"$error":"#N/A"},{"$error":"#N/A"},{"$error":"#N/A"},0,0,0,{"$error":"#N/A"},0,{"$error":"#N/A"},{"$error":"#N/A"},null,null,"2019-02-07",0,0,635,0,null,null,null,null,null,null,null,{"$error":"#N/A"},{"$error":"#N/A"}]
[{"$f":"'Multiple NPA 65'!A38","v":0},{"$f":"'Multiple NPA 65'!B38","v":0},{"$f":"'Multiple NPA 65'!C38","v":0},{"$f":"'Multiple NPA 65'!D38","v":0},{"$f":"'Multiple NPA 65'!E38","v":0},{"$f":"'Multiple NPA 65'!F38","v":0},{"$f":"'Multiple NPA 65'!G38","v":0},{"$f":"'Multiple NPA 65'!E38","v":"00:00:00"},{"$f":"'Multiple NPA 65'!F38","v":0},{"$f":"'Multiple NPA 65'!G38","v":"00:00:00"},{"$f":"'Multiple NPA 65'!H38","v":0},{"$f":"'Multiple NPA 65'!I38","v":0},{"$f":"'Multiple NPA 65'!J38","v":0},0,{"$f":"'Multiple NPA 65'!K38","v":0},{"$f":"'Multiple NPA 65'!L38","v":0},{"$error":"#N/A"},null,{"$error":"#N/A"},{"$error":"#N/A"},{"$error":"#N/A"},0,0,0,{"$error":"#N/A"},0,{"$error":"#N/A"},{"$error":"#N/A"},null,null,"2019-02-07",0,0,636,0,null,null,null,null,null,null,null,{"$error":"#N/A"},{"$error":"#N/A"}]
[{"$f":"'Multiple NPA 65'!A39","v":0},{"$f":"'Multiple NPA 65'!B39","v":0},{"$f":"'Multiple NPA 65'!C39","v":0},{"$f":"'Multiple NPA 65'!D39","v":0},{"$f":"'Multiple NPA 65'!E39","v":0},{"$f":"'Multiple NPA 65'!F39","v":0},{"$f":"'Multiple NPA 65'!G39","v":0},{"$f":"'Multiple NPA 65'!E39","v":"00:00:00"},{"$f":"'Multiple NPA 65'!F39","v":0},{"$f":"'Multiple NPA 65'!G39","v":"00:00:00"},{"$f":"'Multiple NPA 65'!H39","v":0},{"$f":"'Multiple NPA 65'!I39","v":0},{"$f":"'Multiple NPA 65'!J39","v":0},0,{"$f":"'Multiple NPA 65'!K39","v":0},{"$f":"'Multiple NPA 65'!L39","v":0},{"$error":"#N/A"},null,{"$error":"#N/A"},{"$error":"#N/A"},{"$error":"#N/A"},0,0,0,{"$error":"#N/A"},0,{"$error":"#N/A"},{"$error":"#N/A"},null,null,"2019-02-07",0,0,637,0,null,null,null,null,null,null,null,{"$error":"#N/A"},{"$error":"#N/A"}]
[{"$f":"'Multiple NPA 65'!A40","v":0},{"$f":"'Multiple NPA 65'!B40","v":0},{"$f":"'Multiple NPA 65'!C40","v":0},{"$f":"'Multiple NPA 65'!D40","v":0},{"$f":"'Multiple NPA 65'!E40","v":0},{"$f":"'Multiple NPA 65'!F40","v":0},{"$f":"'Multiple NPA 65'!G40","v":0},{"$f":"'Multiple NPA 65'!E40","v":"00:00:00"},{"$f":"'Multiple NPA 65'!F40","v":0},{"$f":"'Multiple NPA 65'!G40","v":"00:00:00"},{"$f":"'Multiple NPA 65'!H40","v":0},{"$f":"'Multiple NPA 65'!I40","v":0},{"$f":"'Multiple NPA 65'!J40","v":0},0,{"$f":"'Multiple NPA 65'!K40","v":0},{"$f":"'Multiple NPA 65'!L40","v":0},{"$error":"#N/A"},null,{"$error":"#N/A"},{"$error":"#N/A"},{"$error":"#N/A"},0,0,0,{"$error":"#N/A"},0,{"$error":"#N/A"},{"$error":"#N/A"},null,null,"2019-02-07",0,0,638,0,null,null,null,null,null,null,null,{"$error":"#N/A"},{"$error":"#N/A"}]
[{"$f":"'Multiple NPA 65'!A41","v":0},{"$f":"'Multiple NPA 65'!B41","v":0},{"$f":"'Multiple NPA 65'!C41","v":0},{"$f":"'Multiple NPA 65'!D41","v":0},{"$f":"'Multiple NPA 65'!E41","v":0},{"$f":"'Multiple NPA 65'!F41","v":0},{"$f":"'Multiple NPA 65'!G41","v":0},{"$f":"'Multiple NPA 65'!E41","v":"00:00:00"},{"$f":"'Multiple NPA 65'!F41","v":0},{"$f":"'Multiple NPA 65'!G41","v":"00:00:00"},{"$f":"'Multiple NPA 65'!H41","v":0},{"$f":"'Multiple NPA 65'!I41","v":0},{"$f":"'Multiple NPA 65'!J41","v":0},0,{"$f":"'Multiple NPA 65'!K41","v":0},{"$f":"'Multiple NPA 65'!L41","v":0},{"$error":"#N/A"},null,{"$error":"#N/A"},{"$error":"#N/A"},{"$error":"#N/A"},0,0,0,{"$error":"#N/A"},0,{"$error":"#N/A"},{"$error":"#N/A"},null,null,"2019-02-07",0,0,639,0,null,null,null,null,null,null,null,{"$error":"#N/A"},{"$error":"#N/A"}]
[{"$f":"'Multiple NPA 65'!A42","v":0},{"$f":"'Multiple NPA 65'!B42","v":0},{"$f":"'Multiple NPA 65'!C42","v":0},{"$f":"'Multiple NPA 65'!D42","v":0},{"$f":"'Multiple NPA 65'!E42","v":0},{"$f":"'Multiple NPA 65'!F42","v":0},{"$f":"'Multiple NPA 65'!G42","v":0},{"$f":"'Multiple NPA 65'!E42","v":"00:00:00"},{"$f":"'Multiple NPA 65'!F42","v":0},{"$f":"'Multiple NPA 65'!G42","v":"00:00:00"},{"$f":"'Multiple NPA 65'!H42","v":0},{"$f":"'Multiple NPA 65'!I42","v":0},{"$f":"'Multiple NPA 65'!J42","v":0},0,{"$f":"'Multiple NPA 65'!K42","v":0},{"$f":"'Multiple NPA 65'!L42","v":0},{"$error":"#N/A"},null,{"$error":"#N/A"},{"$error":"#N/A"},{"$error":"#N/A"},0,0,0,{"$error":"#N/A"},0,{"$error":"#N/A"},{"$error":"#N/A"},null,null,"2019-02-07",0,0,640,0,null,null,null,null,null,null,null,{"$error":"#N/A"},{"$error":"#N/A"}]
[{"$f":"'Multiple NPA 65'!A43","v":0},{"$f":"'Multiple NPA 65'!B43","v":0},{"$f":"'Multiple NPA 65'!C43","v":0},{"$f":"'Multiple NPA 65'!D43","v":0},{"$f":"'Multiple NPA 65'!E43","v":0},{"$f":"'Multiple NPA 65'!F43","v":0},{"$f":"'Multiple NPA 65'!G43","v":0},{"$f":"'Multiple NPA 65'!E43","v":"00:00:00"},{"$f":"'Multiple NPA 65'!F43","v":0},{"$f":"'Multiple NPA 65'!G43","v":"00:00:00"},{"$f":"'Multiple NPA 65'!H43","v":0},{"$f":"'Multiple NPA 65'!I43","v":0},{"$f":"'Multiple NPA 65'!J43","v":0},0,{"$f":"'Multiple NPA 65'!K43","v":0},{"$f":"'Multiple NPA 65'!L43","v":0},{"$error":"#N/A"},null,{"$error":"#N/A"},{"$error":"#N/A"},{"$error":"#N/A"},0,0,0,{"$error":"#N/A"},0,{"$error":"#N/A"},{"$error":"#N/A"},null,null,"2019-02-07",0,0,641,0,null,null,null,null,null,null,null,{"$error":"#N/A"},{"$error":"#N/A"}]
[{"$f":"'Multiple NPA 65'!A44","v":0},{"$f":"'Multiple NPA 65'!B44","v":0},{"$f":"'Multiple NPA 65'!C44","v":0},{"$f":"'Multiple NPA 65'!D44","v":0},{"$f":"'Multiple NPA 65'!E44","v":0},{"$f":"'Multiple NPA 65'!F44","v":0},{"$f":"'Multiple NPA 65'!G44","v":0},{"$f":"'Multiple NPA 65'!E44","v":"00:00:00"},{"$f":"'Multiple NPA 65'!F44","v":0},{"$f":"'Multiple NPA 65'!G44","v":"00:00:00"},{"$f":"'Multiple NPA 65'!H44","v":0},{"$f":"'Multiple NPA 65'!I44","v":0},{"$f":"'Multiple NPA 65'!J44","v":0},0,{"$f":"'Multiple NPA 65'!K44","v":0},{"$f":"'Multiple NPA 65'!L44","v":0},{"$error":"#N/A"},null,{"$error":"#N/A"},{"$error":"#N/A"},{"$error":"#N/A"},0,0,0,{"$error":"#N/A"},0,{"$error":"#N/A"},{"$error":"#N/A"},null,null,"2019-02-07",0,0,642,0,null,null,null,null,null,null,null,{"$error":"#N/A"},{"$error":"#N/A"}]
[{"$f":"'Multiple NPA 65'!A45","v":0},{"$f":"'Multiple NPA 65'!B45","v":0},{"$f":"'Multiple NPA 65'!C45","v":0},{"$f":"'Multiple NPA 65'!D45","v":0},{"$f":"'Multiple NPA 65'!E45","v":0},{"$f":"'Multiple NPA 65'!F45","v":0},{"$f":"'Multiple NPA 65'!G45","v":0},{"$f":"'Multiple NPA 65'!E45","v":"00:00:00"},{"$f":"'Multiple NPA 65'!F45","v":0},{"$f":"'Multiple NPA 65'!G45","v":"00:00:00"},{"$f":"'Multiple NPA 65'!H45","v":0},{"$f":"'Multiple NPA 65'!I45","v":0},{"$f":"'Multiple NPA 65'!J45","v":0},0,{"$f":"'Multiple NPA 65'!K45","v":0},{"$f":"'Multiple NPA 65'!L45","v":0},{"$error":"#N/A"},null,{"$error":"#N/A"},{"$error":"#N/A"},{"$error":"#N/A"},0,0,0,{"$error":"#N/A"},0,{"$error":"#N/A"},{"$error":"#N/A"},null,null,"2019-02-07",0,0,643,0,null,null,null,null,null,null,null,{"$error":"#N/A"},{"$error":"#N/A"}]
[{"$f":"'Multiple NPA 65'!A46","v":0},{"$f":"'Multiple NPA 65'!B46","v":0},{"$f":"'Multiple NPA 65'!C46","v":0},{"$f":"'Multiple NPA 65'!D46","v":0},{"$f":"'Multiple NPA 65'!E46","v":0},{"$f":"'Multiple NPA 65'!F46","v":0},{"$f":"'Multiple NPA 65'!G46","v":0},{"$f":"'Multiple NPA 65'!E46","v":"00:00:00"},{"$f":"'Multiple NPA 65'!F46","v":0},{"$f":"'Multiple NPA 65'!G46","v":"00:00:00"},{"$f":"'Multiple NPA 65'!H46","v":0},{"$f":"'Multiple NPA 65'!I46","v":0},{"$f":"'Multiple NPA 65'!J46","v":0},0,{"$f":"'Multiple NPA 65'!K46","v":0},{"$f":"'Multiple NPA 65'!L46","v":0},{"$error":"#N/A"},null,{"$error":"#N/A"},{"$error":"#N/A"},{"$error":"#N/A"},0,0,0,{"$error":"#N/A"},0,{"$error":"#N/A"},{"$error":"#N/A"},null,null,"2019-02-07",0,0,644,0,null,null,null,null,null,null,null,{"$error":"#N/A"},{"$error":"#N/A"}]
[{"$f":"'Multiple NPA 65'!A47","v":0},{"$f":"'Multiple NPA 65'!B47","v":0},{"$f":"'Multiple NPA 65'!C47","v":0},{"$f":"'Multiple NPA 65'!D47","v":0},{"$f":"'Multiple NPA 65'!E47","v":0},{"$f":"'Multiple NPA 65'!F47","v":0},{"$f":"'Multiple NPA 65'!G47","v":0},{"$f":"'Multiple NPA 65'!E47","v":"00:00:00"},{"$f":"'Multiple NPA 65'!F47","v":0},{"$f":"'Multiple NPA 65'!G47","v":"00:00:00"},{"$f":"'Multiple NPA 65'!H47","v":0},{"$f":"'Multiple NPA 65'!I47","v":0},{"$f":"'Multiple NPA 65'!J47","v":0},0,{"$f":"'Multiple NPA 65'!K47","v":0},{"$f":"'Multiple NPA 65'!L47","v":0},{"$error":"#N/A"},null,{"$error":"#N/A"},{"$error":"#N/A"},{"$error":"#N/A"},0,0,0,{"$error":"#N/A"},0,{"$error":"#N/A"},{"$error":"#N/A"},null,null,"2019-02-07",0,0,645,0,null,null,null,null,null,null,null,{"$error":"#N/A"},{"$error":"#N/A"}]
[{"$f":"'Multiple NPA 65'!A48","v":0},{"$f":"'Multiple NPA 65'!B48","v":0},{"$f":"'Multiple NPA 65'!C48","v":0},{"$f":"'Multiple NPA 65'!D48","v":0},{"$f":"'Multiple NPA 65'!E48","v":0},{"$f":"'Multiple NPA 65'!F48","v":0},{"$f":"'Multiple NPA 65'!G48","v":0},{"$f":"'Multiple NPA 65'!E48","v":"00:00:00"},{"$f":"'Multiple NPA 65'!F48","v":0},{"$f":"'Multiple NPA 65'!G48","v":"00:00:00"},{"$f":"'Multiple NPA 65'!H48","v":0},{"$f":"'Multiple NPA 65'!I48","v":0},{"$f":"'Multiple NPA 65'!J48","v":0},0,{"$f":"'Multiple NPA 65'!K48","v":0},{"$f":"'Multiple NPA 65'!L48","v":0},{"$error":"#N/A"},null,{"$error":"#N/A"},{"$error":"#N/A"},{"$error":"#N/A"},0,0,0,{"$error":"#N/A"},0,{"$error":"#N/A"},{"$error":"#N/A"},null,null,"2019-02-07",0,0,646,0,null,null,null,null,null,null,null,{"$error":"#N/A"},{"$error":"#N/A"}]
[{"$f":"'Multiple NPA 65'!A49","v":0},{"$f":"'Multiple NPA 65'!B49","v":0},{"$f":"'Multiple NPA 65'!C49","v":0},{"$f":"'Multiple NPA 65'!D49","v":0},{"$f":"'Multiple NPA 65'!E49","v":0},{"$f":"'Multiple NPA 65'!F49","v":0},{"$f":"'Multiple NPA 65'!G49","v":0},{"$f":"'Multiple NPA 65'!E49","v":"00:00:00"},{"$f":"'Multiple NPA 65'!F49","v":0},{"$f":"'Multiple NPA 65'!G49","v":"00:00:00"},{"$f":"'Multiple NPA 65'!H49","v":0},{"$f":"'Multiple NPA 65'!I49","v":0},{"$f":"'Multiple NPA 65'!J49","v":0},0,{"$f":"'Multiple NPA 65'!K49","v":0},{"$f":"'Multiple NPA 65'!L49","v":0},{"$error":"#N/A"},null,{"$error":"#N/A"},{"$error":"#N/A"},{"$error":"#N/A"},0,0,0,{"$error":"#N/A"},0,{"$error":"#N/A"},{"$error":"#N/A"},null,null,"2019-02-07",0,0,647,0,null,null,null,null,null,null,null,{"$error":"#N/A"},{"$error":"#N/A"}]
[{"$f":"'Multiple NPA 65'!A50","v":0},{"$f":"'Multiple NPA 65'!B50","v":0},{"$f":"'Multiple NPA 65'!C50","v":0},{"$f":"'Multiple NPA 65'!D50","v":0},{"$f":"'Multiple NPA 65'!E50","v":0},{"$f":"'Multiple NPA 65'!F50","v":0},{"$f":"'Multiple NPA 65'!G50","v":0},{"$f":"'Multiple NPA 65'!E50","v":"00:00:00"},{"$f":"'Multiple NPA 65'!F50","v":0},{"$f":"'Multiple NPA 65'!G50","v":"00:00:00"},{"$f":"'Multiple NPA 65'!H50","v":0},{"$f":"'Multiple NPA 65'!I50","v":0},{"$f":"'Multiple NPA 65'!J50","v":0},0,{"$f":"'Multiple NPA 65'!K50","v":0},{"$f":"'Multiple NPA 65'!L50","v":0},{"$error":"#N/A"},null,{"$error":"#N/A"},{"$error":"#N/A"},{"$error":"#N/A"},0,0,0,{"$error":"#N/A"},0,{"$error":"#N/A"},{"$error":"#N/A"},null,null,"2019-02-07",0,0,648,0,null,null,null,null,null,null,null,{"$error":"#N/A"},{"$error":"#N/A"}]
[{"$f":"'Multiple NPA 65'!A51","v":0},{"$f":"'Multiple NPA 65'!B51","v":0},{"$f":"'Multiple NPA 65'!C51","v":0},{"$f":"'Multiple NPA 65'!D51","v":0},{"$f":"'Multiple NPA 65'!E51","v":0},{"$f":"'Multiple NPA 65'!F51","v":0},{"$f":"'Multiple NPA 65'!G51","v":0},{"$f":"'Multiple NPA 65'!E51","v":"00:00:00"},{"$f":"'Multiple NPA 65'!F51","v":0},{"$f":"'Multiple NPA 65'!G51","v":"00:00:00"},{"$f":"'Multiple NPA 65'!H51","v":0},{"$f":"'Multiple NPA 65'!I51","v":0},{"$f":"'Multiple NPA 65'!J51","v":0},0,{"$f":"'Multiple NPA 65'!K51","v":0},{"$f":"'Multiple NPA 65'!L51","v":0},{"$error":"#N/A"},null,{"$error":"#N/A"},{"$error":"#N/A"},{"$error":"#N/A"},0,0,0,{"$error":"#N/A"},0,{"$error":"#N/A"},{"$error":"#N/A"},null,null,"2019-02-07",0,0,649,0,null,null,null,null,null,null,null,{"$error":"#N/A"},{"$error":"#N/A"}]
[{"$f":"'Multiple NPA 65'!A52","v":0},{"$f":"'Multiple NPA 65'!B52","v":0},{"$f":"'Multiple NPA 65'!C52","v":0},{"$f":"'Multiple NPA 65'!D52","v":0},{"$f":"'Multiple NPA 65'!E52","v":0},{"$f":"'Multiple NPA 65'!F52","v":0},{"$f":"'Multiple NPA 65'!G52","v":0},{"$f":"'Multiple NPA 65'!E52","v":"00:00:00"},{"$f":"'Multiple NPA 65'!F52","v":0},{"$f":"'Multiple NPA 65'!G52","v":"00:00:00"},{"$f":"'Multiple NPA 65'!H52","v":0},{"$f":"'Multiple NPA 65'!I52","v":0},{"$f":"'Multiple NPA 65'!J52","v":0},0,{"$f":"'Multiple NPA 65'!K52","v":0},{"$f":"'Multiple NPA 65'!L52","v":0},{"$error":"#N/A"},null,{"$error":"#N/A"},{"$error":"#N/A"},{"$error":"#N/A"},0,0,0,{"$error":"#N/A"},0,{"$error":"#N/A"},{"$error":"#N/A"},null,null,"2019-02-07",0,0,650,0,null,null,null,null,null,null,null,{"$error":"#N/A"},{"$error":"#N/A"}]
[{"$f":"'Multiple NPA 65'!A53","v":0},{"$f":"'Multiple NPA 65'!B53","v":0},{"$f":"'Multiple NPA 65'!C53","v":0},{"$f":"'Multiple NPA 65'!D53","v":0},{"$f":"'Multiple NPA 65'!E53","v":0},{"$f":"'Multiple NPA 65'!F53","v":0},{"$f":"'Multiple NPA 65'!G53","v":0},{"$f":"'Multiple NPA 65'!E53","v":"00:00:00"},{"$f":"'Multiple NPA 65'!F53","v":0},{"$f":"'Multiple NPA 65'!G53","v":"00:00:00"},{"$f":"'Multiple NPA 65'!H53","v":0},{"$f":"'Multiple NPA 65'!I53","v":0},{"$f":"'Multiple NPA 65'!J53","v":0},0,{"$f":"'Multiple NPA 65'!K53","v":0},{"$f":"'Multiple NPA 65'!L53","v":0},{"$error":"#N/A"},null,{"$error":"#N/A"},{"$error":"#N/A"},{"$error":"#N/A"},0,0,0,{"$error":"#N/A"},0,{"$error":"#N/A"},{"$error":"#N/A"},null,null,"2019-02-07",0,0,651,0,null,null,null,null,null,null,null,{"$error":"#N/A"},{"$error":"#N/A"}]
[{"$f":"'Multiple NPA 65'!A54","v":0},{"$f":"'Multiple NPA 65'!B54","v":0},{"$f":"'Multiple NPA 65'!C54","v":0},{"$f":"'Multiple NPA 65'!D54","v":0},{"$f":"'Multiple NPA 65'!E54","v":0},{"$f":"'Multiple NPA 65'!F54","v":0},{"$f":"'Multiple NPA 65'!G54","v":0},{"$f":"'Multiple NPA 65'!E54","v":"00:00:00"},{"$f":"'Multiple NPA 65'!F54","v":0},{"$f":"'Multiple NPA 65'!G54","v":"00:00:00"},{"$f":"'Multiple NPA 65'!H54","v":0},{"$f":"'Multiple NPA 65'!I54","v":0},{"$f":"'Multiple NPA 65'!J54","v":0},0,{"$f":"'Multiple NPA 65'!K54","v":0},{"$f":"'Multiple NPA 65'!L54","v":0},{"$error":"#N/A"},null,{"$error":"#N/A"},{"$error":"#N/A"},{"$error":"#N/A"},0,0,0,{"$error":"#N/A"},0,{"$error":"#N/A"},{"$error":"#N/A"},null,null,"2019-02-07",0,0,652,0,null,null,null,null,null,null,null,{"$error":"#N/A"},{"$error":"#N/A"}]
[{"$f":"'Multiple NPA 65'!A55","v":0},{"$f":"'Multiple NPA 65'!B55","v":0},{"$f":"'Multiple NPA 65'!C55","v":0},{"$f":"'Multiple NPA 65'!D55","v":0},{"$f":"'Multiple NPA 65'!E55","v":0},{"$f":"'Multiple NPA 65'!F55","v":0},{"$f":"'Multiple NPA 65'!G55","v":0},{"$f":"'Multiple NPA 65'!E55","v":"00:00:00"},{"$f":"'Multiple NPA 65'!F55","v":0},{"$f":"'Multiple NPA 65'!G55","v":"00:00:00"},{"$f":"'Multiple NPA 65'!H55","v":0},{"$f":"'Multiple NPA 65'!I55","v":0},{"$f":"'Multiple NPA 65'!J55","v":0},0,{"$f":"'Multiple NPA 65'!K55","v":0},{"$f":"'Multiple NPA 65'!L55","v":0},{"$error":"#N/A"},null,{"$error":"#N/A"},{"$error":"#N/A"},{"$error":"#N/A"},0,0,0,{"$error":"#N/A"},0,{"$error":"#N/A"},{"$error":"#N/A"},null,null,"2019-02-07",0,0,653,0,null,null,null,null,null,null,null,{"$error":"#N/A"},{"$error":"#N/A"}]
[{"$f":"'Multiple NPA 65'!A56","v":0},{"$f":"'Multiple NPA 65'!B56","v":0},{"$f":"'Multiple NPA 65'!C56","v":0},{"$f":"'Multiple NPA 65'!D56","v":0},{"$f":"'Multiple NPA 65'!E56","v":0},{"$f":"'Multiple NPA 65'!F56","v":0},{"$f":"'Multiple NPA 65'!G56","v":0},{"$f":"'Multiple NPA 65'!E56","v":"00:00:00"},{"$f":"'Multiple NPA 65'!F56","v":0},{"$f":"'Multiple NPA 65'!G56","v":"00:00:00"},{"$f":"'Multiple NPA 65'!H56","v":0},{"$f":"'Multiple NPA 65'!I56","v":0},{"$f":"'Multiple NPA 65'!J56","v":0},0,{"$f":"'Multiple NPA 65'!K56","v":0},{"$f":"'Multiple NPA 65'!L56","v":0},{"$error":"#N/A"},null,{"$error":"#N/A"},{"$error":"#N/A"},{"$error":"#N/A"},0,0,0,{"$error":"#N/A"},0,{"$error":"#N/A"},{"$error":"#N/A"},null,null,"2019-02-07",0,0,654,0,null,null,null,null,null,null,null,{"$error":"#N/A"},{"$error":"#N/A"}]
[{"$f":"'Multiple NPA 65'!A57","v":0},{"$f":"'Multiple NPA 65'!B57","v":0},{"$f":"'Multiple NPA 65'!C57","v":0},{"$f":"'Multiple NPA 65'!D57","v":0},{"$f":"'Multiple NPA 65'!E57","v":0},{"$f":"'Multiple NPA 65'!F57","v":0},{"$f":"'Multiple NPA 65'!G57","v":0},{"$f":"'Multiple NPA 65'!E57","v":"00:00:00"},{"$f":"'Multiple NPA 65'!F57","v":0},{"$f":"'Multiple NPA 65'!G57","v":"00:00:00"},{"$f":"'Multiple NPA 65'!H57","v":0},{"$f":"'Multiple NPA 65'!I57","v":0},{"$f":"'Multiple NPA 65'!J57","v":0},0,{"$f":"'Multiple NPA 65'!K57","v":0},{"$f":"'Multiple NPA 65'!L57","v":0},{"$error":"#N/A"},null,{"$error":"#N/A"},{"$error":"#N/A"},{"$error":"#N/A"},0,0,0,{"$error":"#N/A"},0,{"$error":"#N/A"},{"$error":"#N/A"},null,null,"2019-02-07",0,0,655,0,null,null,null,null,null,null,null,{"$error":"#N/A"},{"$error":"#N/A"}]
[{"$f":"'Multiple NPA 65'!A58","v":0},{"$f":"'Multiple NPA 65'!B58","v":0},{"$f":"'Multiple NPA 65'!C58","v":0},{"$f":"'Multiple NPA 65'!D58","v":0},{"$f":"'Multiple NPA 65'!E58","v":0},{"$f":"'Multiple NPA 65'!F58","v":0},{"$f":"'Multiple NPA 65'!G58","v":0},{"$f":"'Multiple NPA 65'!E58","v":"00:00:00"},{"$f":"'Multiple NPA 65'!F58","v":0},{"$f":"'Multiple NPA 65'!G58","v":"00:00:00"},{"$f":"'Multiple NPA 65'!H58","v":0},{"$f":"'Multiple NPA 65'!I58","v":0},{"$f":"'Multiple NPA 65'!J58","v":0},0,{"$f":"'Multiple NPA 65'!K58","v":0},{"$f":"'Multiple NPA 65'!L58","v":0},{"$error":"#N/A"},null,{"$error":"#N/A"},{"$error":"#N/A"},{"$error":"#N/A"},0,0,0,{"$error":"#N/A"},0,{"$error":"#N/A"},{"$error":"#N/A"},null,null,"2019-02-07",0,0,656,0,null,null,null,null,null,null,null,{"$error":"#N/A"},{"$error":"#N/A"}]
[{"$f":"'Multiple NPA 65'!A59","v":0},{"$f":"'Multiple NPA 65'!B59","v":0},{"$f":"'Multiple NPA 65'!C59","v":0},{"$f":"'Multiple NPA 65'!D59","v":0},{"$f":"'Multiple NPA 65'!E59","v":0},{"$f":"'Multiple NPA 65'!F59","v":0},{"$f":"'Multiple NPA 65'!G59","v":0},{"$f":"'Multiple NPA 65'!E59","v":"00:00:00"},{"$f":"'Multiple NPA 65'!F59","v":0},{"$f":"'Multiple NPA 65'!G59","v":"00:00:00"},{"$f":"'Multiple NPA 65'!H59","v":0},{"$f":"'Multiple NPA 65'!I59","v":0},{"$f":"'Multiple NPA 65'!J59","v":0},0,{"$f":"'Multiple NPA 65'!K59","v":0},{"$f":"'Multiple NPA 65'!L59","v":0},{"$error":"#N/A"},null,{"$error":"#N/A"},{"$error":"#N/A"},{"$error":"#N/A"},0,0,0,{"$error":"#N/A"},0,{"$error":"#N/A"},{"$error":"#N/A"},null,null,"2019-02-07",0,0,657,0,null,null,null,null,null,null,null,{"$error":"#N/A"},{"$error":"#N/A"}]
[{"$f":"'Multiple NPA 65'!A60","v":0},{"$f":"'Multiple NPA 65'!B60","v":0},{"$f":"'Multiple NPA 65'!C60","v":0},{"$f":"'Multiple NPA 65'!D60","v":0},{"$f":"'Multiple NPA 65'!E60","v":0},{"$f":"'Multiple NPA 65'!F60","v":0},{"$f":"'Multiple NPA 65'!G60","v":0},{"$f":"'Multiple NPA 65'!E60","v":"00:00:00"},{"$f":"'Multiple NPA 65'!F60","v":0},{"$f":"'Multiple NPA 65'!G60","v":"00:00:00"},{"$f":"'Multiple NPA 65'!H60","v":0},{"$f":"'Multiple NPA 65'!I60","v":0},{"$f":"'Multiple NPA 65'!J60","v":0},0,{"$f":"'Multiple NPA 65'!K60","v":0},{"$f":"'Multiple NPA 65'!L60","v":0},{"$error":"#N/A"},null,{"$error":"#N/A"},{"$error":"#N/A"},{"$error":"#N/A"},0,0,0,{"$error":"#N/A"},0,{"$error":"#N/A"},{"$error":"#N/A"},null,null,"2019-02-07",0,0,658,0,null,null,null,null,null,null,null,{"$error":"#N/A"},{"$error":"#N/A"}]
[{"$f":"'Multiple NPA 65'!A61","v":0},{"$f":"'Multiple NPA 65'!B61","v":0},{"$f":"'Multiple NPA 65'!C61","v":0},{"$f":"'Multiple NPA 65'!D61","v":0},{"$f":"'Multiple NPA 65'!E61","v":0},{"$f":"'Multiple NPA 65'!F61","v":0},{"$f":"'Multiple NPA 65'!G61","v":0},{"$f":"'Multiple NPA 65'!E61","v":"00:00:00"},{"$f":"'Multiple NPA 65'!F61","v":0},{"$f":"'Multiple NPA 65'!G61","v":"00:00:00"},{"$f":"'Multiple NPA 65'!H61","v":0},{"$f":"'Multiple NPA 65'!I61","v":0},{"$f":"'Multiple NPA 65'!J61","v":0},0,{"$f":"'Multiple NPA 65'!K61","v":0},{"$f":"'Multiple NPA 65'!L61","v":0},{"$error":"#N/A"},null,{"$error":"#N/A"},{"$error":"#N/A"},{"$error":"#N/A"},0,0,0,{"$error":"#N/A"},0,{"$error":"#N/A"},{"$error":"#N/A"},null,null,"2019-02-07",0,0,659,0,null,null,null,null,null,null,null,{"$error":"#N/A"},{"$error":"#N/A"}]
[{"$f":"'Multiple NPA 65'!A62","v":0},{"$f":"'Multiple NPA 65'!B62","v":0},{"$f":"'Multiple NPA 65'!C62","v":0},{"$f":"'Multiple NPA 65'!D62","v":0},{"$f":"'Multiple NPA 65'!E62","v":0},{"$f":"'Multiple NPA 65'!F62","v":0},{"$f":"'Multiple NPA 65'!G62","v":0},{"$f":"'Multiple NPA 65'!E62","v":"00:00:00"},{"$f":"'Multiple NPA 65'!F62","v":0},{"$f":"'Multiple NPA 65'!G62","v":"00:00:00"},{"$f":"'Multiple NPA 65'!H62","v":0},{"$f":"'Multiple NPA 65'!I62","v":0},{"$f":"'Multiple NPA 65'!J62","v":0},0,{"$f":"'Multiple NPA 65'!K62","v":0},{"$f":"'Multiple NPA 65'!L62","v":0},{"$error":"#N/A"},null,{"$error":"#N/A"},{"$error":"#N/A"},{"$error":"#N/A"},0,0,0,{"$error":"#N/A"},0,{"$error":"#N/A"},{"$error":"#N/A"},null,null,"2019-02-07",0,0,660,0.61899999999999999,null,null,null,null,null,null,null,{"$error":"#N/A"},{"$error":"#N/A"}]
[{"$f":"'Multiple NPA 65'!A63","v":0},{"$f":"'Multiple NPA 65'!B63","v":0},{"$f":"'Multiple NPA 65'!C63","v":0},{"$f":"'Multiple NPA 65'!D63","v":0},{"$f":"'Multiple NPA 65'!E63","v":0},{"$f":"'Multiple NPA 65'!F63","v":0},{"$f":"'Multiple NPA 65'!G63","v":0},{"$f":"'Multiple NPA 65'!E63","v":"00:00:00"},{"$f":"'Multiple NPA 65'!F63","v":0},{"$f":"'Multiple NPA 65'!G63","v":"00:00:00"},{"$f":"'Multiple NPA 65'!H63","v":0},{"$f":"'Multiple NPA 65'!I63","v":0},{"$f":"'Multiple NPA 65'!J63","v":0},0,{"$f":"'Multiple NPA 65'!K63","v":0},{"$f":"'Multiple NPA 65'!L63","v":0},{"$error":"#N/A"},null,{"$error":"#N/A"},{"$error":"#N/A"},{"$error":"#N/A"},0,0,0,{"$error":"#N/A"},0,{"$error":"#N/A"},{"$error":"#N/A"},null,null,"2019-02-07",0,0,661,0.621,null,null,null,null,null,null,null,{"$error":"#N/A"},{"$error":"#N/A"}]
[{"$f":"'Multiple NPA 65'!A64","v":0},{"$f":"'Multiple NPA 65'!B64","v":0},{"$f":"'Multiple NPA 65'!C64","v":0},{"$f":"'Multiple NPA 65'!D64","v":0},{"$f":"'Multiple NPA 65'!E64","v":0},{"$f":"'Multiple NPA 65'!F64","v":0},{"$f":"'Multiple NPA 65'!G64","v":0},{"$f":"'Multiple NPA 65'!E64","v":"00:00:00"},{"$f":"'Multiple NPA 65'!F64","v":0},{"$f":"'Multiple NPA 65'!G64","v":"00:00:00"},{"$f":"'Multiple NPA 65'!H64","v":0},{"$f":"'Multiple NPA 65'!I64","v":0},{"$f":"'Multiple NPA 65'!J64","v":0},0,{"$f":"'Multiple NPA 65'!K64","v":0},{"$f":"'Multiple NPA 65'!L64","v":0},{"$error":"#N/A"},null,{"$error":"#N/A"},{"$error":"#N/A"},{"$error":"#N/A"},0,0,0,{"$error":"#N/A"},0,{"$error":"#N/A"},{"$error":"#N/A"},null,null,"2019-02-07",0,0,662,0.623,null,null,null,null,null,null,null,{"$error":"#N/A"},{"$error":"#N/A"}]
[{"$f":"'Multiple NPA 65'!A65","v":0},{"$f":"'Multiple NPA 65'!B65","v":0},{"$f":"'Multiple NPA 65'!C65","v":0},{"$f":"'Multiple NPA 65'!D65","v":0},{"$f":"'Multiple NPA 65'!E65","v":0},{"$f":"'Multiple NPA 65'!F65","v":0},{"$f":"'Multiple NPA 65'!G65","v":0},{"$f":"'Multiple NPA 65'!E65","v":"00:00:00"},{"$f":"'Multiple NPA 65'!F65","v":0},{"$f":"'Multiple NPA 65'!G65","v":"00:00:00"},{"$f":"'Multiple NPA 65'!H65","v":0},{"$f":"'Multiple NPA 65'!I65","v":0},{"$f":"'Multiple NPA 65'!J65","v":0},0,{"$f":"'Multiple NPA 65'!K65","v":0},{"$f":"'Multiple NPA 65'!L65","v":0},{"$error":"#N/A"},null,{"$error":"#N/A"},{"$error":"#N/A"},{"$error":"#N/A"},0,0,0,{"$error":"#N/A"},0,{"$error":"#N/A"},{"$error":"#N/A"},null,null,"2019-02-07",0,0,663,0.625,null,null,null,null,null,null,null,{"$error":"#N/A"},{"$error":"#N/A"}]
[{"$f":"'Multiple NPA 65'!A66","v":0},{"$f":"'Multiple NPA 65'!B66","v":0},{"$f":"'Multiple NPA 65'!C66","v":0},{"$f":"'Multiple NPA 65'!D66","v":0},{"$f":"'Multiple NPA 65'!E66","v":0},{"$f":"'Multiple NPA 65'!F66","v":0},{"$f":"'Multiple NPA 65'!G66","v":0},{"$f":"'Multiple NPA 65'!E66","v":"00:00:00"},{"$f":"'Multiple NPA 65'!F66","v":0},{"$f":"'Multiple NPA 65'!G66","v":"00:00:00"},{"$f":"'Multiple NPA 65'!H66","v":0},{"$f":"'Multiple NPA 65'!I66","v":0},{"$f":"'Multiple NPA 65'!J66","v":0},0,{"$f":"'Multiple NPA 65'!K66","v":0},{"$f":"'Multiple NPA 65'!L66","v":0},{"$error":"#N/A"},null,{"$error":"#N/A"},{"$error":"#N/A"},{"$error":"#N/A"},0,0,0,{"$error":"#N/A"},0,{"$error":"#N/A"},{"$error":"#N/A"},null,null,"2019-02-07",0,0,664,0.628,null,null,null,null,null,null,null,{"$error":"#N/A"},{"$error":"#N/A"}]
[{"$f":"'Multiple NPA 65'!A67","v":0},{"$f":"'Multiple NPA 65'!B67","v":0},{"$f":"'Multiple NPA 65'!C67","v":0},{"$f":"'Multiple NPA 65'!D67","v":0},{"$f":"'Multiple NPA 65'!E67","v":0},{"$f":"'Multiple NPA 65'!F67","v":0},{"$f":"'Multiple NPA 65'!G67","v":0},{"$f":"'Multiple NPA 65'!E67","v":"00:00:00"},{"$f":"'Multiple NPA 65'!F67","v":0},{"$f":"'Multiple NPA 65'!G67","v":"00:00:00"},{"$f":"'Multiple NPA 65'!H67","v":0},{"$f":"'Multiple NPA 65'!I67","v":0},{"$f":"'Multiple NPA 65'!J67","v":0},0,{"$f":"'Multiple NPA 65'!K67","v":0},{"$f":"'Multiple NPA 65'!L67","v":0},{"$f":"VLOOKUP(AF69,$AH$4:$AI$244,2,FALSE)*(((K69+(L69/365))*I69)/60)","v":{"$error":"#N/A"}},null,{"$error":"#N/A"},{"$error":"#N/A"},{"$error":"#N/A"},0,0,0,{"$error":"#N/A"},0,{"$f":"SUM(Q69-AR69)","v":{"$error":"#N/A"}},{"$error":"#N/A"},null,null,"2019-02-07",{"$f":"(DATEDIF(H69, J69, \"M\"))","v":0},{"$f":"(DATEDIF(H69, J69, \"Y\"))","v":0},665,0.63,null,null,null,null,null,null,null,{"$f":"SUM((Q69*20)+(R69*(20/12)))/4.6667","v":{"$error":"#N/A"}},{"$f":"ROUNDDOWN(((AQ69-R69)/12),0)","v":{"$error":"#N/A"}}]
[{"$f":"'Multiple NPA 65'!A68","v":0},{"$f":"'Multiple NPA 65'!B68","v":0},{"$f":"'Multiple NPA 65'!C68","v":0},{"$f":"'Multiple NPA 65'!D68","v":0},{"$f":"'Multiple NPA 65'!E68","v":0},{"$f":"'Multiple NPA 65'!F68","v":0},{"$f":"'Multiple NPA 65'!G68","v":0},{"$f":"'Multiple NPA 65'!E68","v":"00:00:00"},{"$f":"'Multiple NPA 65'!F68","v":0},{"$f":"'Multiple NPA 65'!G68","v":"00:00:00"},{"$f":"'Multiple NPA 65'!H68","v":0},{"$f":"'Multiple NPA 65'!I68","v":0},{"$f":"'Multiple NPA 65'!J68","v":0},{"$f":"O70+(P70/365)","v":0},{"$f":"'Multiple NPA 65'!K68","v":0},{"$f":"'Multiple NPA 65'!L68","v":0},{"$error":"#N/A"},null,{"$f":"(((K70+(L70/365))*I70)/60)-Q70","v":{"$error":"#N/A"}},{"$error":"#N/A"},{"$f":"(((VLOOKUP(AG70, $AK$5:$AL$25,2,FALSE)*S70)))","v":{"$error":"#N/A"}},0,{"$f":"((O70+(P70/365))*I70)/160","v":0},{"$f":"V70*3","v":0},{"$f":"(((VLOOKUP(AG70,$AK$5:$AL$25,2,FALSE)*V70)+(((VLOOKUP(AG70,$AN$5:$AO$25,2,FALSE)*W70)))))","v":{"$error":"#N/A"}},0,{"$error":"#N/A"},{"$f":"SUM(AR70*12)","v":{"$error":"#N/A"}},null,null,{"$f":"TODAY()","v":"2019-02-07"},0,0,666,0.63200000000000001,null,null,null,null,null,null,null,{"$error":"#N/A"},{"$error":"#N/A"}]
[{"$f":"'Multiple NPA 65'!A69","v":0},{"$f":"'Multiple NPA 65'!B69","v":0},{"$f":"'Multiple NPA 65'!C69","v":0},{"$f":"'Multiple NPA 65'!D69","v":0},{"$f":"'Multiple NPA 65'!E69","v":0},{"$f":"'Multiple NPA 65'!F69","v":0},{"$f":"'Multiple NPA 65'!G69","v":0},{"$f":"'Multiple NPA 65'!E69","v":"00:00:00"},{"$f":"'Multiple NPA 65'!F69","v":0},{"$f":"'Multiple NPA 65'!G69","v":"00:00:00"},{"$f":"'Multiple NPA 65'!H69","v":0},{"$f":"'Multiple NPA 65'!I69","v":0},{"$f":"'Multiple NPA 65'!J69","v":0},0,{"$f":"'Multiple NPA 65'!K69","v":0},{"$f":"'Multiple NPA 65'!L69","v":0},{"$error":"#N/A"},null,{"$error":"#N/A"},{"$f":"S71*3","v":{"$error":"#N/A"}},{"$error":"#N/A"},{"$f":"((O71+(P71/365))*I71)/60","v":0},0,0,{"$error":"#N/A"},0,{"$error":"#N/A"},{"$error":"#N/A"},null,null,"2019-02-07",0,0,667,0.63400000000000001,null,null,null,null,null,null,null,{"$error":"#N/A"},{"$error":"#N/A"}]
[{"$f":"'Multiple NPA 65'!A70","v":0},{"$f":"'Multiple NPA 65'!B70","v":0},{"$f":"'Multiple NPA 65'!C70","v":0},{"$f":"'Multiple NPA 65'!D70","v":0},{"$f":"'Multiple NPA 65'!E70","v":0},{"$f":"'Multiple NPA 65'!F70","v":0},{"$f":"'Multiple NPA 65'!G70","v":0},{"$f":"'Multiple NPA 65'!E70","v":"00:00:00"},{"$f":"'Multiple NPA 65'!F70","v":0},{"$f":"'Multiple NPA 65'!G70","v":"00:00:00"},{"$f":"'Multiple NPA 65'!H70","v":0},{"$f":"'Multiple NPA 65'!I70","v":0},{"$f":"'Multiple NPA 65'!J70","v":0},0,{"$f":"'Multiple NPA 65'!K70","v":0},{"$f":"'Multiple NPA 65'!L70","v":0},{"$error":"#N/A"},null,{"$error":"#N/A"},{"$error":"#N/A"},{"$error":"#N/A"},0,0,0,{"$error":"#N/A"},0,{"$error":"#N/A"},{"$error":"#N/A"},null,null,"2019-02-07",0,0,668,0.63700000000000001,null,null,null,null,null,null,null,{"$error":"#N/A"},{"$error":"#N/A"}]
[{"$f":"'Multiple NPA 65'!A71","v":0},{"$f":"'Multiple NPA 65'!B71","v":0},{"$f":"'Multiple NPA 65'!C71","v":0},{"$f":"'Multiple NPA 65'!D71","v":0},{"$f":"'Multiple NPA 65'!E71","v":0},{"$f":"'Multiple NPA 65'!F71","v":0},{"$f":"'Multiple NPA 65'!G71","v":0},{"$f":"'Multiple NPA 65'!E71","v":"00:00:00"},{"$f":"'Multiple NPA 65'!F71","v":0},{"$f":"'Multiple NPA 65'!G71","v":"00:00:00"},{"$f":"'Multiple NPA 65'!H71","v":0},{"$f":"'Multiple NPA 65'!I71","v":0},{"$f":"'Multiple NPA 65'!J71","v":0},0,{"$f":"'Multiple NPA 65'!K71","v":0},{"$f":"'Multiple NPA 65'!L71","v":0},{"$error":"#N/A"},null,{"$error":"#N/A"},{"$error":"#N/A"},{"$error":"#N/A"},0,0,0,{"$error":"#N/A"},{"$f":"(SUMIF(U73:Y73,\">0\",U73:Y73))-(V73+X73+W73)","v":0},{"$error":"#N/A"},{"$error":"#N/A"},null,null,"2019-02-07",0,0,669,0.63900000000000001,null,null,null,null,null,null,null,{"$error":"#N/A"},{"$error":"#N/A"}]
[{"$f":"'Multiple NPA 65'!A72","v":0},{"$f":"'Multiple NPA 65'!B72","v":0},{"$f":"'Multiple NPA 65'!C72","v":0},{"$f":"'Multiple NPA 65'!D72","v":0},{"$f":"'Multiple NPA 65'!E72","v":"00:00:00"},{"$f":"'Multiple NPA 65'!F72","v":0},{"$f":"'Multiple NPA 65'!G72","v":0},{"$f":"'Multiple NPA 65'!E72","v":"00:00:00"},{"$f":"'Multiple NPA 65'!F72","v":0},{"$f":"'Multiple NPA 65'!G72","v":"00:00:00"},{"$f":"'Multiple NPA 65'!H72","v":0},{"$f":"'Multiple NPA 65'!I72","v":0},{"$f":"'Multiple NPA 65'!J72","v":0},0,{"$f":"'Multiple NPA 65'!K72","v":0},{"$f":"'Multiple NPA 65'!L72","v":0},{"$error":"#N/A"},null,{"$error":"#N/A"},{"$error":"#N/A"},{"$error":"#N/A"},0,0,0,{"$error":"#N/A"},0,{"$error":"#N/A"},{"$error":"#N/A"},null,null,"2019-02-07",0,0,670,0.64100000000000001,null,null,null,null,null,null,null,{"$error":"#N/A"},{"$error":"#N/A"}]
[{"$f":"'Multiple NPA 65'!A73","v":0},{"$f":"'Multiple NPA 65'!B73","v":0},{"$f":"'Multiple NPA 65'!C73","v":0},{"$f":"'Multiple NPA 65'!D73","v":0},{"$f":"'Multiple NPA 65'!E73","v":"00:00:00"},{"$f":"'Multiple NPA 65'!F73","v":0},{"$f":"'Multiple NPA 65'!G73","v":0},{"$f":"'Multiple NPA 65'!E73","v":"00:00:00"},{"$f":"'Multiple NPA 65'!F73","v":0},{"$f":"'Multiple NPA 65'!G73","v":"00:00:00"},{"$f":"'Multiple NPA 65'!H73","v":0},{"$f":"'Multiple NPA 65'!I73","v":0},{"$f":"'Multiple NPA 65'!J73","v":0},0,{"$f":"'Multiple NPA 65'!K73","v":0},{"$f":"'Multiple NPA 65'!L73","v":0},{"$error":"#N/A"},null,{"$error":"#N/A"},{"$error":"#N/A"},{"$error":"#N/A"},0,0,0,{"$error":"#N/A"},0,{"$error":"#N/A"},{"$error":"#N/A"},null,null,"2019-02-07",0,0,671,0.64300000000000002,null,null,null,null,null,null,null,{"$error":"#N/A"},{"$error":"#N/A"}]
[{"$f":"'Multiple NPA 65'!A74","v":0},{"$f":"'Multiple NPA 65'!B74","v":0},{"$f":"'Multiple NPA 65'!C74","v":0},{"$f":"'Multiple NPA 65'!D74","v":0},{"$f":"'Multiple NPA 65'!E74","v":"00:00:00"},{"$f":"'Multiple NPA 65'!F74","v":0},{"$f":"'Multiple NPA 65'!G74","v":0},{"$f":"'Multiple NPA 65'!E74","v":"00:00:00"},{"$f":"'Multiple NPA 65'!F74","v":0},{"$f":"'Multiple NPA 65'!G74","v":"00:00:00"},{"$f":"'Multiple NPA 65'!H74","v":0},{"$f":"'Multiple NPA 65'!I74","v":0},{"$f":"'Multiple NPA 65'!J74","v":0},0,{"$f":"'Multiple NPA 65'!K74","v":0},{"$f":"'Multiple NPA 65'!L74","v":0},{"$error":"#N/A"},null,{"$error":"#N/A"},{"$error":"#N/A"},{"$error":"#N/A"},0,0,0,{"$error":"#N/A"},0,{"$error":"#N/A"},{"$error":"#N/A"},null,null,"2019-02-07",0,0,672,0.64600000000000002,null,null,null,null,null,null,null,{"$error":"#N/A"},{"$error":"#N/A"}]
[{"$f":"'Multiple NPA 65'!A75","v":0},{"$f":"'Multiple NPA 65'!B75","v":0},{"$f":"'Multiple NPA 65'!C75","v":0},{"$f":"'Multiple NPA 65'!D75","v":0},{"$f":"'Multiple NPA 65'!E75","v":"00:00:00"},{"$f":"'Multiple NPA 65'!F75","v":0},{"$f":"'Multiple NPA 65'!G75","v":0},{"$f":"'Multiple NPA 65'!E75","v":"00:00:00"},{"$f":"'Multiple NPA 65'!F75","v":0},{"$f":"'Multiple NPA 65'!G75","v":"00:00:00"},{"$f":"'Multiple NPA 65'!H75","v":0},{"$f":"'Multiple NPA 65'!I75","v":0},{"$f":"'Multiple NPA 65'!J75","v":0},0,{"$f":"'Multiple NPA 65'!K75","v":0},{"$f":"'Multiple NPA 65'!L75","v":0},{"$error":"#N/A"},null,{"$error":"#N/A"},{"$error":"#N/A"},{"$error":"#N/A"},0,0,0,{"$error":"#N/A"},0,{"$error":"#N/A"},{"$error":"#N/A"},null,null,"2019-02-07",0,0,673,0.64800000000000002,null,null,null,null,null,null,null,{"$error":"#N/A"},{"$error":"#N/A"}]
[{"$f":"'Multiple NPA 65'!A76","v":0},{"$f":"'Multiple NPA 65'!B76","v":0},{"$f":"'Multiple NPA 65'!C76","v":0},{"$f":"'Multiple NPA 65'!D76","v":0},{"$f":"'Multiple NPA 65'!E76","v":"00:00:00"},{"$f":"'Multiple NPA 65'!F76","v":0},{"$f":"'Multiple NPA 65'!G76","v":0},{"$f":"'Multiple NPA 65'!E76","v":"00:00:00"},{"$f":"'Multiple NPA 65'!F76","v":0},{"$f":"'Multiple NPA 65'!G76","v":"00:00:00"},{"$f":"'Multiple NPA 65'!H76","v":0},{"$f":"'Multiple NPA 65'!I76","v":0},{"$f":"'Multiple NPA 65'!J76","v":0},0,{"$f":"'Multiple NPA 65'!K76","v":0},{"$f":"'Multiple NPA 65'!L76","v":0},{"$error":"#N/A"},null,{"$error":"#N/A"},{"$error":"#N/A"},{"$error":"#N/A"},0,0,0,{"$error":"#N/A"},0,{"$error":"#N/A"},{"$error":"#N/A"},null,null,"2019-02-07",0,0,674,0.65100000000000002,null,null,null,null,null,null,null,{"$error":"#N/A"},{"$error":"#N/A"}]
[{"$f":"'Multiple NPA 65'!A77","v":0},{"$f":"'Multiple NPA 65'!B77","v":0},{"$f":"'Multiple NPA 65'!C77","v":0},{"$f":"'Multiple NPA 65'!D77","v":0},{"$f":"'Multiple NPA 65'!E77","v":"00:00:00"},{"$f":"'Multiple NPA 65'!F77","v":0},{"$f":"'Multiple NPA 65'!G77","v":0},{"$f":"'Multiple NPA 65'!E77","v":"00:00:00"},{"$f":"'Multiple NPA 65'!F77","v":0},{"$f":"'Multiple NPA 65'!G77","v":"00:00:00"},{"$f":"'Multiple NPA 65'!H77","v":0},{"$f":"'Multiple NPA 65'!I77","v":0},{"$f":"'Multiple NPA 65'!J77","v":0},0,{"$f":"'Multiple NPA 65'!K77","v":0},{"$f":"'Multiple NPA 65'!L77","v":0},{"$error":"#N/A"},null,{"$error":"#N/A"},{"$error":"#N/A"},{"$error":"#N/A"},0,0,0,{"$error":"#N/A"},0,{"$error":"#N/A"},{"$error":"#N/A"},null,null,"2019-02-07",0,0,675,0.65300000000000002,null,null,null,null,null,null,null,{"$error":"#N/A"},{"$error":"#N/A"}]
[{"$f":"'Multiple NPA 65'!A78","v":0},{"$f":"'Multiple NPA 65'!B78","v":0},{"$f":"'Multiple NPA 65'!C78","v":0},{"$f":"'Multiple NPA 65'!D78","v":0},{"$f":"'Multiple NPA 65'!E78","v":"00:00:00"},{"$f":"'Multiple NPA 65'!F78","v":0},{"$f":"'Multiple NPA 65'!G78","v":0},{"$f":"'Multiple NPA 65'!E78","v":"00:00:00"},{"$f":"'Multiple NPA 65'!F78","v":0},{"$f":"'Multiple NPA 65'!G78","v":"00:00:00"},{"$f":"'Multiple NPA 65'!H78","v":0},{"$f":"'Multiple NPA 65'!I78","v":0},{"$f":"'Multiple NPA 65'!J78","v":0},0,{"$f":"'Multiple NPA 65'!K78","v":0},{"$f":"'Multiple NPA 65'!L78","v":0},{"$error":"#N/A"},null,{"$error":"#N/A"},{"$error":"#N/A"},{"$error":"#N/A"},0,0,0,{"$error":"#N/A"},0,{"$error":"#N/A"},{"$error":"#N/A"},null,null,"2019-02-07",0,0,676,0.65500000000000003,null,null,null,null,null,null,null,{"$error":"#N/A"},{"$error":"#N/A"}]
[{"$f":"'Multiple NPA 65'!A79","v":0},{"$f":"'Multiple NPA 65'!B79","v":0},{"$f":"'Multiple NPA 65'!C79","v":0},{"$f":"'Multiple NPA 65'!D79","v":0},{"$f":"'Multiple NPA 65'!E79","v":"00:00:00"},{"$f":"'Multiple NPA 65'!F79","v":0},{"$f":"'Multiple NPA 65'!G79","v":0},{"$f":"'Multiple NPA 65'!E79","v":"00:00:00"},{"$f":"'Multiple NPA 65'!F79","v":0},{"$f":"'Multiple NPA 65'!G79","v":"00:00:00"},{"$f":"'Multiple NPA 65'!H79","v":0},{"$f":"'Multiple NPA 65'!I79","v":0},{"$f":"'Multiple NPA 65'!J79","v":0},0,{"$f":"'Multiple NPA 65'!K79","v":0},{"$f":"'Multiple NPA 65'!L79","v":0},{"$error":"#N/A"},null,{"$error":"#N/A"},{"$error":"#N/A"},{"$error":"#N/A"},0,0,0,{"$error":"#N/A"},0,{"$error":"#N/A"},{"$error":"#N/A"},null,null,"2019-02-07",0,0,677,0.65800000000000003,null,null,null,null,null,null,null,{"$error":"#N/A"},{"$error":"#N/A"}]
[{"$f":"'Multiple NPA 65'!A80","v":0},{"$f":"'Multiple NPA 65'!B80","v":0},{"$f":"'Multiple NPA 65'!C80","v":0},{"$f":"'Multiple NPA 65'!D80","v":0},{"$f":"'Multiple NPA 65'!E80","v":"00:00:00"},{"$f":"'Multiple NPA 65'!F80","v":0},{"$f":"'Multiple NPA 65'!G80","v":0},{"$f":"'Multiple NPA 65'!E80","v":"00:00:00"},{"$f":"'Multiple NPA 65'!F80","v":0},{"$f":"'Multiple NPA 65'!G80","v":"00:00:00"},{"$f":"'Multiple NPA 65'!H80","v":0},{"$f":"'Multiple NPA 65'!I80","v":0},{"$f":"'Multiple NPA 65'!J80","v":0},0,{"$f":"'Multiple NPA 65'!K80","v":0},{"$f":"'Multiple NPA 65'!L80","v":0},{"$error":"#N/A"},null,{"$error":"#N/A"},{"$error":"#N/A"},{"$error":"#N/A"},0,0,0,{"$error":"#N/A"},0,{"$error":"#N/A"},{"$error":"#N/A"},null,null,"2019-02-07",0,0,678,0.66,null,null,null,null,null,null,null,{"$error":"#N/A"},{"$error":"#N/A"}]
[{"$f":"'Multiple NPA 65'!A81","v":0},{"$f":"'Multiple NPA 65'!B81","v":0},{"$f":"'Multiple NPA 65'!C81","v":0},{"$f":"'Multiple NPA 65'!D81","v":0},{"$f":"'Multiple NPA 65'!E81","v":"00:00:00"},{"$f":"'Multiple NPA 65'!F81","v":0},{"$f":"'Multiple NPA 65'!G81","v":0},{"$f":"'Multiple NPA 65'!E81","v":"00:00:00"},{"$f":"'Multiple NPA 65'!F81","v":0},{"$f":"'Multiple NPA 65'!G81","v":"00:00:00"},{"$f":"'Multiple NPA 65'!H81","v":0},{"$f":"'Multiple NPA 65'!I81","v":0},{"$f":"'Multiple NPA 65'!J81","v":0},0,{"$f":"'Multiple NPA 65'!K81","v":0},{"$f":"'Multiple NPA 65'!L81","v":0},{"$error":"#N/A"},null,{"$error":"#N/A"},{"$error":"#N/A"},{"$error":"#N/A"},0,0,0,{"$error":"#N/A"},0,{"$error":"#N/A"},{"$error":"#N/A"},null,null,"2019-02-07",0,0,679,0.66300000000000003,null,null,null,null,null,null,null,{"$error":"#N/A"},{"$error":"#N/A"}]
[{"$f":"'Multiple NPA 65'!A82","v":0},{"$f":"'Multiple NPA 65'!B82","v":0},{"$f":"'Multiple NPA 65'!C82","v":0},{"$f":"'Multiple NPA 65'!D82","v":0},{"$f":"'Multiple NPA 65'!E82","v":"00:00:00"},{"$f":"'Multiple NPA 65'!F82","v":0},{"$f":"'Multiple NPA 65'!G82","v":0},{"$f":"'Multiple NPA 65'!E82","v":"00:00:00"},{"$f":"'Multiple NPA 65'!F82","v":0},{"$f":"'Multiple NPA 65'!G82","v":"00:00:00"},{"$f":"'Multiple NPA 65'!H82","v":0},{"$f":"'Multiple NPA 65'!I82","v":0},{"$f":"'Multiple NPA 65'!J82","v":0},0,{"$f":"'Multiple NPA 65'!K82","v":0},{"$f":"'Multiple NPA 65'!L82","v":0},{"$error":"#N/A"},null,{"$error":"#N/A"},{"$error":"#N/A"},{"$error":"#N/A"},0,0,0,{"$error":"#N/A"},0,{"$error":"#N/A"},{"$error":"#N/A"},null,null,"2019-02-07",0,0,680,0.66500000000000004,null,null,null,null,null,null,null,{"$error":"#N/A"},{"$error":"#N/A"}]
[{"$f":"'Multiple NPA 65'!A83","v":0},{"$f":"'Multiple NPA 65'!B83","v":0},{"$f":"'Multiple NPA 65'!C83","v":0},{"$f":"'Multiple NPA 65'!D83","v":0},{"$f":"'Multiple NPA 65'!E83","v":"00:00:00"},{"$f":"'Multiple NPA 65'!F83","v":0},{"$f":"'Multiple NPA 65'!G83","v":0},{"$f":"'Multiple NPA 65'!E83","v":"00:00:00"},{"$f":"'Multiple NPA 65'!F83","v":0},{"$f":"'Multiple NPA 65'!G83","v":"00:00:00"},{"$f":"'Multiple NPA 65'!H83","v":0},{"$f":"'Multiple NPA 65'!I83","v":0},{"$f":"'Multiple NPA 65'!J83","v":0},0,{"$f":"'Multiple NPA 65'!K83","v":0},{"$f":"'Multiple NPA 65'!L83","v":0},{"$error":"#N/A"},null,{"$error":"#N/A"},{"$error":"#N/A"},{"$error":"#N/A"},0,0,0,{"$error":"#N/A"},0,{"$error":"#N/A"},{"$error":"#N/A"},null,null,"2019-02-07",0,0,681,0.66700000000000004,null,null,null,null,null,null,null,{"$error":"#N/A"},{"$error":"#N/A"}]
[{"$f":"'Multiple NPA 65'!A84","v":0},{"$f":"'Multiple NPA 65'!B84","v":0},{"$f":"'Multiple NPA 65'!C84","v":0},{"$f":"'Multiple NPA 65'!D84","v":0},{"$f":"'Multiple NPA 65'!E84","v":"00:00:00"},{"$f":"'Multiple NPA 65'!F84","v":0},{"$f":"'Multiple NPA 65'!G84","v":0},{"$f":"'Multiple NPA 65'!E84","v":"00:00:00"},{"$f":"'Multiple NPA 65'!F84","v":0},{"$f":"'Multiple NPA 65'!G84","v":"00:00:00"},{"$f":"'Multiple NPA 65'!H84","v":0},{"$f":"'Multiple NPA 65'!I84","v":0},{"$f":"'Multiple NPA 65'!J84","v":0},0,{"$f":"'Multiple NPA 65'!K84","v":0},{"$f":"'Multiple NPA 65'!L84","v":0},{"$error":"#N/A"},null,{"$error":"#N/A"},{"$error":"#N/A"},{"$error":"#N/A"},0,0,0,{"$error":"#N/A"},0,{"$error":"#N/A"},{"$error":"#N/A"},null,null,"2019-02-07",0,0,682,0.67,null,null,null,null,null,null,null,{"$error":"#N/A"},{"$error":"#N/A"}]
[{"$f":"'Multiple NPA 65'!A85","v":0},{"$f":"'Multiple NPA 65'!B85","v":0},{"$f":"'Multiple NPA 65'!C85","v":0},{"$f":"'Multiple NPA 65'!D85","v":0},{"$f":"'Multiple NPA 65'!E85","v":"00:00:00"},{"$f":"'Multiple NPA 65'!F85","v":0},{"$f":"'Multiple NPA 65'!G85","v":0},{"$f":"'Multiple NPA 65'!E85","v":"00:00:00"},{"$f":"'Multiple NPA 65'!F85","v":0},{"$f":"'Multiple NPA 65'!G85","v":"00:00:00"},{"$f":"'Multiple NPA 65'!H85","v":0},{"$f":"'Multiple NPA 65'!I85","v":0},{"$f":"'Multiple NPA 65'!J85","v":0},0,{"$f":"'Multiple NPA 65'!K85","v":0},{"$f":"'Multiple NPA 65'!L85","v":0},{"$error":"#N/A"},null,{"$error":"#N/A"},{"$error":"#N/A"},{"$error":"#N/A"},0,0,0,{"$error":"#N/A"},0,{"$error":"#N/A"},{"$error":"#N/A"},null,null,"2019-02-07",0,0,683,0.67200000000000004,null,null,null,null,null,null,null,{"$error":"#N/A"},{"$error":"#N/A"}]
[{"$f":"'Multiple NPA 65'!A86","v":0},{"$f":"'Multiple NPA 65'!B86","v":0},{"$f":"'Multiple NPA 65'!C86","v":0},{"$f":"'Multiple NPA 65'!D86","v":0},{"$f":"'Multiple NPA 65'!E86","v":"00:00:00"},{"$f":"'Multiple NPA 65'!F86","v":0},{"$f":"'Multiple NPA 65'!G86","v":0},{"$f":"'Multiple NPA 65'!E86","v":"00:00:00"},{"$f":"'Multiple NPA 65'!F86","v":0},{"$f":"'Multiple NPA 65'!G86","v":"00:00:00"},{"$f":"'Multiple NPA 65'!H86","v":0},{"$f":"'Multiple NPA 65'!I86","v":0},{"$f":"'Multiple NPA 65'!J86","v":0},0,{"$f":"'Multiple NPA 65'!K86","v":0},{"$f":"'Multiple NPA 65'!L86","v":0},{"$error":"#N/A"},null,{"$error":"#N/A"},{"$error":"#N/A"},{"$error":"#N/A"},0,0,0,{"$error":"#N/A"},0,{"$error":"#N/A"},{"$error":"#N/A"},null,null,"2019-02-07",0,0,684,0.67500000000000004,null,null,null,null,null,null,null,{"$error":"#N/A"},{"$error":"#N/A"}]
[{"$f":"'Multiple NPA 65'!A87","v":0},{"$f":"'Multiple NPA 65'!B87","v":0},{"$f":"'Multiple NPA 65'!C87","v":0},{"$f":"'Multiple NPA 65'!D87","v":0},{"$f":"'Multiple NPA 65'!E87","v":"00:00:00"},{"$f":"'Multiple NPA 65'!F87","v":0},{"$f":"'Multiple NPA 65'!G87","v":0},{"$f":"'Multiple NPA 65'!E87","v":"00:00:00"},{"$f":"'Multiple NPA 65'!F87","v":0},{"$f":"'Multiple NPA 65'!G87","v":"00:00:00"},{"$f":"'Multiple NPA 65'!H87","v":0},{"$f":"'Multiple NPA 65'!I87","v":0},{"$f":"'Multiple NPA 65'!J87","v":0},0,{"$f":"'Multiple NPA 65'!K87","v":0},{"$f":"'Multiple NPA 65'!L87","v":0},{"$error":"#N/A"},null,{"$error":"#N/A"},{"$error":"#N/A"},{"$error":"#N/A"},0,0,0,{"$error":"#N/A"},0,{"$error":"#N/A"},{"$error":"#N/A"},null,null,"2019-02-07",0,0,685,0.67700000000000005,null,null,null,null,null,null,null,{"$error":"#N/A"},{"$error":"#N/A"}]
[{"$f":"'Multiple NPA 65'!A88","v":0},{"$f":"'Multiple NPA 65'!B88","v":0},{"$f":"'Multiple NPA 65'!C88","v":0},{"$f":"'Multiple NPA 65'!D88","v":0},{"$f":"'Multiple NPA 65'!E88","v":"00:00:00"},{"$f":"'Multiple NPA 65'!F88","v":0},{"$f":"'Multiple NPA 65'!G88","v":0},{"$f":"'Multiple NPA 65'!E88","v":"00:00:00"},{"$f":"'Multiple NPA 65'!F88","v":0},{"$f":"'Multiple NPA 65'!G88","v":"00:00:00"},{"$f":"'Multiple NPA 65'!H88","v":0},{"$f":"'Multiple NPA 65'!I88","v":0},{"$f":"'Multiple NPA 65'!J88","v":0},0,{"$f":"'Multiple NPA 65'!K88","v":0},{"$f":"'Multiple NPA 65'!L88","v":0},{"$error":"#N/A"},null,{"$error":"#N/A"},{"$error":"#N/A"},{"$error":"#N/A"},0,0,0,{"$error":"#N/A"},0,{"$error":"#N/A"},{"$error":"#N/A"},null,null,"2019-02-07",0,0,686,0.68,null,null,null,null,null,null,null,{"$error":"#N/A"},{"$error":"#N/A"}]
[{"$f":"'Multiple NPA 65'!A89","v":0},{"$f":"'Multiple NPA 65'!B89","v":0},{"$f":"'Multiple NPA 65'!C89","v":0},{"$f":"'Multiple NPA 65'!D89","v":0},{"$f":"'Multiple NPA 65'!E89","v":"00:00:00"},{"$f":"'Multiple NPA 65'!F89","v":0},{"$f":"'Multiple NPA 65'!G89","v":0},{"$f":"'Multiple NPA 65'!E89","v":"00:00:00"},{"$f":"'Multiple NPA 65'!F89","v":0},{"$f":"'Multiple NPA 65'!G89","v":"00:00:00"},{"$f":"'Multiple NPA 65'!H89","v":0},{"$f":"'Multiple NPA 65'!I89","v":0},{"$f":"'Multiple NPA 65'!J89","v":0},0,{"$f":"'Multiple NPA 65'!K89","v":0},{"$f":"'Multiple NPA 65'!L89","v":0},{"$error":"#N/A"},null,{"$error":"#N/A"},{"$error":"#N/A"},{"$error":"#N/A"},0,0,0,{"$error":"#N/A"},0,{"$error":"#N/A"},{"$error":"#N/A"},null,null,"2019-02-07",0,0,687,0.68300000000000005,null,null,null,null,null,null,null,{"$error":"#N/A"},{"$error":"#N/A"}]
[{"$f":"'Multiple NPA 65'!A90","v":0},{"$f":"'Multiple NPA 65'!B90","v":0},{"$f":"'Multiple NPA 65'!C90","v":0},{"$f":"'Multiple NPA 65'!D90","v":0},{"$f":"'Multiple NPA 65'!E90","v":"00:00:00"},{"$f":"'Multiple NPA 65'!F90","v":0},{"$f":"'Multiple NPA 65'!G90","v":0},{"$f":"'Multiple NPA 65'!E90","v":"00:00:00"},{"$f":"'Multiple NPA 65'!F90","v":0},{"$f":"'Multiple NPA 65'!G90","v":"00:00:00"},{"$f":"'Multiple NPA 65'!H90","v":0},{"$f":"'Multiple NPA 65'!I90","v":0},{"$f":"'Multiple NPA 65'!J90","v":0},0,{"$f":"'Multiple NPA 65'!K90","v":0},{"$f":"'Multiple NPA 65'!L90","v":0},{"$error":"#N/A"},null,{"$error":"#N/A"},{"$error":"#N/A"},{"$error":"#N/A"},0,0,0,{"$error":"#N/A"},0,{"$error":"#N/A"},{"$error":"#N/A"},null,null,"2019-02-07",0,0,688,0.68500000000000005,null,null,null,null,null,null,null,{"$error":"#N/A"},{"$error":"#N/A"}]
[{"$f":"'Multiple NPA 65'!A91","v":0},{"$f":"'Multiple NPA 65'!B91","v":0},{"$f":"'Multiple NPA 65'!C91","v":0},{"$f":"'Multiple NPA 65'!D91","v":0},{"$f":"'Multiple NPA 65'!E91","v":"00:00:00"},{"$f":"'Multiple NPA 65'!F91","v":0},{"$f":"'Multiple NPA 65'!G91","v":0},{"$f":"'Multiple NPA 65'!E91","v":"00:00:00"},{"$f":"'Multiple NPA 65'!F91","v":0},{"$f":"'Multiple NPA 65'!G91","v":"00:00:00"},{"$f":"'Multiple NPA 65'!H91","v":0},{"$f":"'Multiple NPA 65'!I91","v":0},{"$f":"'Multiple NPA 65'!J91","v":0},0,{"$f":"'Multiple NPA 65'!K91","v":0},{"$f":"'Multiple NPA 65'!L91","v":0},{"$error":"#N/A"},null,{"$error":"#N/A"},{"$error":"#N/A"},{"$error":"#N/A"},0,0,0,{"$error":"#N/A"},0,{"$error":"#N/A"},{"$error":"#N/A"},null,null,"2019-02-07",0,0,689,0.68799999999999994,null,null,null,null,null,null,null,{"$error":"#N/A"},{"$error":"#N/A"}]
[{"$f":"'Multiple NPA 65'!A92","v":0},{"$f":"'Multiple NPA 65'!B92","v":0},{"$f":"'Multiple NPA 65'!C92","v":0},{"$f":"'Multiple NPA 65'!D92","v":0},{"$f":"'Multiple NPA 65'!E92","v":"00:00:00"},{"$f":"'Multiple NPA 65'!F92","v":0},{"$f":"'Multiple NPA 65'!G92","v":0},{"$f":"'Multiple NPA 65'!E92","v":"00:00:00"},{"$f":"'Multiple NPA 65'!F92","v":0},{"$f":"'Multiple NPA 65'!G92","v":"00:00:00"},{"$f":"'Multiple NPA 65'!H92","v":0},{"$f":"'Multiple NPA 65'!I92","v":0},{"$f":"'Multiple NPA 65'!J92","v":0},0,{"$f":"'Multiple NPA 65'!K92","v":0},{"$f":"'Multiple NPA 65'!L92","v":0},{"$error":"#N/A"},null,{"$error":"#N/A"},{"$error":"#N/A"},{"$error":"#N/A"},0,0,0,{"$error":"#N/A"},0,{"$error":"#N/A"},{"$error":"#N/A"},null,null,"2019-02-07",0,0,690,0.69,null,null,null,null,null,null,null,{"$error":"#N/A"},{"$error":"#N/A"}]
[{"$f":"'Multiple NPA 65'!A93","v":0},{"$f":"'Multiple NPA 65'!B93","v":0},{"$f":"'Multiple NPA 65'!C93","v":0},{"$f":"'Multiple NPA 65'!D93","v":0},{"$f":"'Multiple NPA 65'!E93","v":"00:00:00"},{"$f":"'Multiple NPA 65'!F93","v":0},{"$f":"'Multiple NPA 65'!G93","v":0},{"$f":"'Multiple NPA 65'!E93","v":"00:00:00"},{"$f":"'Multiple NPA 65'!F93","v":0},{"$f":"'Multiple NPA 65'!G93","v":"00:00:00"},{"$f":"'Multiple NPA 65'!H93","v":0},{"$f":"'Multiple NPA 65'!I93","v":0},{"$f":"'Multiple NPA 65'!J93","v":0},0,{"$f":"'Multiple NPA 65'!K93","v":0},{"$f":"'Multiple NPA 65'!L93","v":0},{"$error":"#N/A"},null,{"$error":"#N/A"},{"$error":"#N/A"},{"$error":"#N/A"},0,0,0,{"$error":"#N/A"},0,{"$error":"#N/A"},{"$error":"#N/A"},null,null,"2019-02-07",0,0,691,0.69299999999999995,null,null,null,null,null,null,null,{"$error":"#N/A"},{"$error":"#N/A"}]
[{"$f":"'Multiple NPA 65'!A94","v":0},{"$f":"'Multiple NPA 65'!B94","v":0},{"$f":"'Multiple NPA 65'!C94","v":0},{"$f":"'Multiple NPA 65'!D94","v":0},{"$f":"'Multiple NPA 65'!E94","v":"00:00:00"},{"$f":"'Multiple NPA 65'!F94","v":0},{"$f":"'Multiple NPA 65'!G94","v":0},{"$f":"'Multiple NPA 65'!E94","v":"00:00:00"},{"$f":"'Multiple NPA 65'!F94","v":0},{"$f":"'Multiple NPA 65'!G94","v":"00:00:00"},{"$f":"'Multiple NPA 65'!H94","v":0},{"$f":"'Multiple NPA 65'!I94","v":0},{"$f":"'Multiple NPA 65'!J94","v":0},0,{"$f":"'Multiple NPA 65'!K94","v":0},{"$f":"'Multiple NPA 65'!L94","v":0},{"$error":"#N/A"},null,{"$error":"#N/A"},{"$error":"#N/A"},{"$error":"#N/A"},0,0,0,{"$error":"#N/A"},0,{"$error":"#N/A"},{"$error":"#N/A"},null,null,"2019-02-07",0,0,692,0.69499999999999995,null,null,null,null,null,null,null,{"$error":"#N/A"},{"$error":"#N/A"}]
[{"$f":"'Multiple NPA 65'!A95","v":0},{"$f":"'Multiple NPA 65'!B95","v":0},{"$f":"'Multiple NPA 65'!C95","v":0},{"$f":"'Multiple NPA 65'!D95","v":0},{"$f":"'Multiple NPA 65'!E95","v":"00:00:00"},{"$f":"'Multiple NPA 65'!F95","v":0},{"$f":"'Multiple NPA 65'!G95","v":0},{"$f":"'Multiple NPA 65'!E95","v":"00:00:00"},{"$f":"'Multiple NPA 65'!F95","v":0},{"$f":"'Multiple NPA 65'!G95","v":"00:00:00"},{"$f":"'Multiple NPA 65'!H95","v":0},{"$f":"'Multiple NPA 65'!I95","v":0},{"$f":"'Multiple NPA 65'!J95","v":0},0,{"$f":"'Multiple NPA 65'!K95","v":0},{"$f":"'Multiple NPA 65'!L95","v":0},{"$error":"#N/A"},null,{"$error":"#N/A"},{"$error":"#N/A"},{"$error":"#N/A"},0,0,0,{"$error":"#N/A"},0,{"$error":"#N/A"},{"$error":"#N/A"},null,null,"2019-02-07",0,0,693,0.69799999999999995,null,null,null,null,null,null,null,{"$error":"#N/A"},{"$error":"#N/A"}]
[{"$f":"'Multiple NPA 65'!A96","v":0},{"$f":"'Multiple NPA 65'!B96","v":0},{"$f":"'Multiple NPA 65'!C96","v":0},{"$f":"'Multiple NPA 65'!D96","v":0},{"$f":"'Multiple NPA 65'!E96","v":"00:00:00"},{"$f":"'Multiple NPA 65'!F96","v":0},{"$f":"'Multiple NPA 65'!G96","v":0},{"$f":"'Multiple NPA 65'!E96","v":"00:00:00"},{"$f":"'Multiple NPA 65'!F96","v":0},{"$f":"'Multiple NPA 65'!G96","v":"00:00:00"},{"$f":"'Multiple NPA 65'!H96","v":0},{"$f":"'Multiple NPA 65'!I96","v":0},{"$f":"'Multiple NPA 65'!J96","v":0},0,{"$f":"'Multiple NPA 65'!K96","v":0},{"$f":"'Multiple NPA 65'!L96","v":0},{"$error":"#N/A"},null,{"$error":"#N/A"},{"$error":"#N/A"},{"$error":"#N/A"},0,0,0,{"$error":"#N/A"},0,{"$error":"#N/A"},{"$error":"#N/A"},null,null,"2019-02-07",0,0,694,0.70099999999999996,null,null,null,null,null,null,null,{"$error":"#N/A"},{"$error":"#N/A"}]
[{"$f":"'Multiple NPA 65'!A97","v":0},{"$f":"'Multiple NPA 65'!B97","v":0},{"$f":"'Multiple NPA 65'!C97","v":0},{"$f":"'Multiple NPA 65'!D97","v":0},{"$f":"'Multiple NPA 65'!E97","v":"00:00:00"},{"$f":"'Multiple NPA 65'!F97","v":0},{"$f":"'Multiple NPA 65'!G97","v":0},{"$f":"'Multiple NPA 65'!E97","v":"00:00:00"},{"$f":"'Multiple NPA 65'!F97","v":0},{"$f":"'Multiple NPA 65'!G97","v":"00:00:00"},{"$f":"'Multiple NPA 65'!H97","v":0},{"$f":"'Multiple NPA 65'!I97","v":0},{"$f":"'Multiple NPA 65'!J97","v":0},0,{"$f":"'Multiple NPA 65'!K97","v":0},{"$f":"'Multiple NPA 65'!L97","v":0},{"$error":"#N/A"},null,{"$error":"#N/A"},{"$error":"#N/A"},{"$error":"#N/A"},0,0,0,{"$error":"#N/A"},0,{"$error":"#N/A"},{"$error":"#N/A"},null,null,"2019-02-07",0,0,695,0.70299999999999996,null,null,null,null,null,null,null,{"$error":"#N/A"},{"$error":"#N/A"}]
[{"$f":"'Multiple NPA 65'!A98","v":0},{"$f":"'Multiple NPA 65'!B98","v":0},{"$f":"'Multiple NPA 65'!C98","v":0},{"$f":"'Multiple NPA 65'!D98","v":0},{"$f":"'Multiple NPA 65'!E98","v":"00:00:00"},{"$f":"'Multiple NPA 65'!F98","v":0},{"$f":"'Multiple NPA 65'!G98","v":0},{"$f":"'Multiple NPA 65'!E98","v":"00:00:00"},{"$f":"'Multiple NPA 65'!F98","v":0},{"$f":"'Multiple NPA 65'!G98","v":"00:00:00"},{"$f":"'Multiple NPA 65'!H98","v":0},{"$f":"'Multiple NPA 65'!I98","v":0},{"$f":"'Multiple NPA 65'!J98","v":0},0,{"$f":"'Multiple NPA 65'!K98","v":0},{"$f":"'Multiple NPA 65'!L98","v":0},{"$error":"#N/A"},null,{"$error":"#N/A"},{"$error":"#N/A"},{"$error":"#N/A"},0,0,0,{"$error":"#N/A"},0,{"$error":"#N/A"},{"$error":"#N/A"},null,null,"2019-02-07",0,0,696,0.70599999999999996,null,null,null,null,null,null,null,{"$error":"#N/A"},{"$error":"#N/A"}]
[{"$f":"'Multiple NPA 65'!A99","v":0},{"$f":"'Multiple NPA 65'!B99","v":0},{"$f":"'Multiple NPA 65'!C99","v":0},{"$f":"'Multiple NPA 65'!D99","v":0},{"$f":"'Multiple NPA 65'!E99","v":"00:00:00"},{"$f":"'Multiple NPA 65'!F99","v":0},{"$f":"'Multiple NPA 65'!G99","v":0},{"$f":"'Multiple NPA 65'!E99","v":"00:00:00"},{"$f":"'Multiple NPA 65'!F99","v":0},{"$f":"'Multiple NPA 65'!G99","v":"00:00:00"},{"$f":"'Multiple NPA 65'!H99","v":0},{"$f":"'Multiple NPA 65'!I99","v":0},{"$f":"'Multiple NPA 65'!J99","v":0},0,{"$f":"'Multiple NPA 65'!K99","v":0},{"$f":"'Multiple NPA 65'!L99","v":0},{"$error":"#N/A"},null,{"$error":"#N/A"},{"$error":"#N/A"},{"$error":"#N/A"},0,0,0,{"$error":"#N/A"},0,{"$f":"SUM(Q101-AR101)","v":{"$error":"#N/A"}},{"$error":"#N/A"},null,null,"2019-02-07",0,0,697,0.70899999999999996,null,null,null,null,null,null,null,{"$error":"#N/A"},{"$error":"#N/A"}]
[{"$f":"'Multiple NPA 65'!A100","v":0},{"$f":"'Multiple NPA 65'!B100","v":0},{"$f":"'Multiple NPA 65'!C100","v":0},{"$f":"'Multiple NPA 65'!D100","v":0},{"$f":"'Multiple NPA 65'!E100","v":"00:00:00"},{"$f":"'Multiple NPA 65'!F100","v":0},{"$f":"'Multiple NPA 65'!G100","v":0},{"$f":"'Multiple NPA 65'!E100","v":"00:00:00"},{"$f":"'Multiple NPA 65'!F100","v":0},{"$f":"'Multiple NPA 65'!G100","v":"00:00:00"},{"$f":"'Multiple NPA 65'!H100","v":0},{"$f":"'Multiple NPA 65'!I100","v":0},{"$f":"'Multiple NPA 65'!J100","v":0},0,{"$f":"'Multiple NPA 65'!K100","v":0},{"$f":"'Multiple NPA 65'!L100","v":0},{"$error":"#N/A"},null,{"$error":"#N/A"},{"$error":"#N/A"},{"$error":"#N/A"},0,0,0,{"$error":"#N/A"},0,{"$error":"#N/A"},{"$error":"#N/A"},null,null,"2019-02-07",0,0,698,0.71099999999999997,null,null,null,null,null,null,null,{"$error":"#N/A"},{"$error":"#N/A"}]
[{"$f":"'Multiple NPA 65'!A101","v":0},{"$f":"'Multiple NPA 65'!B101","v":0},{"$f":"'Multiple NPA 65'!C101","v":0},{"$f":"'Multiple NPA 65'!D101","v":0},{"$f":"'Multiple NPA 65'!E101","v":"00:00:00"},{"$f":"'Multiple NPA 65'!F101","v":0},{"$f":"'Multiple NPA 65'!G101","v":0},{"$f":"'Multiple NPA 65'!E101","v":"00:00:00"},{"$f":"'Multiple NPA 65'!F101","v":0},{"$f":"'Multiple NPA 65'!G101","v":"00:00:00"},{"$f":"'Multiple NPA 65'!H101","v":0},{"$f":"'Multiple NPA 65'!I101","v":0},{"$f":"'Multiple NPA 65'!J101","v":0},0,{"$f":"'Multiple NPA 65'!K101","v":0},{"$f":"'Multiple NPA 65'!L101","v":0},{"$error":"#N/A"},null,{"$error":"#N/A"},{"$error":"#N/A"},{"$error":"#N/A"},0,0,0,{"$error":"#N/A"},0,{"$error":"#N/A"},{"$error":"#N/A"},null,null,"2019-02-07",0,0,699,0.71399999999999997,null,null,null,null,null,null,null,{"$error":"#N/A"},{"$error":"#N/A"}]
[{"$f":"'Multiple NPA 65'!A102","v":0},{"$f":"'Multiple NPA 65'!B102","v":0},{"$f":"'Multiple NPA 65'!C102","v":0},{"$f":"'Multiple NPA 65'!D102","v":0},{"$f":"'Multiple NPA 65'!E102","v":"00:00:00"},{"$f":"'Multiple NPA 65'!F102","v":0},{"$f":"'Multiple NPA 65'!G102","v":0},{"$f":"'Multiple NPA 65'!E102","v":"00:00:00"},{"$f":"'Multiple NPA 65'!F102","v":0},{"$f":"'Multiple NPA 65'!G102","v":"00:00:00"},{"$f":"'Multiple NPA 65'!H102","v":0},{"$f":"'Multiple NPA 65'!I102","v":0},{"$f":"'Multiple NPA 65'!J102","v":0},0,{"$f":"'Multiple NPA 65'!K102","v":0},{"$f":"'Multiple NPA 65'!L102","v":0},{"$error":"#N/A"},null,{"$error":"#N/A"},{"$error":"#N/A"},{"$error":"#N/A"},0,0,0,{"$error":"#N/A"},0,{"$error":"#N/A"},{"$error":"#N/A"},null,null,"2019-02-07",0,0,700,0.71699999999999997,null,null,null,null,null,null,null,{"$error":"#N/A"},{"$error":"#N/A"}]
[{"$f":"'Multiple NPA 65'!A103","v":0},{"$f":"'Multiple NPA 65'!B103","v":0},{"$f":"'Multiple NPA 65'!C103","v":0},{"$f":"'Multiple NPA 65'!D103","v":0},{"$f":"'Multiple NPA 65'!E103","v":"00:00:00"},{"$f":"'Multiple NPA 65'!F103","v":0},{"$f":"'Multiple NPA 65'!G103","v":0},{"$f":"'Multiple NPA 65'!E103","v":"00:00:00"},{"$f":"'Multiple NPA 65'!F103","v":0},{"$f":"'Multiple NPA 65'!G103","v":"00:00:00"},{"$f":"'Multiple NPA 65'!H103","v":0},{"$f":"'Multiple NPA 65'!I103","v":0},{"$f":"'Multiple NPA 65'!J103","v":0},0,{"$f":"'Multiple NPA 65'!K103","v":0},{"$f":"'Multiple NPA 65'!L103","v":0},{"$error":"#N/A"},null,{"$error":"#N/A"},{"$error":"#N/A"},{"$error":"#N/A"},0,0,0,{"$error":"#N/A"},0,{"$error":"#N/A"},{"$error":"#N/A"},null,null,"2019-02-07",0,0,701,0.72,null,null,null,null,null,null,null,{"$error":"#N/A"},{"$error":"#N/A"}]
[{"$f":"'Multiple NPA 65'!A104","v":0},{"$f":"'Multiple NPA 65'!B104","v":0},{"$f":"'Multiple NPA 65'!C104","v":0},{"$f":"'Multiple NPA 65'!D104","v":0},{"$f":"'Multiple NPA 65'!E104","v":"00:00:00"},{"$f":"'Multiple NPA 65'!F104","v":0},{"$f":"'Multiple NPA 65'!G104","v":0},{"$f":"'Multiple NPA 65'!E104","v":"00:00:00"},{"$f":"'Multiple NPA 65'!F104","v":0},{"$f":"'Multiple NPA 65'!G104","v":"00:00:00"},{"$f":"'Multiple NPA 65'!H104","v":0},{"$f":"'Multiple NPA 65'!I104","v":0},{"$f":"'Multiple NPA 65'!J104","v":0},0,{"$f":"'Multiple NPA 65'!K104","v":0},{"$f":"'Multiple NPA 65'!L104","v":0},{"$error":"#N/A"},null,{"$error":"#N/A"},{"$error":"#N/A"},{"$error":"#N/A"},0,0,0,{"$error":"#N/A"},0,{"$error":"#N/A"},{"$error":"#N/A"},null,null,"2019-02-07",0,0,702,0.72199999999999998,null,null,null,null,null,null,null,{"$error":"#N/A"},{"$error":"#N/A"}]
[{"$f":"'Multiple NPA 65'!A105","v":0},{"$f":"'Multiple NPA 65'!B105","v":0},{"$f":"'Multiple NPA 65'!C105","v":0},{"$f":"'Multiple NPA 65'!D105","v":0},{"$f":"'Multiple NPA 65'!E105","v":"00:00:00"},{"$f":"'Multiple NPA 65'!F105","v":0},{"$f":"'Multiple NPA 65'!G105","v":0},{"$f":"'Multiple NPA 65'!E105","v":"00:00:00"},{"$f":"'Multiple NPA 65'!F105","v":0},{"$f":"'Multiple NPA 65'!G105","v":"00:00:00"},{"$f":"'Multiple NPA 65'!H105","v":0},{"$f":"'Multiple NPA 65'!I105","v":0},{"$f":"'Multiple NPA 65'!J105","v":0},0,{"$f":"'Multiple NPA 65'!K105","v":0},{"$f":"'Multiple NPA 65'!L105","v":0},{"$error":"#N/A"},null,{"$error":"#N/A"},{"$error":"#N/A"},{"$error":"#N/A"},0,0,0,{"$error":"#N/A"},0,{"$error":"#N/A"},{"$error":"#N/A"},null,null,"2019-02-07",0,0,703,0.72499999999999998,null,null,null,null,null,null,null,{"$error":"#N/A"},{"$error":"#N/A"}]
[{"$f":"'Multiple NPA 65'!A106","v":0},{"$f":"'Multiple NPA 65'!B106","v":0},{"$f":"'Multiple NPA 65'!C106","v":0},{"$f":"'Multiple NPA 65'!D106","v":0},{"$f":"'Multiple NPA 65'!E106","v":"00:00:00"},{"$f":"'Multiple NPA 65'!F106","v":0},{"$f":"'Multiple NPA 65'!G106","v":0},{"$f":"'Multiple NPA 65'!E106","v":"00:00:00"},{"$f":"'Multiple NPA 65'!F106","v":0},{"$f":"'Multiple NPA 65'!G106","v":"00:00:00"},{"$f":"'Multiple NPA 65'!H106","v":0},{"$f":"'Multiple NPA 65'!I106","v":0},{"$f":"'Multiple NPA 65'!J106","v":0},0,{"$f":"'Multiple NPA 65'!K106","v":0},{"$f":"'Multiple NPA 65'!L106","v":0},{"$error":"#N/A"},null,{"$error":"#N/A"},{"$error":"#N/A"},{"$error":"#N/A"},0,0,0,{"$error":"#N/A"},0,{"$error":"#N/A"},{"$error":"#N/A"},null,null,"2019-02-07",0,0,704,0.72799999999999998,null,null,null,null,null,null,null,{"$error":"#N/A"},{"$error":"#N/A"}]
[{"$f":"'Multiple NPA 65'!A107","v":0},{"$f":"'Multiple NPA 65'!B107","v":0},{"$f":"'Multiple NPA 65'!C107","v":0},{"$f":"'Multiple NPA 65'!D107","v":0},{"$f":"'Multiple NPA 65'!E107","v":"00:00:00"},{"$f":"'Multiple NPA 65'!F107","v":0},{"$f":"'Multiple NPA 65'!G107","v":0},{"$f":"'Multiple NPA 65'!E107","v":"00:00:00"},{"$f":"'Multiple NPA 65'!F107","v":0},{"$f":"'Multiple NPA 65'!G107","v":"00:00:00"},{"$f":"'Multiple NPA 65'!H107","v":0},{"$f":"'Multiple NPA 65'!I107","v":0},{"$f":"'Multiple NPA 65'!J107","v":0},0,{"$f":"'Multiple NPA 65'!K107","v":0},{"$f":"'Multiple NPA 65'!L107","v":0},{"$error":"#N/A"},null,{"$error":"#N/A"},{"$error":"#N/A"},{"$error":"#N/A"},0,0,0,{"$error":"#N/A"},0,{"$error":"#N/A"},{"$error":"#N/A"},null,null,"2019-02-07",0,0,705,0.73099999999999998,null,null,null,null,null,null,null,{"$error":"#N/A"},{"$error":"#N/A"}]
[{"$f":"'Multiple NPA 65'!A108","v":0},{"$f":"'Multiple NPA 65'!B108","v":0},{"$f":"'Multiple NPA 65'!C108","v":0},{"$f":"'Multiple NPA 65'!D108","v":0},{"$f":"'Multiple NPA 65'!E108","v":"00:00:00"},{"$f":"'Multiple NPA 65'!F108","v":0},{"$f":"'Multiple NPA 65'!G108","v":0},{"$f":"'Multiple NPA 65'!E108","v":"00:00:00"},{"$f":"'Multiple NPA 65'!F108","v":0},{"$f":"'Multiple NPA 65'!G108","v":"00:00:00"},{"$f":"'Multiple NPA 65'!H108","v":0},{"$f":"'Multiple NPA 65'!I108","v":0},{"$f":"'Multiple NPA 65'!J108","v":0},0,{"$f":"'Multiple NPA 65'!K108","v":0},{"$f":"'Multiple NPA 65'!L108","v":0},{"$error":"#N/A"},null,{"$error":"#N/A"},{"$error":"#N/A"},{"$error":"#N/A"},0,0,0,{"$error":"#N/A"},0,{"$error":"#N/A"},{"$error":"#N/A"},null,null,"2019-02-07",0,0,706,0.73299999999999998,null,null,null,null,null,null,null,{"$error":"#N/A"},{"$error":"#N/A"}]
[{"$f":"'Multiple NPA 65'!A109","v":0},{"$f":"'Multiple NPA 65'!B109","v":0},{"$f":"'Multiple NPA 65'!C109","v":0},{"$f":"'Multiple NPA 65'!D109","v":0},{"$f":"'Multiple NPA 65'!E109","v":"00:00:00"},{"$f":"'Multiple NPA 65'!F109","v":0},{"$f":"'Multiple NPA 65'!G109","v":0},{"$f":"'Multiple NPA 65'!E109","v":"00:00:00"},{"$f":"'Multiple NPA 65'!F109","v":0},{"$f":"'Multiple NPA 65'!G109","v":"00:00:00"},{"$f":"'Multiple NPA 65'!H109","v":0},{"$f":"'Multiple NPA 65'!I109","v":0},{"$f":"'Multiple NPA 65'!J109","v":0},0,{"$f":"'Multiple NPA 65'!K109","v":0},{"$f":"'Multiple NPA 65'!L109","v":0},{"$error":"#N/A"},null,{"$error":"#N/A"},{"$error":"#N/A"},{"$error":"#N/A"},0,0,0,{"$error":"#N/A"},0,{"$error":"#N/A"},{"$error":"#N/A"},null,null,"2019-02-07",0,0,707,0.73599999999999999,null,null,null,null,null,null,null,{"$error":"#N/A"},{"$error":"#N/A"}]
[{"$f":"'Multiple NPA 65'!A110","v":0},{"$f":"'Multiple NPA 65'!B110","v":0},{"$f":"'Multiple NPA 65'!C110","v":0},{"$f":"'Multiple NPA 65'!D110","v":0},{"$f":"'Multiple NPA 65'!E110","v":"00:00:00"},{"$f":"'Multiple NPA 65'!F110","v":0},{"$f":"'Multiple NPA 65'!G110","v":0},{"$f":"'Multiple NPA 65'!E110","v":"00:00:00"},{"$f":"'Multiple NPA 65'!F110","v":0},{"$f":"'Multiple NPA 65'!G110","v":"00:00:00"},{"$f":"'Multiple NPA 65'!H110","v":0},{"$f":"'Multiple NPA 65'!I110","v":0},{"$f":"'Multiple NPA 65'!J110","v":0},0,{"$f":"'Multiple NPA 65'!K110","v":0},{"$f":"'Multiple NPA 65'!L110","v":0},{"$error":"#N/A"},null,{"$error":"#N/A"},{"$error":"#N/A"},{"$error":"#N/A"},0,0,0,{"$error":"#N/A"},0,{"$error":"#N/A"},{"$error":"#N/A"},null,null,"2019-02-07",0,0,708,0.73899999999999999,null,null,null,null,null,null,null,{"$error":"#N/A"},{"$error":"#N/A"}]
[{"$f":"'Multiple NPA 65'!A111","v":0},{"$f":"'Multiple NPA 65'!B111","v":0},{"$f":"'Multiple NPA 65'!C111","v":0},{"$f":"'Multiple NPA 65'!D111","v":0},{"$f":"'Multiple NPA 65'!E111","v":"00:00:00"},{"$f":"'Multiple NPA 65'!F111","v":0},{"$f":"'Multiple NPA 65'!G111","v":0},{"$f":"'Multiple NPA 65'!E111","v":"00:00:00"},{"$f":"'Multiple NPA 65'!F111","v":0},{"$f":"'Multiple NPA 65'!G111","v":"00:00:00"},{"$f":"'Multiple NPA 65'!H111","v":0},{"$f":"'Multiple NPA 65'!I111","v":0},{"$f":"'Multiple NPA 65'!J111","v":0},0,{"$f":"'Multiple NPA 65'!K111","v":0},{"$f":"'Multiple NPA 65'!L111","v":0},{"$error":"#N/A"},null,{"$error":"#N/A"},{"$error":"#N/A"},{"$error":"#N/A"},0,0,0,{"$error":"#N/A"},0,{"$error":"#N/A"},{"$error":"#N/A"},null,null,"2019-02-07",0,0,709,0.74199999999999999,null,null,null,null,null,null,null,{"$error":"#N/A"},{"$error":"#N/A"}]
[{"$f":"'Multiple NPA 65'!A112","v":0},{"$f":"'Multiple NPA 65'!B112","v":0},{"$f":"'Multiple NPA 65'!C112","v":0},{"$f":"'Multiple NPA 65'!D112","v":0},{"$f":"'Multiple NPA 65'!E112","v":"00:00:00"},{"$f":"'Multiple NPA 65'!F112","v":0},{"$f":"'Multiple NPA 65'!G112","v":0},{"$f":"'Multiple NPA 65'!E112","v":"00:00:00"},{"$f":"'Multiple NPA 65'!F112","v":0},{"$f":"'Multiple NPA 65'!G112","v":"00:00:00"},{"$f":"'Multiple NPA 65'!H112","v":0},{"$f":"'Multiple NPA 65'!I112","v":0},{"$f":"'Multiple NPA 65'!J112","v":0},0,{"$f":"'Multiple NPA 65'!K112","v":0},{"$f":"'Multiple NPA 65'!L112","v":0},{"$error":"#N/A"},null,{"$error":"#N/A"},{"$error":"#N/A"},{"$error":"#N/A"},0,0,0,{"$error":"#N/A"},0,{"$error":"#N/A"},{"$error":"#N/A"},null,null,"2019-02-07",0,0,710,0.745,null,null,null,null,null,null,null,{"$error":"#N/A"},{"$error":"#N/A"}]
[{"$f":"'Multiple NPA 65'!A113","v":0},{"$f":"'Multiple NPA 65'!B113","v":0},{"$f":"'Multiple NPA 65'!C113","v":0},{"$f":"'Multiple NPA 65'!D113","v":0},{"$f":"'Multiple NPA 65'!E113","v":"00:00:00"},{"$f":"'Multiple NPA 65'!F113","v":0},{"$f":"'Multiple NPA 65'!G113","v":0},{"$f":"'Multiple NPA 65'!E113","v":"00:00:00"},{"$f":"'Multiple NPA 65'!F113","v":0},{"$f":"'Multiple NPA 65'!G113","v":"00:00:00"},{"$f":"'Multiple NPA 65'!H113","v":0},{"$f":"'Multiple NPA 65'!I113","v":0},{"$f":"'Multiple NPA 65'!J113","v":0},0,{"$f":"'Multiple NPA 65'!K113","v":0},{"$f":"'Multiple NPA 65'!L113","v":0},{"$error":"#N/A"},null,{"$error":"#N/A"},{"$error":"#N/A"},{"$error":"#N/A"},0,0,0,{"$error":"#N/A"},0,{"$error":"#N/A"},{"$error":"#N/A"},null,null,"2019-02-07",0,0,711,0.748,null,null,null,null,null,null,null,{"$error":"#N/A"},{"$error":"#N/A"}]
[{"$f":"'Multiple NPA 65'!A114","v":0},{"$f":"'Multiple NPA 65'!B114","v":0},{"$f":"'Multiple NPA 65'!C114","v":0},{"$f":"'Multiple NPA 65'!D114","v":0},{"$f":"'Multiple NPA 65'!E114","v":"00:00:00"},{"$f":"'Multiple NPA 65'!F114","v":0},{"$f":"'Multiple NPA 65'!G114","v":0},{"$f":"'Multiple NPA 65'!E114","v":"00:00:00"},{"$f":"'Multiple NPA 65'!F114","v":0},{"$f":"'Multiple NPA 65'!G114","v":"00:00:00"},{"$f":"'Multiple NPA 65'!H114","v":0},{"$f":"'Multiple NPA 65'!I114","v":0},{"$f":"'Multiple NPA 65'!J114","v":0},0,{"$f":"'Multiple NPA 65'!K114","v":0},{"$f":"'Multiple NPA 65'!L114","v":0},{"$error":"#N/A"},null,{"$error":"#N/A"},{"$error":"#N/A"},{"$error":"#N/A"},0,0,0,{"$error":"#N/A"},0,{"$error":"#N/A"},{"$error":"#N/A"},null,null,"2019-02-07",0,0,712,0.751,null,null,null,null,null,null,null,{"$error":"#N/A"},{"$error":"#N/A"}]
[{"$f":"'Multiple NPA 65'!A115","v":0},{"$f":"'Multiple NPA 65'!B115","v":0},{"$f":"'Multiple NPA 65'!C115","v":0},{"$f":"'Multiple NPA 65'!D115","v":0},{"$f":"'Multiple NPA 65'!E115","v":"00:00:00"},{"$f":"'Multiple NPA 65'!F115","v":0},{"$f":"'Multiple NPA 65'!G115","v":0},{"$f":"'Multiple NPA 65'!E115","v":"00:00:00"},{"$f":"'Multiple NPA 65'!F115","v":0},{"$f":"'Multiple NPA 65'!G115","v":"00:00:00"},{"$f":"'Multiple NPA 65'!H115","v":0},{"$f":"'Multiple NPA 65'!I115","v":0},{"$f":"'Multiple NPA 65'!J115","v":0},0,{"$f":"'Multiple NPA 65'!K115","v":0},{"$f":"'Multiple NPA 65'!L115","v":0},{"$error":"#N/A"},null,{"$error":"#N/A"},{"$error":"#N/A"},{"$error":"#N/A"},0,0,0,{"$error":"#N/A"},0,{"$error":"#N/A"},{"$error":"#N/A"},null,null,"2019-02-07",0,0,713,0.754,null,null,null,null,null,null,null,{"$error":"#N/A"},{"$error":"#N/A"}]
[{"$f":"'Multiple NPA 65'!A116","v":0},{"$f":"'Multiple NPA 65'!B116","v":0},{"$f":"'Multiple NPA 65'!C116","v":0},{"$f":"'Multiple NPA 65'!D116","v":0},{"$f":"'Multiple NPA 65'!E116","v":"00:00:00"},{"$f":"'Multiple NPA 65'!F116","v":0},{"$f":"'Multiple NPA 65'!G116","v":0},{"$f":"'Multiple NPA 65'!E116","v":"00:00:00"},{"$f":"'Multiple NPA 65'!F116","v":0},{"$f":"'Multiple NPA 65'!G116","v":"00:00:00"},{"$f":"'Multiple NPA 65'!H116","v":0},{"$f":"'Multiple NPA 65'!I116","v":0},{"$f":"'Multiple NPA 65'!J116","v":0},0,{"$f":"'Multiple NPA 65'!K116","v":0},{"$f":"'Multiple NPA 65'!L116","v":0},{"$error":"#N/A"},null,{"$error":"#N/A"},{"$error":"#N/A"},{"$error":"#N/A"},0,0,0,{"$error":"#N/A"},0,{"$error":"#N/A"},{"$error":"#N/A"},null,null,"2019-02-07",0,0,714,0.75700000000000001,null,null,null,null,null,null,null,{"$error":"#N/A"},{"$error":"#N/A"}]
[{"$f":"'Multiple NPA 65'!A117","v":0},{"$f":"'Multiple NPA 65'!B117","v":0},{"$f":"'Multiple NPA 65'!C117","v":0},{"$f":"'Multiple NPA 65'!D117","v":0},{"$f":"'Multiple NPA 65'!E117","v":"00:00:00"},{"$f":"'Multiple NPA 65'!F117","v":0},{"$f":"'Multiple NPA 65'!G117","v":0},{"$f":"'Multiple NPA 65'!E117","v":"00:00:00"},{"$f":"'Multiple NPA 65'!F117","v":0},{"$f":"'Multiple NPA 65'!G117","v":"00:00:00"},{"$f":"'Multiple NPA 65'!H117","v":0},{"$f":"'Multiple NPA 65'!I117","v":0},{"$f":"'Multiple NPA 65'!J117","v":0},0,{"$f":"'Multiple NPA 65'!K117","v":0},{"$f":"'Multiple NPA 65'!L117","v":0},{"$error":"#N/A"},null,{"$error":"#N/A"},{"$error":"#N/A"},{"$error":"#N/A"},0,0,0,{"$error":"#N/A"},0,{"$error":"#N/A"},{"$error":"#N/A"},null,null,"2019-02-07",0,0,715,0.76,null,null,null,null,null,null,null,{"$error":"#N/A"},{"$error":"#N/A"}]
[{"$f":"'Multiple NPA 65'!A118","v":0},{"$f":"'Multiple NPA 65'!B118","v":0},{"$f":"'Multiple NPA 65'!C118","v":0},{"$f":"'Multiple NPA 65'!D118","v":0},{"$f":"'Multiple NPA 65'!E118","v":"00:00:00"},{"$f":"'Multiple NPA 65'!F118","v":0},{"$f":"'Multiple NPA 65'!G118","v":0},{"$f":"'Multiple NPA 65'!E118","v":"00:00:00"},{"$f":"'Multiple NPA 65'!F118","v":0},{"$f":"'Multiple NPA 65'!G118","v":"00:00:00"},{"$f":"'Multiple NPA 65'!H118","v":0},{"$f":"'Multiple NPA 65'!I118","v":0},{"$f":"'Multiple NPA 65'!J118","v":0},0,{"$f":"'Multiple NPA 65'!K118","v":0},{"$f":"'Multiple NPA 65'!L118","v":0},{"$error":"#N/A"},null,{"$error":"#N/A"},{"$error":"#N/A"},{"$error":"#N/A"},0,0,0,{"$error":"#N/A"},0,{"$error":"#N/A"},{"$error":"#N/A"},null,null,"2019-02-07",0,0,716,0.76300000000000001,null,null,null,null,null,null,null,{"$error":"#N/A"},{"$error":"#N/A"}]
[{"$f":"'Multiple NPA 65'!A119","v":0},{"$f":"'Multiple NPA 65'!B119","v":0},{"$f":"'Multiple NPA 65'!C119","v":0},{"$f":"'Multiple NPA 65'!D119","v":0},{"$f":"'Multiple NPA 65'!E119","v":"00:00:00"},{"$f":"'Multiple NPA 65'!F119","v":0},{"$f":"'Multiple NPA 65'!G119","v":0},{"$f":"'Multiple NPA 65'!E119","v":"00:00:00"},{"$f":"'Multiple NPA 65'!F119","v":0},{"$f":"'Multiple NPA 65'!G119","v":"00:00:00"},{"$f":"'Multiple NPA 65'!H119","v":0},{"$f":"'Multiple NPA 65'!I119","v":0},{"$f":"'Multiple NPA 65'!J119","v":0},0,{"$f":"'Multiple NPA 65'!K119","v":0},{"$f":"'Multiple NPA 65'!L119","v":0},{"$error":"#N/A"},null,{"$error":"#N/A"},{"$error":"#N/A"},{"$error":"#N/A"},0,0,0,{"$error":"#N/A"},0,{"$error":"#N/A"},{"$error":"#N/A"},null,null,"2019-02-07",0,0,717,0.76600000000000001,null,null,null,null,null,null,null,{"$error":"#N/A"},{"$error":"#N/A"}]
[{"$f":"'Multiple NPA 65'!A120","v":0},{"$f":"'Multiple NPA 65'!B120","v":0},{"$f":"'Multiple NPA 65'!C120","v":0},{"$f":"'Multiple NPA 65'!D120","v":0},{"$f":"'Multiple NPA 65'!E120","v":"00:00:00"},{"$f":"'Multiple NPA 65'!F120","v":0},{"$f":"'Multiple NPA 65'!G120","v":0},{"$f":"'Multiple NPA 65'!E120","v":"00:00:00"},{"$f":"'Multiple NPA 65'!F120","v":0},{"$f":"'Multiple NPA 65'!G120","v":"00:00:00"},{"$f":"'Multiple NPA 65'!H120","v":0},{"$f":"'Multiple NPA 65'!I120","v":0},{"$f":"'Multiple NPA 65'!J120","v":0},0,{"$f":"'Multiple NPA 65'!K120","v":0},{"$f":"'Multiple NPA 65'!L120","v":0},{"$error":"#N/A"},null,{"$error":"#N/A"},{"$error":"#N/A"},{"$error":"#N/A"},0,0,0,{"$error":"#N/A"},0,{"$error":"#N/A"},{"$error":"#N/A"},null,null,"2019-02-07",0,0,718,0.76900000000000002,null,null,null,null,null,null,null,{"$error":"#N/A"},{"$error":"#N/A"}]
[{"$f":"'Multiple NPA 65'!A121","v":0},{"$f":"'Multiple NPA 65'!B121","v":0},{"$f":"'Multiple NPA 65'!C121","v":0},{"$f":"'Multiple NPA 65'!D121","v":0},{"$f":"'Multiple NPA 65'!E121","v":"00:00:00"},{"$f":"'Multiple NPA 65'!F121","v":0},{"$f":"'Multiple NPA 65'!G121","v":0},{"$f":"'Multiple NPA 65'!E121","v":"00:00:00"},{"$f":"'Multiple NPA 65'!F121","v":0},{"$f":"'Multiple NPA 65'!G121","v":"00:00:00"},{"$f":"'Multiple NPA 65'!H121","v":0},{"$f":"'Multiple NPA 65'!I121","v":0},{"$f":"'Multiple NPA 65'!J121","v":0},0,{"$f":"'Multiple NPA 65'!K121","v":0},{"$f":"'Multiple NPA 65'!L121","v":0},{"$error":"#N/A"},null,{"$error":"#N/A"},{"$error":"#N/A"},{"$error":"#N/A"},0,0,0,{"$error":"#N/A"},0,{"$error":"#N/A"},{"$error":"#N/A"},null,null,"2019-02-07",0,0,719,0.77200000000000002,null,null,null,null,null,null,null,{"$error":"#N/A"},{"$error":"#N/A"}]
[{"$f":"'Multiple NPA 65'!A122","v":0},{"$f":"'Multiple NPA 65'!B122","v":0},{"$f":"'Multiple NPA 65'!C122","v":0},{"$f":"'Multiple NPA 65'!D122","v":0},{"$f":"'Multiple NPA 65'!E122","v":"00:00:00"},{"$f":"'Multiple NPA 65'!F122","v":0},{"$f":"'Multiple NPA 65'!G122","v":0},{"$f":"'Multiple NPA 65'!E122","v":"00:00:00"},{"$f":"'Multiple NPA 65'!F122","v":0},{"$f":"'Multiple NPA 65'!G122","v":"00:00:00"},{"$f":"'Multiple NPA 65'!H122","v":0},{"$f":"'Multiple NPA 65'!I122","v":0},{"$f":"'Multiple NPA 65'!J122","v":0},0,{"$f":"'Multiple NPA 65'!K122","v":0},{"$f":"'Multiple NPA 65'!L122","v":0},{"$error":"#N/A"},null,{"$error":"#N/A"},{"$error":"#N/A"},{"$error":"#N/A"},0,0,0,{"$error":"#N/A"},0,{"$error":"#N/A"},{"$error":"#N/A"},null,null,"2019-02-07",0,0,720,0.77500000000000002,null,null,null,null,null,null,null,{"$error":"#N/A"},{"$error":"#N/A"}]
[{"$f":"'Multiple NPA 65'!A123","v":0},{"$f":"'Multiple NPA 65'!B123","v":0},{"$f":"'Multiple NPA 65'!C123","v":0},{"$f":"'Multiple NPA 65'!D123","v":0},{"$f":"'Multiple NPA 65'!E123","v":"00:00:00"},{"$f":"'Multiple NPA 65'!F123","v":0},{"$f":"'Multiple NPA 65'!G123","v":0},{"$f":"'Multiple NPA 65'!E123","v":"00:00:00"},{"$f":"'Multiple NPA 65'!F123","v":0},{"$f":"'Multiple NPA 65'!G123","v":"00:00:00"},{"$f":"'Multiple NPA 65'!H123","v":0},{"$f":"'Multiple NPA 65'!I123","v":0},{"$f":"'Multiple NPA 65'!J123","v":0},0,{"$f":"'Multiple NPA 65'!K123","v":0},{"$f":"'Multiple NPA 65'!L123","v":0},{"$error":"#N/A"},null,{"$error":"#N/A"},{"$error":"#N/A"},{"$error":"#N/A"},0,0,0,{"$error":"#N/A"},0,{"$error":"#N/A"},{"$error":"#N/A"},null,null,"2019-02-07",0,0,721,0.77800000000000002,null,null,null,null,null,null,null,{"$error":"#N/A"},{"$error":"#N/A"}]
[{"$f":"'Multiple NPA 65'!A124","v":0},{"$f":"'Multiple NPA 65'!B124","v":0},{"$f":"'Multiple NPA 65'!C124","v":0},{"$f":"'Multiple NPA 65'!D124","v":0},{"$f":"'Multiple NPA 65'!E124","v":"00:00:00"},{"$f":"'Multiple NPA 65'!F124","v":0},{"$f":"'Multiple NPA 65'!G124","v":0},{"$f":"'Multiple NPA 65'!E124","v":"00:00:00"},{"$f":"'Multiple NPA 65'!F124","v":0},{"$f":"'Multiple NPA 65'!G124","v":"00:00:00"},{"$f":"'Multiple NPA 65'!H124","v":0},{"$f":"'Multiple NPA 65'!I124","v":0},{"$f":"'Multiple NPA 65'!J124","v":0},0,{"$f":"'Multiple NPA 65'!K124","v":0},{"$f":"'Multiple NPA 65'!L124","v":0},{"$error":"#N/A"},null,{"$error":"#N/A"},{"$error":"#N/A"},{"$error":"#N/A"},0,0,0,{"$error":"#N/A"},0,{"$error":"#N/A"},{"$error":"#N/A"},null,null,"2019-02-07",0,0,722,0.78100000000000003,null,null,null,null,null,null,null,{"$error":"#N/A"},{"$error":"#N/A"}]
[{"$f":"'Multiple NPA 65'!A125","v":0},{"$f":"'Multiple NPA 65'!B125","v":0},{"$f":"'Multiple NPA 65'!C125","v":0},{"$f":"'Multiple NPA 65'!D125","v":0},{"$f":"'Multiple NPA 65'!E125","v":"00:00:00"},{"$f":"'Multiple NPA 65'!F125","v":0},{"$f":"'Multiple NPA 65'!G125","v":0},{"$f":"'Multiple NPA 65'!E125","v":"00:00:00"},{"$f":"'Multiple NPA 65'!F125","v":0},{"$f":"'Multiple NPA 65'!G125","v":"00:00:00"},{"$f":"'Multiple NPA 65'!H125","v":0},{"$f":"'Multiple NPA 65'!I125","v":0},{"$f":"'Multiple NPA 65'!J125","v":0},0,{"$f":"'Multiple NPA 65'!K125","v":0},{"$f":"'Multiple NPA 65'!L125","v":0},{"$error":"#N/A"},null,{"$error":"#N/A"},{"$error":"#N/A"},{"$error":"#N/A"},0,0,0,{"$error":"#N/A"},0,{"$error":"#N/A"},{"$error":"#N/A"},null,null,"2019-02-07",0,0,723,0.78500000000000003,null,null,null,null,null,null,null,{"$error":"#N/A"},{"$error":"#N/A"}]
[{"$f":"'Multiple NPA 65'!A126","v":0},{"$f":"'Multiple NPA 65'!B126","v":0},{"$f":"'Multiple NPA 65'!C126","v":0},{"$f":"'Multiple NPA 65'!D126","v":0},{"$f":"'Multiple NPA 65'!E126","v":"00:00:00"},{"$f":"'Multiple NPA 65'!F126","v":0},{"$f":"'Multiple NPA 65'!G126","v":0},{"$f":"'Multiple NPA 65'!E126","v":"00:00:00"},{"$f":"'Multiple NPA 65'!F126","v":0},{"$f":"'Multiple NPA 65'!G126","v":"00:00:00"},{"$f":"'Multiple NPA 65'!H126","v":0},{"$f":"'Multiple NPA 65'!I126","v":0},{"$f":"'Multiple NPA 65'!J126","v":0},0,{"$f":"'Multiple NPA 65'!K126","v":0},{"$f":"'Multiple NPA 65'!L126","v":0},{"$error":"#N/A"},null,{"$error":"#N/A"},{"$error":"#N/A"},{"$error":"#N/A"},0,0,0,{"$error":"#N/A"},0,{"$error":"#N/A"},{"$error":"#N/A"},null,null,"2019-02-07",0,0,724,0.78800000000000003,null,null,null,null,null,null,null,{"$error":"#N/A"},{"$error":"#N/A"}]
[{"$f":"'Multiple NPA 65'!A127","v":0},{"$f":"'Multiple NPA 65'!B127","v":0},{"$f":"'Multiple NPA 65'!C127","v":0},{"$f":"'Multiple NPA 65'!D127","v":0},{"$f":"'Multiple NPA 65'!E127","v":"00:00:00"},{"$f":"'Multiple NPA 65'!F127","v":0},{"$f":"'Multiple NPA 65'!G127","v":0},{"$f":"'Multiple NPA 65'!E127","v":"00:00:00"},{"$f":"'Multiple NPA 65'!F127","v":0},{"$f":"'Multiple NPA 65'!G127","v":"00:00:00"},{"$f":"'Multiple NPA 65'!H127","v":0},{"$f":"'Multiple NPA 65'!I127","v":0},{"$f":"'Multiple NPA 65'!J127","v":0},0,{"$f":"'Multiple NPA 65'!K127","v":0},{"$f":"'Multiple NPA 65'!L127","v":0},{"$error":"#N/A"},null,{"$error":"#N/A"},{"$error":"#N/A"},{"$error":"#N/A"},0,0,0,{"$error":"#N/A"},0,{"$error":"#N/A"},{"$error":"#N/A"},null,null,"2019-02-07",0,0,725,0.79100000000000004,null,null,null,null,null,null,null,{"$error":"#N/A"},{"$error":"#N/A"}]
[{"$f":"'Multiple NPA 65'!A128","v":0},{"$f":"'Multiple NPA 65'!B128","v":0},{"$f":"'Multiple NPA 65'!C128","v":0},{"$f":"'Multiple NPA 65'!D128","v":0},{"$f":"'Multiple NPA 65'!E128","v":"00:00:00"},{"$f":"'Multiple NPA 65'!F128","v":0},{"$f":"'Multiple NPA 65'!G128","v":0},{"$f":"'Multiple NPA 65'!E128","v":"00:00:00"},{"$f":"'Multiple NPA 65'!F128","v":0},{"$f":"'Multiple NPA 65'!G128","v":"00:00:00"},{"$f":"'Multiple NPA 65'!H128","v":0},{"$f":"'Multiple NPA 65'!I128","v":0},{"$f":"'Multiple NPA 65'!J128","v":0},0,{"$f":"'Multiple NPA 65'!K128","v":0},{"$f":"'Multiple NPA 65'!L128","v":0},{"$error":"#N/A"},null,{"$error":"#N/A"},{"$error":"#N/A"},{"$error":"#N/A"},0,0,0,{"$error":"#N/A"},0,{"$error":"#N/A"},{"$error":"#N/A"},null,null,"2019-02-07",0,0,726,0.79400000000000004,null,null,null,null,null,null,null,{"$error":"#N/A"},{"$error":"#N/A"}]
[{"$f":"'Multiple NPA 65'!A129","v":0},{"$f":"'Multiple NPA 65'!B129","v":0},{"$f":"'Multiple NPA 65'!C129","v":0},{"$f":"'Multiple NPA 65'!D129","v":0},{"$f":"'Multiple NPA 65'!E129","v":"00:00:00"},{"$f":"'Multiple NPA 65'!F129","v":0},{"$f":"'Multiple NPA 65'!G129","v":0},{"$f":"'Multiple NPA 65'!E129","v":"00:00:00"},{"$f":"'Multiple NPA 65'!F129","v":0},{"$f":"'Multiple NPA 65'!G129","v":"00:00:00"},{"$f":"'Multiple NPA 65'!H129","v":0},{"$f":"'Multiple NPA 65'!I129","v":0},{"$f":"'Multiple NPA 65'!J129","v":0},0,{"$f":"'Multiple NPA 65'!K129","v":0},{"$f":"'Multiple NPA 65'!L129","v":0},{"$error":"#N/A"},null,{"$error":"#N/A"},{"$error":"#N/A"},{"$error":"#N/A"},0,0,0,{"$error":"#N/A"},0,{"$error":"#N/A"},{"$error":"#N/A"},null,null,"2019-02-07",0,0,727,0.79700000000000004,null,null,null,null,null,null,null,{"$error":"#N/A"},{"$error":"#N/A"}]
[{"$f":"'Multiple NPA 65'!A130","v":0},{"$f":"'Multiple NPA 65'!B130","v":0},{"$f":"'Multiple NPA 65'!C130","v":0},{"$f":"'Multiple NPA 65'!D130","v":0},{"$f":"'Multiple NPA 65'!E130","v":"00:00:00"},{"$f":"'Multiple NPA 65'!F130","v":0},{"$f":"'Multiple NPA 65'!G130","v":0},{"$f":"'Multiple NPA 65'!E130","v":"00:00:00"},{"$f":"'Multiple NPA 65'!F130","v":0},{"$f":"'Multiple NPA 65'!G130","v":"00:00:00"},{"$f":"'Multiple NPA 65'!H130","v":0},{"$f":"'Multiple NPA 65'!I130","v":0},{"$f":"'Multiple NPA 65'!J130","v":0},0,{"$f":"'Multiple NPA 65'!K130","v":0},{"$f":"'Multiple NPA 65'!L130","v":0},{"$error":"#N/A"},null,{"$error":"#N/A"},{"$error":"#N/A"},{"$error":"#N/A"},0,0,0,{"$error":"#N/A"},0,{"$error":"#N/A"},{"$error":"#N/A"},null,null,"2019-02-07",0,0,728,0.80100000000000005,null,null,null,null,null,null,null,{"$error":"#N/A"},{"$error":"#N/A"}]
[{"$f":"'Multiple NPA 65'!A131","v":0},{"$f":"'Multiple NPA 65'!B131","v":0},{"$f":"'Multiple NPA 65'!C131","v":0},{"$f":"'Multiple NPA 65'!D131","v":0},{"$f":"'Multiple NPA 65'!E131","v":"00:00:00"},{"$f":"'Multiple NPA 65'!F131","v":0},{"$f":"'Multiple NPA 65'!G131","v":0},{"$f":"'Multiple NPA 65'!E131","v":"00:00:00"},{"$f":"'Multiple NPA 65'!F131","v":0},{"$f":"'Multiple NPA 65'!G131","v":"00:00:00"},{"$f":"'Multiple NPA 65'!H131","v":0},{"$f":"'Multiple NPA 65'!I131","v":0},{"$f":"'Multiple NPA 65'!J131","v":0},0,{"$f":"'Multiple NPA 65'!K131","v":0},{"$f":"'Multiple NPA 65'!L131","v":0},{"$f":"VLOOKUP(AF133,$AH$4:$AI$244,2,FALSE)*(((K133+(L133/365))*I133)/60)","v":{"$error":"#N/A"}},null,{"$error":"#N/A"},{"$error":"#N/A"},{"$error":"#N/A"},0,0,0,{"$error":"#N/A"},0,{"$f":"SUM(Q133-AR133)","v":{"$error":"#N/A"}},{"$error":"#N/A"},null,null,"2019-02-07",{"$f":"(DATEDIF(H133, J133, \"M\"))","v":0},{"$f":"(DATEDIF(H133, J133, \"Y\"))","v":0},729,0.80400000000000005,null,null,null,null,null,null,null,{"$f":"SUM((Q133*20)+(R133*(20/12)))/4.6667","v":{"$error":"#N/A"}},{"$f":"ROUNDDOWN(((AQ133-R133)/12),0)","v":{"$error":"#N/A"}}]
[{"$f":"'Multiple NPA 65'!A132","v":0},{"$f":"'Multiple NPA 65'!B132","v":0},{"$f":"'Multiple NPA 65'!C132","v":0},{"$f":"'Multiple NPA 65'!D132","v":0},{"$f":"'Multiple NPA 65'!E132","v":"00:00:00"},{"$f":"'Multiple NPA 65'!F132","v":0},{"$f":"'Multiple NPA 65'!G132","v":0},{"$f":"'Multiple NPA 65'!E132","v":"00:00:00"},{"$f":"'Multiple NPA 65'!F132","v":0},{"$f":"'Multiple NPA 65'!G132","v":"00:00:00"},{"$f":"'Multiple NPA 65'!H132","v":0},{"$f":"'Multiple NPA 65'!I132","v":0},{"$f":"'Multiple NPA 65'!J132","v":0},{"$f":"O134+(P134/365)","v":0},{"$f":"'Multiple NPA 65'!K132","v":0},{"$f":"'Multiple NPA 65'!L132","v":0},{"$error":"#N/A"},null,{"$f":"(((K134+(L134/365))*I134)/60)-Q134","v":{"$error":"#N/A"}},{"$error":"#N/A"},{"$f":"(((VLOOKUP(AG134, $AK$5:$AL$25,2,FALSE)*S134)))","v":{"$error":"#N/A"}},0,{"$f":"((O134+(P134/365))*I134)/160","v":0},{"$f":"V134*3","v":0},{"$f":"(((VLOOKUP(AG134,$AK$5:$AL$25,2,FALSE)*V134)+(((VLOOKUP(AG134,$AN$5:$AO$25,2,FALSE)*W134)))))","v":{"$error":"#N/A"}},0,{"$error":"#N/A"},{"$f":"SUM(AR134*12)","v":{"$error":"#N/A"}},null,null,{"$f":"TODAY()","v":"2019-02-07"},0,0,730,0.80700000000000005,null,null,null,null,null,null,null,{"$error":"#N/A"},{"$error":"#N/A"}]
[{"$f":"'Multiple NPA 65'!A133","v":0},{"$f":"'Multiple NPA 65'!B133","v":0},{"$f":"'Multiple NPA 65'!C133","v":0},{"$f":"'Multiple NPA 65'!D133","v":0},{"$f":"'Multiple NPA 65'!E133","v":"00:00:00"},{"$f":"'Multiple NPA 65'!F133","v":0},{"$f":"'Multiple NPA 65'!G133","v":0},{"$f":"'Multiple NPA 65'!E133","v":"00:00:00"},{"$f":"'Multiple NPA 65'!F133","v":0},{"$f":"'Multiple NPA 65'!G133","v":"00:00:00"},{"$f":"'Multiple NPA 65'!H133","v":0},{"$f":"'Multiple NPA 65'!I133","v":0},{"$f":"'Multiple NPA 65'!J133","v":0},0,{"$f":"'Multiple NPA 65'!K133","v":0},{"$f":"'Multiple NPA 65'!L133","v":0},{"$error":"#N/A"},null,{"$error":"#N/A"},{"$f":"S135*3","v":{"$error":"#N/A"}},{"$error":"#N/A"},{"$f":"((O135+(P135/365))*I135)/60","v":0},0,0,{"$error":"#N/A"},0,{"$error":"#N/A"},{"$error":"#N/A"},null,null,"2019-02-07",0,0,731,0.81,null,null,null,null,null,null,null,{"$error":"#N/A"},{"$error":"#N/A"}]
[{"$f":"'Multiple NPA 65'!A134","v":0},{"$f":"'Multiple NPA 65'!B134","v":0},{"$f":"'Multiple NPA 65'!C134","v":0},{"$f":"'Multiple NPA 65'!D134","v":0},{"$f":"'Multiple NPA 65'!E134","v":"00:00:00"},{"$f":"'Multiple NPA 65'!F134","v":0},{"$f":"'Multiple NPA 65'!G134","v":0},{"$f":"'Multiple NPA 65'!E134","v":"00:00:00"},{"$f":"'Multiple NPA 65'!F134","v":0},{"$f":"'Multiple NPA 65'!G134","v":"00:00:00"},{"$f":"'Multiple NPA 65'!H134","v":0},{"$f":"'Multiple NPA 65'!I134","v":0},{"$f":"'Multiple NPA 65'!J134","v":0},0,{"$f":"'Multiple NPA 65'!K134","v":0},{"$f":"'Multiple NPA 65'!L134","v":0},{"$error":"#N/A"},null,{"$error":"#N/A"},{"$error":"#N/A"},{"$error":"#N/A"},0,0,0,{"$error":"#N/A"},0,{"$error":"#N/A"},{"$error":"#N/A"},null,null,"2019-02-07",0,0,732,0.81299999999999994,null,null,null,null,null,null,null,{"$error":"#N/A"},{"$error":"#N/A"}]
[{"$f":"'Multiple NPA 65'!A135","v":0},{"$f":"'Multiple NPA 65'!B135","v":0},{"$f":"'Multiple NPA 65'!C135","v":0},{"$f":"'Multiple NPA 65'!D135","v":0},{"$f":"'Multiple NPA 65'!E135","v":"00:00:00"},{"$f":"'Multiple NPA 65'!F135","v":0},{"$f":"'Multiple NPA 65'!G135","v":0},{"$f":"'Multiple NPA 65'!E135","v":"00:00:00"},{"$f":"'Multiple NPA 65'!F135","v":0},{"$f":"'Multiple NPA 65'!G135","v":"00:00:00"},{"$f":"'Multiple NPA 65'!H135","v":0},{"$f":"'Multiple NPA 65'!I135","v":0},{"$f":"'Multiple NPA 65'!J135","v":0},0,{"$f":"'Multiple NPA 65'!K135","v":0},{"$f":"'Multiple NPA 65'!L135","v":0},{"$error":"#N/A"},null,{"$error":"#N/A"},{"$error":"#N/A"},{"$error":"#N/A"},0,0,0,{"$error":"#N/A"},{"$f":"(SUMIF(U137:Y137,\">0\",U137:Y137))-(V137+X137+W137)","v":0},{"$error":"#N/A"},{"$error":"#N/A"},null,null,"2019-02-07",0,0,733,0.81699999999999995,null,null,null,null,null,null,null,{"$error":"#N/A"},{"$error":"#N/A"}]
[{"$f":"'Multiple NPA 65'!A136","v":0},{"$f":"'Multiple NPA 65'!B136","v":0},{"$f":"'Multiple NPA 65'!C136","v":0},{"$f":"'Multiple NPA 65'!D136","v":0},{"$f":"'Multiple NPA 65'!E136","v":"00:00:00"},{"$f":"'Multiple NPA 65'!F136","v":0},{"$f":"'Multiple NPA 65'!G136","v":0},{"$f":"'Multiple NPA 65'!E136","v":"00:00:00"},{"$f":"'Multiple NPA 65'!F136","v":0},{"$f":"'Multiple NPA 65'!G136","v":"00:00:00"},{"$f":"'Multiple NPA 65'!H136","v":0},{"$f":"'Multiple NPA 65'!I136","v":0},{"$f":"'Multiple NPA 65'!J136","v":0},0,{"$f":"'Multiple NPA 65'!K136","v":0},{"$f":"'Multiple NPA 65'!L136","v":0},{"$error":"#N/A"},null,{"$error":"#N/A"},{"$error":"#N/A"},{"$error":"#N/A"},0,0,0,{"$error":"#N/A"},0,{"$error":"#N/A"},{"$error":"#N/A"},null,null,"2019-02-07",0,0,734,0.82,null,null,null,null,null,null,null,{"$error":"#N/A"},{"$error":"#N/A"}]
[{"$f":"'Multiple NPA 65'!A137","v":0},{"$f":"'Multiple NPA 65'!B137","v":0},{"$f":"'Multiple NPA 65'!C137","v":0},{"$f":"'Multiple NPA 65'!D137","v":0},{"$f":"'Multiple NPA 65'!E137","v":"00:00:00"},{"$f":"'Multiple NPA 65'!F137","v":0},{"$f":"'Multiple NPA 65'!G137","v":0},{"$f":"'Multiple NPA 65'!E137","v":"00:00:00"},{"$f":"'Multiple NPA 65'!F137","v":0},{"$f":"'Multiple NPA 65'!G137","v":"00:00:00"},{"$f":"'Multiple NPA 65'!H137","v":0},{"$f":"'Multiple NPA 65'!I137","v":0},{"$f":"'Multiple NPA 65'!J137","v":0},0,{"$f":"'Multiple NPA 65'!K137","v":0},{"$f":"'Multiple NPA 65'!L137","v":0},{"$error":"#N/A"},null,{"$error":"#N/A"},{"$error":"#N/A"},{"$error":"#N/A"},0,0,0,{"$error":"#N/A"},0,{"$error":"#N/A"},{"$error":"#N/A"},null,null,"2019-02-07",0,0,735,0.82399999999999995,null,null,null,null,null,null,null,{"$error":"#N/A"},{"$error":"#N/A"}]
[{"$f":"'Multiple NPA 65'!A138","v":0},{"$f":"'Multiple NPA 65'!B138","v":0},{"$f":"'Multiple NPA 65'!C138","v":0},{"$f":"'Multiple NPA 65'!D138","v":0},{"$f":"'Multiple NPA 65'!E138","v":"00:00:00"},{"$f":"'Multiple NPA 65'!F138","v":0},{"$f":"'Multiple NPA 65'!G138","v":0},{"$f":"'Multiple NPA 65'!E138","v":"00:00:00"},{"$f":"'Multiple NPA 65'!F138","v":0},{"$f":"'Multiple NPA 65'!G138","v":"00:00:00"},{"$f":"'Multiple NPA 65'!H138","v":0},{"$f":"'Multiple NPA 65'!I138","v":0},{"$f":"'Multiple NPA 65'!J138","v":0},0,{"$f":"'Multiple NPA 65'!K138","v":0},{"$f":"'Multiple NPA 65'!L138","v":0},{"$error":"#N/A"},null,{"$error":"#N/A"},{"$error":"#N/A"},{"$error":"#N/A"},0,0,0,{"$error":"#N/A"},0,{"$error":"#N/A"},{"$error":"#N/A"},null,null,"2019-02-07",0,0,736,0.82699999999999996,null,null,null,null,null,null,null,{"$error":"#N/A"},{"$error":"#N/A"}]
[{"$f":"'Multiple NPA 65'!A139","v":0},{"$f":"'Multiple NPA 65'!B139","v":0},{"$f":"'Multiple NPA 65'!C139","v":0},{"$f":"'Multiple NPA 65'!D139","v":0},{"$f":"'Multiple NPA 65'!E139","v":"00:00:00"},{"$f":"'Multiple NPA 65'!F139","v":0},{"$f":"'Multiple NPA 65'!G139","v":0},{"$f":"'Multiple NPA 65'!E139","v":"00:00:00"},{"$f":"'Multiple NPA 65'!F139","v":0},{"$f":"'Multiple NPA 65'!G139","v":"00:00:00"},{"$f":"'Multiple NPA 65'!H139","v":0},{"$f":"'Multiple NPA 65'!I139","v":0},{"$f":"'Multiple NPA 65'!J139","v":0},0,{"$f":"'Multiple NPA 65'!K139","v":0},{"$f":"'Multiple NPA 65'!L139","v":0},{"$error":"#N/A"},null,{"$error":"#N/A"},{"$error":"#N/A"},{"$error":"#N/A"},0,0,0,{"$error":"#N/A"},0,{"$error":"#N/A"},{"$error":"#N/A"},null,null,"2019-02-07",0,0,737,0.83099999999999996,null,null,null,null,null,null,null,{"$error":"#N/A"},{"$error":"#N/A"}]
[{"$f":"'Multiple NPA 65'!A140","v":0},{"$f":"'Multiple NPA 65'!B140","v":0},{"$f":"'Multiple NPA 65'!C140","v":0},{"$f":"'Multiple NPA 65'!D140","v":0},{"$f":"'Multiple NPA 65'!E140","v":"00:00:00"},{"$f":"'Multiple NPA 65'!F140","v":0},{"$f":"'Multiple NPA 65'!G140","v":0},{"$f":"'Multiple NPA 65'!E140","v":"00:00:00"},{"$f":"'Multiple NPA 65'!F140","v":0},{"$f":"'Multiple NPA 65'!G140","v":"00:00:00"},{"$f":"'Multiple NPA 65'!H140","v":0},{"$f":"'Multiple NPA 65'!I140","v":0},{"$f":"'Multiple NPA 65'!J140","v":0},0,{"$f":"'Multiple NPA 65'!K140","v":0},{"$f":"'Multiple NPA 65'!L140","v":0},{"$error":"#N/A"},null,{"$error":"#N/A"},{"$error":"#N/A"},{"$error":"#N/A"},0,0,0,{"$error":"#N/A"},0,{"$error":"#N/A"},{"$error":"#N/A"},null,null,"2019-02-07",0,0,738,0.83399999999999996,null,null,null,null,null,null,null,{"$error":"#N/A"},{"$error":"#N/A"}]
[{"$f":"'Multiple NPA 65'!A141","v":0},{"$f":"'Multiple NPA 65'!B141","v":0},{"$f":"'Multiple NPA 65'!C141","v":0},{"$f":"'Multiple NPA 65'!D141","v":0},{"$f":"'Multiple NPA 65'!E141","v":"00:00:00"},{"$f":"'Multiple NPA 65'!F141","v":0},{"$f":"'Multiple NPA 65'!G141","v":0},{"$f":"'Multiple NPA 65'!E141","v":"00:00:00"},{"$f":"'Multiple NPA 65'!F141","v":0},{"$f":"'Multiple NPA 65'!G141","v":"00:00:00"},{"$f":"'Multiple NPA 65'!H141","v":0},{"$f":"'Multiple NPA 65'!I141","v":0},{"$f":"'Multiple NPA 65'!J141","v":0},0,{"$f":"'Multiple NPA 65'!K141","v":0},{"$f":"'Multiple NPA 65'!L141","v":0},{"$error":"#N/A"},null,{"$error":"#N/A"},{"$error":"#N/A"},{"$error":"#N/A"},0,0,0,{"$error":"#N/A"},0,{"$error":"#N/A"},{"$error":"#N/A"},null,null,"2019-02-07",0,0,739,0.83799999999999997,null,null,null,null,null,null,null,{"$error":"#N/A"},{"$error":"#N/A"}]
[{"$f":"'Multiple NPA 65'!A142","v":0},{"$f":"'Multiple NPA 65'!B142","v":0},{"$f":"'Multiple NPA 65'!C142","v":0},{"$f":"'Multiple NPA 65'!D142","v":0},{"$f":"'Multiple NPA 65'!E142","v":"00:00:00"},{"$f":"'Multiple NPA 65'!F142","v":0},{"$f":"'Multiple NPA 65'!G142","v":0},{"$f":"'Multiple NPA 65'!E142","v":"00:00:00"},{"$f":"'Multiple NPA 65'!F142","v":0},{"$f":"'Multiple NPA 65'!G142","v":"00:00:00"},{"$f":"'Multiple NPA 65'!H142","v":0},{"$f":"'Multiple NPA 65'!I142","v":0},{"$f":"'Multiple NPA 65'!J142","v":0},0,{"$f":"'Multiple NPA 65'!K142","v":0},{"$f":"'Multiple NPA 65'!L142","v":0},{"$error":"#N/A"},null,{"$error":"#N/A"},{"$error":"#N/A"},{"$error":"#N/A"},0,0,0,{"$error":"#N/A"},0,{"$error":"#N/A"},{"$error":"#N/A"},null,null,"2019-02-07",0,0,740,0.84099999999999997,null,null,null,null,null,null,null,{"$error":"#N/A"},{"$error":"#N/A"}]
[{"$f":"'Multiple NPA 65'!A143","v":0},{"$f":"'Multiple NPA 65'!B143","v":0},{"$f":"'Multiple NPA 65'!C143","v":0},{"$f":"'Multiple NPA 65'!D143","v":0},{"$f":"'Multiple NPA 65'!E143","v":"00:00:00"},{"$f":"'Multiple NPA 65'!F143","v":0},{"$f":"'Multiple NPA 65'!G143","v":0},{"$f":"'Multiple NPA 65'!E143","v":"00:00:00"},{"$f":"'Multiple NPA 65'!F143","v":0},{"$f":"'Multiple NPA 65'!G143","v":"00:00:00"},{"$f":"'Multiple NPA 65'!H143","v":0},{"$f":"'Multiple NPA 65'!I143","v":0},{"$f":"'Multiple NPA 65'!J143","v":0},0,{"$f":"'Multiple NPA 65'!K143","v":0},{"$f":"'Multiple NPA 65'!L143","v":0},{"$error":"#N/A"},null,{"$error":"#N/A"},{"$error":"#N/A"},{"$error":"#N/A"},0,0,0,{"$error":"#N/A"},0,{"$error":"#N/A"},{"$error":"#N/A"},null,null,"2019-02-07",0,0,741,0.84499999999999997,null,null,null,null,null,null,null,{"$error":"#N/A"},{"$error":"#N/A"}]
[{"$f":"'Multiple NPA 65'!A144","v":0},{"$f":"'Multiple NPA 65'!B144","v":0},{"$f":"'Multiple NPA 65'!C144","v":0},{"$f":"'Multiple NPA 65'!D144","v":0},{"$f":"'Multiple NPA 65'!E144","v":"00:00:00"},{"$f":"'Multiple NPA 65'!F144","v":0},{"$f":"'Multiple NPA 65'!G144","v":0},{"$f":"'Multiple NPA 65'!E144","v":"00:00:00"},{"$f":"'Multiple NPA 65'!F144","v":0},{"$f":"'Multiple NPA 65'!G144","v":"00:00:00"},{"$f":"'Multiple NPA 65'!H144","v":0},{"$f":"'Multiple NPA 65'!I144","v":0},{"$f":"'Multiple NPA 65'!J144","v":0},0,{"$f":"'Multiple NPA 65'!K144","v":0},{"$f":"'Multiple NPA 65'!L144","v":0},{"$error":"#N/A"},null,{"$error":"#N/A"},{"$error":"#N/A"},{"$error":"#N/A"},0,0,0,{"$error":"#N/A"},0,{"$error":"#N/A"},{"$error":"#N/A"},null,null,"2019-02-07",0,0,742,0.84799999999999998,null,null,null,null,null,null,null,{"$error":"#N/A"},{"$error":"#N/A"}]
[{"$f":"'Multiple NPA 65'!A145","v":0},{"$f":"'Multiple NPA 65'!B145","v":0},{"$f":"'Multiple NPA 65'!C145","v":0},{"$f":"'Multiple NPA 65'!D145","v":0},{"$f":"'Multiple NPA 65'!E145","v":"00:00:00"},{"$f":"'Multiple NPA 65'!F145","v":0},{"$f":"'Multiple NPA 65'!G145","v":0},{"$f":"'Multiple NPA 65'!E145","v":"00:00:00"},{"$f":"'Multiple NPA 65'!F145","v":0},{"$f":"'Multiple NPA 65'!G145","v":"00:00:00"},{"$f":"'Multiple NPA 65'!H145","v":0},{"$f":"'Multiple NPA 65'!I145","v":0},{"$f":"'Multiple NPA 65'!J145","v":0},0,{"$f":"'Multiple NPA 65'!K145","v":0},{"$f":"'Multiple NPA 65'!L145","v":0},{"$error":"#N/A"},null,{"$error":"#N/A"},{"$error":"#N/A"},{"$error":"#N/A"},0,0,0,{"$error":"#N/A"},0,{"$error":"#N/A"},{"$error":"#N/A"},null,null,"2019-02-07",0,0,743,0.85199999999999998,null,null,null,null,null,null,null,{"$error":"#N/A"},{"$error":"#N/A"}]
[{"$f":"'Multiple NPA 65'!A146","v":0},{"$f":"'Multiple NPA 65'!B146","v":0},{"$f":"'Multiple NPA 65'!C146","v":0},{"$f":"'Multiple NPA 65'!D146","v":0},{"$f":"'Multiple NPA 65'!E146","v":"00:00:00"},{"$f":"'Multiple NPA 65'!F146","v":0},{"$f":"'Multiple NPA 65'!G146","v":0},{"$f":"'Multiple NPA 65'!E146","v":"00:00:00"},{"$f":"'Multiple NPA 65'!F146","v":0},{"$f":"'Multiple NPA 65'!G146","v":"00:00:00"},{"$f":"'Multiple NPA 65'!H146","v":0},{"$f":"'Multiple NPA 65'!I146","v":0},{"$f":"'Multiple NPA 65'!J146","v":0},0,{"$f":"'Multiple NPA 65'!K146","v":0},{"$f":"'Multiple NPA 65'!L146","v":0},{"$error":"#N/A"},null,{"$error":"#N/A"},{"$error":"#N/A"},{"$error":"#N/A"},0,0,0,{"$error":"#N/A"},0,{"$error":"#N/A"},{"$error":"#N/A"},null,null,"2019-02-07",0,0,744,0.85499999999999998,null,null,null,null,null,null,null,{"$error":"#N/A"},{"$error":"#N/A"}]
[{"$f":"'Multiple NPA 65'!A147","v":0},{"$f":"'Multiple NPA 65'!B147","v":0},{"$f":"'Multiple NPA 65'!C147","v":0},{"$f":"'Multiple NPA 65'!D147","v":0},{"$f":"'Multiple NPA 65'!E147","v":"00:00:00"},{"$f":"'Multiple NPA 65'!F147","v":0},{"$f":"'Multiple NPA 65'!G147","v":0},{"$f":"'Multiple NPA 65'!E147","v":"00:00:00"},{"$f":"'Multiple NPA 65'!F147","v":0},{"$f":"'Multiple NPA 65'!G147","v":"00:00:00"},{"$f":"'Multiple NPA 65'!H147","v":0},{"$f":"'Multiple NPA 65'!I147","v":0},{"$f":"'Multiple NPA 65'!J147","v":0},0,{"$f":"'Multiple NPA 65'!K147","v":0},{"$f":"'Multiple NPA 65'!L147","v":0},{"$error":"#N/A"},null,{"$error":"#N/A"},{"$error":"#N/A"},{"$error":"#N/A"},0,0,0,{"$error":"#N/A"},0,{"$error":"#N/A"},{"$error":"#N/A"},null,null,"2019-02-07",0,0,745,0.85899999999999999,null,null,null,null,null,null,null,{"$error":"#N/A"},{"$error":"#N/A"}]
[{"$f":"'Multiple NPA 65'!A148","v":0},{"$f":"'Multiple NPA 65'!B148","v":0},{"$f":"'Multiple NPA 65'!C148","v":0},{"$f":"'Multiple NPA 65'!D148","v":0},{"$f":"'Multiple NPA 65'!E148","v":"00:00:00"},{"$f":"'Multiple NPA 65'!F148","v":0},{"$f":"'Multiple NPA 65'!G148","v":0},{"$f":"'Multiple NPA 65'!E148","v":"00:00:00"},{"$f":"'Multiple NPA 65'!F148","v":0},{"$f":"'Multiple NPA 65'!G148","v":"00:00:00"},{"$f":"'Multiple NPA 65'!H148","v":0},{"$f":"'Multiple NPA 65'!I148","v":0},{"$f":"'Multiple NPA 65'!J148","v":0},0,{"$f":"'Multiple NPA 65'!K148","v":0},{"$f":"'Multiple NPA 65'!L148","v":0},{"$error":"#N/A"},null,{"$error":"#N/A"},{"$error":"#N/A"},{"$error":"#N/A"},0,0,0,{"$error":"#N/A"},0,{"$error":"#N/A"},{"$error":"#N/A"},null,null,"2019-02-07",0,0,746,0.86299999999999999,null,null,null,null,null,null,null,{"$error":"#N/A"},{"$error":"#N/A"}]
[{"$f":"'Multiple NPA 65'!A149","v":0},{"$f":"'Multiple NPA 65'!B149","v":0},{"$f":"'Multiple NPA 65'!C149","v":0},{"$f":"'Multiple NPA 65'!D149","v":0},{"$f":"'Multiple NPA 65'!E149","v":"00:00:00"},{"$f":"'Multiple NPA 65'!F149","v":0},{"$f":"'Multiple NPA 65'!G149","v":0},{"$f":"'Multiple NPA 65'!E149","v":"00:00:00"},{"$f":"'Multiple NPA 65'!F149","v":0},{"$f":"'Multiple NPA 65'!G149","v":"00:00:00"},{"$f":"'Multiple NPA 65'!H149","v":0},{"$f":"'Multiple NPA 65'!I149","v":0},{"$f":"'Multiple NPA 65'!J149","v":0},0,{"$f":"'Multiple NPA 65'!K149","v":0},{"$f":"'Multiple NPA 65'!L149","v":0},{"$error":"#N/A"},null,{"$error":"#N/A"},{"$error":"#N/A"},{"$error":"#N/A"},0,0,0,{"$error":"#N/A"},0,{"$error":"#N/A"},{"$error":"#N/A"},null,null,"2019-02-07",0,0,747,0.86599999999999999,null,null,null,null,null,null,null,{"$error":"#N/A"},{"$error":"#N/A"}]
[{"$f":"'Multiple NPA 65'!A150","v":0},{"$f":"'Multiple NPA 65'!B150","v":0},{"$f":"'Multiple NPA 65'!C150","v":0},{"$f":"'Multiple NPA 65'!D150","v":0},{"$f":"'Multiple NPA 65'!E150","v":"00:00:00"},{"$f":"'Multiple NPA 65'!F150","v":0},{"$f":"'Multiple NPA 65'!G150","v":0},{"$f":"'Multiple NPA 65'!E150","v":"00:00:00"},{"$f":"'Multiple NPA 65'!F150","v":0},{"$f":"'Multiple NPA 65'!G150","v":"00:00:00"},{"$f":"'Multiple NPA 65'!H150","v":0},{"$f":"'Multiple NPA 65'!I150","v":0},{"$f":"'Multiple NPA 65'!J150","v":0},0,{"$f":"'Multiple NPA 65'!K150","v":0},{"$f":"'Multiple NPA 65'!L150","v":0},{"$error":"#N/A"},null,{"$error":"#N/A"},{"$error":"#N/A"},{"$error":"#N/A"},0,0,0,{"$error":"#N/A"},0,{"$error":"#N/A"},{"$error":"#N/A"},null,null,"2019-02-07",0,0,748,0.87,null,null,null,null,null,null,null,{"$error":"#N/A"},{"$error":"#N/A"}]
[{"$f":"'Multiple NPA 65'!A151","v":0},{"$f":"'Multiple NPA 65'!B151","v":0},{"$f":"'Multiple NPA 65'!C151","v":0},{"$f":"'Multiple NPA 65'!D151","v":0},{"$f":"'Multiple NPA 65'!E151","v":"00:00:00"},{"$f":"'Multiple NPA 65'!F151","v":0},{"$f":"'Multiple NPA 65'!G151","v":0},{"$f":"'Multiple NPA 65'!E151","v":"00:00:00"},{"$f":"'Multiple NPA 65'!F151","v":0},{"$f":"'Multiple NPA 65'!G151","v":"00:00:00"},{"$f":"'Multiple NPA 65'!H151","v":0},{"$f":"'Multiple NPA 65'!I151","v":0},{"$f":"'Multiple NPA 65'!J151","v":0},0,{"$f":"'Multiple NPA 65'!K151","v":0},{"$f":"'Multiple NPA 65'!L151","v":0},{"$error":"#N/A"},null,{"$error":"#N/A"},{"$error":"#N/A"},{"$error":"#N/A"},0,0,0,{"$error":"#N/A"},0,{"$error":"#N/A"},{"$error":"#N/A"},null,null,"2019-02-07",0,0,749,0.874,null,null,null,null,null,null,null,{"$error":"#N/A"},{"$error":"#N/A"}]
[{"$f":"'Multiple NPA 65'!A152","v":0},{"$f":"'Multiple NPA 65'!B152","v":0},{"$f":"'Multiple NPA 65'!C152","v":0},{"$f":"'Multiple NPA 65'!D152","v":0},{"$f":"'Multiple NPA 65'!E152","v":"00:00:00"},{"$f":"'Multiple NPA 65'!F152","v":0},{"$f":"'Multiple NPA 65'!G152","v":0},{"$f":"'Multiple NPA 65'!E152","v":"00:00:00"},{"$f":"'Multiple NPA 65'!F152","v":0},{"$f":"'Multiple NPA 65'!G152","v":"00:00:00"},{"$f":"'Multiple NPA 65'!H152","v":0},{"$f":"'Multiple NPA 65'!I152","v":0},{"$f":"'Multiple NPA 65'!J152","v":0},0,{"$f":"'Multiple NPA 65'!K152","v":0},{"$f":"'Multiple NPA 65'!L152","v":0},{"$error":"#N/A"},null,{"$error":"#N/A"},{"$error":"#N/A"},{"$error":"#N/A"},0,0,0,{"$error":"#N/A"},0,{"$error":"#N/A"},{"$error":"#N/A"},null,null,"2019-02-07",0,0,750,0.878,null,null,null,null,null,null,null,{"$error":"#N/A"},{"$error":"#N/A"}]
[{"$f":"'Multiple NPA 65'!A153","v":0},{"$f":"'Multiple NPA 65'!B153","v":0},{"$f":"'Multiple NPA 65'!C153","v":0},{"$f":"'Multiple NPA 65'!D153","v":0},{"$f":"'Multiple NPA 65'!E153","v":"00:00:00"},{"$f":"'Multiple NPA 65'!F153","v":0},{"$f":"'Multiple NPA 65'!G153","v":0},{"$f":"'Multiple NPA 65'!E153","v":"00:00:00"},{"$f":"'Multiple NPA 65'!F153","v":0},{"$f":"'Multiple NPA 65'!G153","v":"00:00:00"},{"$f":"'Multiple NPA 65'!H153","v":0},{"$f":"'Multiple NPA 65'!I153","v":0},{"$f":"'Multiple NPA 65'!J153","v":0},0,{"$f":"'Multiple NPA 65'!K153","v":0},{"$f":"'Multiple NPA 65'!L153","v":0},{"$error":"#N/A"},null,{"$error":"#N/A"},{"$error":"#N/A"},{"$error":"#N/A"},0,0,0,{"$error":"#N/A"},0,{"$error":"#N/A"},{"$error":"#N/A"},null,null,"2019-02-07",0,0,751,0.88100000000000001,null,null,null,null,null,null,null,{"$error":"#N/A"},{"$error":"#N/A"}]
[{"$f":"'Multiple NPA 65'!A154","v":0},{"$f":"'Multiple NPA 65'!B154","v":0},{"$f":"'Multiple NPA 65'!C154","v":0},{"$f":"'Multiple NPA 65'!D154","v":0},{"$f":"'Multiple NPA 65'!E154","v":"00:00:00"},{"$f":"'Multiple NPA 65'!F154","v":0},{"$f":"'Multiple NPA 65'!G154","v":0},{"$f":"'Multiple NPA 65'!E154","v":"00:00:00"},{"$f":"'Multiple NPA 65'!F154","v":0},{"$f":"'Multiple NPA 65'!G154","v":"00:00:00"},{"$f":"'Multiple NPA 65'!H154","v":0},{"$f":"'Multiple NPA 65'!I154","v":0},{"$f":"'Multiple NPA 65'!J154","v":0},0,{"$f":"'Multiple NPA 65'!K154","v":0},{"$f":"'Multiple NPA 65'!L154","v":0},{"$error":"#N/A"},null,{"$error":"#N/A"},{"$error":"#N/A"},{"$error":"#N/A"},0,0,0,{"$error":"#N/A"},0,{"$error":"#N/A"},{"$error":"#N/A"},null,null,"2019-02-07",0,0,752,0.88500000000000001,null,null,null,null,null,null,null,{"$error":"#N/A"},{"$error":"#N/A"}]
[{"$f":"'Multiple NPA 65'!A155","v":0},{"$f":"'Multiple NPA 65'!B155","v":0},{"$f":"'Multiple NPA 65'!C155","v":0},{"$f":"'Multiple NPA 65'!D155","v":0},{"$f":"'Multiple NPA 65'!E155","v":"00:00:00"},{"$f":"'Multiple NPA 65'!F155","v":0},{"$f":"'Multiple NPA 65'!G155","v":0},{"$f":"'Multiple NPA 65'!E155","v":"00:00:00"},{"$f":"'Multiple NPA 65'!F155","v":0},{"$f":"'Multiple NPA 65'!G155","v":"00:00:00"},{"$f":"'Multiple NPA 65'!H155","v":0},{"$f":"'Multiple NPA 65'!I155","v":0},{"$f":"'Multiple NPA 65'!J155","v":0},0,{"$f":"'Multiple NPA 65'!K155","v":0},{"$f":"'Multiple NPA 65'!L155","v":0},{"$error":"#N/A"},null,{"$error":"#N/A"},{"$error":"#N/A"},{"$error":"#N/A"},0,0,0,{"$error":"#N/A"},0,{"$error":"#N/A"},{"$error":"#N/A"},null,null,"2019-02-07",0,0,753,0.88900000000000001,null,null,null,null,null,null,null,{"$error":"#N/A"},{"$error":"#N/A"}]
[{"$f":"'Multiple NPA 65'!A156","v":0},{"$f":"'Multiple NPA 65'!B156","v":0},{"$f":"'Multiple NPA 65'!C156","v":0},{"$f":"'Multiple NPA 65'!D156","v":0},{"$f":"'Multiple NPA 65'!E156","v":"00:00:00"},{"$f":"'Multiple NPA 65'!F156","v":0},{"$f":"'Multiple NPA 65'!G156","v":0},{"$f":"'Multiple NPA 65'!E156","v":"00:00:00"},{"$f":"'Multiple NPA 65'!F156","v":0},{"$f":"'Multiple NPA 65'!G156","v":"00:00:00"},{"$f":"'Multiple NPA 65'!H156","v":0},{"$f":"'Multiple NPA 65'!I156","v":0},{"$f":"'Multiple NPA 65'!J156","v":0},0,{"$f":"'Multiple NPA 65'!K156","v":0},{"$f":"'Multiple NPA 65'!L156","v":0},{"$error":"#N/A"},null,{"$error":"#N/A"},{"$error":"#N/A"},{"$error":"#N/A"},0,0,0,{"$error":"#N/A"},0,{"$error":"#N/A"},{"$error":"#N/A"},null,null,"2019-02-07",0,0,754,0.89300000000000002,null,null,null,null,null,null,null,{"$error":"#N/A"},{"$error":"#N/A"}]
[{"$f":"'Multiple NPA 65'!A157","v":0},{"$f":"'Multiple NPA 65'!B157","v":0},{"$f":"'Multiple NPA 65'!C157","v":0},{"$f":"'Multiple NPA 65'!D157","v":0},{"$f":"'Multiple NPA 65'!E157","v":"00:00:00"},{"$f":"'Multiple NPA 65'!F157","v":0},{"$f":"'Multiple NPA 65'!G157","v":0},{"$f":"'Multiple NPA 65'!E157","v":"00:00:00"},{"$f":"'Multiple NPA 65'!F157","v":0},{"$f":"'Multiple NPA 65'!G157","v":"00:00:00"},{"$f":"'Multiple NPA 65'!H157","v":0},{"$f":"'Multiple NPA 65'!I157","v":0},{"$f":"'Multiple NPA 65'!J157","v":0},0,{"$f":"'Multiple NPA 65'!K157","v":0},{"$f":"'Multiple NPA 65'!L157","v":0},{"$error":"#N/A"},null,{"$error":"#N/A"},{"$error":"#N/A"},{"$error":"#N/A"},0,0,0,{"$error":"#N/A"},0,{"$error":"#N/A"},{"$error":"#N/A"},null,null,"2019-02-07",0,0,755,0.89600000000000002,null,null,null,null,null,null,null,{"$error":"#N/A"},{"$error":"#N/A"}]
[{"$f":"'Multiple NPA 65'!A158","v":0},{"$f":"'Multiple NPA 65'!B158","v":0},{"$f":"'Multiple NPA 65'!C158","v":0},{"$f":"'Multiple NPA 65'!D158","v":0},{"$f":"'Multiple NPA 65'!E158","v":"00:00:00"},{"$f":"'Multiple NPA 65'!F158","v":0},{"$f":"'Multiple NPA 65'!G158","v":0},{"$f":"'Multiple NPA 65'!E158","v":"00:00:00"},{"$f":"'Multiple NPA 65'!F158","v":0},{"$f":"'Multiple NPA 65'!G158","v":"00:00:00"},{"$f":"'Multiple NPA 65'!H158","v":0},{"$f":"'Multiple NPA 65'!I158","v":0},{"$f":"'Multiple NPA 65'!J158","v":0},0,{"$f":"'Multiple NPA 65'!K158","v":0},{"$f":"'Multiple NPA 65'!L158","v":0},{"$error":"#N/A"},null,{"$error":"#N/A"},{"$error":"#N/A"},{"$error":"#N/A"},0,0,0,{"$error":"#N/A"},0,{"$error":"#N/A"},{"$error":"#N/A"},null,null,"2019-02-07",0,0,756,0.9,null,null,null,null,null,null,null,{"$error":"#N/A"},{"$error":"#N/A"}]
[{"$f":"'Multiple NPA 65'!A159","v":0},{"$f":"'Multiple NPA 65'!B159","v":0},{"$f":"'Multiple NPA 65'!C159","v":0},{"$f":"'Multiple NPA 65'!D159","v":0},{"$f":"'Multiple NPA 65'!E159","v":"00:00:00"},{"$f":"'Multiple NPA 65'!F159","v":0},{"$f":"'Multiple NPA 65'!G159","v":0},{"$f":"'Multiple NPA 65'!E159","v":"00:00:00"},{"$f":"'Multiple NPA 65'!F159","v":0},{"$f":"'Multiple NPA 65'!G159","v":"00:00:00"},{"$f":"'Multiple NPA 65'!H159","v":0},{"$f":"'Multiple NPA 65'!I159","v":0},{"$f":"'Multiple NPA 65'!J159","v":0},0,{"$f":"'Multiple NPA 65'!K159","v":0},{"$f":"'Multiple NPA 65'!L159","v":0},{"$error":"#N/A"},null,{"$error":"#N/A"},{"$error":"#N/A"},{"$error":"#N/A"},0,0,0,{"$error":"#N/A"},0,{"$error":"#N/A"},{"$error":"#N/A"},null,null,"2019-02-07",0,0,757,0.90400000000000003,null,null,null,null,null,null,null,{"$error":"#N/A"},{"$error":"#N/A"}]
[{"$f":"'Multiple NPA 65'!A160","v":0},{"$f":"'Multiple NPA 65'!B160","v":0},{"$f":"'Multiple NPA 65'!C160","v":0},{"$f":"'Multiple NPA 65'!D160","v":0},{"$f":"'Multiple NPA 65'!E160","v":"00:00:00"},{"$f":"'Multiple NPA 65'!F160","v":0},{"$f":"'Multiple NPA 65'!G160","v":0},{"$f":"'Multiple NPA 65'!E160","v":"00:00:00"},{"$f":"'Multiple NPA 65'!F160","v":0},{"$f":"'Multiple NPA 65'!G160","v":"00:00:00"},{"$f":"'Multiple NPA 65'!H160","v":0},{"$f":"'Multiple NPA 65'!I160","v":0},{"$f":"'Multiple NPA 65'!J160","v":0},0,{"$f":"'Multiple NPA 65'!K160","v":0},{"$f":"'Multiple NPA 65'!L160","v":0},{"$error":"#N/A"},null,{"$error":"#N/A"},{"$error":"#N/A"},{"$error":"#N/A"},0,0,0,{"$error":"#N/A"},0,{"$error":"#N/A"},{"$error":"#N/A"},null,null,"2019-02-07",0,0,758,0.90800000000000003,null,null,null,null,null,null,null,{"$error":"#N/A"},{"$error":"#N/A"}]
[{"$f":"'Multiple NPA 65'!A161","v":0},{"$f":"'Multiple NPA 65'!B161","v":0},{"$f":"'Multiple NPA 65'!C161","v":0},{"$f":"'Multiple NPA 65'!D161","v":0},{"$f":"'Multiple NPA 65'!E161","v":"00:00:00"},{"$f":"'Multiple NPA 65'!F161","v":0},{"$f":"'Multiple NPA 65'!G161","v":0},{"$f":"'Multiple NPA 65'!E161","v":"00:00:00"},{"$f":"'Multiple NPA 65'!F161","v":0},{"$f":"'Multiple NPA 65'!G161","v":"00:00:00"},{"$f":"'Multiple NPA 65'!H161","v":0},{"$f":"'Multiple NPA 65'!I161","v":0},{"$f":"'Multiple NPA 65'!J161","v":0},0,{"$f":"'Multiple NPA 65'!K161","v":0},{"$f":"'Multiple NPA 65'!L161","v":0},{"$error":"#N/A"},null,{"$error":"#N/A"},{"$error":"#N/A"},{"$error":"#N/A"},0,0,0,{"$error":"#N/A"},0,{"$error":"#N/A"},{"$error":"#N/A"},null,null,"2019-02-07",0,0,759,0.91200000000000003,null,null,null,null,null,null,null,{"$error":"#N/A"},{"$error":"#N/A"}]
[{"$f":"'Multiple NPA 65'!A162","v":0},{"$f":"'Multiple NPA 65'!B162","v":0},{"$f":"'Multiple NPA 65'!C162","v":0},{"$f":"'Multiple NPA 65'!D162","v":0},{"$f":"'Multiple NPA 65'!E162","v":"00:00:00"},{"$f":"'Multiple NPA 65'!F162","v":0},{"$f":"'Multiple NPA 65'!G162","v":0},{"$f":"'Multiple NPA 65'!E162","v":"00:00:00"},{"$f":"'Multiple NPA 65'!F162","v":0},{"$f":"'Multiple NPA 65'!G162","v":"00:00:00"},{"$f":"'Multiple NPA 65'!H162","v":0},{"$f":"'Multiple NPA 65'!I162","v":0},{"$f":"'Multiple NPA 65'!J162","v":0},0,{"$f":"'Multiple NPA 65'!K162","v":0},{"$f":"'Multiple NPA 65'!L162","v":0},{"$error":"#N/A"},null,{"$error":"#N/A"},{"$error":"#N/A"},{"$error":"#N/A"},0,0,0,{"$error":"#N/A"},0,{"$error":"#N/A"},{"$error":"#N/A"},null,null,"2019-02-07",0,0,760,0.91600000000000004,null,null,null,null,null,null,null,{"$error":"#N/A"},{"$error":"#N/A"}]
[{"$f":"'Multiple NPA 65'!A163","v":0},{"$f":"'Multiple NPA 65'!B163","v":0},{"$f":"'Multiple NPA 65'!C163","v":0},{"$f":"'Multiple NPA 65'!D163","v":0},{"$f":"'Multiple NPA 65'!E163","v":"00:00:00"},{"$f":"'Multiple NPA 65'!F163","v":0},{"$f":"'Multiple NPA 65'!G163","v":0},{"$f":"'Multiple NPA 65'!E163","v":"00:00:00"},{"$f":"'Multiple NPA 65'!F163","v":0},{"$f":"'Multiple NPA 65'!G163","v":"00:00:00"},{"$f":"'Multiple NPA 65'!H163","v":0},{"$f":"'Multiple NPA 65'!I163","v":0},{"$f":"'Multiple NPA 65'!J163","v":0},0,{"$f":"'Multiple NPA 65'!K163","v":0},{"$f":"'Multiple NPA 65'!L163","v":0},{"$error":"#N/A"},null,{"$error":"#N/A"},{"$error":"#N/A"},{"$error":"#N/A"},0,0,0,{"$error":"#N/A"},0,{"$f":"SUM(Q165-AR165)","v":{"$error":"#N/A"}},{"$error":"#N/A"},null,null,"2019-02-07",0,0,761,0.92100000000000004,null,null,null,null,null,null,null,{"$error":"#N/A"},{"$error":"#N/A"}]
[{"$f":"'Multiple NPA 65'!A164","v":0},{"$f":"'Multiple NPA 65'!B164","v":0},{"$f":"'Multiple NPA 65'!C164","v":0},{"$f":"'Multiple NPA 65'!D164","v":0},{"$f":"'Multiple NPA 65'!E164","v":"00:00:00"},{"$f":"'Multiple NPA 65'!F164","v":0},{"$f":"'Multiple NPA 65'!G164","v":0},{"$f":"'Multiple NPA 65'!E164","v":"00:00:00"},{"$f":"'Multiple NPA 65'!F164","v":0},{"$f":"'Multiple NPA 65'!G164","v":"00:00:00"},{"$f":"'Multiple NPA 65'!H164","v":0},{"$f":"'Multiple NPA 65'!I164","v":0},{"$f":"'Multiple NPA 65'!J164","v":0},0,{"$f":"'Multiple NPA 65'!K164","v":0},{"$f":"'Multiple NPA 65'!L164","v":0},{"$error":"#N/A"},null,{"$error":"#N/A"},{"$error":"#N/A"},{"$error":"#N/A"},0,0,0,{"$error":"#N/A"},0,{"$error":"#N/A"},{"$error":"#N/A"},null,null,"2019-02-07",0,0,762,0.92500000000000004,null,null,null,null,null,null,null,{"$error":"#N/A"},{"$error":"#N/A"}]
[{"$f":"'Multiple NPA 65'!A165","v":0},{"$f":"'Multiple NPA 65'!B165","v":0},{"$f":"'Multiple NPA 65'!C165","v":0},{"$f":"'Multiple NPA 65'!D165","v":0},{"$f":"'Multiple NPA 65'!E165","v":"00:00:00"},{"$f":"'Multiple NPA 65'!F165","v":0},{"$f":"'Multiple NPA 65'!G165","v":0},{"$f":"'Multiple NPA 65'!E165","v":"00:00:00"},{"$f":"'Multiple NPA 65'!F165","v":0},{"$f":"'Multiple NPA 65'!G165","v":"00:00:00"},{"$f":"'Multiple NPA 65'!H165","v":0},{"$f":"'Multiple NPA 65'!I165","v":0},{"$f":"'Multiple NPA 65'!J165","v":0},0,{"$f":"'Multiple NPA 65'!K165","v":0},{"$f":"'Multiple NPA 65'!L165","v":0},{"$error":"#N/A"},null,{"$error":"#N/A"},{"$error":"#N/A"},{"$error":"#N/A"},0,0,0,{"$error":"#N/A"},0,{"$error":"#N/A"},{"$error":"#N/A"},null,null,"2019-02-07",0,0,763,0.92900000000000005,null,null,null,null,null,null,null,{"$error":"#N/A"},{"$error":"#N/A"}]
[{"$f":"'Multiple NPA 65'!A166","v":0},{"$f":"'Multiple NPA 65'!B166","v":0},{"$f":"'Multiple NPA 65'!C166","v":0},{"$f":"'Multiple NPA 65'!D166","v":0},{"$f":"'Multiple NPA 65'!E166","v":"00:00:00"},{"$f":"'Multiple NPA 65'!F166","v":0},{"$f":"'Multiple NPA 65'!G166","v":0},{"$f":"'Multiple NPA 65'!E166","v":"00:00:00"},{"$f":"'Multiple NPA 65'!F166","v":0},{"$f":"'Multiple NPA 65'!G166","v":"00:00:00"},{"$f":"'Multiple NPA 65'!H166","v":0},{"$f":"'Multiple NPA 65'!I166","v":0},{"$f":"'Multiple NPA 65'!J166","v":0},0,{"$f":"'Multiple NPA 65'!K166","v":0},{"$f":"'Multiple NPA 65'!L166","v":0},{"$error":"#N/A"},null,{"$error":"#N/A"},{"$error":"#N/A"},{"$error":"#N/A"},0,0,0,{"$error":"#N/A"},0,{"$error":"#N/A"},{"$error":"#N/A"},null,null,"2019-02-07",0,0,764,0.93300000000000005,null,null,null,null,null,null,null,{"$error":"#N/A"},{"$error":"#N/A"}]
[{"$f":"'Multiple NPA 65'!A167","v":0},{"$f":"'Multiple NPA 65'!B167","v":0},{"$f":"'Multiple NPA 65'!C167","v":0},{"$f":"'Multiple NPA 65'!D167","v":0},{"$f":"'Multiple NPA 65'!E167","v":"00:00:00"},{"$f":"'Multiple NPA 65'!F167","v":0},{"$f":"'Multiple NPA 65'!G167","v":0},{"$f":"'Multiple NPA 65'!E167","v":"00:00:00"},{"$f":"'Multiple NPA 65'!F167","v":0},{"$f":"'Multiple NPA 65'!G167","v":"00:00:00"},{"$f":"'Multiple NPA 65'!H167","v":0},{"$f":"'Multiple NPA 65'!I167","v":0},{"$f":"'Multiple NPA 65'!J167","v":0},0,{"$f":"'Multiple NPA 65'!K167","v":0},{"$f":"'Multiple NPA 65'!L167","v":0},{"$error":"#N/A"},null,{"$error":"#N/A"},{"$error":"#N/A"},{"$error":"#N/A"},0,0,0,{"$error":"#N/A"},0,{"$error":"#N/A"},{"$error":"#N/A"},null,null,"2019-02-07",0,0,765,0.93700000000000006,null,null,null,null,null,null,null,{"$error":"#N/A"},{"$error":"#N/A"}]
[{"$f":"'Multiple NPA 65'!A168","v":0},{"$f":"'Multiple NPA 65'!B168","v":0},{"$f":"'Multiple NPA 65'!C168","v":0},{"$f":"'Multiple NPA 65'!D168","v":0},{"$f":"'Multiple NPA 65'!E168","v":"00:00:00"},{"$f":"'Multiple NPA 65'!F168","v":0},{"$f":"'Multiple NPA 65'!G168","v":0},{"$f":"'Multiple NPA 65'!E168","v":"00:00:00"},{"$f":"'Multiple NPA 65'!F168","v":0},{"$f":"'Multiple NPA 65'!G168","v":"00:00:00"},{"$f":"'Multiple NPA 65'!H168","v":0},{"$f":"'Multiple NPA 65'!I168","v":0},{"$f":"'Multiple NPA 65'!J168","v":0},0,{"$f":"'Multiple NPA 65'!K168","v":0},{"$f":"'Multiple NPA 65'!L168","v":0},{"$error":"#N/A"},null,{"$error":"#N/A"},{"$error":"#N/A"},{"$error":"#N/A"},0,0,0,{"$error":"#N/A"},0,{"$error":"#N/A"},{"$error":"#N/A"},null,null,"2019-02-07",0,0,766,0.94099999999999995,null,null,null,null,null,null,null,{"$error":"#N/A"},{"$error":"#N/A"}]
[{"$f":"'Multiple NPA 65'!A169","v":0},{"$f":"'Multiple NPA 65'!B169","v":0},{"$f":"'Multiple NPA 65'!C169","v":0},{"$f":"'Multiple NPA 65'!D169","v":0},{"$f":"'Multiple NPA 65'!E169","v":"00:00:00"},{"$f":"'Multiple NPA 65'!F169","v":0},{"$f":"'Multiple NPA 65'!G169","v":0},{"$f":"'Multiple NPA 65'!E169","v":"00:00:00"},{"$f":"'Multiple NPA 65'!F169","v":0},{"$f":"'Multiple NPA 65'!G169","v":"00:00:00"},{"$f":"'Multiple NPA 65'!H169","v":0},{"$f":"'Multiple NPA 65'!I169","v":0},{"$f":"'Multiple NPA 65'!J169","v":0},0,{"$f":"'Multiple NPA 65'!K169","v":0},{"$f":"'Multiple NPA 65'!L169","v":0},{"$error":"#N/A"},null,{"$error":"#N/A"},{"$error":"#N/A"},{"$error":"#N/A"},0,0,0,{"$error":"#N/A"},0,{"$error":"#N/A"},{"$error":"#N/A"},null,null,"2019-02-07",0,0,767,0.94499999999999995,null,null,null,null,null,null,null,{"$error":"#N/A"},{"$error":"#N/A"}]
[{"$f":"'Multiple NPA 65'!A170","v":0},{"$f":"'Multiple NPA 65'!B170","v":0},{"$f":"'Multiple NPA 65'!C170","v":0},{"$f":"'Multiple NPA 65'!D170","v":0},{"$f":"'Multiple NPA 65'!E170","v":"00:00:00"},{"$f":"'Multiple NPA 65'!F170","v":0},{"$f":"'Multiple NPA 65'!G170","v":0},{"$f":"'Multiple NPA 65'!E170","v":"00:00:00"},{"$f":"'Multiple NPA 65'!F170","v":0},{"$f":"'Multiple NPA 65'!G170","v":"00:00:00"},{"$f":"'Multiple NPA 65'!H170","v":0},{"$f":"'Multiple NPA 65'!I170","v":0},{"$f":"'Multiple NPA 65'!J170","v":0},0,{"$f":"'Multiple NPA 65'!K170","v":0},{"$f":"'Multiple NPA 65'!L170","v":0},{"$error":"#N/A"},null,{"$error":"#N/A"},{"$error":"#N/A"},{"$error":"#N/A"},0,0,0,{"$error":"#N/A"},0,{"$error":"#N/A"},{"$error":"#N/A"},null,null,"2019-02-07",0,0,768,0.94899999999999995,null,null,null,null,null,null,null,{"$error":"#N/A"},{"$error":"#N/A"}]
[{"$f":"'Multiple NPA 65'!A171","v":0},{"$f":"'Multiple NPA 65'!B171","v":0},{"$f":"'Multiple NPA 65'!C171","v":0},{"$f":"'Multiple NPA 65'!D171","v":0},{"$f":"'Multiple NPA 65'!E171","v":"00:00:00"},{"$f":"'Multiple NPA 65'!F171","v":0},{"$f":"'Multiple NPA 65'!G171","v":0},{"$f":"'Multiple NPA 65'!E171","v":"00:00:00"},{"$f":"'Multiple NPA 65'!F171","v":0},{"$f":"'Multiple NPA 65'!G171","v":"00:00:00"},{"$f":"'Multiple NPA 65'!H171","v":0},{"$f":"'Multiple NPA 65'!I171","v":0},{"$f":"'Multiple NPA 65'!J171","v":0},0,{"$f":"'Multiple NPA 65'!K171","v":0},{"$f":"'Multiple NPA 65'!L171","v":0},{"$error":"#N/A"},null,{"$error":"#N/A"},{"$error":"#N/A"},{"$error":"#N/A"},0,0,0,{"$error":"#N/A"},0,{"$error":"#N/A"},{"$error":"#N/A"},null,null,"2019-02-07",0,0,769,0.95399999999999996,null,null,null,null,null,null,null,{"$error":"#N/A"},{"$error":"#N/A"}]
[{"$f":"'Multiple NPA 65'!A172","v":0},{"$f":"'Multiple NPA 65'!B172","v":0},{"$f":"'Multiple NPA 65'!C172","v":0},{"$f":"'Multiple NPA 65'!D172","v":0},{"$f":"'Multiple NPA 65'!E172","v":"00:00:00"},{"$f":"'Multiple NPA 65'!F172","v":0},{"$f":"'Multiple NPA 65'!G172","v":0},{"$f":"'Multiple NPA 65'!E172","v":"00:00:00"},{"$f":"'Multiple NPA 65'!F172","v":0},{"$f":"'Multiple NPA 65'!G172","v":"00:00:00"},{"$f":"'Multiple NPA 65'!H172","v":0},{"$f":"'Multiple NPA 65'!I172","v":0},{"$f":"'Multiple NPA 65'!J172","v":0},0,{"$f":"'Multiple NPA 65'!K172","v":0},{"$f":"'Multiple NPA 65'!L172","v":0},{"$error":"#N/A"},null,{"$error":"#N/A"},{"$error":"#N/A"},{"$error":"#N/A"},0,0,0,{"$error":"#N/A"},0,{"$error":"#N/A"},{"$error":"#N/A"},null,null,"2019-02-07",0,0,770,0.95799999999999996,null,null,null,null,null,null,null,{"$error":"#N/A"},{"$error":"#N/A"}]
[{"$f":"'Multiple NPA 65'!A173","v":0},{"$f":"'Multiple NPA 65'!B173","v":0},{"$f":"'Multiple NPA 65'!C173","v":0},{"$f":"'Multiple NPA 65'!D173","v":0},{"$f":"'Multiple NPA 65'!E173","v":"00:00:00"},{"$f":"'Multiple NPA 65'!F173","v":0},{"$f":"'Multiple NPA 65'!G173","v":0},{"$f":"'Multiple NPA 65'!E173","v":"00:00:00"},{"$f":"'Multiple NPA 65'!F173","v":0},{"$f":"'Multiple NPA 65'!G173","v":"00:00:00"},{"$f":"'Multiple NPA 65'!H173","v":0},{"$f":"'Multiple NPA 65'!I173","v":0},{"$f":"'Multiple NPA 65'!J173","v":0},0,{"$f":"'Multiple NPA 65'!K173","v":0},{"$f":"'Multiple NPA 65'!L173","v":0},{"$error":"#N/A"},null,{"$error":"#N/A"},{"$error":"#N/A"},{"$error":"#N/A"},0,0,0,{"$error":"#N/A"},0,{"$error":"#N/A"},{"$error":"#N/A"},null,null,"2019-02-07",0,0,771,0.96199999999999997,null,null,null,null,null,null,null,{"$error":"#N/A"},{"$error":"#N/A"}]
[{"$f":"'Multiple NPA 65'!A174","v":0},{"$f":"'Multiple NPA 65'!B174","v":0},{"$f":"'Multiple NPA 65'!C174","v":0},{"$f":"'Multiple NPA 65'!D174","v":0},{"$f":"'Multiple NPA 65'!E174","v":"00:00:00"},{"$f":"'Multiple NPA 65'!F174","v":0},{"$f":"'Multiple NPA 65'!G174","v":0},{"$f":"'Multiple NPA 65'!E174","v":"00:00:00"},{"$f":"'Multiple NPA 65'!F174","v":0},{"$f":"'Multiple NPA 65'!G174","v":"00:00:00"},{"$f":"'Multiple NPA 65'!H174","v":0},{"$f":"'Multiple NPA 65'!I174","v":0},{"$f":"'Multiple NPA 65'!J174","v":0},0,{"$f":"'Multiple NPA 65'!K174","v":0},{"$f":"'Multiple NPA 65'!L174","v":0},{"$error":"#N/A"},null,{"$error":"#N/A"},{"$error":"#N/A"},{"$error":"#N/A"},0,0,0,{"$error":"#N/A"},0,{"$error":"#N/A"},{"$error":"#N/A"},null,null,"2019-02-07",0,0,772,0.96699999999999997,null,null,null,null,null,null,null,{"$error":"#N/A"},{"$error":"#N/A"}]
[{"$f":"'Multiple NPA 65'!A175","v":0},{"$f":"'Multiple NPA 65'!B175","v":0},{"$f":"'Multiple NPA 65'!C175","v":0},{"$f":"'Multiple NPA 65'!D175","v":0},{"$f":"'Multiple NPA 65'!E175","v":"00:00:00"},{"$f":"'Multiple NPA 65'!F175","v":0},{"$f":"'Multiple NPA 65'!G175","v":0},{"$f":"'Multiple NPA 65'!E175","v":"00:00:00"},{"$f":"'Multiple NPA 65'!F175","v":0},{"$f":"'Multiple NPA 65'!G175","v":"00:00:00"},{"$f":"'Multiple NPA 65'!H175","v":0},{"$f":"'Multiple NPA 65'!I175","v":0},{"$f":"'Multiple NPA 65'!J175","v":0},0,{"$f":"'Multiple NPA 65'!K175","v":0},{"$f":"'Multiple NPA 65'!L175","v":0},{"$error":"#N/A"},null,{"$error":"#N/A"},{"$error":"#N/A"},{"$error":"#N/A"},0,0,0,{"$error":"#N/A"},0,{"$error":"#N/A"},{"$error":"#N/A"},null,null,"2019-02-07",0,0,773,0.97099999999999997,null,null,null,null,null,null,null,{"$error":"#N/A"},{"$error":"#N/A"}]
[{"$f":"'Multiple NPA 65'!A176","v":0},{"$f":"'Multiple NPA 65'!B176","v":0},{"$f":"'Multiple NPA 65'!C176","v":0},{"$f":"'Multiple NPA 65'!D176","v":0},{"$f":"'Multiple NPA 65'!E176","v":"00:00:00"},{"$f":"'Multiple NPA 65'!F176","v":0},{"$f":"'Multiple NPA 65'!G176","v":0},{"$f":"'Multiple NPA 65'!E176","v":"00:00:00"},{"$f":"'Multiple NPA 65'!F176","v":0},{"$f":"'Multiple NPA 65'!G176","v":"00:00:00"},{"$f":"'Multiple NPA 65'!H176","v":0},{"$f":"'Multiple NPA 65'!I176","v":0},{"$f":"'Multiple NPA 65'!J176","v":0},0,{"$f":"'Multiple NPA 65'!K176","v":0},{"$f":"'Multiple NPA 65'!L176","v":0},{"$error":"#N/A"},null,{"$error":"#N/A"},{"$error":"#N/A"},{"$error":"#N/A"},0,0,0,{"$error":"#N/A"},0,{"$error":"#N/A"},{"$error":"#N/A"},null,null,"2019-02-07",0,0,774,0.97599999999999998,null,null,null,null,null,null,null,{"$error":"#N/A"},{"$error":"#N/A"}]
[{"$f":"'Multiple NPA 65'!A177","v":0},{"$f":"'Multiple NPA 65'!B177","v":0},{"$f":"'Multiple NPA 65'!C177","v":0},{"$f":"'Multiple NPA 65'!D177","v":0},{"$f":"'Multiple NPA 65'!E177","v":"00:00:00"},{"$f":"'Multiple NPA 65'!F177","v":0},{"$f":"'Multiple NPA 65'!G177","v":0},{"$f":"'Multiple NPA 65'!E177","v":"00:00:00"},{"$f":"'Multiple NPA 65'!F177","v":0},{"$f":"'Multiple NPA 65'!G177","v":"00:00:00"},{"$f":"'Multiple NPA 65'!H177","v":0},{"$f":"'Multiple NPA 65'!I177","v":0},{"$f":"'Multiple NPA 65'!J177","v":0},0,{"$f":"'Multiple NPA 65'!K177","v":0},{"$f":"'Multiple NPA 65'!L177","v":0},{"$error":"#N/A"},null,{"$error":"#N/A"},{"$error":"#N/A"},{"$error":"#N/A"},0,0,0,{"$error":"#N/A"},0,{"$error":"#N/A"},{"$error":"#N/A"},null,null,"2019-02-07",0,0,775,0.98,null,null,null,null,null,null,null,{"$error":"#N/A"},{"$error":"#N/A"}]
[{"$f":"'Multiple NPA 65'!A178","v":0},{"$f":"'Multiple NPA 65'!B178","v":0},{"$f":"'Multiple NPA 65'!C178","v":0},{"$f":"'Multiple NPA 65'!D178","v":0},{"$f":"'Multiple NPA 65'!E178","v":"00:00:00"},{"$f":"'Multiple NPA 65'!F178","v":0},{"$f":"'Multiple NPA 65'!G178","v":0},{"$f":"'Multiple NPA 65'!E178","v":"00:00:00"},{"$f":"'Multiple NPA 65'!F178","v":0},{"$f":"'Multiple NPA 65'!G178","v":"00:00:00"},{"$f":"'Multiple NPA 65'!H178","v":0},{"$f":"'Multiple NPA 65'!I178","v":0},{"$f":"'Multiple NPA 65'!J178","v":0},0,{"$f":"'Multiple NPA 65'!K178","v":0},{"$f":"'Multiple NPA 65'!L178","v":0},{"$error":"#N/A"},null,{"$error":"#N/A"},{"$error":"#N/A"},{"$error":"#N/A"},0,0,0,{"$error":"#N/A"},0,{"$error":"#N/A"},{"$error":"#N/A"},null,null,"2019-02-07",0,0,776,0.98499999999999999,null,null,null,null,null,null,null,{"$error":"#N/A"},{"$error":"#N/A"}]
[{"$f":"'Multiple NPA 65'!A179","v":0},{"$f":"'Multiple NPA 65'!B179","v":0},{"$f":"'Multiple NPA 65'!C179","v":0},{"$f":"'Multiple NPA 65'!D179","v":0},{"$f":"'Multiple NPA 65'!E179","v":"00:00:00"},{"$f":"'Multiple NPA 65'!F179","v":0},{"$f":"'Multiple NPA 65'!G179","v":0},{"$f":"'Multiple NPA 65'!E179","v":"00:00:00"},{"$f":"'Multiple NPA 65'!F179","v":0},{"$f":"'Multiple NPA 65'!G179","v":"00:00:00"},{"$f":"'Multiple NPA 65'!H179","v":0},{"$f":"'Multiple NPA 65'!I179","v":0},{"$f":"'Multiple NPA 65'!J179","v":0},0,{"$f":"'Multiple NPA 65'!K179","v":0},{"$f":"'Multiple NPA 65'!L179","v":0},{"$error":"#N/A"},null,{"$error":"#N/A"},{"$error":"#N/A"},{"$error":"#N/A"},0,0,0,{"$error":"#N/A"},0,{"$error":"#N/A"},{"$error":"#N/A"},null,null,"2019-02-07",0,0,777,0.98899999999999999,null,null,null,null,null,null,null,{"$error":"#N/A"},{"$error":"#N/A"}]
[{"$f":"'Multiple NPA 65'!A180","v":0},{"$f":"'Multiple NPA 65'!B180","v":0},{"$f":"'Multiple NPA 65'!C180","v":0},{"$f":"'Multiple NPA 65'!D180","v":0},{"$f":"'Multiple NPA 65'!E180","v":"00:00:00"},{"$f":"'Multiple NPA 65'!F180","v":0},{"$f":"'Multiple NPA 65'!G180","v":0},{"$f":"'Multiple NPA 65'!E180","v":"00:00:00"},{"$f":"'Multiple NPA 65'!F180","v":0},{"$f":"'Multiple NPA 65'!G180","v":"00:00:00"},{"$f":"'Multiple NPA 65'!H180","v":0},{"$f":"'Multiple NPA 65'!I180","v":0},{"$f":"'Multiple NPA 65'!J180","v":0},0,{"$f":"'Multiple NPA 65'!K180","v":0},{"$f":"'Multiple NPA 65'!L180","v":0},{"$error":"#N/A"},null,{"$error":"#N/A"},{"$error":"#N/A"},{"$error":"#N/A"},0,0,0,{"$error":"#N/A"},0,{"$error":"#N/A"},{"$error":"#N/A"},null,null,"2019-02-07",0,0,778,0.99299999999999999,null,null,null,null,null,null,null,{"$error":"#N/A"},{"$error":"#N/A"}]
[{"$f":"'Multiple NPA 65'!A181","v":0},{"$f":"'Multiple NPA 65'!B181","v":0},{"$f":"'Multiple NPA 65'!C181","v":0},{"$f":"'Multiple NPA 65'!D181","v":0},{"$f":"'Multiple NPA 65'!E181","v":"00:00:00"},{"$f":"'Multiple NPA 65'!F181","v":0},{"$f":"'Multiple NPA 65'!G181","v":0},{"$f":"'Multiple NPA 65'!E181","v":"00:00:00"},{"$f":"'Multiple NPA 65'!F181","v":0},{"$f":"'Multiple NPA 65'!G181","v":"00:00:00"},{"$f":"'Multiple NPA 65'!H181","v":0},{"$f":"'Multiple NPA 65'!I181","v":0},{"$f":"'Multiple NPA 65'!J181","v":0},0,{"$f":"'Multiple NPA 65'!K181","v":0},{"$f":"'Multiple NPA 65'!L181","v":0},{"$error":"#N/A"},null,{"$error":"#N/A"},{"$error":"#N/A"},{"$error":"#N/A"},0,0,0,{"$error":"#N/A"},0,{"$error":"#N/A"},{"$error":"#N/A"},null,null,"2019-02-07",0,0,779,0.998,null,null,null,null,null,null,null,{"$error":"#N/A"},{"$error":"#N/A"}]
[{"$f":"'Multiple NPA 65'!A182","v":0},{"$f":"'Multiple NPA 65'!B182","v":0},{"$f":"'Multiple NPA 65'!C182","v":0},{"$f":"'Multiple NPA 65'!D182","v":0},{"$f":"'Multiple NPA 65'!E182","v":"00:00:00"},{"$f":"'Multiple NPA 65'!F182","v":0},{"$f":"'Multiple NPA 65'!G182","v":0},{"$f":"'Multiple NPA 65'!E182","v":"00:00:00"},{"$f":"'Multiple NPA 65'!F182","v":0},{"$f":"'Multiple NPA 65'!G182","v":"00:00:00"},{"$f":"'Multiple NPA 65'!H182","v":0},{"$f":"'Multiple NPA 65'!I182","v":0},{"$f":"'Multiple NPA 65'!J182","v":0},0,{"$f":"'Multiple NPA 65'!K182","v":0},{"$f":"'Multiple NPA 65'!L182","v":0},{"$error":"#N/A"},null,{"$error":"#N/A"},{"$error":"#N/A"},{"$error":"#N/A"},0,0,0,{"$error":"#N/A"},0,{"$error":"#N/A"},{"$error":"#N/A"},null,null,"2019-02-07",0,0,780,1,null,null,null,null,null,null,null,{"$error":"#N/A"},{"$error":"#N/A"}]
[{"$f":"'Multiple NPA 65'!A183","v":0},{"$f":"'Multiple NPA 65'!B183","v":0},{"$f":"'Multiple NPA 65'!C183","v":0},{"$f":"'Multiple NPA 65'!D183","v":0},{"$f":"'Multiple NPA 65'!E183","v":"00:00:00"},{"$f":"'Multiple NPA 65'!F183","v":0},{"$f":"'Multiple NPA 65'!G183","v":0},{"$f":"'Multiple NPA 65'!E183","v":"00:00:00"},{"$f":"'Multiple NPA 65'!F183","v":0},{"$f":"'Multiple NPA 65'!G183","v":"00:00:00"},{"$f":"'Multiple NPA 65'!H183","v":0},{"$f":"'Multiple NPA 65'!I183","v":0},{"$f":"'Multiple NPA 65'!J183","v":0},0,{"$f":"'Multiple NPA 65'!K183","v":0},{"$f":"'Multiple NPA 65'!L183","v":0},{"$error":"#N/A"},null,{"$error":"#N/A"},{"$error":"#N/A"},{"$error":"#N/A"},0,0,0,{"$error":"#N/A"},0,{"$error":"#N/A"},{"$error":"#N/A"},null,null,"2019-02-07",0,0,781,1,null,null,null,null,null,null,null,{"$error":"#N/A"},{"$error":"#N/A"}]
[{"$f":"'Multiple NPA 65'!A184","v":0},{"$f":"'Multiple NPA 65'!B184","v":0},{"$f":"'Multiple NPA 65'!C184","v":0},{"$f":"'Multiple NPA 65'!D184","v":0},{"$f":"'Multiple NPA 65'!E184","v":"00:00:00"},{"$f":"'Multiple NPA 65'!F184","v":0},{"$f":"'Multiple NPA 65'!G184","v":0},{"$f":"'Multiple NPA 65'!E184","v":"00:00:00"},{"$f":"'Multiple NPA 65'!F184","v":0},{"$f":"'Multiple NPA 65'!G184","v":"00:00:00"},{"$f":"'Multiple NPA 65'!H184","v":0},{"$f":"'Multiple NPA 65'!I184","v":0},{"$f":"'Multiple NPA 65'!J184","v":0},0,{"$f":"'Multiple NPA 65'!K184","v":0},{"$f":"'Multiple NPA 65'!L184","v":0},{"$error":"#N/A"},null,{"$error":"#N/A"},{"$error":"#N/A"},{"$error":"#N/A"},0,0,0,{"$error":"#N/A"},0,{"$error":"#N/A"},{"$error":"#N/A"},null,null,"2019-02-07",0,0,782,1,null,null,null,null,null,null,null,{"$error":"#N/A"},{"$error":"#N/A"}]
[{"$f":"'Multiple NPA 65'!A185","v":0},{"$f":"'Multiple NPA 65'!B185","v":0},{"$f":"'Multiple NPA 65'!C185","v":0},{"$f":"'Multiple NPA 65'!D185","v":0},{"$f":"'Multiple NPA 65'!E185","v":"00:00:00"},{"$f":"'Multiple NPA 65'!F185","v":0},{"$f":"'Multiple NPA 65'!G185","v":0},{"$f":"'Multiple NPA 65'!E185","v":"00:00:00"},{"$f":"'Multiple NPA 65'!F185","v":0},{"$f":"'Multiple NPA 65'!G185","v":"00:00:00"},{"$f":"'Multiple NPA 65'!H185","v":0},{"$f":"'Multiple NPA 65'!I185","v":0},{"$f":"'Multiple NPA 65'!J185","v":0},0,{"$f":"'Multiple NPA 65'!K185","v":0},{"$f":"'Multiple NPA 65'!L185","v":0},{"$error":"#N/A"},null,{"$error":"#N/A"},{"$error":"#N/A"},{"$error":"#N/A"},0,0,0,{"$error":"#N/A"},0,{"$error":"#N/A"},{"$error":"#N/A"},null,null,"2019-02-07",0,0,783,1,null,null,null,null,null,null,null,{"$error":"#N/A"},{"$error":"#N/A"}]
[{"$f":"'Multiple NPA 65'!A186","v":0},{"$f":"'Multiple NPA 65'!B186","v":0},{"$f":"'Multiple NPA 65'!C186","v":0},{"$f":"'Multiple NPA 65'!D186","v":0},{"$f":"'Multiple NPA 65'!E186","v":"00:00:00"},{"$f":"'Multiple NPA 65'!F186","v":0},{"$f":"'Multiple NPA 65'!G186","v":0},{"$f":"'Multiple NPA 65'!E186","v":"00:00:00"},{"$f":"'Multiple NPA 65'!F186","v":0},{"$f":"'Multiple NPA 65'!G186","v":"00:00:00"},{"$f":"'Multiple NPA 65'!H186","v":0},{"$f":"'Multiple NPA 65'!I186","v":0},{"$f":"'Multiple NPA 65'!J186","v":0},0,{"$f":"'Multiple NPA 65'!K186","v":0},{"$f":"'Multiple NPA 65'!L186","v":0},{"$error":"#N/A"},null,{"$error":"#N/A"},{"$error":"#N/A"},{"$error":"#N/A"},0,0,0,{"$error":"#N/A"},0,{"$error":"#N/A"},{"$error":"#N/A"},null,null,"2019-02-07",0,0,784,1,null,null,null,null,null,null,null,{"$error":"#N/A"},{"$error":"#N/A"}]
[{"$f":"'Multiple NPA 65'!A187","v":0},{"$f":"'Multiple NPA 65'!B187","v":0},{"$f":"'Multiple NPA 65'!C187","v":0},{"$f":"'Multiple NPA 65'!D187","v":0},{"$f":"'Multiple NPA 65'!E187","v":"00:00:00"},{"$f":"'Multiple NPA 65'!F187","v":0},{"$f":"'Multiple NPA 65'!G187","v":0},{"$f":"'Multiple NPA 65'!E187","v":"00:00:00"},{"$f":"'Multiple NPA 65'!F187","v":0},{"$f":"'Multiple NPA 65'!G187","v":"00:00:00"},{"$f":"'Multiple NPA 65'!H187","v":0},{"$f":"'Multiple NPA 65'!I187","v":0},{"$f":"'Multiple NPA 65'!J187","v":0},0,{"$f":"'Multiple NPA 65'!K187","v":0},{"$f":"'Multiple NPA 65'!L187","v":0},{"$error":"#N/A"},null,{"$error":"#N/A"},{"$error":"#N/A"},{"$error":"#N/A"},0,0,0,{"$error":"#N/A"},0,{"$error":"#N/A"},{"$error":"#N/A"},null,null,"2019-02-07",0,0,785,1,null,null,null,null,null,null,null,{"$error":"#N/A"},{"$error":"#N/A"}]
[{"$f":"'Multiple NPA 65'!A188","v":0},{"$f":"'Multiple NPA 65'!B188","v":0},{"$f":"'Multiple NPA 65'!C188","v":0},{"$f":"'Multiple NPA 65'!D188","v":0},{"$f":"'Multiple NPA 65'!E188","v":"00:00:00"},{"$f":"'Multiple NPA 65'!F188","v":0},{"$f":"'Multiple NPA 65'!G188","v":0},{"$f":"'Multiple NPA 65'!E188","v":"00:00:00"},{"$f":"'Multiple NPA 65'!F188","v":0},{"$f":"'Multiple NPA 65'!G188","v":"00:00:00"},{"$f":"'Multiple NPA 65'!H188","v":0},{"$f":"'Multiple NPA 65'!I188","v":0},{"$f":"'Multiple NPA 65'!J188","v":0},0,{"$f":"'Multiple NPA 65'!K188","v":0},{"$f":"'Multiple NPA 65'!L188","v":0},{"$error":"#N/A"},null,{"$error":"#N/A"},{"$error":"#N/A"},{"$error":"#N/A"},0,0,0,{"$error":"#N/A"},0,{"$error":"#N/A"},{"$error":"#N/A"},null,null,"2019-02-07",0,0,786,1,null,null,null,null,null,null,null,{"$error":"#N/A"},{"$error":"#N/A"}]
[{"$f":"'Multiple NPA 65'!A189","v":0},{"$f":"'Multiple NPA 65'!B189","v":0},{"$f":"'Multiple NPA 65'!C189","v":0},{"$f":"'Multiple NPA 65'!D189","v":0},{"$f":"'Multiple NPA 65'!E189","v":"00:00:00"},{"$f":"'Multiple NPA 65'!F189","v":0},{"$f":"'Multiple NPA 65'!G189","v":0},{"$f":"'Multiple NPA 65'!E189","v":"00:00:00"},{"$f":"'Multiple NPA 65'!F189","v":0},{"$f":"'Multiple NPA 65'!G189","v":"00:00:00"},{"$f":"'Multiple NPA 65'!H189","v":0},{"$f":"'Multiple NPA 65'!I189","v":0},{"$f":"'Multiple NPA 65'!J189","v":0},0,{"$f":"'Multiple NPA 65'!K189","v":0},{"$f":"'Multiple NPA 65'!L189","v":0},{"$error":"#N/A"},null,{"$error":"#N/A"},{"$error":"#N/A"},{"$error":"#N/A"},0,0,0,{"$error":"#N/A"},0,{"$error":"#N/A"},{"$error":"#N/A"},null,null,"2019-02-07",0,0,787,1,null,null,null,null,null,null,null,{"$error":"#N/A"},{"$error":"#N/A"}]
[{"$f":"'Multiple NPA 65'!A190","v":0},{"$f":"'Multiple NPA 65'!B190","v":0},{"$f":"'Multiple NPA 65'!C190","v":0},{"$f":"'Multiple NPA 65'!D190","v":0},{"$f":"'Multiple NPA 65'!E190","v":"00:00:00"},{"$f":"'Multiple NPA 65'!F190","v":0},{"$f":"'Multiple NPA 65'!G190","v":0},{"$f":"'Multiple NPA 65'!E190","v":"00:00:00"},{"$f":"'Multiple NPA 65'!F190","v":0},{"$f":"'Multiple NPA 65'!G190","v":"00:00:00"},{"$f":"'Multiple NPA 65'!H190","v":0},{"$f":"'Multiple NPA 65'!I190","v":0},{"$f":"'Multiple NPA 65'!J190","v":0},0,{"$f":"'Multiple NPA 65'!K190","v":0},{"$f":"'Multiple NPA 65'!L190","v":0},{"$error":"#N/A"},null,{"$error":"#N/A"},{"$error":"#N/A"},{"$error":"#N/A"},0,0,0,{"$error":"#N/A"},0,{"$error":"#N/A"},{"$error":"#N/A"},null,null,"2019-02-07",0,0,788,1,null,null,null,null,null,null,null,{"$error":"#N/A"},{"$error":"#N/A"}]
[{"$f":"'Multiple NPA 65'!A191","v":0},{"$f":"'Multiple NPA 65'!B191","v":0},{"$f":"'Multiple NPA 65'!C191","v":0},{"$f":"'Multiple NPA 65'!D191","v":0},{"$f":"'Multiple NPA 65'!E191","v":"00:00:00"},{"$f":"'Multiple NPA 65'!F191","v":0},{"$f":"'Multiple NPA 65'!G191","v":0},{"$f":"'Multiple NPA 65'!E191","v":"00:00:00"},{"$f":"'Multiple NPA 65'!F191","v":0},{"$f":"'Multiple NPA 65'!G191","v":"00:00:00"},{"$f":"'Multiple NPA 65'!H191","v":0},{"$f":"'Multiple NPA 65'!I191","v":0},{"$f":"'Multiple NPA 65'!J191","v":0},0,{"$f":"'Multiple NPA 65'!K191","v":0},{"$f":"'Multiple NPA 65'!L191","v":0},{"$error":"#N/A"},null,{"$error":"#N/A"},{"$error":"#N/A"},{"$error":"#N/A"},0,0,0,{"$error":"#N/A"},0,{"$error":"#N/A"},{"$error":"#N/A"},null,null,"2019-02-07",0,0,789,1,null,null,null,null,null,null,null,{"$error":"#N/A"},{"$error":"#N/A"}]
[{"$f":"'Multiple NPA 65'!A192","v":0},{"$f":"'Multiple NPA 65'!B192","v":0},{"$f":"'Multiple NPA 65'!C192","v":0},{"$f":"'Multiple NPA 65'!D192","v":0},{"$f":"'Multiple NPA 65'!E192","v":"00:00:00"},{"$f":"'Multiple NPA 65'!F192","v":0},{"$f":"'Multiple NPA 65'!G192","v":0},{"$f":"'Multiple NPA 65'!E192","v":"00:00:00"},{"$f":"'Multiple NPA 65'!F192","v":0},{"$f":"'Multiple NPA 65'!G192","v":"00:00:00"},{"$f":"'Multiple NPA 65'!H192","v":0},{"$f":"'Multiple NPA 65'!I192","v":0},{"$f":"'Multiple NPA 65'!J192","v":0},0,{"$f":"'Multiple NPA 65'!K192","v":0},{"$f":"'Multiple NPA 65'!L192","v":0},{"$error":"#N/A"},null,{"$error":"#N/A"},{"$error":"#N/A"},{"$error":"#N/A"},0,0,0,{"$error":"#N/A"},0,{"$error":"#N/A"},{"$error":"#N/A"},null,null,"2019-02-07",0,0,790,1,null,null,null,null,null,null,null,{"$error":"#N/A"},{"$error":"#N/A"}]
[{"$f":"'Multiple NPA 65'!A193","v":0},{"$f":"'Multiple NPA 65'!B193","v":0},{"$f":"'Multiple NPA 65'!C193","v":0},{"$f":"'Multiple NPA 65'!D193","v":0},{"$f":"'Multiple NPA 65'!E193","v":"00:00:00"},{"$f":"'Multiple NPA 65'!F193","v":0},{"$f":"'Multiple NPA 65'!G193","v":0},{"$f":"'Multiple NPA 65'!E193","v":"00:00:00"},{"$f":"'Multiple NPA 65'!F193","v":0},{"$f":"'Multiple NPA 65'!G193","v":"00:00:00"},{"$f":"'Multiple NPA 65'!H193","v":0},{"$f":"'Multiple NPA 65'!I193","v":0},{"$f":"'Multiple NPA 65'!J193","v":0},0,{"$f":"'Multiple NPA 65'!K193","v":0},{"$f":"'Multiple NPA 65'!L193","v":0},{"$error":"#N/A"},null,{"$error":"#N/A"},{"$error":"#N/A"},{"$error":"#N/A"},0,0,0,{"$error":"#N/A"},0,{"$error":"#N/A"},{"$error":"#N/A"},null,null,"2019-02-07",0,0,791,1,null,null,null,null,null,null,null,{"$error":"#N/A"},{"$error":"#N/A"}]
[{"$f":"'Multiple NPA 65'!A194","v":0},{"$f":"'Multiple NPA 65'!B194","v":0},{"$f":"'Multiple NPA 65'!C194","v":0},{"$f":"'Multiple NPA 65'!D194","v":0},{"$f":"'Multiple NPA 65'!E194","v":"00:00:00"},{"$f":"'Multiple NPA 65'!F194","v":0},{"$f":"'Multiple NPA 65'!G194","v":0},{"$f":"'Multiple NPA 65'!E194","v":"00:00:00"},{"$f":"'Multiple NPA 65'!F194","v":0},{"$f":"'Multiple NPA 65'!G194","v":"00:00:00"},{"$f":"'Multiple NPA 65'!H194","v":0},{"$f":"'Multiple NPA 65'!I194","v":0},{"$f":"'Multiple NPA 65'!J194","v":0},0,{"$f":"'Multiple NPA 65'!K194","v":0},{"$f":"'Multiple NPA 65'!L194","v":0},{"$error":"#N/A"},null,{"$error":"#N/A"},{"$error":"#N/A"},{"$error":"#N/A"},0,0,0,{"$error":"#N/A"},0,{"$error":"#N/A"},{"$error":"#N/A"},null,null,"2019-02-07",0,0,792,1,null,null,null,null,null,null,null,{"$error":"#N/A"},{"$error":"#N/A"}]
[{"$f":"'Multiple NPA 65'!A195","v":0},{"$f":"'Multiple NPA 65'!B195","v":0},{"$f":"'Multiple NPA 65'!C195","v":0},{"$f":"'Multiple NPA 65'!D195","v":0},{"$f":"'Multiple NPA 65'!E195","v":"00:00:00"},{"$f":"'Multiple NPA 65'!F195","v":0},{"$f":"'Multiple NPA 65'!G195","v":0},{"$f":"'Multiple NPA 65'!E195","v":"00:00:00"},{"$f":"'Multiple NPA 65'!F195","v":0},{"$f":"'Multiple NPA 65'!G195","v":"00:00:00"},{"$f":"'Multiple NPA 65'!H195","v":0},{"$f":"'Multiple NPA 65'!I195","v":0},{"$f":"'Multiple NPA 65'!J195","v":0},0,{"$f":"'Multiple NPA 65'!K195","v":0},{"$f":"'Multiple NPA 65'!L195","v":0},{"$f":"VLOOKUP(AF197,$AH$4:$AI$244,2,FALSE)*(((K197+(L197/365))*I197)/60)","v":{"$error":"#N/A"}},null,{"$error":"#N/A"},{"$error":"#N/A"},{"$error":"#N/A"},0,0,0,{"$error":"#N/A"},0,{"$f":"SUM(Q197-AR197)","v":{"$error":"#N/A"}},{"$error":"#N/A"},null,null,"2019-02-07",{"$f":"(DATEDIF(H197, J197, \"M\"))","v":0},{"$f":"(DATEDIF(H197, J197, \"Y\"))","v":0},793,1,null,null,null,null,null,null,null,{"$f":"SUM((Q197*20)+(R197*(20/12)))/4.6667","v":{"$error":"#N/A"}},{"$f":"ROUNDDOWN(((AQ197-R197)/12),0)","v":{"$error":"#N/A"}}]
[{"$f":"'Multiple NPA 65'!A196","v":0},{"$f":"'Multiple NPA 65'!B196","v":0},{"$f":"'Multiple NPA 65'!C196","v":0},{"$f":"'Multiple NPA 65'!D196","v":0},{"$f":"'Multiple NPA 65'!E196","v":"00:00:00"},{"$f":"'Multiple NPA 65'!F196","v":0},{"$f":"'Multiple NPA 65'!G196","v":0},{"$f":"'Multiple NPA 65'!E196","v":"00:00:00"},{"$f":"'Multiple NPA 65'!F196","v":0},{"$f":"'Multiple NPA 65'!G196","v":"00:00:00"},{"$f":"'Multiple NPA 65'!H196","v":0},{"$f":"'Multiple NPA 65'!I196","v":0},{"$f":"'Multiple NPA 65'!J196","v":0},{"$f":"O198+(P198/365)","v":0},{"$f":"'Multiple NPA 65'!K196","v":0},{"$f":"'Multiple NPA 65'!L196","v":0},{"$error":"#N/A"},null,{"$f":"(((K198+(L198/365))*I198)/60)-Q198","v":{"$error":"#N/A"}},{"$error":"#N/A"},{"$f":"(((VLOOKUP(AG198, $AK$5:$AL$25,2,FALSE)*S198)))","v":{"$error":"#N/A"}},0,{"$f":"((O198+(P198/365))*I198)/160","v":0},{"$f":"V198*3","v":0},{"$f":"(((VLOOKUP(AG198,$AK$5:$AL$25,2,FALSE)*V198)+(((VLOOKUP(AG198,$AN$5:$AO$25,2,FALSE)*W198)))))","v":{"$error":"#N/A"}},0,{"$error":"#N/A"},{"$f":"SUM(AR198*12)","v":{"$error":"#N/A"}},null,null,{"$f":"TODAY()","v":"2019-02-07"},0,0,794,1,null,null,null,null,null,null,null,{"$error":"#N/A"},{"$error":"#N/A"}]
[{"$f":"'Multiple NPA 65'!A197","v":0},{"$f":"'Multiple NPA 65'!B197","v":0},{"$f":"'Multiple NPA 65'!C197","v":0},{"$f":"'Multiple NPA 65'!D197","v":0},{"$f":"'Multiple NPA 65'!E197","v":"00:00:00"},{"$f":"'Multiple NPA 65'!F197","v":0},{"$f":"'Multiple NPA 65'!G197","v":0},{"$f":"'Multiple NPA 65'!E197","v":"00:00:00"},{"$f":"'Multiple NPA 65'!F197","v":0},{"$f":"'Multiple NPA 65'!G197","v":"00:00:00"},{"$f":"'Multiple NPA 65'!H197","v":0},{"$f":"'Multiple NPA 65'!I197","v":0},{"$f":"'Multiple NPA 65'!J197","v":0},{"$f":"O199+(P199/365)","v":0},{"$f":"'Multiple NPA 65'!K197","v":0},{"$f":"'Multiple NPA 65'!L197","v":0},{"$error":"#N/A"},null,{"$f":"(((K199+(L199/365))*I199)/60)-Q199","v":{"$error":"#N/A"}},{"$f":"S199*3","v":{"$error":"#N/A"}},{"$f":"(((VLOOKUP(AG199, $AK$5:$AL$25,2,FALSE)*S199)))","v":{"$error":"#N/A"}},{"$f":"((O199+(P199/365))*I199)/60","v":0},{"$f":"((O199+(P199/365))*I199)/160","v":0},{"$f":"V199*3","v":0},{"$f":"(((VLOOKUP(AG199,$AK$5:$AL$25,2,FALSE)*V199)+(((VLOOKUP(AG199,$AN$5:$AO$25,2,FALSE)*W199)))))","v":{"$error":"#N/A"}},0,{"$error":"#N/A"},{"$f":"SUM(AR199*12)","v":{"$error":"#N/A"}},null,null,{"$f":"TODAY()","v":"2019-02-07"},0,0,795,1,null,null,null,null,null,null,null,{"$error":"#N/A"},{"$error":"#N/A"}]
[{"$f":"'Multiple NPA 65'!A198","v":0},{"$f":"'Multiple NPA 65'!B198","v":0},{"$f":"'Multiple NPA 65'!C198","v":0},{"$f":"'Multiple NPA 65'!D198","v":0},{"$f":"'Multiple NPA 65'!E198","v":"00:00:00"},{"$f":"'Multiple NPA 65'!F198","v":0},{"$f":"'Multiple NPA 65'!G198","v":0},{"$f":"'Multiple NPA 65'!E198","v":"00:00:00"},{"$f":"'Multiple NPA 65'!F198","v":0},{"$f":"'Multiple NPA 65'!G198","v":"00:00:00"},{"$f":"'Multiple NPA 65'!H198","v":0},{"$f":"'Multiple NPA 65'!I198","v":0},{"$f":"'Multiple NPA 65'!J198","v":0},{"$f":"O200+(P200/365)","v":0},{"$f":"'Multiple NPA 65'!K198","v":0},{"$f":"'Multiple NPA 65'!L198","v":0},{"$error":"#N/A"},null,{"$f":"(((K200+(L200/365))*I200)/60)-Q200","v":{"$error":"#N/A"}},{"$f":"S200*3","v":{"$error":"#N/A"}},{"$f":"(((VLOOKUP(AG200, $AK$5:$AL$25,2,FALSE)*S200)))","v":{"$error":"#N/A"}},{"$f":"((O200+(P200/365))*I200)/60","v":0},{"$f":"((O200+(P200/365))*I200)/160","v":0},{"$f":"V200*3","v":0},{"$f":"(((VLOOKUP(AG200,$AK$5:$AL$25,2,FALSE)*V200)+(((VLOOKUP(AG200,$AN$5:$AO$25,2,FALSE)*W200)))))","v":{"$error":"#N/A"}},0,{"$error":"#N/A"},{"$f":"SUM(AR200*12)","v":{"$error":"#N/A"}},null,null,{"$f":"TODAY()","v":"2019-02-07"},0,0,796,1,null,null,null,null,null,null,null,{"$error":"#N/A"},{"$error":"#N/A"}]
[{"$f":"'Multiple NPA 65'!A199","v":0},{"$f":"'Multiple NPA 65'!B199","v":0},{"$f":"'Multiple NPA 65'!C199","v":0},{"$f":"'Multiple NPA 65'!D199","v":0},{"$f":"'Multiple NPA 65'!E199","v":"00:00:00"},{"$f":"'Multiple NPA 65'!F199","v":0},{"$f":"'Multiple NPA 65'!G199","v":0},{"$f":"'Multiple NPA 65'!E199","v":"00:00:00"},{"$f":"'Multiple NPA 65'!F199","v":0},{"$f":"'Multiple NPA 65'!G199","v":"00:00:00"},{"$f":"'Multiple NPA 65'!H199","v":0},{"$f":"'Multiple NPA 65'!I199","v":0},{"$f":"'Multiple NPA 65'!J199","v":0},{"$f":"O201+(P201/365)","v":0},{"$f":"'Multiple NPA 65'!K199","v":0},{"$f":"'Multiple NPA 65'!L199","v":0},{"$error":"#N/A"},null,{"$f":"(((K201+(L201/365))*I201)/60)-Q201","v":{"$error":"#N/A"}},{"$f":"S201*3","v":{"$error":"#N/A"}},{"$f":"(((VLOOKUP(AG201, $AK$5:$AL$25,2,FALSE)*S201)))","v":{"$error":"#N/A"}},{"$f":"((O201+(P201/365))*I201)/60","v":0},{"$f":"((O201+(P201/365))*I201)/160","v":0},{"$f":"V201*3","v":0},{"$f":"(((VLOOKUP(AG201,$AK$5:$AL$25,2,FALSE)*V201)+(((VLOOKUP(AG201,$AN$5:$AO$25,2,FALSE)*W201)))))","v":{"$error":"#N/A"}},{"$f":"(SUMIF(U201:Y201,\">0\",U201:Y201))-(V201+X201+W201)","v":0},{"$error":"#N/A"},{"$f":"SUM(AR201*12)","v":{"$error":"#N/A"}},null,null,{"$f":"TODAY()","v":"2019-02-07"},0,0,797,1,null,null,null,null,null,null,null,{"$error":"#N/A"},{"$error":"#N/A"}]
[{"$f":"'Multiple NPA 65'!A200","v":0},{"$f":"'Multiple NPA 65'!B200","v":0},{"$f":"'Multiple NPA 65'!C200","v":0},{"$f":"'Multiple NPA 65'!D200","v":0},{"$f":"'Multiple NPA 65'!E200","v":"00:00:00"},{"$f":"'Multiple NPA 65'!F200","v":0},{"$f":"'Multiple NPA 65'!G200","v":0},{"$f":"'Multiple NPA 65'!E200","v":"00:00:00"},{"$f":"'Multiple NPA 65'!F200","v":0},{"$f":"'Multiple NPA 65'!G200","v":"00:00:00"},{"$f":"'Multiple NPA 65'!H200","v":0},{"$f":"'Multiple NPA 65'!I200","v":0},{"$f":"'Multiple NPA 65'!J200","v":0},{"$f":"O202+(P202/365)","v":0},{"$f":"'Multiple NPA 65'!K200","v":0},{"$f":"'Multiple NPA 65'!L200","v":0},{"$error":"#N/A"},null,{"$f":"(((K202+(L202/365))*I202)/60)-Q202","v":{"$error":"#N/A"}},{"$f":"S202*3","v":{"$error":"#N/A"}},{"$f":"(((VLOOKUP(AG202, $AK$5:$AL$25,2,FALSE)*S202)))","v":{"$error":"#N/A"}},{"$f":"((O202+(P202/365))*I202)/60","v":0},{"$f":"((O202+(P202/365))*I202)/160","v":0},{"$f":"V202*3","v":0},{"$f":"(((VLOOKUP(AG202,$AK$5:$AL$25,2,FALSE)*V202)+(((VLOOKUP(AG202,$AN$5:$AO$25,2,FALSE)*W202)))))","v":{"$error":"#N/A"}},{"$f":"(SUMIF(U202:Y202,\">0\",U202:Y202))-(V202+X202+W202)","v":0},{"$error":"#N/A"},{"$f":"SUM(AR202*12)","v":{"$error":"#N/A"}},null,null,{"$f":"TODAY()","v":"2019-02-07"},0,0,798,1,null,null,null,null,null,null,null,{"$error":"#N/A"},{"$error":"#N/A"}]
[{"$f":"'Multiple NPA 65'!A201","v":0},{"$f":"'Multiple NPA 65'!B201","v":0},{"$f":"'Multiple NPA 65'!C201","v":0},{"$f":"'Multiple NPA 65'!D201","v":0},{"$f":"'Multiple NPA 65'!E201","v":"00:00:00"},{"$f":"'Multiple NPA 65'!F201","v":0},{"$f":"'Multiple NPA 65'!G201","v":0},{"$f":"'Multiple NPA 65'!E201","v":"00:00:00"},{"$f":"'Multiple NPA 65'!F201","v":0},{"$f":"'Multiple NPA 65'!G201","v":"00:00:00"},{"$f":"'Multiple NPA 65'!H201","v":0},{"$f":"'Multiple NPA 65'!I201","v":0},{"$f":"'Multiple NPA 65'!J201","v":0},{"$f":"'Multiple NPA 65'!N201","v":0},{"$f":"'Multiple NPA 65'!O201","v":0},{"$f":"'Multiple NPA 65'!P201","v":0},null,null,null,null,null,null,null,null,null,null,null,null,null,null,null,0,0,799,1,null,null,null,null,null,null,null,0,0]
[{"$f":"'Multiple NPA 65'!A202","v":0},{"$f":"'Multiple NPA 65'!B202","v":0},{"$f":"'Multiple NPA 65'!C202","v":0},{"$f":"'Multiple NPA 65'!D202","v":0},{"$f":"'Multiple NPA 65'!E202","v":"00:00:00"},{"$f":"'Multiple NPA 65'!F202","v":0},{"$f":"'Multiple NPA 65'!G202","v":0},{"$f":"'Multiple NPA 65'!E202","v":"00:00:00"},{"$f":"'Multiple NPA 65'!F202","v":0},{"$f":"'Multiple NPA 65'!G202","v":"00:00:00"},{"$f":"'Multiple NPA 65'!H202","v":0},{"$f":"'Multiple NPA 65'!I202","v":0},{"$f":"'Multiple NPA 65'!J202","v":0},{"$f":"'Multiple NPA 65'!N202","v":0},{"$f":"'Multiple NPA 65'!O202","v":0},{"$f":"'Multiple NPA 65'!P202","v":0},null,null,null,null,null,null,null,null,null,null,null,null,null,null,null,0,0,800,1,null,null,null,null,null,null,null,0,0]
[{"$f":"'Multiple NPA 65'!A203","v":0},{"$f":"'Multiple NPA 65'!B203","v":0},{"$f":"'Multiple NPA 65'!C203","v":0},{"$f":"'Multiple NPA 65'!D203","v":0},{"$f":"'Multiple NPA 65'!E203","v":"00:00:00"},{"$f":"'Multiple NPA 65'!F203","v":0},{"$f":"'Multiple NPA 65'!G203","v":0},{"$f":"'Multiple NPA 65'!E203","v":"00:00:00"},{"$f":"'Multiple NPA 65'!F203","v":0},{"$f":"'Multiple NPA 65'!G203","v":"00:00:00"},{"$f":"'Multiple NPA 65'!H203","v":0},{"$f":"'Multiple NPA 65'!I203","v":0},{"$f":"'Multiple NPA 65'!J203","v":0},{"$f":"'Multiple NPA 65'!N203","v":0},{"$f":"'Multiple NPA 65'!O203","v":0},{"$f":"'Multiple NPA 65'!P203","v":0},null,null,null,null,null,null,null,null,null,null,null,null,null,null,null,0,0,801,1,null,null,null,null,null,null,null,0,0]
[{"$f":"'Multiple NPA 65'!A204","v":0},{"$f":"'Multiple NPA 65'!B204","v":0},{"$f":"'Multiple NPA 65'!C204","v":0},{"$f":"'Multiple NPA 65'!D204","v":0},{"$f":"'Multiple NPA 65'!E204","v":"00:00:00"},{"$f":"'Multiple NPA 65'!F204","v":0},{"$f":"'Multiple NPA 65'!G204","v":0},{"$f":"'Multiple NPA 65'!E204","v":"00:00:00"},{"$f":"'Multiple NPA 65'!F204","v":0},{"$f":"'Multiple NPA 65'!G204","v":"00:00:00"},{"$f":"'Multiple NPA 65'!H204","v":0},{"$f":"'Multiple NPA 65'!I204","v":0},{"$f":"'Multiple NPA 65'!J204","v":0},{"$f":"'Multiple NPA 65'!N204","v":0},{"$f":"'Multiple NPA 65'!O204","v":0},{"$f":"'Multiple NPA 65'!P204","v":0},null,null,null,null,null,null,null,null,null,null,null,null,null,null,null,0,0,802,1,null,null,null,null,null,null,null,0,0]
[{"$f":"'Multiple NPA 65'!A205","v":0},{"$f":"'Multiple NPA 65'!B205","v":0},{"$f":"'Multiple NPA 65'!C205","v":0},{"$f":"'Multiple NPA 65'!D205","v":0},{"$f":"'Multiple NPA 65'!E205","v":"00:00:00"},{"$f":"'Multiple NPA 65'!F205","v":0},{"$f":"'Multiple NPA 65'!G205","v":0},{"$f":"'Multiple NPA 65'!E205","v":"00:00:00"},{"$f":"'Multiple NPA 65'!F205","v":0},{"$f":"'Multiple NPA 65'!G205","v":"00:00:00"},{"$f":"'Multiple NPA 65'!H205","v":0},{"$f":"'Multiple NPA 65'!I205","v":0},{"$f":"'Multiple NPA 65'!J205","v":0},{"$f":"'Multiple NPA 65'!N205","v":0},{"$f":"'Multiple NPA 65'!O205","v":0},{"$f":"'Multiple NPA 65'!P205","v":0},null,null,null,null,null,null,null,null,null,null,null,null,null,null,null,0,0,803,1,null,null,null,null,null,null,null,0,0]
[{"$f":"'Multiple NPA 65'!A206","v":0},{"$f":"'Multiple NPA 65'!B206","v":0},{"$f":"'Multiple NPA 65'!C206","v":0},{"$f":"'Multiple NPA 65'!D206","v":0},{"$f":"'Multiple NPA 65'!E206","v":"00:00:00"},{"$f":"'Multiple NPA 65'!F206","v":0},{"$f":"'Multiple NPA 65'!G206","v":0},{"$f":"'Multiple NPA 65'!E206","v":"00:00:00"},{"$f":"'Multiple NPA 65'!F206","v":0},{"$f":"'Multiple NPA 65'!G206","v":"00:00:00"},{"$f":"'Multiple NPA 65'!H206","v":0},{"$f":"'Multiple NPA 65'!I206","v":0},{"$f":"'Multiple NPA 65'!J206","v":0},{"$f":"'Multiple NPA 65'!N206","v":0},{"$f":"'Multiple NPA 65'!O206","v":0},{"$f":"'Multiple NPA 65'!P206","v":0},null,null,null,null,null,null,null,null,null,null,null,null,null,null,null,0,0,804,1,null,null,null,null,null,null,null,0,0]
[{"$f":"'Multiple NPA 65'!A207","v":0},{"$f":"'Multiple NPA 65'!B207","v":0},{"$f":"'Multiple NPA 65'!C207","v":0},{"$f":"'Multiple NPA 65'!D207","v":0},{"$f":"'Multiple NPA 65'!E207","v":"00:00:00"},{"$f":"'Multiple NPA 65'!F207","v":0},{"$f":"'Multiple NPA 65'!G207","v":0},{"$f":"'Multiple NPA 65'!E207","v":"00:00:00"},{"$f":"'Multiple NPA 65'!F207","v":0},{"$f":"'Multiple NPA 65'!G207","v":"00:00:00"},{"$f":"'Multiple NPA 65'!H207","v":0},{"$f":"'Multiple NPA 65'!I207","v":0},{"$f":"'Multiple NPA 65'!J207","v":0},{"$f":"'Multiple NPA 65'!N207","v":0},{"$f":"'Multiple NPA 65'!O207","v":0},{"$f":"'Multiple NPA 65'!P207","v":0},null,null,null,null,null,null,null,null,null,null,null,null,null,null,null,0,0,805,1,null,null,null,null,null,null,null,0,0]
[{"$f":"'Multiple NPA 65'!A208","v":0},{"$f":"'Multiple NPA 65'!B208","v":0},{"$f":"'Multiple NPA 65'!C208","v":0},{"$f":"'Multiple NPA 65'!D208","v":0},{"$f":"'Multiple NPA 65'!E208","v":"00:00:00"},{"$f":"'Multiple NPA 65'!F208","v":0},{"$f":"'Multiple NPA 65'!G208","v":0},{"$f":"'Multiple NPA 65'!E208","v":"00:00:00"},{"$f":"'Multiple NPA 65'!F208","v":0},{"$f":"'Multiple NPA 65'!G208","v":"00:00:00"},{"$f":"'Multiple NPA 65'!H208","v":0},{"$f":"'Multiple NPA 65'!I208","v":0},{"$f":"'Multiple NPA 65'!J208","v":0},{"$f":"'Multiple NPA 65'!N208","v":0},{"$f":"'Multiple NPA 65'!O208","v":0},{"$f":"'Multiple NPA 65'!P208","v":0},null,null,null,null,null,null,null,null,null,null,null,null,null,null,null,0,0,806,1,null,null,null,null,null,null,null,0,0]
[{"$f":"'Multiple NPA 65'!A209","v":0},{"$f":"'Multiple NPA 65'!B209","v":0},{"$f":"'Multiple NPA 65'!C209","v":0},{"$f":"'Multiple NPA 65'!D209","v":0},{"$f":"'Multiple NPA 65'!E209","v":"00:00:00"},{"$f":"'Multiple NPA 65'!F209","v":0},{"$f":"'Multiple NPA 65'!G209","v":0},{"$f":"'Multiple NPA 65'!E209","v":"00:00:00"},{"$f":"'Multiple NPA 65'!F209","v":0},{"$f":"'Multiple NPA 65'!G209","v":"00:00:00"},{"$f":"'Multiple NPA 65'!H209","v":0},{"$f":"'Multiple NPA 65'!I209","v":0},{"$f":"'Multiple NPA 65'!J209","v":0},{"$f":"'Multiple NPA 65'!N209","v":0},{"$f":"'Multiple NPA 65'!O209","v":0},{"$f":"'Multiple NPA 65'!P209","v":0},null,null,null,null,null,null,null,null,null,null,null,null,null,null,null,0,0,807,1,null,null,null,null,null,null,null,0,0]
[{"$f":"'Multiple NPA 65'!A210","v":0},{"$f":"'Multiple NPA 65'!B210","v":0},{"$f":"'Multiple NPA 65'!C210","v":0},{"$f":"'Multiple NPA 65'!D210","v":0},{"$f":"'Multiple NPA 65'!E210","v":"00:00:00"},{"$f":"'Multiple NPA 65'!F210","v":0},{"$f":"'Multiple NPA 65'!G210","v":0},{"$f":"'Multiple NPA 65'!E210","v":"00:00:00"},{"$f":"'Multiple NPA 65'!F210","v":0},{"$f":"'Multiple NPA 65'!G210","v":"00:00:00"},{"$f":"'Multiple NPA 65'!H210","v":0},{"$f":"'Multiple NPA 65'!I210","v":0},{"$f":"'Multiple NPA 65'!J210","v":0},{"$f":"'Multiple NPA 65'!N210","v":0},{"$f":"'Multiple NPA 65'!O210","v":0},{"$f":"'Multiple NPA 65'!P210","v":0},null,null,null,null,null,null,null,null,null,null,null,null,null,null,null,0,0,808,1,null,null,null,null,null,null,null,0,0]
[{"$f":"'Multiple NPA 65'!A211","v":0},{"$f":"'Multiple NPA 65'!B211","v":0},{"$f":"'Multiple NPA 65'!C211","v":0},{"$f":"'Multiple NPA 65'!D211","v":0},{"$f":"'Multiple NPA 65'!E211","v":"00:00:00"},{"$f":"'Multiple NPA 65'!F211","v":0},{"$f":"'Multiple NPA 65'!G211","v":0},{"$f":"'Multiple NPA 65'!E211","v":"00:00:00"},{"$f":"'Multiple NPA 65'!F211","v":0},{"$f":"'Multiple NPA 65'!G211","v":"00:00:00"},{"$f":"'Multiple NPA 65'!H211","v":0},{"$f":"'Multiple NPA 65'!I211","v":0},{"$f":"'Multiple NPA 65'!J211","v":0},{"$f":"'Multiple NPA 65'!N211","v":0},{"$f":"'Multiple NPA 65'!O211","v":0},{"$f":"'Multiple NPA 65'!P211","v":0},null,null,null,null,null,null,null,null,null,null,null,null,null,null,null,0,0,809,1,null,null,null,null,null,null,null,0,0]
[{"$f":"'Multiple NPA 65'!A212","v":0},{"$f":"'Multiple NPA 65'!B212","v":0},{"$f":"'Multiple NPA 65'!C212","v":0},{"$f":"'Multiple NPA 65'!D212","v":0},{"$f":"'Multiple NPA 65'!E212","v":"00:00:00"},{"$f":"'Multiple NPA 65'!F212","v":0},{"$f":"'Multiple NPA 65'!G212","v":0},{"$f":"'Multiple NPA 65'!E212","v":"00:00:00"},{"$f":"'Multiple NPA 65'!F212","v":0},{"$f":"'Multiple NPA 65'!G212","v":"00:00:00"},{"$f":"'Multiple NPA 65'!H212","v":0},{"$f":"'Multiple NPA 65'!I212","v":0},{"$f":"'Multiple NPA 65'!J212","v":0},{"$f":"'Multiple NPA 65'!N212","v":0},{"$f":"'Multiple NPA 65'!O212","v":0},{"$f":"'Multiple NPA 65'!P212","v":0},null,null,null,null,null,null,null,null,null,null,null,null,null,null,null,0,0,810,1,null,null,null,null,null,null,null,0,0]
[{"$f":"'Multiple NPA 65'!A213","v":0},{"$f":"'Multiple NPA 65'!B213","v":0},{"$f":"'Multiple NPA 65'!C213","v":0},{"$f":"'Multiple NPA 65'!D213","v":0},{"$f":"'Multiple NPA 65'!E213","v":"00:00:00"},{"$f":"'Multiple NPA 65'!F213","v":0},{"$f":"'Multiple NPA 65'!G213","v":0},{"$f":"'Multiple NPA 65'!E213","v":"00:00:00"},{"$f":"'Multiple NPA 65'!F213","v":0},{"$f":"'Multiple NPA 65'!G213","v":"00:00:00"},{"$f":"'Multiple NPA 65'!H213","v":0},{"$f":"'Multiple NPA 65'!I213","v":0},{"$f":"'Multiple NPA 65'!J213","v":0},{"$f":"'Multiple NPA 65'!N213","v":0},{"$f":"'Multiple NPA 65'!O213","v":0},{"$f":"'Multiple NPA 65'!P213","v":0},null,null,null,null,null,null,null,null,null,null,null,null,null,null,null,0,0,811,1,null,null,null,null,null,null,null,0,0]
[{"$f":"'Multiple NPA 65'!A214","v":0},{"$f":"'Multiple NPA 65'!B214","v":0},{"$f":"'Multiple NPA 65'!C214","v":0},{"$f":"'Multiple NPA 65'!D214","v":0},{"$f":"'Multiple NPA 65'!E214","v":"00:00:00"},{"$f":"'Multiple NPA 65'!F214","v":0},{"$f":"'Multiple NPA 65'!G214","v":0},{"$f":"'Multiple NPA 65'!E214","v":"00:00:00"},{"$f":"'Multiple NPA 65'!F214","v":0},{"$f":"'Multiple NPA 65'!G214","v":"00:00:00"},{"$f":"'Multiple NPA 65'!H214","v":0},{"$f":"'Multiple NPA 65'!I214","v":0},{"$f":"'Multiple NPA 65'!J214","v":0},{"$f":"'Multiple NPA 65'!N214","v":0},{"$f":"'Multiple NPA 65'!O214","v":0},{"$f":"'Multiple NPA 65'!P214","v":0},null,null,null,null,null,null,null,null,null,null,null,null,null,null,null,0,0,812,1,null,null,null,null,null,null,null,0,0]
[{"$f":"'Multiple NPA 65'!A215","v":0},{"$f":"'Multiple NPA 65'!B215","v":0},{"$f":"'Multiple NPA 65'!C215","v":0},{"$f":"'Multiple NPA 65'!D215","v":0},{"$f":"'Multiple NPA 65'!E215","v":"00:00:00"},{"$f":"'Multiple NPA 65'!F215","v":0},{"$f":"'Multiple NPA 65'!G215","v":0},{"$f":"'Multiple NPA 65'!E215","v":"00:00:00"},{"$f":"'Multiple NPA 65'!F215","v":0},{"$f":"'Multiple NPA 65'!G215","v":"00:00:00"},{"$f":"'Multiple NPA 65'!H215","v":0},{"$f":"'Multiple NPA 65'!I215","v":0},{"$f":"'Multiple NPA 65'!J215","v":0},{"$f":"'Multiple NPA 65'!N215","v":0},{"$f":"'Multiple NPA 65'!O215","v":0},{"$f":"'Multiple NPA 65'!P215","v":0},null,null,null,null,null,null,null,null,null,null,null,null,null,null,null,0,0,813,1,null,null,null,null,null,null,null,0,0]
[{"$f":"'Multiple NPA 65'!A216","v":0},{"$f":"'Multiple NPA 65'!B216","v":0},{"$f":"'Multiple NPA 65'!C216","v":0},{"$f":"'Multiple NPA 65'!D216","v":0},{"$f":"'Multiple NPA 65'!E216","v":"00:00:00"},{"$f":"'Multiple NPA 65'!F216","v":0},{"$f":"'Multiple NPA 65'!G216","v":0},{"$f":"'Multiple NPA 65'!E216","v":"00:00:00"},{"$f":"'Multiple NPA 65'!F216","v":0},{"$f":"'Multiple NPA 65'!G216","v":"00:00:00"},{"$f":"'Multiple NPA 65'!H216","v":0},{"$f":"'Multiple NPA 65'!I216","v":0},{"$f":"'Multiple NPA 65'!J216","v":0},{"$f":"'Multiple NPA 65'!N216","v":0},{"$f":"'Multiple NPA 65'!O216","v":0},{"$f":"'Multiple NPA 65'!P216","v":0},null,null,null,null,null,null,null,null,null,null,null,null,null,null,null,0,0,814,1,null,null,null,null,null,null,null,0,0]
[{"$f":"'Multiple NPA 65'!A217","v":0},{"$f":"'Multiple NPA 65'!B217","v":0},{"$f":"'Multiple NPA 65'!C217","v":0},{"$f":"'Multiple NPA 65'!D217","v":0},{"$f":"'Multiple NPA 65'!E217","v":"00:00:00"},{"$f":"'Multiple NPA 65'!F217","v":0},{"$f":"'Multiple NPA 65'!G217","v":0},{"$f":"'Multiple NPA 65'!E217","v":"00:00:00"},{"$f":"'Multiple NPA 65'!F217","v":0},{"$f":"'Multiple NPA 65'!G217","v":"00:00:00"},{"$f":"'Multiple NPA 65'!H217","v":0},{"$f":"'Multiple NPA 65'!I217","v":0},{"$f":"'Multiple NPA 65'!J217","v":0},{"$f":"'Multiple NPA 65'!N217","v":0},{"$f":"'Multiple NPA 65'!O217","v":0},{"$f":"'Multiple NPA 65'!P217","v":0},null,null,null,null,null,null,null,null,null,null,null,null,null,null,null,0,0,815,1,null,null,null,null,null,null,null,0,0]
[{"$f":"'Multiple NPA 65'!A218","v":0},{"$f":"'Multiple NPA 65'!B218","v":0},{"$f":"'Multiple NPA 65'!C218","v":0},{"$f":"'Multiple NPA 65'!D218","v":0},{"$f":"'Multiple NPA 65'!E218","v":"00:00:00"},{"$f":"'Multiple NPA 65'!F218","v":0},{"$f":"'Multiple NPA 65'!G218","v":0},{"$f":"'Multiple NPA 65'!E218","v":"00:00:00"},{"$f":"'Multiple NPA 65'!F218","v":0},{"$f":"'Multiple NPA 65'!G218","v":"00:00:00"},{"$f":"'Multiple NPA 65'!H218","v":0},{"$f":"'Multiple NPA 65'!I218","v":0},{"$f":"'Multiple NPA 65'!J218","v":0},{"$f":"'Multiple NPA 65'!N218","v":0},{"$f":"'Multiple NPA 65'!O218","v":0},{"$f":"'Multiple NPA 65'!P218","v":0},null,null,null,null,null,null,null,null,null,null,null,null,null,null,null,0,0,816,1,null,null,null,null,null,null,null,0,0]
[{"$f":"'Multiple NPA 65'!A219","v":0},{"$f":"'Multiple NPA 65'!B219","v":0},{"$f":"'Multiple NPA 65'!C219","v":0},{"$f":"'Multiple NPA 65'!D219","v":0},{"$f":"'Multiple NPA 65'!E219","v":"00:00:00"},{"$f":"'Multiple NPA 65'!F219","v":0},{"$f":"'Multiple NPA 65'!G219","v":0},{"$f":"'Multiple NPA 65'!E219","v":"00:00:00"},{"$f":"'Multiple NPA 65'!F219","v":0},{"$f":"'Multiple NPA 65'!G219","v":"00:00:00"},{"$f":"'Multiple NPA 65'!H219","v":0},{"$f":"'Multiple NPA 65'!I219","v":0},{"$f":"'Multiple NPA 65'!J219","v":0},{"$f":"'Multiple NPA 65'!N219","v":0},{"$f":"'Multiple NPA 65'!O219","v":0},{"$f":"'Multiple NPA 65'!P219","v":0},null,null,null,null,null,null,null,null,null,null,null,null,null,null,null,0,0,817,1,null,null,null,null,null,null,null,0,0]
[{"$f":"'Multiple NPA 65'!A220","v":0},{"$f":"'Multiple NPA 65'!B220","v":0},{"$f":"'Multiple NPA 65'!C220","v":0},{"$f":"'Multiple NPA 65'!D220","v":0},{"$f":"'Multiple NPA 65'!E220","v":"00:00:00"},{"$f":"'Multiple NPA 65'!F220","v":0},{"$f":"'Multiple NPA 65'!G220","v":0},{"$f":"'Multiple NPA 65'!E220","v":"00:00:00"},{"$f":"'Multiple NPA 65'!F220","v":0},{"$f":"'Multiple NPA 65'!G220","v":"00:00:00"},{"$f":"'Multiple NPA 65'!H220","v":0},{"$f":"'Multiple NPA 65'!I220","v":0},{"$f":"'Multiple NPA 65'!J220","v":0},{"$f":"'Multiple NPA 65'!N220","v":0},{"$f":"'Multiple NPA 65'!O220","v":0},{"$f":"'Multiple NPA 65'!P220","v":0},null,null,null,null,null,null,null,null,null,null,null,null,null,null,null,0,0,818,1,null,null,null,null,null,null,null,0,0]
[{"$f":"'Multiple NPA 65'!A221","v":0},{"$f":"'Multiple NPA 65'!B221","v":0},{"$f":"'Multiple NPA 65'!C221","v":0},{"$f":"'Multiple NPA 65'!D221","v":0},{"$f":"'Multiple NPA 65'!E221","v":"00:00:00"},{"$f":"'Multiple NPA 65'!F221","v":0},{"$f":"'Multiple NPA 65'!G221","v":0},{"$f":"'Multiple NPA 65'!E221","v":"00:00:00"},{"$f":"'Multiple NPA 65'!F221","v":0},{"$f":"'Multiple NPA 65'!G221","v":"00:00:00"},{"$f":"'Multiple NPA 65'!H221","v":0},{"$f":"'Multiple NPA 65'!I221","v":0},{"$f":"'Multiple NPA 65'!J221","v":0},{"$f":"'Multiple NPA 65'!N221","v":0},{"$f":"'Multiple NPA 65'!O221","v":0},{"$f":"'Multiple NPA 65'!P221","v":0},null,null,null,null,null,null,null,null,null,null,null,null,null,null,null,0,0,819,1,null,null,null,null,null,null,null,0,0]
[{"$f":"'Multiple NPA 65'!A222","v":0},{"$f":"'Multiple NPA 65'!B222","v":0},{"$f":"'Multiple NPA 65'!C222","v":0},{"$f":"'Multiple NPA 65'!D222","v":0},{"$f":"'Multiple NPA 65'!E222","v":"00:00:00"},{"$f":"'Multiple NPA 65'!F222","v":0},{"$f":"'Multiple NPA 65'!G222","v":0},{"$f":"'Multiple NPA 65'!E222","v":"00:00:00"},{"$f":"'Multiple NPA 65'!F222","v":0},{"$f":"'Multiple NPA 65'!G222","v":"00:00:00"},{"$f":"'Multiple NPA 65'!H222","v":0},{"$f":"'Multiple NPA 65'!I222","v":0},{"$f":"'Multiple NPA 65'!J222","v":0},{"$f":"'Multiple NPA 65'!N222","v":0},{"$f":"'Multiple NPA 65'!O222","v":0},{"$f":"'Multiple NPA 65'!P222","v":0},null,null,null,null,null,null,null,null,null,null,null,null,null,null,null,0,0,820,1,null,null,null,null,null,null,null,0,0]
[{"$f":"'Multiple NPA 65'!A223","v":0},{"$f":"'Multiple NPA 65'!B223","v":0},{"$f":"'Multiple NPA 65'!C223","v":0},{"$f":"'Multiple NPA 65'!D223","v":0},{"$f":"'Multiple NPA 65'!E223","v":"00:00:00"},{"$f":"'Multiple NPA 65'!F223","v":0},{"$f":"'Multiple NPA 65'!G223","v":0},{"$f":"'Multiple NPA 65'!E223","v":"00:00:00"},{"$f":"'Multiple NPA 65'!F223","v":0},{"$f":"'Multiple NPA 65'!G223","v":"00:00:00"},{"$f":"'Multiple NPA 65'!H223","v":0},{"$f":"'Multiple NPA 65'!I223","v":0},{"$f":"'Multiple NPA 65'!J223","v":0},{"$f":"'Multiple NPA 65'!N223","v":0},{"$f":"'Multiple NPA 65'!O223","v":0},{"$f":"'Multiple NPA 65'!P223","v":0},null,null,null,null,null,null,null,null,null,null,null,null,null,null,null,0,0,821,1,null,null,null,null,null,null,null,0,0]
[{"$f":"'Multiple NPA 65'!A224","v":0},{"$f":"'Multiple NPA 65'!B224","v":0},{"$f":"'Multiple NPA 65'!C224","v":0},{"$f":"'Multiple NPA 65'!D224","v":0},{"$f":"'Multiple NPA 65'!E224","v":"00:00:00"},{"$f":"'Multiple NPA 65'!F224","v":0},{"$f":"'Multiple NPA 65'!G224","v":0},{"$f":"'Multiple NPA 65'!E224","v":"00:00:00"},{"$f":"'Multiple NPA 65'!F224","v":0},{"$f":"'Multiple NPA 65'!G224","v":"00:00:00"},{"$f":"'Multiple NPA 65'!H224","v":0},{"$f":"'Multiple NPA 65'!I224","v":0},{"$f":"'Multiple NPA 65'!J224","v":0},{"$f":"'Multiple NPA 65'!N224","v":0},{"$f":"'Multiple NPA 65'!O224","v":0},{"$f":"'Multiple NPA 65'!P224","v":0},null,null,null,null,null,null,null,null,null,null,null,null,null,null,null,0,0,822,1,null,null,null,null,null,null,null,0,0]
[{"$f":"'Multiple NPA 65'!A225","v":0},{"$f":"'Multiple NPA 65'!B225","v":0},{"$f":"'Multiple NPA 65'!C225","v":0},{"$f":"'Multiple NPA 65'!D225","v":0},{"$f":"'Multiple NPA 65'!E225","v":"00:00:00"},{"$f":"'Multiple NPA 65'!F225","v":0},{"$f":"'Multiple NPA 65'!G225","v":0},{"$f":"'Multiple NPA 65'!E225","v":"00:00:00"},{"$f":"'Multiple NPA 65'!F225","v":0},{"$f":"'Multiple NPA 65'!G225","v":"00:00:00"},{"$f":"'Multiple NPA 65'!H225","v":0},{"$f":"'Multiple NPA 65'!I225","v":0},{"$f":"'Multiple NPA 65'!J225","v":0},{"$f":"'Multiple NPA 65'!N225","v":0},{"$f":"'Multiple NPA 65'!O225","v":0},{"$f":"'Multiple NPA 65'!P225","v":0},null,null,null,null,null,null,null,null,null,null,null,null,null,null,null,0,0,823,1,null,null,null,null,null,null,null,0,0]
[{"$f":"'Multiple NPA 65'!A226","v":0},{"$f":"'Multiple NPA 65'!B226","v":0},{"$f":"'Multiple NPA 65'!C226","v":0},{"$f":"'Multiple NPA 65'!D226","v":0},{"$f":"'Multiple NPA 65'!E226","v":"00:00:00"},{"$f":"'Multiple NPA 65'!F226","v":0},{"$f":"'Multiple NPA 65'!G226","v":0},{"$f":"'Multiple NPA 65'!E226","v":"00:00:00"},{"$f":"'Multiple NPA 65'!F226","v":0},{"$f":"'Multiple NPA 65'!G226","v":"00:00:00"},{"$f":"'Multiple NPA 65'!H226","v":0},{"$f":"'Multiple NPA 65'!I226","v":0},{"$f":"'Multiple NPA 65'!J226","v":0},{"$f":"'Multiple NPA 65'!N226","v":0},{"$f":"'Multiple NPA 65'!O226","v":0},{"$f":"'Multiple NPA 65'!P226","v":0},null,null,null,null,null,null,null,null,null,null,null,null,null,null,null,0,0,824,1,null,null,null,null,null,null,null,0,0]
[{"$f":"'Multiple NPA 65'!A227","v":0},{"$f":"'Multiple NPA 65'!B227","v":0},{"$f":"'Multiple NPA 65'!C227","v":0},{"$f":"'Multiple NPA 65'!D227","v":0},{"$f":"'Multiple NPA 65'!E227","v":"00:00:00"},{"$f":"'Multiple NPA 65'!F227","v":0},{"$f":"'Multiple NPA 65'!G227","v":0},{"$f":"'Multiple NPA 65'!E227","v":"00:00:00"},{"$f":"'Multiple NPA 65'!F227","v":0},{"$f":"'Multiple NPA 65'!G227","v":"00:00:00"},{"$f":"'Multiple NPA 65'!H227","v":0},{"$f":"'Multiple NPA 65'!I227","v":0},{"$f":"'Multiple NPA 65'!J227","v":0},{"$f":"'Multiple NPA 65'!N227","v":0},{"$f":"'Multiple NPA 65'!O227","v":0},{"$f":"'Multiple NPA 65'!P227","v":0},null,null,null,null,null,null,null,null,null,null,null,null,null,null,null,0,0,825,1,null,null,null,null,null,null,null,0,0]
[{"$f":"'Multiple NPA 65'!A228","v":0},{"$f":"'Multiple NPA 65'!B228","v":0},{"$f":"'Multiple NPA 65'!C228","v":0},{"$f":"'Multiple NPA 65'!D228","v":0},{"$f":"'Multiple NPA 65'!E228","v":"00:00:00"},{"$f":"'Multiple NPA 65'!F228","v":0},{"$f":"'Multiple NPA 65'!G228","v":0},{"$f":"'Multiple NPA 65'!E228","v":"00:00:00"},{"$f":"'Multiple NPA 65'!F228","v":0},{"$f":"'Multiple NPA 65'!G228","v":"00:00:00"},{"$f":"'Multiple NPA 65'!H228","v":0},{"$f":"'Multiple NPA 65'!I228","v":0},{"$f":"'Multiple NPA 65'!J228","v":0},{"$f":"'Multiple NPA 65'!N228","v":0},{"$f":"'Multiple NPA 65'!O228","v":0},{"$f":"'Multiple NPA 65'!P228","v":0},null,null,null,null,null,null,null,null,null,null,null,null,null,null,null,0,0,826,1,null,null,null,null,null,null,null,0,0]
[{"$f":"'Multiple NPA 65'!A229","v":0},{"$f":"'Multiple NPA 65'!B229","v":0},{"$f":"'Multiple NPA 65'!C229","v":0},{"$f":"'Multiple NPA 65'!D229","v":0},{"$f":"'Multiple NPA 65'!E229","v":"00:00:00"},{"$f":"'Multiple NPA 65'!F229","v":0},{"$f":"'Multiple NPA 65'!G229","v":0},{"$f":"'Multiple NPA 65'!E229","v":"00:00:00"},{"$f":"'Multiple NPA 65'!F229","v":0},{"$f":"'Multiple NPA 65'!G229","v":"00:00:00"},{"$f":"'Multiple NPA 65'!H229","v":0},{"$f":"'Multiple NPA 65'!I229","v":0},{"$f":"'Multiple NPA 65'!J229","v":0},{"$f":"'Multiple NPA 65'!N229","v":0},{"$f":"'Multiple NPA 65'!O229","v":0},{"$f":"'Multiple NPA 65'!P229","v":0},null,null,null,null,null,null,null,null,null,null,null,null,null,null,null,0,0,827,1,null,null,null,null,null,null,null,0,0]
[{"$f":"'Multiple NPA 65'!A230","v":0},{"$f":"'Multiple NPA 65'!B230","v":0},{"$f":"'Multiple NPA 65'!C230","v":0},{"$f":"'Multiple NPA 65'!D230","v":0},{"$f":"'Multiple NPA 65'!E230","v":"00:00:00"},{"$f":"'Multiple NPA 65'!F230","v":0},{"$f":"'Multiple NPA 65'!G230","v":0},{"$f":"'Multiple NPA 65'!E230","v":"00:00:00"},{"$f":"'Multiple NPA 65'!F230","v":0},{"$f":"'Multiple NPA 65'!G230","v":"00:00:00"},{"$f":"'Multiple NPA 65'!H230","v":0},{"$f":"'Multiple NPA 65'!I230","v":0},{"$f":"'Multiple NPA 65'!J230","v":0},{"$f":"'Multiple NPA 65'!N230","v":0},{"$f":"'Multiple NPA 65'!O230","v":0},{"$f":"'Multiple NPA 65'!P230","v":0},null,null,null,null,null,null,null,null,null,null,null,null,null,null,null,0,0,828,1,null,null,null,null,null,null,null,0,0]
[{"$f":"'Multiple NPA 65'!A231","v":0},{"$f":"'Multiple NPA 65'!B231","v":0},{"$f":"'Multiple NPA 65'!C231","v":0},{"$f":"'Multiple NPA 65'!D231","v":0},{"$f":"'Multiple NPA 65'!E231","v":"00:00:00"},{"$f":"'Multiple NPA 65'!F231","v":0},{"$f":"'Multiple NPA 65'!G231","v":0},{"$f":"'Multiple NPA 65'!E231","v":"00:00:00"},{"$f":"'Multiple NPA 65'!F231","v":0},{"$f":"'Multiple NPA 65'!G231","v":"00:00:00"},{"$f":"'Multiple NPA 65'!H231","v":0},{"$f":"'Multiple NPA 65'!I231","v":0},{"$f":"'Multiple NPA 65'!J231","v":0},{"$f":"'Multiple NPA 65'!N231","v":0},{"$f":"'Multiple NPA 65'!O231","v":0},{"$f":"'Multiple NPA 65'!P231","v":0},null,null,null,null,null,null,null,null,null,null,null,null,null,null,null,0,0,829,1,null,null,null,null,null,null,null,0,0]
[{"$f":"'Multiple NPA 65'!A232","v":0},{"$f":"'Multiple NPA 65'!B232","v":0},{"$f":"'Multiple NPA 65'!C232","v":0},{"$f":"'Multiple NPA 65'!D232","v":0},{"$f":"'Multiple NPA 65'!E232","v":"00:00:00"},{"$f":"'Multiple NPA 65'!F232","v":0},{"$f":"'Multiple NPA 65'!G232","v":0},{"$f":"'Multiple NPA 65'!E232","v":"00:00:00"},{"$f":"'Multiple NPA 65'!F232","v":0},{"$f":"'Multiple NPA 65'!G232","v":"00:00:00"},{"$f":"'Multiple NPA 65'!H232","v":0},{"$f":"'Multiple NPA 65'!I232","v":0},{"$f":"'Multiple NPA 65'!J232","v":0},{"$f":"'Multiple NPA 65'!N232","v":0},{"$f":"'Multiple NPA 65'!O232","v":0},{"$f":"'Multiple NPA 65'!P232","v":0},null,null,null,null,null,null,null,null,null,null,null,null,null,null,null,0,0,830,1,null,null,null,null,null,null,null,0,0]
[{"$f":"'Multiple NPA 65'!A233","v":0},{"$f":"'Multiple NPA 65'!B233","v":0},{"$f":"'Multiple NPA 65'!C233","v":0},{"$f":"'Multiple NPA 65'!D233","v":0},{"$f":"'Multiple NPA 65'!E233","v":"00:00:00"},{"$f":"'Multiple NPA 65'!F233","v":0},{"$f":"'Multiple NPA 65'!G233","v":0},{"$f":"'Multiple NPA 65'!E233","v":"00:00:00"},{"$f":"'Multiple NPA 65'!F233","v":0},{"$f":"'Multiple NPA 65'!G233","v":"00:00:00"},{"$f":"'Multiple NPA 65'!H233","v":0},{"$f":"'Multiple NPA 65'!I233","v":0},{"$f":"'Multiple NPA 65'!J233","v":0},{"$f":"'Multiple NPA 65'!N233","v":0},{"$f":"'Multiple NPA 65'!O233","v":0},{"$f":"'Multiple NPA 65'!P233","v":0},null,null,null,null,null,null,null,null,null,null,null,null,null,null,null,0,0,831,1,null,null,null,null,null,null,null,0,0]
[{"$f":"'Multiple NPA 65'!A234","v":0},{"$f":"'Multiple NPA 65'!B234","v":0},{"$f":"'Multiple NPA 65'!C234","v":0},{"$f":"'Multiple NPA 65'!D234","v":0},{"$f":"'Multiple NPA 65'!E234","v":"00:00:00"},{"$f":"'Multiple NPA 65'!F234","v":0},{"$f":"'Multiple NPA 65'!G234","v":0},{"$f":"'Multiple NPA 65'!E234","v":"00:00:00"},{"$f":"'Multiple NPA 65'!F234","v":0},{"$f":"'Multiple NPA 65'!G234","v":"00:00:00"},{"$f":"'Multiple NPA 65'!H234","v":0},{"$f":"'Multiple NPA 65'!I234","v":0},{"$f":"'Multiple NPA 65'!J234","v":0},{"$f":"'Multiple NPA 65'!N234","v":0},{"$f":"'Multiple NPA 65'!O234","v":0},{"$f":"'Multiple NPA 65'!P234","v":0},null,null,null,null,null,null,null,null,null,null,null,null,null,null,null,0,0,832,1,null,null,null,null,null,null,null,0,0]
[{"$f":"'Multiple NPA 65'!A235","v":0},{"$f":"'Multiple NPA 65'!B235","v":0},{"$f":"'Multiple NPA 65'!C235","v":0},{"$f":"'Multiple NPA 65'!D235","v":0},{"$f":"'Multiple NPA 65'!E235","v":"00:00:00"},{"$f":"'Multiple NPA 65'!F235","v":0},{"$f":"'Multiple NPA 65'!G235","v":0},{"$f":"'Multiple NPA 65'!E235","v":"00:00:00"},{"$f":"'Multiple NPA 65'!F235","v":0},{"$f":"'Multiple NPA 65'!G235","v":"00:00:00"},{"$f":"'Multiple NPA 65'!H235","v":0},{"$f":"'Multiple NPA 65'!I235","v":0},{"$f":"'Multiple NPA 65'!J235","v":0},{"$f":"'Multiple NPA 65'!N235","v":0},{"$f":"'Multiple NPA 65'!O235","v":0},{"$f":"'Multiple NPA 65'!P235","v":0},null,null,null,null,null,null,null,null,null,null,null,null,null,null,null,0,0,833,1,null,null,null,null,null,null,null,0,0]
[{"$f":"'Multiple NPA 65'!A236","v":0},{"$f":"'Multiple NPA 65'!B236","v":0},{"$f":"'Multiple NPA 65'!C236","v":0},{"$f":"'Multiple NPA 65'!D236","v":0},{"$f":"'Multiple NPA 65'!E236","v":"00:00:00"},{"$f":"'Multiple NPA 65'!F236","v":0},{"$f":"'Multiple NPA 65'!G236","v":0},{"$f":"'Multiple NPA 65'!E236","v":"00:00:00"},{"$f":"'Multiple NPA 65'!F236","v":0},{"$f":"'Multiple NPA 65'!G236","v":"00:00:00"},{"$f":"'Multiple NPA 65'!H236","v":0},{"$f":"'Multiple NPA 65'!I236","v":0},{"$f":"'Multiple NPA 65'!J236","v":0},{"$f":"'Multiple NPA 65'!N236","v":0},{"$f":"'Multiple NPA 65'!O236","v":0},{"$f":"'Multiple NPA 65'!P236","v":0},null,null,null,null,null,null,null,null,null,null,null,null,null,null,null,0,0,834,1,null,null,null,null,null,null,null,0,0]
[{"$f":"'Multiple NPA 65'!A237","v":0},{"$f":"'Multiple NPA 65'!B237","v":0},{"$f":"'Multiple NPA 65'!C237","v":0},{"$f":"'Multiple NPA 65'!D237","v":0},{"$f":"'Multiple NPA 65'!E237","v":"00:00:00"},{"$f":"'Multiple NPA 65'!F237","v":0},{"$f":"'Multiple NPA 65'!G237","v":0},{"$f":"'Multiple NPA 65'!E237","v":"00:00:00"},{"$f":"'Multiple NPA 65'!F237","v":0},{"$f":"'Multiple NPA 65'!G237","v":"00:00:00"},{"$f":"'Multiple NPA 65'!H237","v":0},{"$f":"'Multiple NPA 65'!I237","v":0},{"$f":"'Multiple NPA 65'!J237","v":0},{"$f":"'Multiple NPA 65'!N237","v":0},{"$f":"'Multiple NPA 65'!O237","v":0},{"$f":"'Multiple NPA 65'!P237","v":0},null,null,null,null,null,null,null,null,null,null,null,null,null,null,null,0,0,835,1,null,null,null,null,null,null,null,0,0]
[{"$f":"'Multiple NPA 65'!A238","v":0},{"$f":"'Multiple NPA 65'!B238","v":0},{"$f":"'Multiple NPA 65'!C238","v":0},{"$f":"'Multiple NPA 65'!D238","v":0},{"$f":"'Multiple NPA 65'!E238","v":"00:00:00"},{"$f":"'Multiple NPA 65'!F238","v":0},{"$f":"'Multiple NPA 65'!G238","v":0},{"$f":"'Multiple NPA 65'!E238","v":"00:00:00"},{"$f":"'Multiple NPA 65'!F238","v":0},{"$f":"'Multiple NPA 65'!G238","v":"00:00:00"},{"$f":"'Multiple NPA 65'!H238","v":0},{"$f":"'Multiple NPA 65'!I238","v":0},{"$f":"'Multiple NPA 65'!J238","v":0},{"$f":"'Multiple NPA 65'!N238","v":0},{"$f":"'Multiple NPA 65'!O238","v":0},{"$f":"'Multiple NPA 65'!P238","v":0},null,null,null,null,null,null,null,null,null,null,null,null,null,null,null,0,0,836,1,null,null,null,null,null,null,null,0,0]
[{"$f":"'Multiple NPA 65'!A239","v":0},{"$f":"'Multiple NPA 65'!B239","v":0},{"$f":"'Multiple NPA 65'!C239","v":0},{"$f":"'Multiple NPA 65'!D239","v":0},{"$f":"'Multiple NPA 65'!E239","v":"00:00:00"},{"$f":"'Multiple NPA 65'!F239","v":0},{"$f":"'Multiple NPA 65'!G239","v":0},{"$f":"'Multiple NPA 65'!E239","v":"00:00:00"},{"$f":"'Multiple NPA 65'!F239","v":0},{"$f":"'Multiple NPA 65'!G239","v":"00:00:00"},{"$f":"'Multiple NPA 65'!H239","v":0},{"$f":"'Multiple NPA 65'!I239","v":0},{"$f":"'Multiple NPA 65'!J239","v":0},{"$f":"'Multiple NPA 65'!N239","v":0},{"$f":"'Multiple NPA 65'!O239","v":0},{"$f":"'Multiple NPA 65'!P239","v":0},null,null,null,null,null,null,null,null,null,null,null,null,null,null,null,0,0,837,1,null,null,null,null,null,null,null,0,0]
[{"$f":"'Multiple NPA 65'!A240","v":0},{"$f":"'Multiple NPA 65'!B240","v":0},{"$f":"'Multiple NPA 65'!C240","v":0},{"$f":"'Multiple NPA 65'!D240","v":0},{"$f":"'Multiple NPA 65'!E240","v":"00:00:00"},{"$f":"'Multiple NPA 65'!F240","v":0},{"$f":"'Multiple NPA 65'!G240","v":0},{"$f":"'Multiple NPA 65'!E240","v":"00:00:00"},{"$f":"'Multiple NPA 65'!F240","v":0},{"$f":"'Multiple NPA 65'!G240","v":"00:00:00"},{"$f":"'Multiple NPA 65'!H240","v":0},{"$f":"'Multiple NPA 65'!I240","v":0},{"$f":"'Multiple NPA 65'!J240","v":0},{"$f":"'Multiple NPA 65'!N240","v":0},{"$f":"'Multiple NPA 65'!O240","v":0},{"$f":"'Multiple NPA 65'!P240","v":0},null,null,null,null,null,null,null,null,null,null,null,null,null,null,null,0,0,838,1,null,null,null,null,null,null,null,0,0]
[{"$f":"'Multiple NPA 65'!A241","v":0},{"$f":"'Multiple NPA 65'!B241","v":0},{"$f":"'Multiple NPA 65'!C241","v":0},{"$f":"'Multiple NPA 65'!D241","v":0},{"$f":"'Multiple NPA 65'!E241","v":"00:00:00"},{"$f":"'Multiple NPA 65'!F241","v":0},{"$f":"'Multiple NPA 65'!G241","v":0},{"$f":"'Multiple NPA 65'!E241","v":"00:00:00"},{"$f":"'Multiple NPA 65'!F241","v":0},{"$f":"'Multiple NPA 65'!G241","v":"00:00:00"},{"$f":"'Multiple NPA 65'!H241","v":0},{"$f":"'Multiple NPA 65'!I241","v":0},{"$f":"'Multiple NPA 65'!J241","v":0},{"$f":"'Multiple NPA 65'!N241","v":0},{"$f":"'Multiple NPA 65'!O241","v":0},{"$f":"'Multiple NPA 65'!P241","v":0},null,null,null,null,null,null,null,null,null,null,null,null,null,null,null,0,0,839,1,null,null,null,null,null,null,null,0,0]
[{"$f":"'Multiple NPA 65'!A242","v":0},{"$f":"'Multiple NPA 65'!B242","v":0},null,null,null,null,null,{"$f":"'Multiple NPA 65'!E242","v":"00:00:00"},{"$f":"'Multiple NPA 65'!F242","v":0},{"$f":"'Multiple NPA 65'!G242","v":"00:00:00"},{"$f":"'Multiple NPA 65'!H242","v":0},{"$f":"'Multiple NPA 65'!I242","v":0},{"$f":"'Multiple NPA 65'!J242","v":0},null,null,null,null,null,null,null,null,null,null,null,null,null,null,null,null,null,null,0,0,840,1,null,null,null,null,null,null,null,0,0]
[{"$f":"'Multiple NPA 65'!A243","v":0},{"$f":"'Multiple NPA 65'!B243","v":0},null,null,null,null,null,{"$f":"'Multiple NPA 65'!E243","v":"00:00:00"},{"$f":"'Multiple NPA 65'!F243","v":0},{"$f":"'Multiple NPA 65'!G243","v":"00:00:00"},{"$f":"'Multiple NPA 65'!H243","v":0},{"$f":"'Multiple NPA 65'!I243","v":0},{"$f":"'Multiple NPA 65'!J243","v":0},null,null,null,null,null,null,null,null,null,null,null,null,null,null,null,null,null,null,0,0,null,null,null,null,null,null,null,null,null,0,0]
[{"$f":"'Multiple NPA 65'!A244","v":0},{"$f":"'Multiple NPA 65'!B244","v":0},null,null,null,null,null,{"$f":"'Multiple NPA 65'!E244","v":"00:00:00"},{"$f":"'Multiple NPA 65'!F244","v":0},{"$f":"'Multiple NPA 65'!G244","v":"00:00:00"},{"$f":"'Multiple NPA 65'!H244","v":0},{"$f":"'Multiple NPA 65'!I244","v":0},{"$f":"'Multiple NPA 65'!J244","v":0},null,null,null,null,null,null,null,null,null,null,null,null,null,null,null,null,null,null,0,0,null,null,null,null,null,null,null,null,null,0,0]
[{"$f":"'Multiple NPA 65'!A245","v":0},{"$f":"'Multiple NPA 65'!B245","v":0},null,null,null,null,null,{"$f":"'Multiple NPA 65'!E245","v":"00:00:00"},{"$f":"'Multiple NPA 65'!F245","v":0},{"$f":"'Multiple NPA 65'!G245","v":"00:00:00"},{"$f":"'Multiple NPA 65'!H245","v":0},{"$f":"'Multiple NPA 65'!I245","v":0},{"$f":"'Multiple NPA 65'!J245","v":0},null,null,null,null,null,null,null,null,null,null,null,null,null,null,null,null,null,null,0,0,null,null,null,null,null,null,null,null,null,0,0]
[{"$f":"'Multiple NPA 65'!A246","v":0},{"$f":"'Multiple NPA 65'!B246","v":0},null,null,null,null,null,{"$f":"'Multiple NPA 65'!E246","v":"00:00:00"},{"$f":"'Multiple NPA 65'!F246","v":0},{"$f":"'Multiple NPA 65'!G246","v":"00:00:00"},{"$f":"'Multiple NPA 65'!H246","v":0},{"$f":"'Multiple NPA 65'!I246","v":0},{"$f":"'Multiple NPA 65'!J246","v":0},null,null,null,null,null,null,null,null,null,null,null,null,null,null,null,null,null,null,0,0,null,null,null,null,null,null,null,null,null,0,0]
[{"$f":"'Multiple NPA 65'!A247","v":0},{"$f":"'Multiple NPA 65'!B247","v":0},null,null,null,null,null,{"$f":"'Multiple NPA 65'!E247","v":"00:00:00"},{"$f":"'Multiple NPA 65'!F247","v":0},{"$f":"'Multiple NPA 65'!G247","v":"00:00:00"},{"$f":"'Multiple NPA 65'!H247","v":0},{"$f":"'Multiple NPA 65'!I247","v":0},{"$f":"'Multiple NPA 65'!J247","v":0},null,null,null,null,null,null,null,null,null,null,null,null,null,null,null,null,null,null,0,0,null,null,null,null,null,null,null,null,null,0,0]
[{"$f":"'Multiple NPA 65'!A248","v":0},{"$f":"'Multiple NPA 65'!B248","v":0},null,null,null,null,null,{"$f":"'Multiple NPA 65'!E248","v":"00:00:00"},{"$f":"'Multiple NPA 65'!F248","v":0},{"$f":"'Multiple NPA 65'!G248","v":"00:00:00"},{"$f":"'Multiple NPA 65'!H248","v":0},{"$f":"'Multiple NPA 65'!I248","v":0},{"$f":"'Multiple NPA 65'!J248","v":0},null,null,null,null,null,null,null,null,null,null,null,null,null,null,null,null,null,null,0,0,null,null,null,null,null,null,null,null,null,0,0]
[{"$f":"'Multiple NPA 65'!A249","v":0},{"$f":"'Multiple NPA 65'!B249","v":0},null,null,null,null,null,{"$f":"'Multiple NPA 65'!E249","v":"00:00:00"},{"$f":"'Multiple NPA 65'!F249","v":0},{"$f":"'Multiple NPA 65'!G249","v":"00:00:00"},{"$f":"'Multiple NPA 65'!H249","v":0},{"$f":"'Multiple NPA 65'!I249","v":0},{"$f":"'Multiple NPA 65'!J249","v":0},null,null,null,null,null,null,null,null,null,null,null,null,null,null,null,null,null,null,0,0,null,null,null,null,null,null,null,null,null,0,0]
[{"$f":"'Multiple NPA 65'!A250","v":0},{"$f":"'Multiple NPA 65'!B250","v":0},null,null,null,null,null,{"$f":"'Multiple NPA 65'!E250","v":"00:00:00"},{"$f":"'Multiple NPA 65'!F250","v":0},{"$f":"'Multiple NPA 65'!G250","v":"00:00:00"},{"$f":"'Multiple NPA 65'!H250","v":0},{"$f":"'Multiple NPA 65'!I250","v":0},{"$f":"'Multiple NPA 65'!J250","v":0},null,null,null,null,null,null,null,null,null,null,null,null,null,null,null,null,null,null,0,0,null,null,null,null,null,null,null,null,null,0,0]
[null,null,null,null,null,null,null,{"$f":"'Multiple NPA 65'!E251","v":"00:00:00"},{"$f":"'Multiple NPA 65'!F251","v":0},{"$f":"'Multiple NPA 65'!G251","v":"00:00:00"},{"$f":"'Multiple NPA 65'!H251","v":0},{"$f":"'Multiple NPA 65'!I251","v":0},{"$f":"'Multiple NPA 65'!J251","v":0},null,null,null,null,null,null,null,null,null,null,null,null,null,null,null,null,null,null,0,0,null,null,null,null,null,null,null,null,null,0,0]
[null,null,null,null,null,null,null,{"$f":"'Multiple NPA 65'!E252","v":"00:00:00"},{"$f":"'Multiple NPA 65'!F252","v":0},{"$f":"'Multiple NPA 65'!G252","v":"00:00:00"},{"$f":"'Multiple NPA 65'!H252","v":0},{"$f":"'Multiple NPA 65'!I252","v":0},{"$f":"'Multiple NPA 65'!J252","v":0},null,null,null,null,null,null,null,null,null,null,null,null,null,null,null,null,null,null,0,0,null,null,null,null,null,null,null,null,null,0,0]
[null,null,null,null,null,null,null,{"$f":"'Multiple NPA 65'!E253","v":"00:00:00"},{"$f":"'Multiple NPA 65'!F253","v":0},{"$f":"'Multiple NPA 65'!G253","v":"00:00:00"},{"$f":"'Multiple NPA 65'!H253","v":0},{"$f":"'Multiple NPA 65'!I253","v":0},{"$f":"'Multiple NPA 65'!J253","v":0},null,null,null,null,null,null,null,null,null,null,null,null,null,null,null,null,null,null,0,0,null,null,null,null,null,null,null,null,null,0,0]
[null,null,null,null,null,null,null,{"$f":"'Multiple NPA 65'!E254","v":"00:00:00"},{"$f":"'Multiple NPA 65'!F254","v":0},{"$f":"'Multiple NPA 65'!G254","v":"00:00:00"},{"$f":"'Multiple NPA 65'!H254","v":0},{"$f":"'Multiple NPA 65'!I254","v":0},{"$f":"'Multiple NPA 65'!J254","v":0},null,null,null,null,null,null,null,null,null,null,null,null,null,null,null,null,null,null,0,0,null,null,null,null,null,null,null,null,null,0,0]
[null,null,null,null,null,null,null,{"$f":"'Multiple NPA 65'!E255","v":"00:00:00"},{"$f":"'Multiple NPA 65'!F255","v":0},{"$f":"'Multiple NPA 65'!G255","v":"00:00:00"},{"$f":"'Multiple NPA 65'!H255","v":0},{"$f":"'Multiple NPA 65'!I255","v":0},{"$f":"'Multiple NPA 65'!J255","v":0},null,null,null,null,null,null,null,null,null,null,null,null,null,null,null,null,null,null,0,0,null,null,null,null,null,null,null,null,null,0,0]
[null,null,null,null,null,null,null,{"$f":"'Multiple NPA 65'!E256","v":"00:00:00"},{"$f":"'Multiple NPA 65'!F256","v":0},{"$f":"'Multiple NPA 65'!G256","v":"00:00:00"},{"$f":"'Multiple NPA 65'!H256","v":0},{"$f":"'Multiple NPA 65'!I256","v":0},{"$f":"'Multiple NPA 65'!J256","v":0},null,null,null,null,null,null,null,null,null,null,null,null,null,null,null,null,null,null,0,0,null,null,null,null,null,null,null,null,null,0,0]
[null,null,null,null,null,null,null,{"$f":"'Multiple NPA 65'!E257","v":"00:00:00"},{"$f":"'Multiple NPA 65'!F257","v":0},{"$f":"'Multiple NPA 65'!G257","v":"00:00:00"},{"$f":"'Multiple NPA 65'!H257","v":0},{"$f":"'Multiple NPA 65'!I257","v":0},{"$f":"'Multiple NPA 65'!J257","v":0},null,null,null,null,null,null,null,null,null,null,null,null,null,null,null,null,null,null,0,0,null,null,null,null,null,null,null,null,null,0,0]
[null,null,null,null,null,null,null,{"$f":"'Multiple NPA 65'!E258","v":"00:00:00"},{"$f":"'Multiple NPA 65'!F258","v":0},{"$f":"'Multiple NPA 65'!G258","v":"00:00:00"},{"$f":"'Multiple NPA 65'!H258","v":0},{"$f":"'Multiple NPA 65'!I258","v":0},{"$f":"'Multiple NPA 65'!J258","v":0},null,null,null,null,null,null,null,null,null,null,null,null,null,null,null,null,null,null,0,0,null,null,null,null,null,null,null,null,null,0,0]
[null,null,null,null,null,null,null,{"$f":"'Multiple NPA 65'!E259","v":"00:00:00"},{"$f":"'Multiple NPA 65'!F259","v":0},{"$f":"'Multiple NPA 65'!G259","v":"00:00:00"},{"$f":"'Multiple NPA 65'!H259","v":0},{"$f":"'Multiple NPA 65'!I259","v":0},{"$f":"'Multiple NPA 65'!J259","v":0},null,null,null,null,null,null,null,null,null,null,null,null,null,null,null,null,null,null,{"$f":"(DATEDIF(H261, J261, \"M\"))","v":0},{"$f":"(DATEDIF(H261, J261, \"Y\"))","v":0},null,null,null,null,null,null,null,null,null,{"$f":"SUM((Q261*20)+(R261*(20/12)))/4.6667","v":0},{"$f":"ROUNDDOWN(((AQ261-R261)/12),0)","v":0}]
[null,null,null,null,null,null,null,{"$f":"'Multiple NPA 65'!E260","v":"00:00:00"},{"$f":"'Multiple NPA 65'!F260","v":0},{"$f":"'Multiple NPA 65'!G260","v":"00:00:00"},{"$f":"'Multiple NPA 65'!H260","v":0},{"$f":"'Multiple NPA 65'!I260","v":0},{"$f":"'Multiple NPA 65'!J260","v":0},null,null,null,null,null,null,null,null,null,null,null,null,null,null,null,null,null,null,0,{"$f":"(DATEDIF(H262, J262, \"Y\"))","v":0},null,null,null,null,null,null,null,null,null,0,0]
[null,null,null,null,null,null,null,{"$f":"'Multiple NPA 65'!E261","v":"00:00:00"},{"$f":"'Multiple NPA 65'!F261","v":0},{"$f":"'Multiple NPA 65'!G261","v":"00:00:00"},{"$f":"'Multiple NPA 65'!H261","v":0},{"$f":"'Multiple NPA 65'!I261","v":0},{"$f":"'Multiple NPA 65'!J261","v":0},null,null,null,null,null,null,null,null,null,null,null,null,null,null,null,null,null,null,0,{"$f":"(DATEDIF(H263, J263, \"Y\"))","v":0},null,null,null,null,null,null,null,null,null,0,0]
[null,null,null,null,null,null,null,{"$f":"'Multiple NPA 65'!E262","v":"00:00:00"},{"$f":"'Multiple NPA 65'!F262","v":0},{"$f":"'Multiple NPA 65'!G262","v":"00:00:00"},{"$f":"'Multiple NPA 65'!H262","v":0},{"$f":"'Multiple NPA 65'!I262","v":0},{"$f":"'Multiple NPA 65'!J262","v":0},null,null,null,null,null,null,null,null,null,null,null,null,null,null,null,null,null,null,0,{"$f":"(DATEDIF(H264, J264, \"Y\"))","v":0},null,null,null,null,null,null,null,null,null,0,0]
[null,null,null,null,null,null,null,{"$f":"'Multiple NPA 65'!E263","v":"00:00:00"},{"$f":"'Multiple NPA 65'!F263","v":0},{"$f":"'Multiple NPA 65'!G263","v":"00:00:00"},{"$f":"'Multiple NPA 65'!H263","v":0},{"$f":"'Multiple NPA 65'!I263","v":0},{"$f":"'Multiple NPA 65'!J263","v":0},null,null,null,null,null,null,null,null,null,null,null,null,null,null,null,null,null,null,0,null,null,null,null,null,null,null,null,null,null,0,0]
[null,null,null,null,null,null,null,{"$f":"'Multiple NPA 65'!E264","v":"00:00:00"},{"$f":"'Multiple NPA 65'!F264","v":0},{"$f":"'Multiple NPA 65'!G264","v":"00:00:00"},{"$f":"'Multiple NPA 65'!H264","v":0},{"$f":"'Multiple NPA 65'!I264","v":0},{"$f":"'Multiple NPA 65'!J264","v":0},null,null,null,null,null,null,null,null,null,null,null,null,null,null,null,null,null,null,0,null,null,null,null,null,null,null,null,null,null,0,0]
[null,null,null,null,null,null,null,{"$f":"'Multiple NPA 65'!E265","v":"00:00:00"},{"$f":"'Multiple NPA 65'!F265","v":0},null,{"$f":"'Multiple NPA 65'!H265","v":0},{"$f":"'Multiple NPA 65'!I265","v":0},{"$f":"'Multiple NPA 65'!J265","v":0},null,null,null,null,null,null,null,null,null,null,null,null,null,null,null,null,null,null,0,null,null,null,null,null,null,null,null,null,null,0,0]
[null,null,null,null,null,null,null,{"$f":"'Multiple NPA 65'!E266","v":"00:00:00"},{"$f":"'Multiple NPA 65'!F266","v":0},null,{"$f":"'Multiple NPA 65'!H266","v":0},{"$f":"'Multiple NPA 65'!I266","v":0},{"$f":"'Multiple NPA 65'!J266","v":0},null,null,null,null,null,null,null,null,null,null,null,null,null,null,null,null,null,null,0,null,null,null,null,null,null,null,null,null,null,0,0]
[null,null,null,null,null,null,null,{"$f":"'Multiple NPA 65'!E267","v":"00:00:00"},{"$f":"'Multiple NPA 65'!F267","v":0},null,{"$f":"'Multiple NPA 65'!H267","v":0},{"$f":"'Multiple NPA 65'!I267","v":0},{"$f":"'Multiple NPA 65'!J267","v":0},null,null,null,null,null,null,null,null,null,null,null,null,null,null,null,null,null,null,0,null,null,null,null,null,null,null,null,null,null,0,0]
[null,null,null,null,null,null,null,{"$f":"'Multiple NPA 65'!E268","v":"00:00:00"},{"$f":"'Multiple NPA 65'!F268","v":0},null,{"$f":"'Multiple NPA 65'!H268","v":0},{"$f":"'Multiple NPA 65'!I268","v":0},{"$f":"'Multiple NPA 65'!J268","v":0},null,null,null,null,null,null,null,null,null,null,null,null,null,null,null,null,null,null,0,null,null,null,null,null,null,null,null,null,null,0,0]
[null,null,null,null,null,null,null,{"$f":"'Multiple NPA 65'!E269","v":"00:00:00"},null,null,null,null,null,null,null,null,null,null,null,null,null,null,null,null,null,null,null,null,null,null,null,0,null,null,null,null,null,null,null,null,null,null,0,0]
[null,null,null,null,null,null,null,null,null,null,null,null,null,null,null,null,null,null,null,null,null,null,null,null,null,null,null,null,null,null,null,0,null,null,null,null,null,null,null,null,null,null,0,0]
[null,null,null,null,null,null,null,null,null,null,null,null,null,null,null,null,null,null,null,null,null,null,null,null,null,null,null,null,null,null,null,0,null,null,null,null,null,null,null,null,null,null,0,0]
[null,null,null,null,null,null,null,null,null,null,null,null,null,null,null,null,null,null,null,null,null,null,null,null,null,null,null,null,null,null,null,0,null,null,null,null,null,null,null,null,null,null,0,0]
[null,null,null,null,null,null,null,null,null,null,null,null,null,null,null,null,null,null,null,null,null,null,null,null,null,null,null,null,null,null,null,0,null,null,null,null,null,null,null,null,null,null,0,0]
[null,null,null,null,null,null,null,null,null,null,null,null,null,null,null,null,null,null,null,null,null,null,null,null,null,null,null,null,null,null,null,0,null,null,null,null,null,null,null,null,null,null,0,0]
[null,null,null,null,null,null,null,null,null,null,null,null,null,null,null,null,null,null,null,null,null,null,null,null,null,null,null,null,null,null,null,0,null,null,null,null,null,null,null,null,null,null,0,0]
[null,null,null,null,null,null,null,null,null,null,null,null,null,null,null,null,null,null,null,null,null,null,null,null,null,null,null,null,null,null,null,0,null,null,null,null,null,null,null,null,null,null,0,0]
[null,null,null,null,null,null,null,null,null,null,null,null,null,null,null,null,null,null,null,null,null,null,null,null,null,null,null,null,null,null,null,0,null,null,null,null,null,null,null,null,null,null,0,0]
[null,null,null,null,null,null,null,null,null,null,null,null,null,null,null,null,null,null,null,null,null,null,null,null,null,null,null,null,null,null,null,0,null,null,null,null,null,null,null,null,null,null,0,0]
[null,null,null,null,null,null,null,null,null,null,null,null,null,null,null,null,null,null,null,null,null,null,null,null,null,null,null,null,null,null,null,0,null,null,null,null,null,null,null,null,null,null,0,0]
[null,null,null,null,null,null,null,null,null,null,null,null,null,null,null,null,null,null,null,null,null,null,null,null,null,null,null,null,null,null,null,0,null,null,null,null,null,null,null,null,null,null,0,0]
[null,null,null,null,null,null,null,null,null,null,null,null,null,null,null,null,null,null,null,null,null,null,null,null,null,null,null,null,null,null,null,0,null,null,null,null,null,null,null,null,null,null,0,0]
[null,null,null,null,null,null,null,null,null,null,null,null,null,null,null,null,null,null,null,null,null,null,null,null,null,null,null,null,null,null,null,0,null,null,null,null,null,null,null,null,null,null,0,0]
[null,null,null,null,null,null,null,null,null,null,null,null,null,null,null,null,null,null,null,null,null,null,null,null,null,null,null,null,null,null,null,0,null,null,null,null,null,null,null,null,null,null,0,0]
[null,null,null,null,null,null,null,null,null,null,null,null,null,null,null,null,null,null,null,null,null,null,null,null,null,null,null,null,null,null,null,0,null,null,null,null,null,null,null,null,null,null,0,0]
[null,null,null,null,null,null,null,null,null,null,null,null,null,null,null,null,null,null,null,null,null,null,null,null,null,null,null,null,null,null,null,0,null,null,null,null,null,null,null,null,null,null,0,0]
[null,null,null,null,null,null,null,null,null,null,null,null,null,null,null,null,null,null,null,null,null,null,null,null,null,null,null,null,null,null,null,null,null,null,null,null,null,null,null,null,null,null,0,0]
[null,null,null,null,null,null,null,null,null,null,null,null,null,null,null,null,null,null,null,null,null,null,null,null,null,null,null,null,null,null,null,null,null,null,null,null,null,null,null,null,null,null,0,0]
[null,null,null,null,null,null,null,null,null,null,null,null,null,null,null,null,null,null,null,null,null,null,null,null,null,null,null,null,null,null,null,null,null,null,null,null,null,null,null,null,null,null,0,0]
[null,null,null,null,null,null,null,null,null,null,null,null,null,null,null,null,null,null,null,null,null,null,null,null,null,null,null,null,null,null,null,null,null,null,null,null,null,null,null,null,null,null,0,0]
[null,null,null,null,null,null,null,null,null,null,null,null,null,null,null,null,null,null,null,null,null,null,null,null,null,null,null,null,null,null,null,null,null,null,null,null,null,null,null,null,null,null,0,0]
[null,null,null,null,null,null,null,null,null,null,null,null,null,null,null,null,null,null,null,null,null,null,null,null,null,null,null,null,null,null,null,null,null,null,null,null,null,null,null,null,null,null,0,0]
[null,null,null,null,null,null,null,null,null,null,null,null,null,null,null,null,null,null,null,null,null,null,null,null,null,null,null,null,null,null,null,null,null,null,null,null,null,null,null,null,null,null,0,0]
[null,null,null,null,null,null,null,null,null,null,null,null,null,null,null,null,null,null,null,null,null,null,null,null,null,null,null,null,null,null,null,null,null,null,null,null,null,null,null,null,null,null,0,0]
[null,null,null,null,null,null,null,null,null,null,null,null,null,null,null,null,null,null,null,null,null,null,null,null,null,null,null,null,null,null,null,null,null,null,null,null,null,null,null,null,null,null,0,0]
[null,null,null,null,null,null,null,null,null,null,null,null,null,null,null,null,null,null,null,null,null,null,null,null,null,null,null,null,null,null,null,null,null,null,null,null,null,null,null,null,null,null,0,0]
[null,null,null,null,null,null,null,null,null,null,null,null,null,null,null,null,null,null,null,null,null,null,null,null,null,null,null,null,null,null,null,null,null,null,null,null,null,null,null,null,null,null,0,0]
[null,null,null,null,null,null,null,null,null,null,null,null,null,null,null,null,null,null,null,null,null,null,null,null,null,null,null,null,null,null,null,null,null,null,null,null,null,null,null,null,null,null,0,0]
[null,null,null,null,null,null,null,null,null,null,null,null,null,null,null,null,null,null,null,null,null,null,null,null,null,null,null,null,null,null,null,null,null,null,null,null,null,null,null,null,null,null,0,0]
[null,null,null,null,null,null,null,null,null,null,null,null,null,null,null,null,null,null,null,null,null,null,null,null,null,null,null,null,null,null,null,null,null,null,null,null,null,null,null,null,null,null,0,0]

{"sheet":"Pre NPA 65","index":10,"n_rows":284,"n_cols":42,"rows_kept":284,"cut":false,"hidden":true,"merged":[[0,4,0,6]]}
["Last Name","First Name","Superan Number","NI NO","Date of Birth",null,null,"Date of Birth","Annual Salary","Proposed date of Retirement","Reckonable Years","Service Days","Male = 1, Female = 2",null,"Enhancement to pension (years)","Enhancement to pension (days)","SPPA Pension","Employers Pension","Employers Lump Sum","Capitalised","Added Years Pension","Dependents Pension","Added Years Lump","Added years","Total Cost","Grand Total",{"$f":"SUMIF(Y2:Y200,\">0\",Y2:Y200)","v":0},"Today's date","Age Months","Age Whole Years",600,0.61699999999999999,null,"Pension","Male",null,"Female",null,"Dependents","Male",null,"Female"]
[null,null,null,null,null,null,null,{"$f":"'Single NPA 65'!$C$12","v":"00:00:00"},{"$f":"'Single NPA 65'!$C$14","v":0},{"$f":"'Single NPA 65'!$C$18","v":"00:00:00"},{"$f":"'Single NPA 65'!$C$16","v":0},{"$f":"'Single NPA 65'!$C$20","v":0},{"$f":"'Single NPA 65'!$C$22","v":0},{"$f":"O2+(P2/365)","v":0},{"$f":"'Single NPA 65'!$C$24","v":0},{"$f":"'Single NPA 65'!$C$26","v":0},{"$f":"VLOOKUP(AC2,$AE$1:$AF$241,2,FALSE)*(((K2+(L2/365))*I2)/60)","v":{"$error":"#N/A"}},{"$f":"(((K2+(L2/365))*I2)/60)-Q2","v":{"$error":"#N/A"}},{"$f":"R2*3","v":{"$error":"#N/A"}},{"$f":"IF(M2>1,(((VLOOKUP(AD2, $AJ$2:$AK$22,2,FALSE)*R2))),(((VLOOKUP(AD2,$AH$2:$AI$22,2,FALSE)*R2))))","v":{"$error":"#N/A"}},{"$f":"((O2+(P2/365))*I2)/60","v":0},{"$f":"((O2+(P2/365))*I2)/160","v":0},{"$f":"U2*3","v":0},{"$f":"IF(M2>1,(((VLOOKUP(AD2,$AJ$2:$AK$22,2,FALSE)*I2)/60)*N2)+(((VLOOKUP(AD2,$AO$2:$AP$22,2,FALSE)*I2)/160)*N2),((((VLOOKUP(AD2,$AH$2:$AI$22,2,FALSE)*I2)/60)*N2))+(((VLOOKUP(AD2,$AM$2:$AN$22,2,FALSE)*I2)/160)*N2))","v":{"$error":"#N/A"}},{"$f":"(SUMIF(T2:X2,\">0\",T2:X2))-(U2+W2+V2)","v":0},null,null,{"$f":"TODAY()","v":"2019-02-07"},{"$f":"(DATEDIF(H2, J2, \"M\"))","v":0},{"$f":"(DATEDIF(H2, J2, \"Y\"))","v":0},601,0,null,50,0,50,0,null,50,0,50,0]
[null,null,null,null,null,null,null,null,null,null,null,null,null,0,null,null,{"$error":"#N/A"},{"$f":"(((K3+(L3/365))*I3)/600)-Q3","v":{"$error":"#N/A"}},{"$error":"#N/A"},{"$f":"IF(M3>1,(((VLOOKUP(AD3, $AJ$2:$AK$22,2,FALSE)*R3))),(((VLOOKUP(AD3,$AH$2:$AI$22,2,FALSE)*R3))))","v":{"$error":"#N/A"}},{"$f":"((O3+(P3/365))*I3)/60","v":0},{"$f":"((O3+(P3/365))*I3)/160","v":0},{"$f":"U3*3","v":0},{"$f":"IF(M3>1,(((VLOOKUP(AD3,$AJ$2:$AK$22,2,FALSE)*I3)/60)*N3)+(((VLOOKUP(AD3,$AO$2:$AP$22,2,FALSE)*I3)/160)*N3),((((VLOOKUP(AD3,$AH$2:$AI$22,2,FALSE)*I3)/60)*N3))+(((VLOOKUP(AD3,$AM$2:$AN$22,2,FALSE)*I3)/160)*N3))","v":{"$error":"#N/A"}},{"$f":"(SUMIF(T3:X3,\">0\",T3:X3))-(U3+W3+V3)","v":0},null,null,{"$f":"TODAY()","v":"2019-02-07"},0,0,602,0,null,51,0,51,0,null,51,0,51,0]
[null,null,null,null,null,null,null,null,null,null,null,null,null,0,null,null,{"$error":"#N/A"},{"$f":"(((K4+(L4/365))*I4)/60)-Q4","v":{"$error":"#N/A"}},{"$error":"#N/A"},{"$error":"#N/A"},{"$f":"((O4+(P4/365))*I4)/60","v":0},0,0,{"$error":"#N/A"},{"$f":"(SUMIF(T4:X4,\">0\",T4:X4))-(U4+W4+V4)","v":0},null,null,"2019-02-07",0,0,603,0,null,52,0,52,0,null,52,0,52,0]
[null,null,null,null,null,null,null,null,null,null,null,null,null,0,null,null,{"$error":"#N/A"},{"$f":"(((K5+(L5/365))*I5)/600)-Q5","v":{"$error":"#N/A"}},{"$error":"#N/A"},{"$error":"#N/A"},0,0,0,{"$error":"#N/A"},{"$f":"(SUMIF(T5:X5,\">0\",T5:X5))-(U5+W5+V5)","v":0},null,null,"2019-02-07",0,0,604,0,null,53,0,53,0,null,53,0,53,0]
[null,null,null,null,null,null,null,null,null,null,null,null,null,0,null,null,{"$error":"#N/A"},{"$f":"(((K6+(L6/365))*I6)/60)-Q6","v":{"$error":"#N/A"}},{"$error":"#N/A"},{"$error":"#N/A"},0,0,0,{"$error":"#N/A"},{"$f":"(SUMIF(T6:X6,\">0\",T6:X6))-(U6+W6+V6)","v":0},null,null,"2019-02-07",0,0,605,0,null,54,0,54,0,null,54,0,54,0]
[null,null,null,null,null,null,null,null,null,null,null,null,null,0,null,null,{"$error":"#N/A"},{"$f":"(((K7+(L7/365))*I7)/600)-Q7","v":{"$error":"#N/A"}},{"$error":"#N/A"},{"$error":"#N/A"},0,0,0,{"$error":"#N/A"},0,null,null,"2019-02-07",0,0,606,0,null,55,22.8,55,22.8,null,55,1.4,55,1.4]
[null,null,null,null,null,null,null,null,null,null,null,null,null,0,null,null,{"$error":"#N/A"},{"$f":"(((K8+(L8/365))*I8)/60)-Q8","v":{"$error":"#N/A"}},{"$error":"#N/A"},{"$error":"#N/A"},0,0,0,{"$error":"#N/A"},0,null,null,"2019-02-07",0,0,607,0,null,56,22.3,56,22.3,null,56,1.4,56,1.4]
[null,null,null,null,null,null,null,null,null,null,null,null,null,0,null,null,{"$error":"#N/A"},{"$f":"(((K9+(L9/365))*I9)/600)-Q9","v":{"$error":"#N/A"}},{"$error":"#N/A"},{"$error":"#N/A"},0,0,0,{"$error":"#N/A"},0,null,null,"2019-02-07",0,0,608,0,null,57,21.8,57,21.8,null,57,1.4,57,1.4]
[null,null,null,null,null,null,null,null,null,null,null,null,null,0,null,null,{"$error":"#N/A"},{"$f":"(((K10+(L10/365))*I10)/60)-Q10","v":{"$error":"#N/A"}},{"$error":"#N/A"},{"$error":"#N/A"},0,0,0,{"$error":"#N/A"},0,null,null,"2019-02-07",0,0,609,0,null,58,21.3,58,21.3,null,58,1.4,58,1.4]
[null,null,null,null,null,null,null,null,null,null,null,null,null,0,null,null,{"$error":"#N/A"},{"$f":"(((K11+(L11/365))*I11)/600)-Q11","v":{"$error":"#N/A"}},{"$error":"#N/A"},{"$error":"#N/A"},0,0,0,{"$error":"#N/A"},0,null,null,"2019-02-07",0,0,610,0,null,59,20.8,59,20.8,null,59,1.4,59,1.4]
[null,null,null,null,null,null,null,null,null,null,null,null,null,0,null,null,{"$error":"#N/A"},{"$f":"(((K12+(L12/365))*I12)/60)-Q12","v":{"$error":"#N/A"}},{"$error":"#N/A"},{"$error":"#N/A"},0,0,0,{"$error":"#N/A"},0,null,null,"2019-02-07",0,0,611,0,null,60,20.3,60,20.3,null,60,1.5,60,1.5]
[null,null,null,null,null,null,null,null,null,null,null,null,null,0,null,null,{"$error":"#N/A"},{"$f":"(((K13+(L13/365))*I13)/600)-Q13","v":{"$error":"#N/A"}},{"$error":"#N/A"},{"$error":"#N/A"},0,0,0,{"$error":"#N/A"},0,null,null,"2019-02-07",0,0,612,0,null,61,19.8,61,19.8,null,61,1.5,61,1.5]
[null,null,null,null,null,null,null,null,null,null,null,null,null,0,null,null,{"$error":"#N/A"},{"$f":"(((K14+(L14/365))*I14)/60)-Q14","v":{"$error":"#N/A"}},{"$error":"#N/A"},{"$error":"#N/A"},0,0,0,{"$error":"#N/A"},0,null,null,"2019-02-07",0,0,613,0,null,62,19.3,62,19.3,null,62,1.5,62,1.5]
[null,null,null,null,null,null,null,null,null,null,null,null,null,0,null,null,{"$error":"#N/A"},{"$f":"(((K15+(L15/365))*I15)/600)-Q15","v":{"$error":"#N/A"}},{"$error":"#N/A"},{"$error":"#N/A"},0,0,0,{"$error":"#N/A"},0,null,null,"2019-02-07",0,0,614,0,null,63,18.7,63,18.7,null,63,1.5,63,1.5]
[null,null,null,null,null,null,null,null,null,null,null,null,null,0,null,null,{"$error":"#N/A"},{"$f":"(((K16+(L16/365))*I16)/60)-Q16","v":{"$error":"#N/A"}},{"$error":"#N/A"},{"$error":"#N/A"},0,0,0,{"$error":"#N/A"},0,null,null,"2019-02-07",0,0,615,0,null,64,18.2,64,18.2,null,64,1.5,64,1.5]
[null,null,null,null,null,null,null,null,null,null,null,null,null,0,null,null,{"$error":"#N/A"},{"$f":"(((K17+(L17/365))*I17)/600)-Q17","v":{"$error":"#N/A"}},{"$error":"#N/A"},{"$error":"#N/A"},0,0,0,{"$error":"#N/A"},0,null,null,"2019-02-07",0,0,616,0,null,65,17.7,65,17.7,null,65,1.5,65,1.5]
[null,null,null,null,null,null,null,null,null,null,null,null,null,0,null,null,{"$error":"#N/A"},{"$f":"(((K18+(L18/365))*I18)/60)-Q18","v":{"$error":"#N/A"}},{"$error":"#N/A"},{"$error":"#N/A"},0,0,0,{"$error":"#N/A"},0,null,null,"2019-02-07",0,0,617,0,null,66,0,66,0,null,66,0,66,0]
[null,null,null,null,null,null,null,null,null,null,null,null,null,0,null,null,{"$error":"#N/A"},{"$f":"(((K19+(L19/365))*I19)/600)-Q19","v":{"$error":"#N/A"}},{"$error":"#N/A"},{"$error":"#N/A"},0,0,0,{"$error":"#N/A"},0,null,null,"2019-02-07",0,0,618,0,null,67,0,67,0,null,67,0,67,0]
[null,null,null,null,null,null,null,null,null,null,null,null,null,0,null,null,{"$error":"#N/A"},{"$f":"(((K20+(L20/365))*I20)/60)-Q20","v":{"$error":"#N/A"}},{"$error":"#N/A"},{"$error":"#N/A"},0,0,0,{"$error":"#N/A"},0,null,null,"2019-02-07",0,0,619,0,null,68,0,68,0,null,68,0,68,0]
[null,null,null,null,null,null,null,null,null,null,null,null,null,0,null,null,{"$error":"#N/A"},{"$f":"(((K21+(L21/365))*I21)/600)-Q21","v":{"$error":"#N/A"}},{"$error":"#N/A"},{"$error":"#N/A"},0,0,0,{"$error":"#N/A"},0,null,null,"2019-02-07",0,0,620,0,null,69,0,69,0,null,69,0,69,0]
[null,null,null,null,null,null,null,null,null,null,null,null,null,0,null,null,{"$error":"#N/A"},{"$f":"(((K22+(L22/365))*I22)/60)-Q22","v":{"$error":"#N/A"}},{"$error":"#N/A"},{"$error":"#N/A"},0,0,0,{"$error":"#N/A"},0,null,null,"2019-02-07",0,0,621,0,null,70,0,70,0,null,70,0,70,0]
[null,null,null,null,null,null,null,null,null,null,null,null,null,0,null,null,{"$error":"#N/A"},{"$f":"(((K23+(L23/365))*I23)/600)-Q23","v":{"$error":"#N/A"}},{"$error":"#N/A"},{"$error":"#N/A"},0,0,0,{"$error":"#N/A"},0,null,null,"2019-02-07",0,0,622,0]
[null,null,null,null,null,null,null,null,null,null,null,null,null,0,null,null,{"$error":"#N/A"},{"$f":"(((K24+(L24/365))*I24)/60)-Q24","v":{"$error":"#N/A"}},{"$error":"#N/A"},{"$error":"#N/A"},0,0,0,{"$error":"#N/A"},0,null,null,"2019-02-07",0,0,623,0]
[null,null,null,null,null,null,null,null,null,null,null,null,null,0,null,null,{"$error":"#N/A"},{"$f":"(((K25+(L25/365))*I25)/600)-Q25","v":{"$error":"#N/A"}},{"$error":"#N/A"},{"$error":"#N/A"},0,0,0,{"$error":"#N/A"},0,null,null,"2019-02-07",0,0,624,0]
[null,null,null,null,null,null,null,null,null,null,null,null,null,0,null,null,{"$error":"#N/A"},{"$f":"(((K26+(L26/365))*I26)/60)-Q26","v":{"$error":"#N/A"}},{"$error":"#N/A"},{"$error":"#N/A"},0,0,0,{"$error":"#N/A"},0,null,null,"2019-02-07",0,0,625,0]
[null,null,null,null,null,null,null,null,null,null,null,null,null,0,null,null,{"$error":"#N/A"},{"$f":"(((K27+(L27/365))*I27)/600)-Q27","v":{"$error":"#N/A"}},{"$error":"#N/A"},{"$error":"#N/A"},0,0,0,{"$error":"#N/A"},0,null,null,"2019-02-07",0,0,626,0]
[null,null,null,null,null,null,null,null,null,null,null,null,null,0,null,null,{"$error":"#N/A"},{"$f":"(((K28+(L28/365))*I28)/60)-Q28","v":{"$error":"#N/A"}},{"$error":"#N/A"},{"$error":"#N/A"},0,0,0,{"$error":"#N/A"},0,null,null,"2019-02-07",0,0,627,0]
[null,null,null,null,null,null,null,null,null,null,null,null,null,0,null,null,{"$error":"#N/A"},{"$f":"(((K29+(L29/365))*I29)/600)-Q29","v":{"$error":"#N/A"}},{"$error":"#N/A"},{"$error":"#N/A"},0,0,0,{"$error":"#N/A"},0,null,null,"2019-02-07",0,0,628,0]
[null,null,null,null,null,null,null,null,null,null,null,null,null,0,null,null,{"$error":"#N/A"},{"$f":"(((K30+(L30/365))*I30)/60)-Q30","v":{"$error":"#N/A"}},{"$error":"#N/A"},{"$error":"#N/A"},0,0,0,{"$error":"#N/A"},0,null,null,"2019-02-07",0,0,629,0]
[null,null,null,null,null,null,null,null,null,null,null,null,null,0,null,null,{"$error":"#N/A"},{"$f":"(((K31+(L31/365))*I31)/600)-Q31","v":{"$error":"#N/A"}},{"$error":"#N/A"},{"$error":"#N/A"},0,0,0,{"$error":"#N/A"},0,null,null,"2019-02-07",0,0,630,0]
[null,null,null,null,null,null,null,null,null,null,null,null,null,0,null,null,{"$error":"#N/A"},{"$f":"(((K32+(L32/365))*I32)/60)-Q32","v":{"$error":"#N/A"}},{"$error":"#N/A"},{"$error":"#N/A"},0,0,0,{"$error":"#N/A"},0,null,null,"2019-02-07",0,0,631,0]
[null,null,null,null,null,null,null,null,null,null,null,null,null,0,null,null,{"$error":"#N/A"},{"$f":"(((K33+(L33/365))*I33)/600)-Q33","v":{"$error":"#N/A"}},{"$error":"#N/A"},{"$error":"#N/A"},0,0,0,{"$error":"#N/A"},0,null,null,"2019-02-07",0,0,632,0]
[null,null,null,null,null,null,null,null,null,null,null,null,null,0,null,null,{"$f":"VLOOKUP(AC34,$AE$1:$AF$241,2,FALSE)*(((K34+(L34/365))*I34)/60)","v":{"$error":"#N/A"}},{"$f":"(((K34+(L34/365))*I34)/60)-Q34","v":{"$error":"#N/A"}},{"$error":"#N/A"},{"$error":"#N/A"},0,0,0,{"$error":"#N/A"},0,null,null,"2019-02-07",{"$f":"(DATEDIF(H34, J34, \"M\"))","v":0},{"$f":"(DATEDIF(H34, J34, \"Y\"))","v":0},633,0]
[null,null,null,null,null,null,null,null,null,null,null,null,null,0,null,null,{"$error":"#N/A"},{"$f":"(((K35+(L35/365))*I35)/600)-Q35","v":{"$error":"#N/A"}},{"$error":"#N/A"},{"$error":"#N/A"},0,0,0,{"$error":"#N/A"},0,null,null,"2019-02-07",0,0,634,0]
[null,null,null,null,null,null,null,null,null,null,null,null,null,0,null,null,{"$error":"#N/A"},{"$f":"(((K36+(L36/365))*I36)/60)-Q36","v":{"$error":"#N/A"}},{"$error":"#N/A"},{"$error":"#N/A"},0,0,0,{"$error":"#N/A"},0,null,null,"2019-02-07",0,0,635,0]
[null,null,null,null,null,null,null,null,null,null,null,null,null,0,null,null,{"$error":"#N/A"},{"$f":"(((K37+(L37/365))*I37)/600)-Q37","v":{"$error":"#N/A"}},{"$error":"#N/A"},{"$error":"#N/A"},0,0,0,{"$error":"#N/A"},0,null,null,"2019-02-07",0,0,636,0]
[null,null,null,null,null,null,null,null,null,null,null,null,null,0,null,null,{"$error":"#N/A"},{"$f":"(((K38+(L38/365))*I38)/60)-Q38","v":{"$error":"#N/A"}},{"$error":"#N/A"},{"$error":"#N/A"},0,0,0,{"$error":"#N/A"},0,null,null,"2019-02-07",0,0,637,0]
[null,null,null,null,null,null,null,null,null,null,null,null,null,0,null,null,{"$error":"#N/A"},{"$f":"(((K39+(L39/365))*I39)/600)-Q39","v":{"$error":"#N/A"}},{"$error":"#N/A"},{"$error":"#N/A"},0,0,0,{"$error":"#N/A"},0,null,null,"2019-02-07",0,0,638,0]
[null,null,null,null,null,null,null,null,null,null,null,null,null,0,null,null,{"$error":"#N/A"},{"$f":"(((K40+(L40/365))*I40)/60)-Q40","v":{"$error":"#N/A"}},{"$error":"#N/A"},{"$error":"#N/A"},0,0,0,{"$error":"#N/A"},0,null,null,"2019-02-07",0,0,639,0]
[null,null,null,null,null,null,null,null,null,null,null,null,null,0,null,null,{"$error":"#N/A"},{"$f":"(((K41+(L41/365))*I41)/600)-Q41","v":{"$error":"#N/A"}},{"$error":"#N/A"},{"$error":"#N/A"},0,0,0,{"$error":"#N/A"},0,null,null,"2019-02-07",0,0,640,0]
[null,null,null,null,null,null,null,null,null,null,null,null,null,0,null,null,{"$error":"#N/A"},{"$f":"(((K42+(L42/365))*I42)/60)-Q42","v":{"$error":"#N/A"}},{"$error":"#N/A"},{"$error":"#N/A"},0,0,0,{"$error":"#N/A"},0,null,null,"2019-02-07",0,0,641,0]
[null,null,null,null,null,null,null,null,null,null,null,null,null,0,null,null,{"$error":"#N/A"},{"$f":"(((K43+(L43/365))*I43)/600)-Q43","v":{"$error":"#N/A"}},{"$error":"#N/A"},{"$error":"#N/A"},0,0,0,{"$error":"#N/A"},0,null,null,"2019-02-07",0,0,642,0]
[null,null,null,null,null,null,null,null,null,null,null,null,null,0,null,null,{"$error":"#N/A"},{"$f":"(((K44+(L44/365))*I44)/60)-Q44","v":{"$error":"#N/A"}},{"$error":"#N/A"},{"$error":"#N/A"},0,0,0,{"$error":"#N/A"},0,null,null,"2019-02-07",0,0,643,0]
[null,null,null,null,null,null,null,null,null,null,null,null,null,0,null,null,{"$error":"#N/A"},{"$f":"(((K45+(L45/365))*I45)/600)-Q45","v":{"$error":"#N/A"}},{"$error":"#N/A"},{"$error":"#N/A"},0,0,0,{"$error":"#N/A"},0,null,null,"2019-02-07",0,0,644,0]
[null,null,null,null,null,null,null,null,null,null,null,null,null,0,null,null,{"$error":"#N/A"},{"$f":"(((K46+(L46/365))*I46)/60)-Q46","v":{"$error":"#N/A"}},{"$error":"#N/A"},{"$error":"#N/A"},0,0,0,{"$error":"#N/A"},0,null,null,"2019-02-07",0,0,645,0]
[null,null,null,null,null,null,null,null,null,null,null,null,null,0,null,null,{"$error":"#N/A"},{"$f":"(((K47+(L47/365))*I47)/600)-Q47","v":{"$error":"#N/A"}},{"$error":"#N/A"},{"$error":"#N/A"},0,0,0,{"$error":"#N/A"},0,null,null,"2019-02-07",0,0,646,0]
[null,null,null,null,null,null,null,null,null,null,null,null,null,0,null,null,{"$error":"#N/A"},{"$f":"(((K48+(L48/365))*I48)/60)-Q48","v":{"$error":"#N/A"}},{"$error":"#N/A"},{"$error":"#N/A"},0,0,0,{"$error":"#N/A"},0,null,null,"2019-02-07",0,0,647,0]
[null,null,null,null,null,null,null,null,null,null,null,null,null,0,null,null,{"$error":"#N/A"},{"$f":"(((K49+(L49/365))*I49)/600)-Q49","v":{"$error":"#N/A"}},{"$error":"#N/A"},{"$error":"#N/A"},0,0,0,{"$error":"#N/A"},0,null,null,"2019-02-07",0,0,648,0]
[null,null,null,null,null,null,null,null,null,null,null,null,null,0,null,null,{"$error":"#N/A"},{"$f":"(((K50+(L50/365))*I50)/60)-Q50","v":{"$error":"#N/A"}},{"$error":"#N/A"},{"$error":"#N/A"},0,0,0,{"$error":"#N/A"},0,null,null,"2019-02-07",0,0,649,0]
[null,null,null,null,null,null,null,null,null,null,null,null,null,0,null,null,{"$error":"#N/A"},{"$f":"(((K51+(L51/365))*I51)/600)-Q51","v":{"$error":"#N/A"}},{"$error":"#N/A"},{"$error":"#N/A"},0,0,0,{"$error":"#N/A"},0,null,null,"2019-02-07",0,0,650,0]
[null,null,null,null,null,null,null,null,null,null,null,null,null,0,null,null,{"$error":"#N/A"},{"$f":"(((K52+(L52/365))*I52)/60)-Q52","v":{"$error":"#N/A"}},{"$error":"#N/A"},{"$error":"#N/A"},0,0,0,{"$error":"#N/A"},0,null,null,"2019-02-07",0,0,651,0]
[null,null,null,null,null,null,null,null,null,null,null,null,null,0,null,null,{"$error":"#N/A"},{"$f":"(((K53+(L53/365))*I53)/600)-Q53","v":{"$error":"#N/A"}},{"$error":"#N/A"},{"$error":"#N/A"},0,0,0,{"$error":"#N/A"},0,null,null,"2019-02-07",0,0,652,0]
[null,null,null,null,null,null,null,null,null,null,null,null,null,0,null,null,{"$error":"#N/A"},{"$f":"(((K54+(L54/365))*I54)/60)-Q54","v":{"$error":"#N/A"}},{"$error":"#N/A"},{"$error":"#N/A"},0,0,0,{"$error":"#N/A"},0,null,null,"2019-02-07",0,0,653,0]
[null,null,null,null,null,null,null,null,null,null,null,null,null,0,null,null,{"$error":"#N/A"},{"$f":"(((K55+(L55/365))*I55)/600)-Q55","v":{"$error":"#N/A"}},{"$error":"#N/A"},{"$error":"#N/A"},0,0,0,{"$error":"#N/A"},0,null,null,"2019-02-07",0,0,654,0]
[null,null,null,null,null,null,null,null,null,null,null,null,null,0,null,null,{"$error":"#N/A"},{"$f":"(((K56+(L56/365))*I56)/60)-Q56","v":{"$error":"#N/A"}},{"$error":"#N/A"},{"$error":"#N/A"},0,0,0,{"$error":"#N/A"},0,null,null,"2019-02-07",0,0,655,0]
[null,null,null,null,null,null,null,null,null,null,null,null,null,0,null,null,{"$error":"#N/A"},{"$f":"(((K57+(L57/365))*I57)/600)-Q57","v":{"$error":"#N/A"}},{"$error":"#N/A"},{"$error":"#N/A"},0,0,0,{"$error":"#N/A"},0,null,null,"2019-02-07",0,0,656,0]
[null,null,null,null,null,null,null,null,null,null,null,null,null,0,null,null,{"$error":"#N/A"},{"$f":"(((K58+(L58/365))*I58)/60)-Q58","v":{"$error":"#N/A"}},{"$error":"#N/A"},{"$error":"#N/A"},0,0,0,{"$error":"#N/A"},0,null,null,"2019-02-07",0,0,657,0]
[null,null,null,null,null,null,null,null,null,null,null,null,null,0,null,null,{"$error":"#N/A"},{"$f":"(((K59+(L59/365))*I59)/600)-Q59","v":{"$error":"#N/A"}},{"$error":"#N/A"},{"$error":"#N/A"},0,0,0,{"$error":"#N/A"},0,null,null,"2019-02-07",0,0,658,0]
[null,null,null,null,null,null,null,null,null,null,null,null,null,0,null,null,{"$error":"#N/A"},{"$f":"(((K60+(L60/365))*I60)/60)-Q60","v":{"$error":"#N/A"}},{"$error":"#N/A"},{"$error":"#N/A"},0,0,0,{"$error":"#N/A"},0,null,null,"2019-02-07",0,0,659,0]
[null,null,null,null,null,null,null,null,null,null,null,null,null,0,null,null,{"$error":"#N/A"},{"$f":"(((K61+(L61/365))*I61)/600)-Q61","v":{"$error":"#N/A"}},{"$error":"#N/A"},{"$error":"#N/A"},0,0,0,{"$error":"#N/A"},0,null,null,"2019-02-07",0,0,660,0.61899999999999999]
[null,null,null,null,null,null,null,null,null,null,null,null,null,0,null,null,{"$error":"#N/A"},{"$f":"(((K62+(L62/365))*I62)/60)-Q62","v":{"$error":"#N/A"}},{"$error":"#N/A"},{"$error":"#N/A"},0,0,0,{"$error":"#N/A"},0,null,null,"2019-02-07",0,0,661,0.621]
[null,null,null,null,null,null,null,null,null,null,null,null,null,0,null,null,{"$error":"#N/A"},{"$f":"(((K63+(L63/365))*I63)/600)-Q63","v":{"$error":"#N/A"}},{"$error":"#N/A"},{"$error":"#N/A"},0,0,0,{"$error":"#N/A"},0,null,null,"2019-02-07",0,0,662,0.623]
[null,null,null,null,null,null,null,null,null,null,null,null,null,0,null,null,{"$error":"#N/A"},{"$f":"(((K64+(L64/365))*I64)/60)-Q64","v":{"$error":"#N/A"}},{"$error":"#N/A"},{"$error":"#N/A"},0,0,0,{"$error":"#N/A"},0,null,null,"2019-02-07",0,0,663,0.625]
[null,null,null,null,null,null,null,null,null,null,null,null,null,0,null,null,{"$error":"#N/A"},{"$f":"(((K65+(L65/365))*I65)/600)-Q65","v":{"$error":"#N/A"}},{"$error":"#N/A"},{"$error":"#N/A"},0,0,0,{"$error":"#N/A"},0,null,null,"2019-02-07",0,0,664,0.628]
[null,null,null,null,null,null,null,null,null,null,null,null,null,{"$f":"O66+(P66/365)","v":0},null,null,{"$f":"VLOOKUP(AC66,$AE$1:$AF$241,2,FALSE)*(((K66+(L66/365))*I66)/60)","v":{"$error":"#N/A"}},{"$f":"(((K66+(L66/365))*I66)/60)-Q66","v":{"$error":"#N/A"}},{"$error":"#N/A"},{"$error":"#N/A"},0,0,0,{"$error":"#N/A"},0,null,null,"2019-02-07",{"$f":"(DATEDIF(H66, J66, \"M\"))","v":0},{"$f":"(DATEDIF(H66, J66, \"Y\"))","v":0},665,0.63]
[null,null,null,null,null,null,null,null,null,null,null,null,null,0,null,null,{"$error":"#N/A"},{"$f":"(((K67+(L67/365))*I67)/600)-Q67","v":{"$error":"#N/A"}},{"$error":"#N/A"},{"$f":"IF(M67>1,(((VLOOKUP(AD67, $AJ$2:$AK$22,2,FALSE)*R67))),(((VLOOKUP(AD67,$AH$2:$AI$22,2,FALSE)*R67))))","v":{"$error":"#N/A"}},0,{"$f":"((O67+(P67/365))*I67)/160","v":0},{"$f":"U67*3","v":0},{"$f":"IF(M67>1,(((VLOOKUP(AD67,$AJ$2:$AK$22,2,FALSE)*I67)/60)*N67)+(((VLOOKUP(AD67,$AO$2:$AP$22,2,FALSE)*I67)/160)*N67),((((VLOOKUP(AD67,$AH$2:$AI$22,2,FALSE)*I67)/60)*N67))+(((VLOOKUP(AD67,$AM$2:$AN$22,2,FALSE)*I67)/160)*N67))","v":{"$error":"#N/A"}},0,null,null,{"$f":"TODAY()","v":"2019-02-07"},0,0,666,0.63200000000000001]
[null,null,null,null,null,null,null,null,null,null,null,null,null,0,null,null,{"$error":"#N/A"},{"$f":"(((K68+(L68/365))*I68)/60)-Q68","v":{"$error":"#N/A"}},{"$f":"R68*3","v":{"$error":"#N/A"}},{"$error":"#N/A"},{"$f":"((O68+(P68/365))*I68)/60","v":0},0,0,{"$error":"#N/A"},0,null,null,"2019-02-07",0,0,667,0.63400000000000001]
[null,null,null,null,null,null,null,null,null,null,null,null,null,0,null,null,{"$error":"#N/A"},{"$f":"(((K69+(L69/365))*I69)/600)-Q69","v":{"$error":"#N/A"}},{"$error":"#N/A"},{"$error":"#N/A"},0,0,0,{"$error":"#N/A"},0,null,null,"2019-02-07",0,0,668,0.63700000000000001]
[null,null,null,null,null,null,null,null,null,null,null,null,null,0,null,null,{"$error":"#N/A"},{"$f":"(((K70+(L70/365))*I70)/60)-Q70","v":{"$error":"#N/A"}},{"$error":"#N/A"},{"$error":"#N/A"},0,0,0,{"$error":"#N/A"},{"$f":"(SUMIF(T70:X70,\">0\",T70:X70))-(U70+W70+V70)","v":0},null,null,"2019-02-07",0,0,669,0.63900000000000001]
[null,null,null,null,null,null,null,null,null,null,null,null,null,0,null,null,{"$error":"#N/A"},{"$f":"(((K71+(L71/365))*I71)/600)-Q71","v":{"$error":"#N/A"}},{"$error":"#N/A"},{"$error":"#N/A"},0,0,0,{"$error":"#N/A"},0,null,null,"2019-02-07",0,0,670,0.64100000000000001]
[null,null,null,null,null,null,null,null,null,null,null,null,null,0,null,null,{"$error":"#N/A"},{"$f":"(((K72+(L72/365))*I72)/60)-Q72","v":{"$error":"#N/A"}},{"$error":"#N/A"},{"$error":"#N/A"},0,0,0,{"$error":"#N/A"},0,null,null,"2019-02-07",0,0,671,0.64300000000000002]
[null,null,null,null,null,null,null,null,null,null,null,null,null,0,null,null,{"$error":"#N/A"},{"$f":"(((K73+(L73/365))*I73)/600)-Q73","v":{"$error":"#N/A"}},{"$error":"#N/A"},{"$error":"#N/A"},0,0,0,{"$error":"#N/A"},0,null,null,"2019-02-07",0,0,672,0.64600000000000002]
[null,null,null,null,null,null,null,null,null,null,null,null,null,0,null,null,{"$error":"#N/A"},{"$f":"(((K74+(L74/365))*I74)/60)-Q74","v":{"$error":"#N/A"}},{"$error":"#N/A"},{"$error":"#N/A"},0,0,0,{"$error":"#N/A"},0,null,null,"2019-02-07",0,0,673,0.64800000000000002]
[null,null,null,null,null,null,null,null,null,null,null,null,null,0,null,null,{"$error":"#N/A"},{"$f":"(((K75+(L75/365))*I75)/600)-Q75","v":{"$error":"#N/A"}},{"$error":"#N/A"},{"$error":"#N/A"},0,0,0,{"$error":"#N/A"},0,null,null,"2019-02-07",0,0,674,0.65100000000000002]
[null,null,null,null,null,null,null,null,null,null,null,null,null,0,null,null,{"$error":"#N/A"},{"$f":"(((K76+(L76/365))*I76)/60)-Q76","v":{"$error":"#N/A"}},{"$error":"#N/A"},{"$error":"#N/A"},0,0,0,{"$error":"#N/A"},0,null,null,"2019-02-07",0,0,675,0.65300000000000002]
[null,null,null,null,null,null,null,null,null,null,null,null,null,0,null,null,{"$error":"#N/A"},{"$f":"(((K77+(L77/365))*I77)/600)-Q77","v":{"$error":"#N/A"}},{"$error":"#N/A"},{"$error":"#N/A"},0,0,0,{"$error":"#N/A"},0,null,null,"2019-02-07",0,0,676,0.65500000000000003]
[null,null,null,null,null,null,null,null,null,null,null,null,null,0,null,null,{"$error":"#N/A"},{"$f":"(((K78+(L78/365))*I78)/60)-Q78","v":{"$error":"#N/A"}},{"$error":"#N/A"},{"$error":"#N/A"},0,0,0,{"$error":"#N/A"},0,null,null,"2019-02-07",0,0,677,0.65800000000000003]
[null,null,null,null,null,null,null,null,null,null,null,null,null,0,null,null,{"$error":"#N/A"},{"$f":"(((K79+(L79/365))*I79)/600)-Q79","v":{"$error":"#N/A"}},{"$error":"#N/A"},{"$error":"#N/A"},0,0,0,{"$error":"#N/A"},0,null,null,"2019-02-07",0,0,678,0.66]
[null,null,null,null,null,null,null,null,null,null,null,null,null,0,null,null,{"$error":"#N/A"},{"$f":"(((K80+(L80/365))*I80)/60)-Q80","v":{"$error":"#N/A"}},{"$error":"#N/A"},{"$error":"#N/A"},0,0,0,{"$error":"#N/A"},0,null,null,"2019-02-07",0,0,679,0.66300000000000003]
[null,null,null,null,null,null,null,null,null,null,null,null,null,0,null,null,{"$error":"#N/A"},{"$f":"(((K81+(L81/365))*I81)/600)-Q81","v":{"$error":"#N/A"}},{"$error":"#N/A"},{"$error":"#N/A"},0,0,0,{"$error":"#N/A"},0,null,null,"2019-02-07",0,0,680,0.66500000000000004]
[null,null,null,null,null,null,null,null,null,null,null,null,null,0,null,null,{"$error":"#N/A"},{"$f":"(((K82+(L82/365))*I82)/60)-Q82","v":{"$error":"#N/A"}},{"$error":"#N/A"},{"$error":"#N/A"},0,0,0,{"$error":"#N/A"},0,null,null,"2019-02-07",0,0,681,0.66700000000000004]
[null,null,null,null,null,null,null,null,null,null,null,null,null,0,null,null,{"$error":"#N/A"},{"$f":"(((K83+(L83/365))*I83)/600)-Q83","v":{"$error":"#N/A"}},{"$error":"#N/A"},{"$error":"#N/A"},0,0,0,{"$error":"#N/A"},0,null,null,"2019-02-07",0,0,682,0.67]
[null,null,null,null,null,null,null,null,null,null,null,null,null,0,null,null,{"$error":"#N/A"},{"$f":"(((K84+(L84/365))*I84)/60)-Q84","v":{"$error":"#N/A"}},{"$error":"#N/A"},{"$error":"#N/A"},0,0,0,{"$error":"#N/A"},0,null,null,"2019-02-07",0,0,683,0.67200000000000004]
[null,null,null,null,null,null,null,null,null,null,null,null,null,0,null,null,{"$error":"#N/A"},{"$f":"(((K85+(L85/365))*I85)/600)-Q85","v":{"$error":"#N/A"}},{"$error":"#N/A"},{"$error":"#N/A"},0,0,0,{"$error":"#N/A"},0,null,null,"2019-02-07",0,0,684,0.67500000000000004]
[null,null,null,null,null,null,null,null,null,null,null,null,null,0,null,null,{"$error":"#N/A"},{"$f":"(((K86+(L86/365))*I86)/60)-Q86","v":{"$error":"#N/A"}},{"$error":"#N/A"},{"$error":"#N/A"},0,0,0,{"$error":"#N/A"},0,null,null,"2019-02-07",0,0,685,0.67700000000000005]
[null,null,null,null,null,null,null,null,null,null,null,null,null,0,null,null,{"$error":"#N/A"},{"$f":"(((K87+(L87/365))*I87)/600)-Q87","v":{"$error":"#N/A"}},{"$error":"#N/A"},{"$error":"#N/A"},0,0,0,{"$error":"#N/A"},0,null,null,"2019-02-07",0,0,686,0.68]
[null,null,null,null,null,null,null,null,null,null,null,null,null,0,null,null,{"$error":"#N/A"},{"$f":"(((K88+(L88/365))*I88)/60)-Q88","v":{"$error":"#N/A"}},{"$error":"#N/A"},{"$error":"#N/A"},0,0,0,{"$error":"#N/A"},0,null,null,"2019-02-07",0,0,687,0.68300000000000005]
[null,null,null,null,null,null,null,null,null,null,null,null,null,0,null,null,{"$error":"#N/A"},{"$f":"(((K89+(L89/365))*I89)/600)-Q89","v":{"$error":"#N/A"}},{"$error":"#N/A"},{"$error":"#N/A"},0,0,0,{"$error":"#N/A"},0,null,null,"2019-02-07",0,0,688,0.68500000000000005]
[null,null,null,null,null,null,null,null,null,null,null,null,null,0,null,null,{"$error":"#N/A"},{"$f":"(((K90+(L90/365))*I90)/60)-Q90","v":{"$error":"#N/A"}},{"$error":"#N/A"},{"$error":"#N/A"},0,0,0,{"$error":"#N/A"},0,null,null,"2019-02-07",0,0,689,0.68799999999999994]
[null,null,null,null,null,null,null,null,null,null,null,null,null,0,null,null,{"$error":"#N/A"},{"$f":"(((K91+(L91/365))*I91)/600)-Q91","v":{"$error":"#N/A"}},{"$error":"#N/A"},{"$error":"#N/A"},0,0,0,{"$error":"#N/A"},0,null,null,"2019-02-07",0,0,690,0.69]
[null,null,null,null,null,null,null,null,null,null,null,null,null,0,null,null,{"$error":"#N/A"},{"$f":"(((K92+(L92/365))*I92)/60)-Q92","v":{"$error":"#N/A"}},{"$error":"#N/A"},{"$error":"#N/A"},0,0,0,{"$error":"#N/A"},0,null,null,"2019-02-07",0,0,691,0.69299999999999995]
[null,null,null,null,null,null,null,null,null,null,null,null,null,0,null,null,{"$error":"#N/A"},{"$f":"(((K93+(L93/365))*I93)/600)-Q93","v":{"$error":"#N/A"}},{"$error":"#N/A"},{"$error":"#N/A"},0,0,0,{"$error":"#N/A"},0,null,null,"2019-02-07",0,0,692,0.69499999999999995]
[null,null,null,null,null,null,null,null,null,null,null,null,null,0,null,null,{"$error":"#N/A"},{"$f":"(((K94+(L94/365))*I94)/60)-Q94","v":{"$error":"#N/A"}},{"$error":"#N/A"},{"$error":"#N/A"},0,0,0,{"$error":"#N/A"},0,null,null,"2019-02-07",0,0,693,0.69799999999999995]
[null,null,null,null,null,null,null,null,null,null,null,null,null,0,null,null,{"$error":"#N/A"},{"$f":"(((K95+(L95/365))*I95)/600)-Q95","v":{"$error":"#N/A"}},{"$error":"#N/A"},{"$error":"#N/A"},0,0,0,{"$error":"#N/A"},0,null,null,"2019-02-07",0,0,694,0.70099999999999996]
[null,null,null,null,null,null,null,null,null,null,null,null,null,0,null,null,{"$error":"#N/A"},{"$f":"(((K96+(L96/365))*I96)/60)-Q96","v":{"$error":"#N/A"}},{"$error":"#N/A"},{"$error":"#N/A"},0,0,0,{"$error":"#N/A"},0,null,null,"2019-02-07",0,0,695,0.70299999999999996]
[null,null,null,null,null,null,null,null,null,null,null,null,null,0,null,null,{"$error":"#N/A"},{"$f":"(((K97+(L97/365))*I97)/600)-Q97","v":{"$error":"#N/A"}},{"$error":"#N/A"},{"$error":"#N/A"},0,0,0,{"$error":"#N/A"},0,null,null,"2019-02-07",0,0,696,0.70599999999999996]
[null,null,null,null,null,null,null,null,null,null,null,null,null,0,null,null,{"$f":"VLOOKUP(AC98,$AE$1:$AF$241,2,FALSE)*(((K98+(L98/365))*I98)/60)","v":{"$error":"#N/A"}},{"$f":"(((K98+(L98/365))*I98)/60)-Q98","v":{"$error":"#N/A"}},{"$error":"#N/A"},{"$error":"#N/A"},0,0,0,{"$error":"#N/A"},0,null,null,"2019-02-07",{"$f":"(DATEDIF(H98, J98, \"M\"))","v":0},{"$f":"(DATEDIF(H98, J98, \"Y\"))","v":0},697,0.70899999999999996]
[null,null,null,null,null,null,null,null,null,null,null,null,null,0,null,null,{"$error":"#N/A"},{"$f":"(((K99+(L99/365))*I99)/600)-Q99","v":{"$error":"#N/A"}},{"$error":"#N/A"},{"$error":"#N/A"},0,0,0,{"$error":"#N/A"},0,null,null,"2019-02-07",0,0,698,0.71099999999999997]
[null,null,null,null,null,null,null,null,null,null,null,null,null,0,null,null,{"$error":"#N/A"},{"$f":"(((K100+(L100/365))*I100)/60)-Q100","v":{"$error":"#N/A"}},{"$error":"#N/A"},{"$error":"#N/A"},0,0,0,{"$error":"#N/A"},0,null,null,"2019-02-07",0,0,699,0.71399999999999997]
[null,null,null,null,null,null,null,null,null,null,null,null,null,0,null,null,{"$error":"#N/A"},{"$f":"(((K101+(L101/365))*I101)/600)-Q101","v":{"$error":"#N/A"}},{"$error":"#N/A"},{"$error":"#N/A"},0,0,0,{"$error":"#N/A"},0,null,null,"2019-02-07",0,0,700,0.71699999999999997]
[null,null,null,null,null,null,null,null,null,null,null,null,null,0,null,null,{"$error":"#N/A"},{"$f":"(((K102+(L102/365))*I102)/60)-Q102","v":{"$error":"#N/A"}},{"$error":"#N/A"},{"$error":"#N/A"},0,0,0,{"$error":"#N/A"},0,null,null,"2019-02-07",0,0,701,0.72]
[null,null,null,null,null,null,null,null,null,null,null,null,null,0,null,null,{"$error":"#N/A"},{"$f":"(((K103+(L103/365))*I103)/600)-Q103","v":{"$error":"#N/A"}},{"$error":"#N/A"},{"$error":"#N/A"},0,0,0,{"$error":"#N/A"},0,null,null,"2019-02-07",0,0,702,0.72199999999999998]
[null,null,null,null,null,null,null,null,null,null,null,null,null,0,null,null,{"$error":"#N/A"},{"$f":"(((K104+(L104/365))*I104)/60)-Q104","v":{"$error":"#N/A"}},{"$error":"#N/A"},{"$error":"#N/A"},0,0,0,{"$error":"#N/A"},0,null,null,"2019-02-07",0,0,703,0.72499999999999998]
[null,null,null,null,null,null,null,null,null,null,null,null,null,0,null,null,{"$error":"#N/A"},{"$f":"(((K105+(L105/365))*I105)/600)-Q105","v":{"$error":"#N/A"}},{"$error":"#N/A"},{"$error":"#N/A"},0,0,0,{"$error":"#N/A"},0,null,null,"2019-02-07",0,0,704,0.72799999999999998]
[null,null,null,null,null,null,null,null,null,null,null,null,null,0,null,null,{"$error":"#N/A"},{"$f":"(((K106+(L106/365))*I106)/60)-Q106","v":{"$error":"#N/A"}},{"$error":"#N/A"},{"$error":"#N/A"},0,0,0,{"$error":"#N/A"},0,null,null,"2019-02-07",0,0,705,0.73099999999999998]
[null,null,null,null,null,null,null,null,null,null,null,null,null,0,null,null,{"$error":"#N/A"},{"$f":"(((K107+(L107/365))*I107)/600)-Q107","v":{"$error":"#N/A"}},{"$error":"#N/A"},{"$error":"#N/A"},0,0,0,{"$error":"#N/A"},0,null,null,"2019-02-07",0,0,706,0.73299999999999998]
[null,null,null,null,null,null,null,null,null,null,null,null,null,0,null,null,{"$error":"#N/A"},{"$f":"(((K108+(L108/365))*I108)/60)-Q108","v":{"$error":"#N/A"}},{"$error":"#N/A"},{"$error":"#N/A"},0,0,0,{"$error":"#N/A"},0,null,null,"2019-02-07",0,0,707,0.73599999999999999]
[null,null,null,null,null,null,null,null,null,null,null,null,null,0,null,null,{"$error":"#N/A"},{"$f":"(((K109+(L109/365))*I109)/600)-Q109","v":{"$error":"#N/A"}},{"$error":"#N/A"},{"$error":"#N/A"},0,0,0,{"$error":"#N/A"},0,null,null,"2019-02-07",0,0,708,0.73899999999999999]
[null,null,null,null,null,null,null,null,null,null,null,null,null,0,null,null,{"$error":"#N/A"},{"$f":"(((K110+(L110/365))*I110)/60)-Q110","v":{"$error":"#N/A"}},{"$error":"#N/A"},{"$error":"#N/A"},0,0,0,{"$error":"#N/A"},0,null,null,"2019-02-07",0,0,709,0.74199999999999999]
[null,null,null,null,null,null,null,null,null,null,null,null,null,0,null,null,{"$error":"#N/A"},{"$f":"(((K111+(L111/365))*I111)/600)-Q111","v":{"$error":"#N/A"}},{"$error":"#N/A"},{"$error":"#N/A"},0,0,0,{"$error":"#N/A"},0,null,null,"2019-02-07",0,0,710,0.745]
[null,null,null,null,null,null,null,null,null,null,null,null,null,0,null,null,{"$error":"#N/A"},{"$f":"(((K112+(L112/365))*I112)/60)-Q112","v":{"$error":"#N/A"}},{"$error":"#N/A"},{"$error":"#N/A"},0,0,0,{"$error":"#N/A"},0,null,null,"2019-02-07",0,0,711,0.748]
[null,null,null,null,null,null,null,null,null,null,null,null,null,0,null,null,{"$error":"#N/A"},{"$f":"(((K113+(L113/365))*I113)/600)-Q113","v":{"$error":"#N/A"}},{"$error":"#N/A"},{"$error":"#N/A"},0,0,0,{"$error":"#N/A"},0,null,null,"2019-02-07",0,0,712,0.751]
[null,null,null,null,null,null,null,null,null,null,null,null,null,0,null,null,{"$error":"#N/A"},{"$f":"(((K114+(L114/365))*I114)/60)-Q114","v":{"$error":"#N/A"}},{"$error":"#N/A"},{"$error":"#N/A"},0,0,0,{"$error":"#N/A"},0,null,null,"2019-02-07",0,0,713,0.754]
[null,null,null,null,null,null,null,null,null,null,null,null,null,0,null,null,{"$error":"#N/A"},{"$f":"(((K115+(L115/365))*I115)/600)-Q115","v":{"$error":"#N/A"}},{"$error":"#N/A"},{"$error":"#N/A"},0,0,0,{"$error":"#N/A"},0,null,null,"2019-02-07",0,0,714,0.75700000000000001]
[null,null,null,null,null,null,null,null,null,null,null,null,null,0,null,null,{"$error":"#N/A"},{"$f":"(((K116+(L116/365))*I116)/60)-Q116","v":{"$error":"#N/A"}},{"$error":"#N/A"},{"$error":"#N/A"},0,0,0,{"$error":"#N/A"},0,null,null,"2019-02-07",0,0,715,0.76]
[null,null,null,null,null,null,null,null,null,null,null,null,null,0,null,null,{"$error":"#N/A"},{"$f":"(((K117+(L117/365))*I117)/600)-Q117","v":{"$error":"#N/A"}},{"$error":"#N/A"},{"$error":"#N/A"},0,0,0,{"$error":"#N/A"},0,null,null,"2019-02-07",0,0,716,0.76300000000000001]
[null,null,null,null,null,null,null,null,null,null,null,null,null,0,null,null,{"$error":"#N/A"},{"$f":"(((K118+(L118/365))*I118)/60)-Q118","v":{"$error":"#N/A"}},{"$error":"#N/A"},{"$error":"#N/A"},0,0,0,{"$error":"#N/A"},0,null,null,"2019-02-07",0,0,717,0.76600000000000001]
[null,null,null,null,null,null,null,null,null,null,null,null,null,0,null,null,{"$error":"#N/A"},{"$f":"(((K119+(L119/365))*I119)/600)-Q119","v":{"$error":"#N/A"}},{"$error":"#N/A"},{"$error":"#N/A"},0,0,0,{"$error":"#N/A"},0,null,null,"2019-02-07",0,0,718,0.76900000000000002]
[null,null,null,null,null,null,null,null,null,null,null,null,null,0,null,null,{"$error":"#N/A"},{"$f":"(((K120+(L120/365))*I120)/60)-Q120","v":{"$error":"#N/A"}},{"$error":"#N/A"},{"$error":"#N/A"},0,0,0,{"$error":"#N/A"},0,null,null,"2019-02-07",0,0,719,0.77200000000000002]
[null,null,null,null,null,null,null,null,null,null,null,null,null,0,null,null,{"$error":"#N/A"},{"$f":"(((K121+(L121/365))*I121)/600)-Q121","v":{"$error":"#N/A"}},{"$error":"#N/A"},{"$error":"#N/A"},0,0,0,{"$error":"#N/A"},0,null,null,"2019-02-07",0,0,720,0.77500000000000002]
[null,null,null,null,null,null,null,null,null,null,null,null,null,0,null,null,{"$error":"#N/A"},{"$f":"(((K122+(L122/365))*I122)/60)-Q122","v":{"$error":"#N/A"}},{"$error":"#N/A"},{"$error":"#N/A"},0,0,0,{"$error":"#N/A"},0,null,null,"2019-02-07",0,0,721,0.77800000000000002]
[null,null,null,null,null,null,null,null,null,null,null,null,null,0,null,null,{"$error":"#N/A"},{"$f":"(((K123+(L123/365))*I123)/600)-Q123","v":{"$error":"#N/A"}},{"$error":"#N/A"},{"$error":"#N/A"},0,0,0,{"$error":"#N/A"},0,null,null,"2019-02-07",0,0,722,0.78100000000000003]
[null,null,null,null,null,null,null,null,null,null,null,null,null,0,null,null,{"$error":"#N/A"},{"$f":"(((K124+(L124/365))*I124)/60)-Q124","v":{"$error":"#N/A"}},{"$error":"#N/A"},{"$error":"#N/A"},0,0,0,{"$error":"#N/A"},0,null,null,"2019-02-07",0,0,723,0.78500000000000003]
[null,null,null,null,null,null,null,null,null,null,null,null,null,0,null,null,{"$error":"#N/A"},{"$f":"(((K125+(L125/365))*I125)/600)-Q125","v":{"$error":"#N/A"}},{"$error":"#N/A"},{"$error":"#N/A"},0,0,0,{"$error":"#N/A"},0,null,null,"2019-02-07",0,0,724,0.78800000000000003]
[null,null,null,null,null,null,null,null,null,null,null,null,null,0,null,null,{"$error":"#N/A"},{"$f":"(((K126+(L126/365))*I126)/60)-Q126","v":{"$error":"#N/A"}},{"$error":"#N/A"},{"$error":"#N/A"},0,0,0,{"$error":"#N/A"},0,null,null,"2019-02-07",0,0,725,0.79100000000000004]
[null,null,null,null,null,null,null,null,null,null,null,null,null,0,null,null,{"$error":"#N/A"},{"$f":"(((K127+(L127/365))*I127)/600)-Q127","v":{"$error":"#N/A"}},{"$error":"#N/A"},{"$error":"#N/A"},0,0,0,{"$error":"#N/A"},0,null,null,"2019-02-07",0,0,726,0.79400000000000004]
[null,null,null,null,null,null,null,null,null,null,null,null,null,0,null,null,{"$error":"#N/A"},{"$f":"(((K128+(L128/365))*I128)/60)-Q128","v":{"$error":"#N/A"}},{"$error":"#N/A"},{"$error":"#N/A"},0,0,0,{"$error":"#N/A"},0,null,null,"2019-02-07",0,0,727,0.79700000000000004]
[null,null,null,null,null,null,null,null,null,null,null,null,null,0,null,null,{"$error":"#N/A"},{"$f":"(((K129+(L129/365))*I129)/600)-Q129","v":{"$error":"#N/A"}},{"$error":"#N/A"},{"$error":"#N/A"},0,0,0,{"$error":"#N/A"},0,null,null,"2019-02-07",0,0,728,0.80100000000000005]
[null,null,null,null,null,null,null,null,null,null,null,null,null,{"$f":"O130+(P130/365)","v":0},null,null,{"$f":"VLOOKUP(AC130,$AE$1:$AF$241,2,FALSE)*(((K130+(L130/365))*I130)/60)","v":{"$error":"#N/A"}},{"$f":"(((K130+(L130/365))*I130)/60)-Q130","v":{"$error":"#N/A"}},{"$error":"#N/A"},{"$error":"#N/A"},0,0,0,{"$error":"#N/A"},0,null,null,"2019-02-07",{"$f":"(DATEDIF(H130, J130, \"M\"))","v":0},{"$f":"(DATEDIF(H130, J130, \"Y\"))","v":0},729,0.80400000000000005]
[null,null,null,null,null,null,null,null,null,null,null,null,null,0,null,null,{"$error":"#N/A"},{"$f":"(((K131+(L131/365))*I131)/600)-Q131","v":{"$error":"#N/A"}},{"$error":"#N/A"},{"$f":"IF(M131>1,(((VLOOKUP(AD131, $AJ$2:$AK$22,2,FALSE)*R131))),(((VLOOKUP(AD131,$AH$2:$AI$22,2,FALSE)*R131))))","v":{"$error":"#N/A"}},0,{"$f":"((O131+(P131/365))*I131)/160","v":0},{"$f":"U131*3","v":0},{"$f":"IF(M131>1,(((VLOOKUP(AD131,$AJ$2:$AK$22,2,FALSE)*I131)/60)*N131)+(((VLOOKUP(AD131,$AO$2:$AP$22,2,FALSE)*I131)/160)*N131),((((VLOOKUP(AD131,$AH$2:$AI$22,2,FALSE)*I131)/60)*N131))+(((VLOOKUP(AD131,$AM$2:$AN$22,2,FALSE)*I131)/160)*N131))","v":{"$error":"#N/A"}},0,null,null,{"$f":"TODAY()","v":"2019-02-07"},0,0,730,0.80700000000000005]
[null,null,null,null,null,null,null,null,null,null,null,null,null,0,null,null,{"$error":"#N/A"},{"$f":"(((K132+(L132/365))*I132)/60)-Q132","v":{"$error":"#N/A"}},{"$f":"R132*3","v":{"$error":"#N/A"}},{"$error":"#N/A"},{"$f":"((O132+(P132/365))*I132)/60","v":0},0,0,{"$error":"#N/A"},0,null,null,"2019-02-07",0,0,731,0.81]
[null,null,null,null,null,null,null,null,null,null,null,null,null,0,null,null,{"$error":"#N/A"},{"$f":"(((K133+(L133/365))*I133)/600)-Q133","v":{"$error":"#N/A"}},{"$error":"#N/A"},{"$error":"#N/A"},0,0,0,{"$error":"#N/A"},0,null,null,"2019-02-07",0,0,732,0.81299999999999994]
[null,null,null,null,null,null,null,null,null,null,null,null,null,0,null,null,{"$error":"#N/A"},{"$f":"(((K134+(L134/365))*I134)/60)-Q134","v":{"$error":"#N/A"}},{"$error":"#N/A"},{"$error":"#N/A"},0,0,0,{"$error":"#N/A"},{"$f":"(SUMIF(T134:X134,\">0\",T134:X134))-(U134+W134+V134)","v":0},null,null,"2019-02-07",0,0,733,0.81699999999999995]
[null,null,null,null,null,null,null,null,null,null,null,null,null,0,null,null,{"$error":"#N/A"},{"$f":"(((K135+(L135/365))*I135)/600)-Q135","v":{"$error":"#N/A"}},{"$error":"#N/A"},{"$error":"#N/A"},0,0,0,{"$error":"#N/A"},0,null,null,"2019-02-07",0,0,734,0.82]
[null,null,null,null,null,null,null,null,null,null,null,null,null,0,null,null,{"$error":"#N/A"},{"$f":"(((K136+(L136/365))*I136)/60)-Q136","v":{"$error":"#N/A"}},{"$error":"#N/A"},{"$error":"#N/A"},0,0,0,{"$error":"#N/A"},0,null,null,"2019-02-07",0,0,735,0.82399999999999995]
[null,null,null,null,null,null,null,null,null,null,null,null,null,0,null,null,{"$error":"#N/A"},{"$f":"(((K137+(L137/365))*I137)/600)-Q137","v":{"$error":"#N/A"}},{"$error":"#N/A"},{"$error":"#N/A"},0,0,0,{"$error":"#N/A"},0,null,null,"2019-02-07",0,0,736,0.82699999999999996]
[null,null,null,null,null,null,null,null,null,null,null,null,null,0,null,null,{"$error":"#N/A"},{"$f":"(((K138+(L138/365))*I138)/60)-Q138","v":{"$error":"#N/A"}},{"$error":"#N/A"},{"$error":"#N/A"},0,0,0,{"$error":"#N/A"},0,null,null,"2019-02-07",0,0,737,0.83099999999999996]
[null,null,null,null,null,null,null,null,null,null,null,null,null,0,null,null,{"$error":"#N/A"},{"$f":"(((K139+(L139/365))*I139)/600)-Q139","v":{"$error":"#N/A"}},{"$error":"#N/A"},{"$error":"#N/A"},0,0,0,{"$error":"#N/A"},0,null,null,"2019-02-07",0,0,738,0.83399999999999996]
[null,null,null,null,null,null,null,null,null,null,null,null,null,0,null,null,{"$error":"#N/A"},{"$f":"(((K140+(L140/365))*I140)/60)-Q140","v":{"$error":"#N/A"}},{"$error":"#N/A"},{"$error":"#N/A"},0,0,0,{"$error":"#N/A"},0,null,null,"2019-02-07",0,0,739,0.83799999999999997]
[null,null,null,null,null,null,null,null,null,null,null,null,null,0,null,null,{"$error":"#N/A"},{"$f":"(((K141+(L141/365))*I141)/600)-Q141","v":{"$error":"#N/A"}},{"$error":"#N/A"},{"$error":"#N/A"},0,0,0,{"$error":"#N/A"},0,null,null,"2019-02-07",0,0,740,0.84099999999999997]
[null,null,null,null,null,null,null,null,null,null,null,null,null,0,null,null,{"$error":"#N/A"},{"$f":"(((K142+(L142/365))*I142)/60)-Q142","v":{"$error":"#N/A"}},{"$error":"#N/A"},{"$error":"#N/A"},0,0,0,{"$error":"#N/A"},0,null,null,"2019-02-07",0,0,741,0.84499999999999997]
[null,null,null,null,null,null,null,null,null,null,null,null,null,0,null,null,{"$error":"#N/A"},{"$f":"(((K143+(L143/365))*I143)/600)-Q143","v":{"$error":"#N/A"}},{"$error":"#N/A"},{"$error":"#N/A"},0,0,0,{"$error":"#N/A"},0,null,null,"2019-02-07",0,0,742,0.84799999999999998]
[null,null,null,null,null,null,null,null,null,null,null,null,null,0,null,null,{"$error":"#N/A"},{"$f":"(((K144+(L144/365))*I144)/60)-Q144","v":{"$error":"#N/A"}},{"$error":"#N/A"},{"$error":"#N/A"},0,0,0,{"$error":"#N/A"},0,null,null,"2019-02-07",0,0,743,0.85199999999999998]
[null,null,null,null,null,null,null,null,null,null,null,null,null,0,null,null,{"$error":"#N/A"},{"$f":"(((K145+(L145/365))*I145)/600)-Q145","v":{"$error":"#N/A"}},{"$error":"#N/A"},{"$error":"#N/A"},0,0,0,{"$error":"#N/A"},0,null,null,"2019-02-07",0,0,744,0.85499999999999998]
[null,null,null,null,null,null,null,null,null,null,null,null,null,0,null,null,{"$error":"#N/A"},{"$f":"(((K146+(L146/365))*I146)/60)-Q146","v":{"$error":"#N/A"}},{"$error":"#N/A"},{"$error":"#N/A"},0,0,0,{"$error":"#N/A"},0,null,null,"2019-02-07",0,0,745,0.85899999999999999]
[null,null,null,null,null,null,null,null,null,null,null,null,null,0,null,null,{"$error":"#N/A"},{"$f":"(((K147+(L147/365))*I147)/600)-Q147","v":{"$error":"#N/A"}},{"$error":"#N/A"},{"$error":"#N/A"},0,0,0,{"$error":"#N/A"},0,null,null,"2019-02-07",0,0,746,0.86299999999999999]
[null,null,null,null,null,null,null,null,null,null,null,null,null,0,null,null,{"$error":"#N/A"},{"$f":"(((K148+(L148/365))*I148)/60)-Q148","v":{"$error":"#N/A"}},{"$error":"#N/A"},{"$error":"#N/A"},0,0,0,{"$error":"#N/A"},0,null,null,"2019-02-07",0,0,747,0.86599999999999999]
[null,null,null,null,null,null,null,null,null,null,null,null,null,0,null,null,{"$error":"#N/A"},{"$f":"(((K149+(L149/365))*I149)/600)-Q149","v":{"$error":"#N/A"}},{"$error":"#N/A"},{"$error":"#N/A"},0,0,0,{"$error":"#N/A"},0,null,null,"2019-02-07",0,0,748,0.87]
[null,null,null,null,null,null,null,null,null,null,null,null,null,0,null,null,{"$error":"#N/A"},{"$f":"(((K150+(L150/365))*I150)/60)-Q150","v":{"$error":"#N/A"}},{"$error":"#N/A"},{"$error":"#N/A"},0,0,0,{"$error":"#N/A"},0,null,null,"2019-02-07",0,0,749,0.874]
[null,null,null,null,null,null,null,null,null,null,null,null,null,0,null,null,{"$error":"#N/A"},{"$f":"(((K151+(L151/365))*I151)/600)-Q151","v":{"$error":"#N/A"}},{"$error":"#N/A"},{"$error":"#N/A"},0,0,0,{"$error":"#N/A"},0,null,null,"2019-02-07",0,0,750,0.878]
[null,null,null,null,null,null,null,null,null,null,null,null,null,0,null,null,{"$error":"#N/A"},{"$f":"(((K152+(L152/365))*I152)/60)-Q152","v":{"$error":"#N/A"}},{"$error":"#N/A"},{"$error":"#N/A"},0,0,0,{"$error":"#N/A"},0,null,null,"2019-02-07",0,0,751,0.88100000000000001]
[null,null,null,null,null,null,null,null,null,null,null,null,null,0,null,null,{"$error":"#N/A"},{"$f":"(((K153+(L153/365))*I153)/600)-Q153","v":{"$error":"#N/A"}},{"$error":"#N/A"},{"$error":"#N/A"},0,0,0,{"$error":"#N/A"},0,null,null,"2019-02-07",0,0,752,0.88500000000000001]
[null,null,null,null,null,null,null,null,null,null,null,null,null,0,null,null,{"$error":"#N/A"},{"$f":"(((K154+(L154/365))*I154)/60)-Q154","v":{"$error":"#N/A"}},{"$error":"#N/A"},{"$error":"#N/A"},0,0,0,{"$error":"#N/A"},0,null,null,"2019-02-07",0,0,753,0.88900000000000001]
[null,null,null,null,null,null,null,null,null,null,null,null,null,0,null,null,{"$error":"#N/A"},{"$f":"(((K155+(L155/365))*I155)/600)-Q155","v":{"$error":"#N/A"}},{"$error":"#N/A"},{"$error":"#N/A"},0,0,0,{"$error":"#N/A"},0,null,null,"2019-02-07",0,0,754,0.89300000000000002]
[null,null,null,null,null,null,null,null,null,null,null,null,null,0,null,null,{"$error":"#N/A"},{"$f":"(((K156+(L156/365))*I156)/60)-Q156","v":{"$error":"#N/A"}},{"$error":"#N/A"},{"$error":"#N/A"},0,0,0,{"$error":"#N/A"},0,null,null,"2019-02-07",0,0,755,0.89600000000000002]
[null,null,null,null,null,null,null,null,null,null,null,null,null,0,null,null,{"$error":"#N/A"},{"$f":"(((K157+(L157/365))*I157)/600)-Q157","v":{"$error":"#N/A"}},{"$error":"#N/A"},{"$error":"#N/A"},0,0,0,{"$error":"#N/A"},0,null,null,"2019-02-07",0,0,756,0.9]
[null,null,null,null,null,null,null,null,null,null,null,null,null,0,null,null,{"$error":"#N/A"},{"$f":"(((K158+(L158/365))*I158)/60)-Q158","v":{"$error":"#N/A"}},{"$error":"#N/A"},{"$error":"#N/A"},0,0,0,{"$error":"#N/A"},0,null,null,"2019-02-07",0,0,757,0.90400000000000003]
[null,null,null,null,null,null,null,null,null,null,null,null,null,0,null,null,{"$error":"#N/A"},{"$f":"(((K159+(L159/365))*I159)/600)-Q159","v":{"$error":"#N/A"}},{"$error":"#N/A"},{"$error":"#N/A"},0,0,0,{"$error":"#N/A"},0,null,null,"2019-02-07",0,0,758,0.90800000000000003]
[null,null,null,null,null,null,null,null,null,null,null,null,null,0,null,null,{"$error":"#N/A"},{"$f":"(((K160+(L160/365))*I160)/60)-Q160","v":{"$error":"#N/A"}},{"$error":"#N/A"},{"$error":"#N/A"},0,0,0,{"$error":"#N/A"},0,null,null,"2019-02-07",0,0,759,0.91200000000000003]
[null,null,null,null,null,null,null,null,null,null,null,null,null,0,null,null,{"$error":"#N/A"},{"$f":"(((K161+(L161/365))*I161)/600)-Q161","v":{"$error":"#N/A"}},{"$error":"#N/A"},{"$error":"#N/A"},0,0,0,{"$error":"#N/A"},0,null,null,"2019-02-07",0,0,760,0.91600000000000004]
[null,null,null,null,null,null,null,null,null,null,null,null,null,0,null,null,{"$f":"VLOOKUP(AC162,$AE$1:$AF$241,2,FALSE)*(((K162+(L162/365))*I162)/60)","v":{"$error":"#N/A"}},{"$f":"(((K162+(L162/365))*I162)/60)-Q162","v":{"$error":"#N/A"}},{"$error":"#N/A"},{"$error":"#N/A"},0,0,0,{"$error":"#N/A"},0,null,null,"2019-02-07",{"$f":"(DATEDIF(H162, J162, \"M\"))","v":0},{"$f":"(DATEDIF(H162, J162, \"Y\"))","v":0},761,0.92100000000000004]
[null,null,null,null,null,null,null,null,null,null,null,null,null,0,null,null,{"$error":"#N/A"},{"$f":"(((K163+(L163/365))*I163)/600)-Q163","v":{"$error":"#N/A"}},{"$error":"#N/A"},{"$error":"#N/A"},0,0,0,{"$error":"#N/A"},0,null,null,"2019-02-07",0,0,762,0.92500000000000004]
[null,null,null,null,null,null,null,null,null,null,null,null,null,0,null,null,{"$error":"#N/A"},{"$f":"(((K164+(L164/365))*I164)/60)-Q164","v":{"$error":"#N/A"}},{"$error":"#N/A"},{"$error":"#N/A"},0,0,0,{"$error":"#N/A"},0,null,null,"2019-02-07",0,0,763,0.92900000000000005]
[null,null,null,null,null,null,null,null,null,null,null,null,null,0,null,null,{"$error":"#N/A"},{"$f":"(((K165+(L165/365))*I165)/600)-Q165","v":{"$error":"#N/A"}},{"$error":"#N/A"},{"$error":"#N/A"},0,0,0,{"$error":"#N/A"},0,null,null,"2019-02-07",0,0,764,0.93300000000000005]
[null,null,null,null,null,null,null,null,null,null,null,null,null,0,null,null,{"$error":"#N/A"},{"$f":"(((K166+(L166/365))*I166)/60)-Q166","v":{"$error":"#N/A"}},{"$error":"#N/A"},{"$error":"#N/A"},0,0,0,{"$error":"#N/A"},0,null,null,"2019-02-07",0,0,765,0.93700000000000006]
[null,null,null,null,null,null,null,null,null,null,null,null,null,0,null,null,{"$error":"#N/A"},{"$f":"(((K167+(L167/365))*I167)/600)-Q167","v":{"$error":"#N/A"}},{"$error":"#N/A"},{"$error":"#N/A"},0,0,0,{"$error":"#N/A"},0,null,null,"2019-02-07",0,0,766,0.94099999999999995]
[null,null,null,null,null,null,null,null,null,null,null,null,null,0,null,null,{"$error":"#N/A"},{"$f":"(((K168+(L168/365))*I168)/60)-Q168","v":{"$error":"#N/A"}},{"$error":"#N/A"},{"$error":"#N/A"},0,0,0,{"$error":"#N/A"},0,null,null,"2019-02-07",0,0,767,0.94499999999999995]
[null,null,null,null,null,null,null,null,null,null,null,null,null,0,null,null,{"$error":"#N/A"},{"$f":"(((K169+(L169/365))*I169)/600)-Q169","v":{"$error":"#N/A"}},{"$error":"#N/A"},{"$error":"#N/A"},0,0,0,{"$error":"#N/A"},0,null,null,"2019-02-07",0,0,768,0.94899999999999995]
[null,null,null,null,null,null,null,null,null,null,null,null,null,0,null,null,{"$error":"#N/A"},{"$f":"(((K170+(L170/365))*I170)/60)-Q170","v":{"$error":"#N/A"}},{"$error":"#N/A"},{"$error":"#N/A"},0,0,0,{"$error":"#N/A"},0,null,null,"2019-02-07",0,0,769,0.95399999999999996]
[null,null,null,null,null,null,null,null,null,null,null,null,null,0,null,null,{"$error":"#N/A"},{"$f":"(((K171+(L171/365))*I171)/600)-Q171","v":{"$error":"#N/A"}},{"$error":"#N/A"},{"$error":"#N/A"},0,0,0,{"$error":"#N/A"},0,null,null,"2019-02-07",0,0,770,0.95799999999999996]
[null,null,null,null,null,null,null,null,null,null,null,null,null,0,null,null,{"$error":"#N/A"},{"$f":"(((K172+(L172/365))*I172)/60)-Q172","v":{"$error":"#N/A"}},{"$error":"#N/A"},{"$error":"#N/A"},0,0,0,{"$error":"#N/A"},0,null,null,"2019-02-07",0,0,771,0.96199999999999997]
[null,null,null,null,null,null,null,null,null,null,null,null,null,0,null,null,{"$error":"#N/A"},{"$f":"(((K173+(L173/365))*I173)/600)-Q173","v":{"$error":"#N/A"}},{"$error":"#N/A"},{"$error":"#N/A"},0,0,0,{"$error":"#N/A"},0,null,null,"2019-02-07",0,0,772,0.96699999999999997]
[null,null,null,null,null,null,null,null,null,null,null,null,null,0,null,null,{"$error":"#N/A"},{"$f":"(((K174+(L174/365))*I174)/60)-Q174","v":{"$error":"#N/A"}},{"$error":"#N/A"},{"$error":"#N/A"},0,0,0,{"$error":"#N/A"},0,null,null,"2019-02-07",0,0,773,0.97099999999999997]
[null,null,null,null,null,null,null,null,null,null,null,null,null,0,null,null,{"$error":"#N/A"},{"$f":"(((K175+(L175/365))*I175)/600)-Q175","v":{"$error":"#N/A"}},{"$error":"#N/A"},{"$error":"#N/A"},0,0,0,{"$error":"#N/A"},0,null,null,"2019-02-07",0,0,774,0.97599999999999998]
[null,null,null,null,null,null,null,null,null,null,null,null,null,0,null,null,{"$error":"#N/A"},{"$f":"(((K176+(L176/365))*I176)/60)-Q176","v":{"$error":"#N/A"}},{"$error":"#N/A"},{"$error":"#N/A"},0,0,0,{"$error":"#N/A"},0,null,null,"2019-02-07",0,0,775,0.98]
[null,null,null,null,null,null,null,null,null,null,null,null,null,0,null,null,{"$error":"#N/A"},{"$f":"(((K177+(L177/365))*I177)/600)-Q177","v":{"$error":"#N/A"}},{"$error":"#N/A"},{"$error":"#N/A"},0,0,0,{"$error":"#N/A"},0,null,null,"2019-02-07",0,0,776,0.98499999999999999]
[null,null,null,null,null,null,null,null,null,null,null,null,null,0,null,null,{"$error":"#N/A"},{"$f":"(((K178+(L178/365))*I178)/60)-Q178","v":{"$error":"#N/A"}},{"$error":"#N/A"},{"$error":"#N/A"},0,0,0,{"$error":"#N/A"},0,null,null,"2019-02-07",0,0,777,0.98899999999999999]
[null,null,null,null,null,null,null,null,null,null,null,null,null,0,null,null,{"$error":"#N/A"},{"$f":"(((K179+(L179/365))*I179)/600)-Q179","v":{"$error":"#N/A"}},{"$error":"#N/A"},{"$error":"#N/A"},0,0,0,{"$error":"#N/A"},0,null,null,"2019-02-07",0,0,778,0.99299999999999999]
[null,null,null,null,null,null,null,null,null,null,null,null,null,0,null,null,{"$error":"#N/A"},{"$f":"(((K180+(L180/365))*I180)/60)-Q180","v":{"$error":"#N/A"}},{"$error":"#N/A"},{"$error":"#N/A"},0,0,0,{"$error":"#N/A"},0,null,null,"2019-02-07",0,0,779,0.998]
[null,null,null,null,null,null,null,null,null,null,null,null,null,0,null,null,{"$error":"#N/A"},{"$f":"(((K181+(L181/365))*I181)/600)-Q181","v":{"$error":"#N/A"}},{"$error":"#N/A"},{"$error":"#N/A"},0,0,0,{"$error":"#N/A"},0,null,null,"2019-02-07",0,0,780,1]
[null,null,null,null,null,null,null,null,null,null,null,null,null,0,null,null,{"$error":"#N/A"},{"$f":"(((K182+(L182/365))*I182)/60)-Q182","v":{"$error":"#N/A"}},{"$error":"#N/A"},{"$error":"#N/A"},0,0,0,{"$error":"#N/A"},0,null,null,"2019-02-07",0,0,781,1]
[null,null,null,null,null,null,null,null,null,null,null,null,null,0,null,null,{"$error":"#N/A"},{"$f":"(((K183+(L183/365))*I183)/600)-Q183","v":{"$error":"#N/A"}},{"$error":"#N/A"},{"$error":"#N/A"},0,0,0,{"$error":"#N/A"},0,null,null,"2019-02-07",0,0,782,1]
[null,null,null,null,null,null,null,null,null,null,null,null,null,0,null,null,{"$error":"#N/A"},{"$f":"(((K184+(L184/365))*I184)/60)-Q184","v":{"$error":"#N/A"}},{"$error":"#N/A"},{"$error":"#N/A"},0,0,0,{"$error":"#N/A"},0,null,null,"2019-02-07",0,0,783,1]
[null,null,null,null,null,null,null,null,null,null,null,null,null,0,null,null,{"$error":"#N/A"},{"$f":"(((K185+(L185/365))*I185)/600)-Q185","v":{"$error":"#N/A"}},{"$error":"#N/A"},{"$error":"#N/A"},0,0,0,{"$error":"#N/A"},0,null,null,"2019-02-07",0,0,784,1]
[null,null,null,null,null,null,null,null,null,null,null,null,null,0,null,null,{"$error":"#N/A"},{"$f":"(((K186+(L186/365))*I186)/60)-Q186","v":{"$error":"#N/A"}},{"$error":"#N/A"},{"$error":"#N/A"},0,0,0,{"$error":"#N/A"},0,null,null,"2019-02-07",0,0,785,1]
[null,null,null,null,null,null,null,null,null,null,null,null,null,0,null,null,{"$error":"#N/A"},{"$f":"(((K187+(L187/365))*I187)/600)-Q187","v":{"$error":"#N/A"}},{"$error":"#N/A"},{"$error":"#N/A"},0,0,0,{"$error":"#N/A"},0,null,null,"2019-02-07",0,0,786,1]
[null,null,null,null,null,null,null,null,null,null,null,null,null,0,null,null,{"$error":"#N/A"},{"$f":"(((K188+(L188/365))*I188)/60)-Q188","v":{"$error":"#N/A"}},{"$error":"#N/A"},{"$error":"#N/A"},0,0,0,{"$error":"#N/A"},0,null,null,"2019-02-07",0,0,787,1]
[null,null,null,null,null,null,null,null,null,null,null,null,null,0,null,null,{"$error":"#N/A"},{"$f":"(((K189+(L189/365))*I189)/600)-Q189","v":{"$error":"#N/A"}},{"$error":"#N/A"},{"$error":"#N/A"},0,0,0,{"$error":"#N/A"},0,null,null,"2019-02-07",0,0,788,1]
[null,null,null,null,null,null,null,null,null,null,null,null,null,0,null,null,{"$error":"#N/A"},{"$f":"(((K190+(L190/365))*I190)/60)-Q190","v":{"$error":"#N/A"}},{"$error":"#N/A"},{"$error":"#N/A"},0,0,0,{"$error":"#N/A"},0,null,null,"2019-02-07",0,0,789,1]
[null,null,null,null,null,null,null,null,null,null,null,null,null,0,null,null,{"$error":"#N/A"},{"$f":"(((K191+(L191/365))*I191)/600)-Q191","v":{"$error":"#N/A"}},{"$error":"#N/A"},{"$error":"#N/A"},0,0,0,{"$error":"#N/A"},0,null,null,"2019-02-07",0,0,790,1]
[null,null,null,null,null,null,null,null,null,null,null,null,null,0,null,null,{"$error":"#N/A"},{"$f":"(((K192+(L192/365))*I192)/60)-Q192","v":{"$error":"#N/A"}},{"$error":"#N/A"},{"$error":"#N/A"},0,0,0,{"$error":"#N/A"},0,null,null,"2019-02-07",0,0,791,1]
[null,null,null,null,null,null,null,null,null,null,null,null,null,0,null,null,{"$error":"#N/A"},{"$f":"(((K193+(L193/365))*I193)/600)-Q193","v":{"$error":"#N/A"}},{"$error":"#N/A"},{"$error":"#N/A"},0,0,0,{"$error":"#N/A"},0,null,null,"2019-02-07",0,0,792,1]
[null,null,null,null,null,null,null,null,null,null,null,null,null,{"$f":"O194+(P194/365)","v":0},null,null,{"$f":"VLOOKUP(AC194,$AE$1:$AF$241,2,FALSE)*(((K194+(L194/365))*I194)/60)","v":{"$error":"#N/A"}},{"$f":"(((K194+(L194/365))*I194)/60)-Q194","v":{"$error":"#N/A"}},{"$error":"#N/A"},{"$error":"#N/A"},0,0,0,{"$error":"#N/A"},0,null,null,"2019-02-07",0,0,793,1]
[null,null,null,null,null,null,null,null,null,null,null,null,null,0,null,null,{"$error":"#N/A"},{"$f":"(((K195+(L195/365))*I195)/600)-Q195","v":{"$error":"#N/A"}},{"$error":"#N/A"},{"$f":"IF(M195>1,(((VLOOKUP(AD195, $AJ$2:$AK$22,2,FALSE)*R195))),(((VLOOKUP(AD195,$AH$2:$AI$22,2,FALSE)*R195))))","v":{"$error":"#N/A"}},0,{"$f":"((O195+(P195/365))*I195)/160","v":0},{"$f":"U195*3","v":0},{"$f":"IF(M195>1,(((VLOOKUP(AD195,$AJ$2:$AK$22,2,FALSE)*I195)/60)*N195)+(((VLOOKUP(AD195,$AO$2:$AP$22,2,FALSE)*I195)/160)*N195),((((VLOOKUP(AD195,$AH$2:$AI$22,2,FALSE)*I195)/60)*N195))+(((VLOOKUP(AD195,$AM$2:$AN$22,2,FALSE)*I195)/160)*N195))","v":{"$error":"#N/A"}},0,null,null,{"$f":"TODAY()","v":"2019-02-07"},0,{"$f":"(DATEDIF(H195, J195, \"Y\"))","v":0},794,1]
[null,null,null,null,null,null,null,null,null,null,null,null,null,0,null,null,{"$error":"#N/A"},{"$f":"(((K196+(L196/365))*I196)/60)-Q196","v":{"$error":"#N/A"}},{"$f":"R196*3","v":{"$error":"#N/A"}},{"$f":"IF(M196>1,(((VLOOKUP(AD196, $AJ$2:$AK$22,2,FALSE)*R196))),(((VLOOKUP(AD196,$AH$2:$AI$22,2,FALSE)*R196))))","v":{"$error":"#N/A"}},{"$f":"((O196+(P196/365))*I196)/60","v":0},{"$f":"((O196+(P196/365))*I196)/160","v":0},{"$f":"U196*3","v":0},{"$f":"IF(M196>1,(((VLOOKUP(AD196,$AJ$2:$AK$22,2,FALSE)*I196)/60)*N196)+(((VLOOKUP(AD196,$AO$2:$AP$22,2,FALSE)*I196)/160)*N196),((((VLOOKUP(AD196,$AH$2:$AI$22,2,FALSE)*I196)/60)*N196))+(((VLOOKUP(AD196,$AM$2:$AN$22,2,FALSE)*I196)/160)*N196))","v":{"$error":"#N/A"}},0,null,null,{"$f":"TODAY()","v":"2019-02-07"},0,0,795,1]
[null,null,null,null,null,null,null,null,null,null,null,null,null,0,null,null,{"$error":"#N/A"},{"$f":"(((K197+(L197/365))*I197)/600)-Q197","v":{"$error":"#N/A"}},{"$f":"R197*3","v":{"$error":"#N/A"}},{"$f":"IF(M197>1,(((VLOOKUP(AD197, $AJ$2:$AK$22,2,FALSE)*R197))),(((VLOOKUP(AD197,$AH$2:$AI$22,2,FALSE)*R197))))","v":{"$error":"#N/A"}},{"$f":"((O197+(P197/365))*I197)/60","v":0},{"$f":"((O197+(P197/365))*I197)/160","v":0},{"$f":"U197*3","v":0},{"$f":"IF(M197>1,(((VLOOKUP(AD197,$AJ$2:$AK$22,2,FALSE)*I197)/60)*N197)+(((VLOOKUP(AD197,$AO$2:$AP$22,2,FALSE)*I197)/160)*N197),((((VLOOKUP(AD197,$AH$2:$AI$22,2,FALSE)*I197)/60)*N197))+(((VLOOKUP(AD197,$AM$2:$AN$22,2,FALSE)*I197)/160)*N197))","v":{"$error":"#N/A"}},0,null,null,{"$f":"TODAY()","v":"2019-02-07"},{"$f":"(DATEDIF(H197, J197, \"M\"))","v":0},0,796,1]
[null,null,null,null,null,null,null,null,null,null,null,null,null,0,null,null,{"$error":"#N/A"},{"$f":"(((K198+(L198/365))*I198)/60)-Q198","v":{"$error":"#N/A"}},{"$f":"R198*3","v":{"$error":"#N/A"}},{"$f":"IF(M198>1,(((VLOOKUP(AD198, $AJ$2:$AK$22,2,FALSE)*R198))),(((VLOOKUP(AD198,$AH$2:$AI$22,2,FALSE)*R198))))","v":{"$error":"#N/A"}},{"$f":"((O198+(P198/365))*I198)/60","v":0},{"$f":"((O198+(P198/365))*I198)/160","v":0},{"$f":"U198*3","v":0},{"$f":"IF(M198>1,(((VLOOKUP(AD198,$AJ$2:$AK$22,2,FALSE)*I198)/60)*N198)+(((VLOOKUP(AD198,$AO$2:$AP$22,2,FALSE)*I198)/160)*N198),((((VLOOKUP(AD198,$AH$2:$AI$22,2,FALSE)*I198)/60)*N198))+(((VLOOKUP(AD198,$AM$2:$AN$22,2,FALSE)*I198)/160)*N198))","v":{"$error":"#N/A"}},{"$f":"(SUMIF(T198:X198,\">0\",T198:X198))-(U198+W198+V198)","v":0},null,null,{"$f":"TODAY()","v":"2019-02-07"},0,0,797,1]
[null,null,null,null,null,null,null,null,null,null,null,null,null,0,null,null,{"$error":"#N/A"},{"$f":"(((K199+(L199/365))*I199)/600)-Q199","v":{"$error":"#N/A"}},{"$f":"R199*3","v":{"$error":"#N/A"}},{"$f":"IF(M199>1,(((VLOOKUP(AD199, $AJ$2:$AK$22,2,FALSE)*R199))),(((VLOOKUP(AD199,$AH$2:$AI$22,2,FALSE)*R199))))","v":{"$error":"#N/A"}},{"$f":"((O199+(P199/365))*I199)/60","v":0},{"$f":"((O199+(P199/365))*I199)/160","v":0},{"$f":"U199*3","v":0},{"$f":"IF(M199>1,(((VLOOKUP(AD199,$AJ$2:$AK$22,2,FALSE)*I199)/60)*N199)+(((VLOOKUP(AD199,$AO$2:$AP$22,2,FALSE)*I199)/160)*N199),((((VLOOKUP(AD199,$AH$2:$AI$22,2,FALSE)*I199)/60)*N199))+(((VLOOKUP(AD199,$AM$2:$AN$22,2,FALSE)*I199)/160)*N199))","v":{"$error":"#N/A"}},{"$f":"(SUMIF(T199:X199,\">0\",T199:X199))-(U199+W199+V199)","v":0},null,null,{"$f":"TODAY()","v":"2019-02-07"},0,0,798,1]
[null,null,null,null,null,null,null,null,null,null,null,null,null,null,null,null,null,null,null,null,null,null,null,null,null,null,null,null,0,0,799,1]
[null,null,null,null,null,null,null,null,null,null,null,null,null,null,null,null,null,null,null,null,null,null,null,null,null,null,null,null,0,0,800,1]
[null,null,null,null,null,null,null,null,null,null,null,null,null,null,null,null,null,null,null,null,null,null,null,null,null,null,null,null,0,0,801,1]
[null,null,null,null,null,null,null,null,null,null,null,null,null,null,null,null,null,null,null,null,null,null,null,null,null,null,null,null,0,0,802,1]
[null,null,null,null,null,null,null,null,null,null,null,null,null,null,null,null,null,null,null,null,null,null,null,null,null,null,null,null,0,0,803,1]
[null,null,null,null,null,null,null,null,null,null,null,null,null,null,null,null,null,null,null,null,null,null,null,null,null,null,null,null,0,0,804,1]
[null,null,null,null,null,null,null,null,null,null,null,null,null,null,null,null,null,null,null,null,null,null,null,null,null,null,null,null,0,0,805,1]
[null,null,null,null,null,null,null,null,null,null,null,null,null,null,null,null,null,null,null,null,null,null,null,null,null,null,null,null,0,0,806,1]
[null,null,null,null,null,null,null,null,null,null,null,null,null,null,null,null,null,null,null,null,null,null,null,null,null,null,null,null,0,0,807,1]
[null,null,null,null,null,null,null,null,null,null,null,null,null,null,null,null,null,null,null,null,null,null,null,null,null,null,null,null,0,0,808,1]
[null,null,null,null,null,null,null,null,null,null,null,null,null,null,null,null,null,null,null,null,null,null,null,null,null,null,null,null,0,0,809,1]
[null,null,null,null,null,null,null,null,null,null,null,null,null,null,null,null,null,null,null,null,null,null,null,null,null,null,null,null,0,0,810,1]
[null,null,null,null,null,null,null,null,null,null,null,null,null,null,null,null,null,null,null,null,null,null,null,null,null,null,null,null,0,0,811,1]
[null,null,null,null,null,null,null,null,null,null,null,null,null,null,null,null,null,null,null,null,null,null,null,null,null,null,null,null,0,0,812,1]
[null,null,null,null,null,null,null,null,null,null,null,null,null,null,null,null,null,null,null,null,null,null,null,null,null,null,null,null,0,0,813,1]
[null,null,null,null,null,null,null,null,null,null,null,null,null,null,null,null,null,null,null,null,null,null,null,null,null,null,null,null,0,0,814,1]
[null,null,null,null,null,null,null,null,null,null,null,null,null,null,null,null,null,null,null,null,null,null,null,null,null,null,null,null,0,0,815,1]
[null,null,null,null,null,null,null,null,null,null,null,null,null,null,null,null,null,null,null,null,null,null,null,null,null,null,null,null,0,0,816,1]
[null,null,null,null,null,null,null,null,null,null,null,null,null,null,null,null,null,null,null,null,null,null,null,null,null,null,null,null,0,0,817,1]
[null,null,null,null,null,null,null,null,null,null,null,null,null,null,null,null,null,null,null,null,null,null,null,null,null,null,null,null,0,0,818,1]
[null,null,null,null,null,null,null,null,null,null,null,null,null,null,null,null,null,null,null,null,null,null,null,null,null,null,null,null,0,0,819,1]
[null,null,null,null,null,null,null,null,null,null,null,null,null,null,null,null,null,null,null,null,null,null,null,null,null,null,null,null,0,0,820,1]
[null,null,null,null,null,null,null,null,null,null,null,null,null,null,null,null,null,null,null,null,null,null,null,null,null,null,null,null,0,0,821,1]
[null,null,null,null,null,null,null,null,null,null,null,null,null,null,null,null,null,null,null,null,null,null,null,null,null,null,null,null,0,0,822,1]
[null,null,null,null,null,null,null,null,null,null,null,null,null,null,null,null,null,null,null,null,null,null,null,null,null,null,null,null,0,0,823,1]
[null,null,null,null,null,null,null,null,null,null,null,null,null,null,null,null,null,null,null,null,null,null,null,null,null,null,null,null,0,0,824,1]
[null,null,null,null,null,null,null,null,null,null,null,null,null,null,null,null,null,null,null,null,null,null,null,null,null,null,null,null,0,0,825,1]
[null,null,null,null,null,null,null,null,null,null,null,null,null,null,null,null,null,null,null,null,null,null,null,null,null,null,null,null,0,0,826,1]
[null,null,null,null,null,null,null,null,null,null,null,null,null,null,null,null,null,null,null,null,null,null,null,null,null,null,null,null,0,0,827,1]
[null,null,null,null,null,null,null,null,null,null,null,null,null,null,null,null,null,null,null,null,null,null,null,null,null,null,null,null,0,0,828,1]
[null,null,null,null,null,null,null,null,null,null,null,null,null,null,null,null,null,null,null,null,null,null,null,null,null,null,null,null,0,0,829,1]
[null,null,null,null,null,null,null,null,null,null,null,null,null,null,null,null,null,null,null,null,null,null,null,null,null,null,null,null,0,0,830,1]
[null,null,null,null,null,null,null,null,null,null,null,null,null,null,null,null,null,null,null,null,null,null,null,null,null,null,null,null,0,0,831,1]
[null,null,null,null,null,null,null,null,null,null,null,null,null,null,null,null,null,null,null,null,null,null,null,null,null,null,null,null,0,0,832,1]
[null,null,null,null,null,null,null,null,null,null,null,null,null,null,null,null,null,null,null,null,null,null,null,null,null,null,null,null,0,0,833,1]
[null,null,null,null,null,null,null,null,null,null,null,null,null,null,null,null,null,null,null,null,null,null,null,null,null,null,null,null,0,0,834,1]
[null,null,null,null,null,null,null,null,null,null,null,null,null,null,null,null,null,null,null,null,null,null,null,null,null,null,null,null,0,0,835,1]
[null,null,null,null,null,null,null,null,null,null,null,null,null,null,null,null,null,null,null,null,null,null,null,null,null,null,null,null,0,0,836,1]
[null,null,null,null,null,null,null,null,null,null,null,null,null,null,null,null,null,null,null,null,null,null,null,null,null,null,null,null,0,0,837,1]
[null,null,null,null,null,null,null,null,null,null,null,null,null,null,null,null,null,null,null,null,null,null,null,null,null,null,null,null,0,0,838,1]
[null,null,null,null,null,null,null,null,null,null,null,null,null,null,null,null,null,null,null,null,null,null,null,null,null,null,null,null,0,0,839,1]
[null,null,null,null,null,null,null,null,null,null,null,null,null,null,null,null,null,null,null,null,null,null,null,null,null,null,null,null,0,0,840,1]
[null,null,null,null,null,null,null,null,null,null,null,null,null,null,null,null,null,null,null,null,null,null,null,null,null,null,null,null,0,0]
[null,null,null,null,null,null,null,null,null,null,null,null,null,null,null,null,null,null,null,null,null,null,null,null,null,null,null,null,0,0]
[null,null,null,null,null,null,null,null,null,null,null,null,null,null,null,null,null,null,null,null,null,null,null,null,null,null,null,null,0,0]
[null,null,null,null,null,null,null,null,null,null,null,null,null,null,null,null,null,null,null,null,null,null,null,null,null,null,null,null,0,0]
[null,null,null,null,null,null,null,null,null,null,null,null,null,null,null,null,null,null,null,null,null,null,null,null,null,null,null,null,0,0]
[null,null,null,null,null,null,null,null,null,null,null,null,null,null,null,null,null,null,null,null,null,null,null,null,null,null,null,null,0,0]
[null,null,null,null,null,null,null,null,null,null,null,null,null,null,null,null,null,null,null,null,null,null,null,null,null,null,null,null,0,0]
[null,null,null,null,null,null,null,null,null,null,null,null,null,null,null,null,null,null,null,null,null,null,null,null,null,null,null,null,0,0]
[null,null,null,null,null,null,null,null,null,null,null,null,null,null,null,null,null,null,null,null,null,null,null,null,null,null,null,null,0,0]
[null,null,null,null,null,null,null,null,null,null,null,null,null,null,null,null,null,null,null,null,null,null,null,null,null,null,null,null,0,0]
[null,null,null,null,null,null,null,null,null,null,null,null,null,null,null,null,null,null,null,null,null,null,null,null,null,null,null,null,0,0]
[null,null,null,null,null,null,null,null,null,null,null,null,null,null,null,null,null,null,null,null,null,null,null,null,null,null,null,null,0,0]
[null,null,null,null,null,null,null,null,null,null,null,null,null,null,null,null,null,null,null,null,null,null,null,null,null,null,null,null,0,0]
[null,null,null,null,null,null,null,null,null,null,null,null,null,null,null,null,null,null,null,null,null,null,null,null,null,null,null,null,0,0]
[null,null,null,null,null,null,null,null,null,null,null,null,null,null,null,null,null,null,null,null,null,null,null,null,null,null,null,null,0,0]
[null,null,null,null,null,null,null,null,null,null,null,null,null,null,null,null,null,null,null,null,null,null,null,null,null,null,null,null,0,0]
[null,null,null,null,null,null,null,null,null,null,null,null,null,null,null,null,null,null,null,null,null,null,null,null,null,null,null,null,0,0]
[null,null,null,null,null,null,null,null,null,null,null,null,null,null,null,null,null,null,null,null,null,null,null,null,null,null,null,null,0,{"$f":"(DATEDIF(H259, J259, \"Y\"))","v":0}]
[null,null,null,null,null,null,null,null,null,null,null,null,null,null,null,null,null,null,null,null,null,null,null,null,null,null,null,null,0,{"$f":"(DATEDIF(H260, J260, \"Y\"))","v":0}]
[null,null,null,null,null,null,null,null,null,null,null,null,null,null,null,null,null,null,null,null,null,null,null,null,null,null,null,null,{"$f":"(DATEDIF(H261, J261, \"M\"))","v":0},{"$f":"(DATEDIF(H261, J261, \"Y\"))","v":0}]
[null,null,null,null,null,null,null,null,null,null,null,null,null,null,null,null,null,null,null,null,null,null,null,null,null,null,null,null,0]
[null,null,null,null,null,null,null,null,null,null,null,null,null,null,null,null,null,null,null,null,null,null,null,null,null,null,null,null,0]
[null,null,null,null,null,null,null,null,null,null,null,null,null,null,null,null,null,null,null,null,null,null,null,null,null,null,null,null,0]
[null,null,null,null,null,null,null,null,null,null,null,null,null,null,null,null,null,null,null,null,null,null,null,null,null,null,null,null,0]
[null,null,null,null,null,null,null,null,null,null,null,null,null,null,null,null,null,null,null,null,null,null,null,null,null,null,null,null,0]
[null,null,null,null,null,null,null,null,null,null,null,null,null,null,null,null,null,null,null,null,null,null,null,null,null,null,null,null,0]
[null,null,null,null,null,null,null,null,null,null,null,null,null,null,null,null,null,null,null,null,null,null,null,null,null,null,null,null,0]
[null,null,null,null,null,null,null,null,null,null,null,null,null,null,null,null,null,null,null,null,null,null,null,null,null,null,null,null,0]
[null,null,null,null,null,null,null,null,null,null,null,null,null,null,null,null,null,null,null,null,null,null,null,null,null,null,null,null,0]
[null,null,null,null,null,null,null,null,null,null,null,null,null,null,null,null,null,null,null,null,null,null,null,null,null,null,null,null,0]
[null,null,null,null,null,null,null,null,null,null,null,null,null,null,null,null,null,null,null,null,null,null,null,null,null,null,null,null,0]
[null,null,null,null,null,null,null,null,null,null,null,null,null,null,null,null,null,null,null,null,null,null,null,null,null,null,null,null,0]
[null,null,null,null,null,null,null,null,null,null,null,null,null,null,null,null,null,null,null,null,null,null,null,null,null,null,null,null,0]
[null,null,null,null,null,null,null,null,null,null,null,null,null,null,null,null,null,null,null,null,null,null,null,null,null,null,null,null,0]
[null,null,null,null,null,null,null,null,null,null,null,null,null,null,null,null,null,null,null,null,null,null,null,null,null,null,null,null,0]
[null,null,null,null,null,null,null,null,null,null,null,null,null,null,null,null,null,null,null,null,null,null,null,null,null,null,null,null,0]
[null,null,null,null,null,null,null,null,null,null,null,null,null,null,null,null,null,null,null,null,null,null,null,null,null,null,null,null,0]
[null,null,null,null,null,null,null,null,null,null,null,null,null,null,null,null,null,null,null,null,null,null,null,null,null,null,null,null,0]
[null,null,null,null,null,null,null,null,null,null,null,null,null,null,null,null,null,null,null,null,null,null,null,null,null,null,null,null,0]
[null,null,null,null,null,null,null,null,null,null,null,null,null,null,null,null,null,null,null,null,null,null,null,null,null,null,null,null,0]
[null,null,null,null,null,null,null,null,null,null,null,null,null,null,null,null,null,null,null,null,null,null,null,null,null,null,null,null,0]
[null,null,null,null,null,null,null,null,null,null,null,null,null,null,null,null,null,null,null,null,null,null,null,null,null,null,null,null,0]
[null,null,null,null,null,null,null,null,null,null,null,null,null,null,null,null,null,null,null,null,null,null,null,null,null,null,null,null,0]

{"sheet":"pre NPA 60","index":11,"n_rows":284,"n_cols":43,"rows_kept":284,"cut":false,"hidden":true,"merged":[[0,4,0,6]]}
["Last Name","First Name","Superan Number","NI NO","Date of Birth",null,null,"Date of Birth","Annual Salary","Proposed date of Retirement","Reckonable Years","Service Days","Male = 1, Female = 2",null,"Enhancement to pension (years)","Enhancement to pension (days)","SPPA Pension","SPPA Lump Sum","Employers Pension","Employers Lump Sum","Capitalised","Added Years Pension","Dependents Pension","Added Years Lump","Added years","Total Cost","Grand Total",{"$f":"SUMIF(Z2:Z200,\">0\",Z2:Z200)","v":0},"Today's date","Age Months","Age Whole Years",600,0.61699999999999999,null,"Pension","Male",null,"Female",null,"Dependents","Male",null,"Female"]
[null,null,null,null,null,null,null,{"$f":"'Single NPA 60'!$C$12","v":"00:00:00"},{"$f":"'Single NPA 60'!$C$14","v":0},{"$f":"'Single NPA 60'!$C$18","v":"00:00:00"},{"$f":"'Single NPA 60'!$C$16","v":0},{"$f":"'Single NPA 60'!$C$20","v":0},{"$f":"'Single NPA 60'!$C$22","v":0},{"$f":"O2+(P2/365)","v":0},{"$f":"'Single NPA 60'!$C$24","v":0},{"$f":"'Single NPA 60'!$C$26","v":0},{"$f":"VLOOKUP(AD2,$AF$1:$AG$241,2,FALSE)*(((K2+(L2/365))*I2)/80)","v":{"$error":"#N/A"}},{"$f":"Q2*3","v":{"$error":"#N/A"}},{"$f":"(((K2+(L2/365))*I2)/80)-Q2","v":{"$error":"#N/A"}},{"$f":"S2*3","v":{"$error":"#N/A"}},{"$f":"IF(M2>1,(((VLOOKUP(AE2, $AK$2:$AL$22,2,FALSE)*S2)))+(S2*3),(((VLOOKUP(AE2,$AI$2:$AJ$22,2,FALSE)*S2)))+(S2*3))","v":{"$error":"#N/A"}},{"$f":"((O2+(P2/365))*I2)/80","v":0},{"$f":"V2/2","v":0},{"$f":"V2*3","v":0},{"$f":"IF(M2>1,(((VLOOKUP(AE2,$AK$2:$AL$22,2,FALSE)*I2)/80)*N2)+(((VLOOKUP(AE2,$AP$2:$AQ$22,2,FALSE)*I2)/160)*N2),((((VLOOKUP(AE2,$AI$2:$AJ$22,2,FALSE)*I2)/80)*N2))+(((VLOOKUP(AE2,$AN$2:$AO$22,2,FALSE)*I2)/160)*N2))+(((N2*I2)/80)*3)","v":{"$error":"#N/A"}},{"$f":"(SUMIF(U2:Y2,\">0\",U2:Y2))-(V2+X2+W2)","v":0},null,null,{"$f":"TODAY()","v":"2019-02-07"},{"$f":"(DATEDIF(H2, J2, \"M\"))","v":0},{"$f":"(DATEDIF(H2, J2, \"Y\"))","v":0},601,0,null,50,0,50,0,null,50,0,50,0]
[null,null,null,null,null,null,null,null,null,null,null,null,null,0,null,null,{"$f":"VLOOKUP(AD3,$AF$1:$AG$241,2,FALSE)*(((K3+(L3/365))*I3)/80)","v":{"$error":"#N/A"}},{"$f":"Q3*3","v":{"$error":"#N/A"}},{"$error":"#N/A"},{"$error":"#N/A"},{"$f":"IF(M3>1,(((VLOOKUP(AE3, $AK$2:$AL$22,2,FALSE)*S3)))+(S3*3),(((VLOOKUP(AE3,$AI$2:$AJ$22,2,FALSE)*S3)))+(S3*3))","v":{"$error":"#N/A"}},{"$f":"((O3+(P3/365))*I3)/80","v":0},{"$f":"V3/2","v":0},{"$f":"V3*3","v":0},{"$f":"IF(M3>1,(((VLOOKUP(AE3,$AK$2:$AL$22,2,FALSE)*I3)/80)*N3)+(((VLOOKUP(AE3,$AP$2:$AQ$22,2,FALSE)*I3)/160)*N3),((((VLOOKUP(AE3,$AI$2:$AJ$22,2,FALSE)*I3)/80)*N3))+(((VLOOKUP(AE3,$AN$2:$AO$22,2,FALSE)*I3)/160)*N3))+(((N3*I3)/80)*3)","v":{"$error":"#N/A"}},{"$f":"(SUMIF(U3:Y3,\">0\",U3:Y3))-(V3+X3+W3)","v":0},null,null,{"$f":"TODAY()","v":"2019-02-07"},{"$f":"(DATEDIF(H3, J3, \"M\"))","v":0},{"$f":"(DATEDIF(H3, J3, \"Y\"))","v":0},602,0,null,51,0,51,0,null,51,0,51,0]
[null,null,null,null,null,null,null,null,null,null,null,null,null,0,null,null,{"$error":"#N/A"},{"$error":"#N/A"},{"$error":"#N/A"},{"$error":"#N/A"},{"$f":"IF(M4>1,(((VLOOKUP(AE4, $AK$2:$AL$22,2,FALSE)*S4)))+(S4*3),(((VLOOKUP(AE4,$AI$2:$AJ$22,2,FALSE)*S4)))+(S4*3))","v":{"$error":"#N/A"}},0,0,0,{"$error":"#N/A"},{"$f":"(SUMIF(U4:Y4,\">0\",U4:Y4))-(V4+X4+W4)","v":0},null,null,"2019-02-07",{"$f":"(DATEDIF(H4, J4, \"M\"))","v":0},0,603,0,null,52,0,52,0,null,52,0,52,0]
[null,null,null,null,null,null,null,null,null,null,null,null,null,0,null,null,{"$error":"#N/A"},{"$error":"#N/A"},{"$error":"#N/A"},{"$error":"#N/A"},{"$error":"#N/A"},0,0,0,{"$error":"#N/A"},{"$f":"(SUMIF(U5:Y5,\">0\",U5:Y5))-(V5+X5+W5)","v":0},null,null,"2019-02-07",{"$f":"(DATEDIF(H5, J5, \"M\"))","v":0},0,604,0,null,53,0,53,0,null,53,0,53,0]
[null,null,null,null,null,null,null,null,null,null,null,null,null,0,null,null,{"$error":"#N/A"},{"$error":"#N/A"},{"$error":"#N/A"},{"$error":"#N/A"},{"$error":"#N/A"},0,0,0,{"$error":"#N/A"},{"$f":"(SUMIF(U6:Y6,\">0\",U6:Y6))-(V6+X6+W6)","v":0},null,null,"2019-02-07",0,0,605,0,null,54,0,54,0,null,54,0,54,0]
[null,null,null,null,null,null,null,null,null,null,null,null,null,0,null,null,{"$error":"#N/A"},{"$error":"#N/A"},{"$error":"#N/A"},{"$error":"#N/A"},{"$error":"#N/A"},0,0,0,{"$error":"#N/A"},0,null,null,"2019-02-07",0,0,606,0,null,55,22.8,55,22.8,null,55,1.4,55,1.4]
[null,null,null,null,null,null,null,null,null,null,null,null,null,0,null,null,{"$error":"#N/A"},{"$error":"#N/A"},{"$error":"#N/A"},{"$error":"#N/A"},{"$error":"#N/A"},0,0,0,{"$error":"#N/A"},0,null,null,"2019-02-07",0,0,607,0,null,56,22.3,56,22.3,null,56,1.4,56,1.4]
[null,null,null,null,null,null,null,null,null,null,null,null,null,0,null,null,{"$error":"#N/A"},{"$error":"#N/A"},{"$error":"#N/A"},{"$error":"#N/A"},{"$error":"#N/A"},0,0,0,{"$error":"#N/A"},0,null,null,"2019-02-07",0,0,608,0,null,57,21.8,57,21.8,null,57,1.4,57,1.4]
[null,null,null,null,null,null,null,null,null,null,null,null,null,0,null,null,{"$error":"#N/A"},{"$error":"#N/A"},{"$error":"#N/A"},{"$error":"#N/A"},{"$error":"#N/A"},0,0,0,{"$error":"#N/A"},0,null,null,"2019-02-07",0,0,609,0,null,58,21.3,58,21.3,null,58,1.4,58,1.4]
[null,null,null,null,null,null,null,null,null,null,null,null,null,0,null,null,{"$error":"#N/A"},{"$error":"#N/A"},{"$error":"#N/A"},{"$error":"#N/A"},{"$error":"#N/A"},0,0,0,{"$error":"#N/A"},0,null,null,"2019-02-07",0,0,610,0,null,59,20.8,59,20.8,null,59,1.4,59,1.4]
[null,null,null,null,null,null,null,null,null,null,null,null,null,0,null,null,{"$error":"#N/A"},{"$error":"#N/A"},{"$error":"#N/A"},{"$error":"#N/A"},{"$error":"#N/A"},0,0,0,{"$error":"#N/A"},0,null,null,"2019-02-07",0,0,611,0,null,60,20.3,60,20.3,null,60,1.5,60,1.5]
[null,null,null,null,null,null,null,null,null,null,null,null,null,0,null,null,{"$error":"#N/A"},{"$error":"#N/A"},{"$error":"#N/A"},{"$error":"#N/A"},{"$error":"#N/A"},0,0,0,{"$error":"#N/A"},0,null,null,"2019-02-07",0,0,612,0,null,61,19.8,61,19.8,null,61,1.5,61,1.5]
[null,null,null,null,null,null,null,null,null,null,null,null,null,0,null,null,{"$error":"#N/A"},{"$error":"#N/A"},{"$error":"#N/A"},{"$error":"#N/A"},{"$error":"#N/A"},0,0,0,{"$error":"#N/A"},0,null,null,"2019-02-07",0,0,613,0,null,62,19.3,62,19.3,null,62,1.5,62,1.5]
[null,null,null,null,null,null,null,null,null,null,null,null,null,0,null,null,{"$error":"#N/A"},{"$error":"#N/A"},{"$error":"#N/A"},{"$error":"#N/A"},{"$error":"#N/A"},0,0,0,{"$error":"#N/A"},0,null,null,"2019-02-07",0,0,614,0,null,63,18.7,63,18.7,null,63,1.5,63,1.5]
[null,null,null,null,null,null,null,null,null,null,null,null,null,0,null,null,{"$error":"#N/A"},{"$error":"#N/A"},{"$error":"#N/A"},{"$error":"#N/A"},{"$error":"#N/A"},0,0,0,{"$error":"#N/A"},0,null,null,"2019-02-07",0,0,615,0,null,64,18.2,64,18.2,null,64,1.5,64,1.5]
[null,null,null,null,null,null,null,null,null,null,null,null,null,0,null,null,{"$error":"#N/A"},{"$error":"#N/A"},{"$error":"#N/A"},{"$error":"#N/A"},{"$error":"#N/A"},0,0,0,{"$error":"#N/A"},0,null,null,"2019-02-07",0,0,616,0,null,65,17.7,65,17.7,null,65,1.5,65,1.5]
[null,null,null,null,null,null,null,null,null,null,null,null,null,0,null,null,{"$error":"#N/A"},{"$error":"#N/A"},{"$error":"#N/A"},{"$error":"#N/A"},{"$error":"#N/A"},0,0,0,{"$error":"#N/A"},0,null,null,"2019-02-07",0,0,617,0,null,66,0,66,0,null,66,0,66,0]
[null,null,null,null,null,null,null,null,null,null,null,null,null,0,null,null,{"$error":"#N/A"},{"$error":"#N/A"},{"$error":"#N/A"},{"$error":"#N/A"},{"$error":"#N/A"},0,0,0,{"$error":"#N/A"},0,null,null,"2019-02-07",0,0,618,0,null,67,0,67,0,null,67,0,67,0]
[null,null,null,null,null,null,null,null,null,null,null,null,null,0,null,null,{"$error":"#N/A"},{"$error":"#N/A"},{"$error":"#N/A"},{"$error":"#N/A"},{"$error":"#N/A"},0,0,0,{"$error":"#N/A"},0,null,null,"2019-02-07",0,0,619,0,null,68,0,68,0,null,68,0,68,0]
[null,null,null,null,null,null,null,null,null,null,null,null,null,0,null,null,{"$error":"#N/A"},{"$error":"#N/A"},{"$error":"#N/A"},{"$error":"#N/A"},{"$error":"#N/A"},0,0,0,{"$error":"#N/A"},0,null,null,"2019-02-07",0,0,620,0,null,69,0,69,0,null,69,0,69,0]
[null,null,null,null,null,null,null,null,null,null,null,null,null,0,null,null,{"$error":"#N/A"},{"$error":"#N/A"},{"$error":"#N/A"},{"$error":"#N/A"},{"$error":"#N/A"},0,0,0,{"$error":"#N/A"},0,null,null,"2019-02-07",0,0,621,0,null,70,0,70,0,null,70,0,70,0]
[null,null,null,null,null,null,null,null,null,null,null,null,null,0,null,null,{"$error":"#N/A"},{"$error":"#N/A"},{"$error":"#N/A"},{"$error":"#N/A"},{"$error":"#N/A"},0,0,0,{"$error":"#N/A"},0,null,null,"2019-02-07",0,0,622,0]
[null,null,null,null,null,null,null,null,null,null,null,null,null,0,null,null,{"$error":"#N/A"},{"$error":"#N/A"},{"$error":"#N/A"},{"$error":"#N/A"},{"$error":"#N/A"},0,0,0,{"$error":"#N/A"},0,null,null,"2019-02-07",0,0,623,0]
[null,null,null,null,null,null,null,null,null,null,null,null,null,0,null,null,{"$error":"#N/A"},{"$error":"#N/A"},{"$error":"#N/A"},{"$error":"#N/A"},{"$error":"#N/A"},0,0,0,{"$error":"#N/A"},0,null,null,"2019-02-07",0,0,624,0]
[null,null,null,null,null,null,null,null,null,null,null,null,null,0,null,null,{"$error":"#N/A"},{"$error":"#N/A"},{"$error":"#N/A"},{"$error":"#N/A"},{"$error":"#N/A"},0,0,0,{"$error":"#N/A"},0,null,null,"2019-02-07",0,0,625,0]
[null,null,null,null,null,null,null,null,null,null,null,null,null,0,null,null,{"$error":"#N/A"},{"$error":"#N/A"},{"$error":"#N/A"},{"$error":"#N/A"},{"$error":"#N/A"},0,0,0,{"$error":"#N/A"},0,null,null,"2019-02-07",0,0,626,0]
[null,null,null,null,null,null,null,null,null,null,null,null,null,0,null,null,{"$error":"#N/A"},{"$error":"#N/A"},{"$error":"#N/A"},{"$error":"#N/A"},{"$error":"#N/A"},0,0,0,{"$error":"#N/A"},0,null,null,"2019-02-07",0,0,627,0]
[null,null,null,null,null,null,null,null,null,null,null,null,null,0,null,null,{"$error":"#N/A"},{"$error":"#N/A"},{"$error":"#N/A"},{"$error":"#N/A"},{"$error":"#N/A"},0,0,0,{"$error":"#N/A"},0,null,null,"2019-02-07",0,0,628,0]
[null,null,null,null,null,null,null,null,null,null,null,null,null,0,null,null,{"$error":"#N/A"},{"$error":"#N/A"},{"$error":"#N/A"},{"$error":"#N/A"},{"$error":"#N/A"},0,0,0,{"$error":"#N/A"},0,null,null,"2019-02-07",0,0,629,0]
[null,null,null,null,null,null,null,null,null,null,null,null,null,0,null,null,{"$error":"#N/A"},{"$error":"#N/A"},{"$error":"#N/A"},{"$error":"#N/A"},{"$error":"#N/A"},0,0,0,{"$error":"#N/A"},0,null,null,"2019-02-07",0,0,630,0]
[null,null,null,null,null,null,null,null,null,null,null,null,null,0,null,null,{"$error":"#N/A"},{"$error":"#N/A"},{"$error":"#N/A"},{"$error":"#N/A"},{"$error":"#N/A"},0,0,0,{"$error":"#N/A"},0,null,null,"2019-02-07",0,0,631,0]
[null,null,null,null,null,null,null,null,null,null,null,null,null,0,null,null,{"$error":"#N/A"},{"$error":"#N/A"},{"$error":"#N/A"},{"$error":"#N/A"},{"$error":"#N/A"},0,0,0,{"$error":"#N/A"},0,null,null,"2019-02-07",0,0,632,0]
[null,null,null,null,null,null,null,null,null,null,null,null,null,0,null,null,{"$error":"#N/A"},{"$error":"#N/A"},{"$f":"(((K34+(L34/365))*I34)/80)-Q34","v":{"$error":"#N/A"}},{"$error":"#N/A"},{"$error":"#N/A"},0,0,0,{"$error":"#N/A"},0,null,null,"2019-02-07",0,0,633,0]
[null,null,null,null,null,null,null,null,null,null,null,null,null,0,null,null,{"$error":"#N/A"},{"$error":"#N/A"},{"$error":"#N/A"},{"$error":"#N/A"},{"$error":"#N/A"},0,0,0,{"$error":"#N/A"},0,null,null,"2019-02-07",0,0,634,0]
[null,null,null,null,null,null,null,null,null,null,null,null,null,0,null,null,{"$error":"#N/A"},{"$error":"#N/A"},{"$error":"#N/A"},{"$error":"#N/A"},{"$error":"#N/A"},0,0,0,{"$error":"#N/A"},0,null,null,"2019-02-07",0,0,635,0]
[null,null,null,null,null,null,null,null,null,null,null,null,null,0,null,null,{"$error":"#N/A"},{"$error":"#N/A"},{"$error":"#N/A"},{"$error":"#N/A"},{"$error":"#N/A"},0,0,0,{"$error":"#N/A"},0,null,null,"2019-02-07",0,0,636,0]
[null,null,null,null,null,null,null,null,null,null,null,null,null,0,null,null,{"$error":"#N/A"},{"$error":"#N/A"},{"$error":"#N/A"},{"$error":"#N/A"},{"$error":"#N/A"},0,0,0,{"$error":"#N/A"},0,null,null,"2019-02-07",0,0,637,0]
[null,null,null,null,null,null,null,null,null,null,null,null,null,{"$f":"O39+(P39/365)","v":0},null,null,{"$error":"#N/A"},{"$error":"#N/A"},{"$error":"#N/A"},{"$error":"#N/A"},{"$error":"#N/A"},0,0,0,{"$error":"#N/A"},0,null,null,"2019-02-07",0,0,638,0]
[null,null,null,null,null,null,null,null,null,null,null,null,null,0,null,null,{"$error":"#N/A"},{"$error":"#N/A"},{"$error":"#N/A"},{"$error":"#N/A"},{"$error":"#N/A"},0,0,0,{"$error":"#N/A"},0,null,null,"2019-02-07",0,0,639,0]
[null,null,null,null,null,null,null,null,null,null,null,null,null,0,null,null,{"$error":"#N/A"},{"$error":"#N/A"},{"$error":"#N/A"},{"$error":"#N/A"},{"$error":"#N/A"},0,0,0,{"$error":"#N/A"},0,null,null,"2019-02-07",0,0,640,0]
[null,null,null,null,null,null,null,null,null,null,null,null,null,0,null,null,{"$error":"#N/A"},{"$error":"#N/A"},{"$error":"#N/A"},{"$error":"#N/A"},{"$error":"#N/A"},0,0,0,{"$error":"#N/A"},0,null,null,"2019-02-07",0,0,641,0]
[null,null,null,null,null,null,null,null,null,null,null,null,null,0,null,null,{"$error":"#N/A"},{"$error":"#N/A"},{"$error":"#N/A"},{"$error":"#N/A"},{"$error":"#N/A"},0,0,0,{"$error":"#N/A"},0,null,null,"2019-02-07",0,0,642,0]
[null,null,null,null,null,null,null,null,null,null,null,null,null,0,null,null,{"$error":"#N/A"},{"$error":"#N/A"},{"$error":"#N/A"},{"$error":"#N/A"},{"$error":"#N/A"},0,0,0,{"$error":"#N/A"},0,null,null,"2019-02-07",0,0,643,0]
[null,null,null,null,null,null,null,null,null,null,null,null,null,0,null,null,{"$error":"#N/A"},{"$error":"#N/A"},{"$error":"#N/A"},{"$error":"#N/A"},{"$error":"#N/A"},0,0,0,{"$error":"#N/A"},0,null,null,"2019-02-07",0,0,644,0]
[null,null,null,null,null,null,null,null,null,null,null,null,null,0,null,null,{"$error":"#N/A"},{"$error":"#N/A"},{"$error":"#N/A"},{"$error":"#N/A"},{"$error":"#N/A"},0,0,0,{"$error":"#N/A"},0,null,null,"2019-02-07",0,0,645,0]
[null,null,null,null,null,null,null,null,null,null,null,null,null,0,null,null,{"$error":"#N/A"},{"$error":"#N/A"},{"$error":"#N/A"},{"$error":"#N/A"},{"$error":"#N/A"},0,0,0,{"$error":"#N/A"},0,null,null,"2019-02-07",0,0,646,0]
[null,null,null,null,null,null,null,null,null,null,null,null,null,0,null,null,{"$error":"#N/A"},{"$error":"#N/A"},{"$error":"#N/A"},{"$error":"#N/A"},{"$error":"#N/A"},0,0,0,{"$error":"#N/A"},0,null,null,"2019-02-07",0,0,647,0]
[null,null,null,null,null,null,null,null,null,null,null,null,null,0,null,null,{"$error":"#N/A"},{"$error":"#N/A"},{"$error":"#N/A"},{"$error":"#N/A"},{"$error":"#N/A"},0,0,0,{"$error":"#N/A"},0,null,null,"2019-02-07",0,0,648,0]
[null,null,null,null,null,null,null,null,null,null,null,null,null,0,null,null,{"$error":"#N/A"},{"$error":"#N/A"},{"$error":"#N/A"},{"$error":"#N/A"},{"$error":"#N/A"},0,0,0,{"$error":"#N/A"},0,null,null,"2019-02-07",0,0,649,0]
[null,null,null,null,null,null,null,null,null,null,null,null,null,0,null,null,{"$error":"#N/A"},{"$error":"#N/A"},{"$error":"#N/A"},{"$error":"#N/A"},{"$error":"#N/A"},0,0,0,{"$error":"#N/A"},0,null,null,"2019-02-07",0,0,650,0]
[null,null,null,null,null,null,null,null,null,null,null,null,null,0,null,null,{"$error":"#N/A"},{"$error":"#N/A"},{"$error":"#N/A"},{"$error":"#N/A"},{"$error":"#N/A"},0,0,0,{"$error":"#N/A"},0,null,null,"2019-02-07",0,0,651,0]
[null,null,null,null,null,null,null,null,null,null,null,null,null,0,null,null,{"$error":"#N/A"},{"$error":"#N/A"},{"$error":"#N/A"},{"$error":"#N/A"},{"$error":"#N/A"},0,0,0,{"$error":"#N/A"},0,null,null,"2019-02-07",0,0,652,0]
[null,null,null,null,null,null,null,null,null,null,null,null,null,0,null,null,{"$error":"#N/A"},{"$error":"#N/A"},{"$error":"#N/A"},{"$error":"#N/A"},{"$error":"#N/A"},0,0,0,{"$error":"#N/A"},0,null,null,"2019-02-07",0,0,653,0]
[null,null,null,null,null,null,null,null,null,null,null,null,null,0,null,null,{"$error":"#N/A"},{"$error":"#N/A"},{"$error":"#N/A"},{"$error":"#N/A"},{"$error":"#N/A"},0,0,0,{"$error":"#N/A"},0,null,null,"2019-02-07",0,0,654,0]
[null,null,null,null,null,null,null,null,null,null,null,null,null,0,null,null,{"$error":"#N/A"},{"$error":"#N/A"},{"$error":"#N/A"},{"$error":"#N/A"},{"$error":"#N/A"},0,0,0,{"$error":"#N/A"},0,null,null,"2019-02-07",0,0,655,0]
[null,null,null,null,null,null,null,null,null,null,null,null,null,0,null,null,{"$error":"#N/A"},{"$error":"#N/A"},{"$error":"#N/A"},{"$error":"#N/A"},{"$error":"#N/A"},0,0,0,{"$error":"#N/A"},0,null,null,"2019-02-07",0,0,656,0]
[null,null,null,null,null,null,null,null,null,null,null,null,null,0,null,null,{"$error":"#N/A"},{"$error":"#N/A"},{"$error":"#N/A"},{"$error":"#N/A"},{"$error":"#N/A"},0,0,0,{"$error":"#N/A"},0,null,null,"2019-02-07",0,0,657,0]
[null,null,null,null,null,null,null,null,null,null,null,null,null,0,null,null,{"$error":"#N/A"},{"$error":"#N/A"},{"$error":"#N/A"},{"$error":"#N/A"},{"$error":"#N/A"},0,0,0,{"$error":"#N/A"},0,null,null,"2019-02-07",0,0,658,0]
[null,null,null,null,null,null,null,null,null,null,null,null,null,0,null,null,{"$error":"#N/A"},{"$error":"#N/A"},{"$error":"#N/A"},{"$error":"#N/A"},{"$error":"#N/A"},0,0,0,{"$error":"#N/A"},0,null,null,"2019-02-07",0,0,659,0]
[null,null,null,null,null,null,null,null,null,null,null,null,null,0,null,null,{"$error":"#N/A"},{"$error":"#N/A"},{"$error":"#N/A"},{"$error":"#N/A"},{"$error":"#N/A"},0,0,0,{"$error":"#N/A"},0,null,null,"2019-02-07",0,0,660,0.80800000000000005]
[null,null,null,null,null,null,null,null,null,null,null,null,null,0,null,null,{"$error":"#N/A"},{"$error":"#N/A"},{"$error":"#N/A"},{"$error":"#N/A"},{"$error":"#N/A"},0,0,0,{"$error":"#N/A"},0,null,null,"2019-02-07",0,0,661,0.81100000000000005]
[null,null,null,null,null,null,null,null,null,null,null,null,null,0,null,null,{"$error":"#N/A"},{"$error":"#N/A"},{"$error":"#N/A"},{"$error":"#N/A"},{"$error":"#N/A"},0,0,0,{"$error":"#N/A"},0,null,null,"2019-02-07",0,0,662,0.81399999999999995]
[null,null,null,null,null,null,null,null,null,null,null,null,null,0,null,null,{"$error":"#N/A"},{"$error":"#N/A"},{"$error":"#N/A"},{"$error":"#N/A"},{"$error":"#N/A"},0,0,0,{"$error":"#N/A"},0,null,null,"2019-02-07",0,0,663,0.81699999999999995]
[null,null,null,null,null,null,null,null,null,null,null,null,null,0,null,null,{"$error":"#N/A"},{"$error":"#N/A"},{"$error":"#N/A"},{"$error":"#N/A"},{"$error":"#N/A"},0,0,0,{"$error":"#N/A"},0,null,null,"2019-02-07",0,0,664,0.81899999999999995]
[null,null,null,null,null,null,null,null,null,null,null,null,null,0,null,null,{"$error":"#N/A"},{"$error":"#N/A"},{"$f":"(((K66+(L66/365))*I66)/80)-Q66","v":{"$error":"#N/A"}},{"$error":"#N/A"},{"$error":"#N/A"},0,0,0,{"$error":"#N/A"},0,null,null,"2019-02-07",0,0,665,0.82199999999999995]
[null,null,null,null,null,null,null,null,null,null,null,null,null,{"$f":"O67+(P67/365)","v":0},null,null,{"$f":"VLOOKUP(AD67,$AF$1:$AG$241,2,FALSE)*(((K67+(L67/365))*I67)/80)","v":{"$error":"#N/A"}},{"$f":"Q67*3","v":{"$error":"#N/A"}},{"$error":"#N/A"},{"$error":"#N/A"},{"$error":"#N/A"},{"$f":"((O67+(P67/365))*I67)/80","v":0},{"$f":"V67/2","v":0},{"$f":"V67*3","v":0},{"$f":"IF(M67>1,(((VLOOKUP(AE67,$AK$2:$AL$22,2,FALSE)*I67)/80)*N67)+(((VLOOKUP(AE67,$AP$2:$AQ$22,2,FALSE)*I67)/160)*N67),((((VLOOKUP(AE67,$AI$2:$AJ$22,2,FALSE)*I67)/80)*N67))+(((VLOOKUP(AE67,$AN$2:$AO$22,2,FALSE)*I67)/160)*N67))+(((N67*I67)/80)*3)","v":{"$error":"#N/A"}},0,null,null,{"$f":"TODAY()","v":"2019-02-07"},0,{"$f":"(DATEDIF(H67, J67, \"Y\"))","v":0},666,0.82499999999999996]
[null,null,null,null,null,null,null,null,null,null,null,null,null,0,null,null,{"$error":"#N/A"},{"$error":"#N/A"},{"$error":"#N/A"},{"$f":"S68*3","v":{"$error":"#N/A"}},{"$f":"IF(M68>1,(((VLOOKUP(AE68, $AK$2:$AL$22,2,FALSE)*S68)))+(S68*3),(((VLOOKUP(AE68,$AI$2:$AJ$22,2,FALSE)*S68)))+(S68*3))","v":{"$error":"#N/A"}},0,0,0,{"$error":"#N/A"},0,null,null,"2019-02-07",0,0,667,0.82799999999999996]
[null,null,null,null,null,null,null,null,null,null,null,null,null,0,null,null,{"$error":"#N/A"},{"$error":"#N/A"},{"$error":"#N/A"},{"$error":"#N/A"},{"$error":"#N/A"},0,0,0,{"$error":"#N/A"},0,null,null,"2019-02-07",{"$f":"(DATEDIF(H69, J69, \"M\"))","v":0},0,668,0.83099999999999996]
[null,null,null,null,null,null,null,null,null,null,null,null,null,0,null,null,{"$error":"#N/A"},{"$error":"#N/A"},{"$error":"#N/A"},{"$error":"#N/A"},{"$error":"#N/A"},0,0,0,{"$error":"#N/A"},{"$f":"(SUMIF(U70:Y70,\">0\",U70:Y70))-(V70+X70+W70)","v":0},null,null,"2019-02-07",0,0,669,0.83399999999999996]
[null,null,null,null,null,null,null,null,null,null,null,null,null,0,null,null,{"$error":"#N/A"},{"$error":"#N/A"},{"$error":"#N/A"},{"$error":"#N/A"},{"$error":"#N/A"},0,0,0,{"$error":"#N/A"},0,null,null,"2019-02-07",0,0,670,0.83599999999999997]
[null,null,null,null,null,null,null,null,null,null,null,null,null,0,null,null,{"$error":"#N/A"},{"$error":"#N/A"},{"$error":"#N/A"},{"$error":"#N/A"},{"$error":"#N/A"},0,0,0,{"$error":"#N/A"},0,null,null,"2019-02-07",0,0,671,0.83899999999999997]
[null,null,null,null,null,null,null,null,null,null,null,null,null,0,null,null,{"$error":"#N/A"},{"$error":"#N/A"},{"$error":"#N/A"},{"$error":"#N/A"},{"$error":"#N/A"},0,0,0,{"$error":"#N/A"},0,null,null,"2019-02-07",0,0,672,0.84199999999999997]
[null,null,null,null,null,null,null,null,null,null,null,null,null,0,null,null,{"$error":"#N/A"},{"$error":"#N/A"},{"$error":"#N/A"},{"$error":"#N/A"},{"$error":"#N/A"},0,0,0,{"$error":"#N/A"},0,null,null,"2019-02-07",0,0,673,0.84499999999999997]
[null,null,null,null,null,null,null,null,null,null,null,null,null,0,null,null,{"$error":"#N/A"},{"$error":"#N/A"},{"$error":"#N/A"},{"$error":"#N/A"},{"$error":"#N/A"},0,0,0,{"$error":"#N/A"},0,null,null,"2019-02-07",0,0,674,0.84799999999999998]
[null,null,null,null,null,null,null,null,null,null,null,null,null,0,null,null,{"$error":"#N/A"},{"$error":"#N/A"},{"$error":"#N/A"},{"$error":"#N/A"},{"$error":"#N/A"},0,0,0,{"$error":"#N/A"},0,null,null,"2019-02-07",0,0,675,0.85099999999999998]
[null,null,null,null,null,null,null,null,null,null,null,null,null,0,null,null,{"$error":"#N/A"},{"$error":"#N/A"},{"$error":"#N/A"},{"$error":"#N/A"},{"$error":"#N/A"},0,0,0,{"$error":"#N/A"},0,null,null,"2019-02-07",0,0,676,0.85399999999999998]
[null,null,null,null,null,null,null,null,null,null,null,null,null,0,null,null,{"$error":"#N/A"},{"$error":"#N/A"},{"$error":"#N/A"},{"$error":"#N/A"},{"$error":"#N/A"},0,0,0,{"$error":"#N/A"},0,null,null,"2019-02-07",0,0,677,0.85699999999999998]
[null,null,null,null,null,null,null,null,null,null,null,null,null,0,null,null,{"$error":"#N/A"},{"$error":"#N/A"},{"$error":"#N/A"},{"$error":"#N/A"},{"$error":"#N/A"},0,0,0,{"$error":"#N/A"},0,null,null,"2019-02-07",0,0,678,0.86]
[null,null,null,null,null,null,null,null,null,null,null,null,null,0,null,null,{"$error":"#N/A"},{"$error":"#N/A"},{"$error":"#N/A"},{"$error":"#N/A"},{"$error":"#N/A"},0,0,0,{"$error":"#N/A"},0,null,null,"2019-02-07",0,0,679,0.86299999999999999]
[null,null,null,null,null,null,null,null,null,null,null,null,null,0,null,null,{"$error":"#N/A"},{"$error":"#N/A"},{"$error":"#N/A"},{"$error":"#N/A"},{"$error":"#N/A"},0,0,0,{"$error":"#N/A"},0,null,null,"2019-02-07",0,0,680,0.86599999999999999]
[null,null,null,null,null,null,null,null,null,null,null,null,null,0,null,null,{"$error":"#N/A"},{"$error":"#N/A"},{"$error":"#N/A"},{"$error":"#N/A"},{"$error":"#N/A"},0,0,0,{"$error":"#N/A"},0,null,null,"2019-02-07",0,0,681,0.86899999999999999]
[null,null,null,null,null,null,null,null,null,null,null,null,null,0,null,null,{"$error":"#N/A"},{"$error":"#N/A"},{"$error":"#N/A"},{"$error":"#N/A"},{"$error":"#N/A"},0,0,0,{"$error":"#N/A"},0,null,null,"2019-02-07",0,0,682,0.872]
[null,null,null,null,null,null,null,null,null,null,null,null,null,0,null,null,{"$error":"#N/A"},{"$error":"#N/A"},{"$error":"#N/A"},{"$error":"#N/A"},{"$error":"#N/A"},0,0,0,{"$error":"#N/A"},0,null,null,"2019-02-07",0,0,683,0.875]
[null,null,null,null,null,null,null,null,null,null,null,null,null,0,null,null,{"$error":"#N/A"},{"$error":"#N/A"},{"$error":"#N/A"},{"$error":"#N/A"},{"$error":"#N/A"},0,0,0,{"$error":"#N/A"},0,null,null,"2019-02-07",0,0,684,0.878]
[null,null,null,null,null,null,null,null,null,null,null,null,null,0,null,null,{"$error":"#N/A"},{"$error":"#N/A"},{"$error":"#N/A"},{"$error":"#N/A"},{"$error":"#N/A"},0,0,0,{"$error":"#N/A"},0,null,null,"2019-02-07",0,0,685,0.88200000000000001]
[null,null,null,null,null,null,null,null,null,null,null,null,null,0,null,null,{"$error":"#N/A"},{"$error":"#N/A"},{"$error":"#N/A"},{"$error":"#N/A"},{"$error":"#N/A"},0,0,0,{"$error":"#N/A"},0,null,null,"2019-02-07",0,0,686,0.88500000000000001]
[null,null,null,null,null,null,null,null,null,null,null,null,null,0,null,null,{"$error":"#N/A"},{"$error":"#N/A"},{"$error":"#N/A"},{"$error":"#N/A"},{"$error":"#N/A"},0,0,0,{"$error":"#N/A"},0,null,null,"2019-02-07",0,0,687,0.88800000000000001]
[null,null,null,null,null,null,null,null,null,null,null,null,null,0,null,null,{"$error":"#N/A"},{"$error":"#N/A"},{"$error":"#N/A"},{"$error":"#N/A"},{"$error":"#N/A"},0,0,0,{"$error":"#N/A"},0,null,null,"2019-02-07",0,0,688,0.89100000000000001]
[null,null,null,null,null,null,null,null,null,null,null,null,null,0,null,null,{"$error":"#N/A"},{"$error":"#N/A"},{"$error":"#N/A"},{"$error":"#N/A"},{"$error":"#N/A"},0,0,0,{"$error":"#N/A"},0,null,null,"2019-02-07",0,0,689,0.89400000000000002]
[null,null,null,null,null,null,null,null,null,null,null,null,null,0,null,null,{"$error":"#N/A"},{"$error":"#N/A"},{"$error":"#N/A"},{"$error":"#N/A"},{"$error":"#N/A"},0,0,0,{"$error":"#N/A"},0,null,null,"2019-02-07",0,0,690,0.89800000000000002]
[null,null,null,null,null,null,null,null,null,null,null,null,null,0,null,null,{"$error":"#N/A"},{"$error":"#N/A"},{"$error":"#N/A"},{"$error":"#N/A"},{"$error":"#N/A"},0,0,0,{"$error":"#N/A"},0,null,null,"2019-02-07",0,0,691,0.90100000000000002]
[null,null,null,null,null,null,null,null,null,null,null,null,null,0,null,null,{"$error":"#N/A"},{"$error":"#N/A"},{"$error":"#N/A"},{"$error":"#N/A"},{"$error":"#N/A"},0,0,0,{"$error":"#N/A"},0,null,null,"2019-02-07",0,0,692,0.90400000000000003]
[null,null,null,null,null,null,null,null,null,null,null,null,null,0,null,null,{"$error":"#N/A"},{"$error":"#N/A"},{"$error":"#N/A"},{"$error":"#N/A"},{"$error":"#N/A"},0,0,0,{"$error":"#N/A"},0,null,null,"2019-02-07",0,0,693,0.90700000000000003]
[null,null,null,null,null,null,null,null,null,null,null,null,null,0,null,null,{"$error":"#N/A"},{"$error":"#N/A"},{"$error":"#N/A"},{"$error":"#N/A"},{"$error":"#N/A"},0,0,0,{"$error":"#N/A"},0,null,null,"2019-02-07",0,0,694,0.91]
[null,null,null,null,null,null,null,null,null,null,null,null,null,0,null,null,{"$error":"#N/A"},{"$error":"#N/A"},{"$error":"#N/A"},{"$error":"#N/A"},{"$error":"#N/A"},0,0,0,{"$error":"#N/A"},0,null,null,"2019-02-07",0,0,695,0.91400000000000003]
[null,null,null,null,null,null,null,null,null,null,null,null,null,0,null,null,{"$error":"#N/A"},{"$error":"#N/A"},{"$error":"#N/A"},{"$error":"#N/A"},{"$error":"#N/A"},0,0,0,{"$error":"#N/A"},0,null,null,"2019-02-07",0,0,696,0.91700000000000004]
[null,null,null,null,null,null,null,null,null,null,null,null,null,0,null,null,{"$error":"#N/A"},{"$error":"#N/A"},{"$f":"(((K98+(L98/365))*I98)/80)-Q98","v":{"$error":"#N/A"}},{"$error":"#N/A"},{"$error":"#N/A"},0,0,0,{"$error":"#N/A"},0,null,null,"2019-02-07",0,0,697,0.92]
[null,null,null,null,null,null,null,null,null,null,null,null,null,0,null,null,{"$error":"#N/A"},{"$error":"#N/A"},{"$error":"#N/A"},{"$error":"#N/A"},{"$error":"#N/A"},0,0,0,{"$error":"#N/A"},0,null,null,"2019-02-07",0,0,698,0.92400000000000004]
[null,null,null,null,null,null,null,null,null,null,null,null,null,0,null,null,{"$error":"#N/A"},{"$error":"#N/A"},{"$error":"#N/A"},{"$error":"#N/A"},{"$error":"#N/A"},0,0,0,{"$error":"#N/A"},0,null,null,"2019-02-07",0,0,699,0.92700000000000005]
[null,null,null,null,null,null,null,null,null,null,null,null,null,0,null,null,{"$error":"#N/A"},{"$error":"#N/A"},{"$error":"#N/A"},{"$error":"#N/A"},{"$error":"#N/A"},0,0,0,{"$error":"#N/A"},0,null,null,"2019-02-07",0,0,700,0.93100000000000005]
[null,null,null,null,null,null,null,null,null,null,null,null,null,0,null,null,{"$error":"#N/A"},{"$error":"#N/A"},{"$error":"#N/A"},{"$error":"#N/A"},{"$error":"#N/A"},0,0,0,{"$error":"#N/A"},0,null,null,"2019-02-07",0,0,701,0.93400000000000005]
[null,null,null,null,null,null,null,null,null,null,null,null,null,0,null,null,{"$error":"#N/A"},{"$error":"#N/A"},{"$error":"#N/A"},{"$error":"#N/A"},{"$error":"#N/A"},0,0,0,{"$error":"#N/A"},0,null,null,"2019-02-07",0,0,702,0.93700000000000006]
[null,null,null,null,null,null,null,null,null,null,null,null,null,0,null,null,{"$error":"#N/A"},{"$error":"#N/A"},{"$error":"#N/A"},{"$error":"#N/A"},{"$error":"#N/A"},0,0,0,{"$error":"#N/A"},0,null,null,"2019-02-07",0,0,703,0.94099999999999995]
[null,null,null,null,null,null,null,null,null,null,null,null,null,0,null,null,{"$error":"#N/A"},{"$error":"#N/A"},{"$error":"#N/A"},{"$error":"#N/A"},{"$error":"#N/A"},0,0,0,{"$error":"#N/A"},0,null,null,"2019-02-07",0,0,704,0.94399999999999995]
[null,null,null,null,null,null,null,null,null,null,null,null,null,0,null,null,{"$error":"#N/A"},{"$error":"#N/A"},{"$error":"#N/A"},{"$error":"#N/A"},{"$error":"#N/A"},0,0,0,{"$error":"#N/A"},0,null,null,"2019-02-07",0,0,705,0.94799999999999995]
[null,null,null,null,null,null,null,null,null,null,null,null,null,0,null,null,{"$error":"#N/A"},{"$error":"#N/A"},{"$error":"#N/A"},{"$error":"#N/A"},{"$error":"#N/A"},0,0,0,{"$error":"#N/A"},0,null,null,"2019-02-07",0,0,706,0.95099999999999996]
[null,null,null,null,null,null,null,null,null,null,null,null,null,0,null,null,{"$error":"#N/A"},{"$error":"#N/A"},{"$error":"#N/A"},{"$error":"#N/A"},{"$error":"#N/A"},0,0,0,{"$error":"#N/A"},0,null,null,"2019-02-07",0,0,707,0.95399999999999996]
[null,null,null,null,null,null,null,null,null,null,null,null,null,0,null,null,{"$error":"#N/A"},{"$error":"#N/A"},{"$error":"#N/A"},{"$error":"#N/A"},{"$error":"#N/A"},0,0,0,{"$error":"#N/A"},0,null,null,"2019-02-07",0,0,708,0.95799999999999996]
[null,null,null,null,null,null,null,null,null,null,null,null,null,0,null,null,{"$error":"#N/A"},{"$error":"#N/A"},{"$error":"#N/A"},{"$error":"#N/A"},{"$error":"#N/A"},0,0,0,{"$error":"#N/A"},0,null,null,"2019-02-07",0,0,709,0.96199999999999997]
[null,null,null,null,null,null,null,null,null,null,null,null,null,0,null,null,{"$error":"#N/A"},{"$error":"#N/A"},{"$error":"#N/A"},{"$error":"#N/A"},{"$error":"#N/A"},0,0,0,{"$error":"#N/A"},0,null,null,"2019-02-07",0,0,710,0.96499999999999997]
[null,null,null,null,null,null,null,null,null,null,null,null,null,0,null,null,{"$error":"#N/A"},{"$error":"#N/A"},{"$error":"#N/A"},{"$error":"#N/A"},{"$error":"#N/A"},0,0,0,{"$error":"#N/A"},0,null,null,"2019-02-07",0,0,711,0.96899999999999997]
[null,null,null,null,null,null,null,null,null,null,null,null,null,0,null,null,{"$error":"#N/A"},{"$error":"#N/A"},{"$error":"#N/A"},{"$error":"#N/A"},{"$error":"#N/A"},0,0,0,{"$error":"#N/A"},0,null,null,"2019-02-07",0,0,712,0.97299999999999998]
[null,null,null,null,null,null,null,null,null,null,null,null,null,0,null,null,{"$error":"#N/A"},{"$error":"#N/A"},{"$error":"#N/A"},{"$error":"#N/A"},{"$error":"#N/A"},0,0,0,{"$error":"#N/A"},0,null,null,"2019-02-07",0,0,713,0.97599999999999998]
[null,null,null,null,null,null,null,null,null,null,null,null,null,0,null,null,{"$error":"#N/A"},{"$error":"#N/A"},{"$error":"#N/A"},{"$error":"#N/A"},{"$error":"#N/A"},0,0,0,{"$error":"#N/A"},0,null,null,"2019-02-07",0,0,714,0.98]
[null,null,null,null,null,null,null,null,null,null,null,null,null,0,null,null,{"$error":"#N/A"},{"$error":"#N/A"},{"$error":"#N/A"},{"$error":"#N/A"},{"$error":"#N/A"},0,0,0,{"$error":"#N/A"},0,null,null,"2019-02-07",0,0,715,0.98399999999999999]
[null,null,null,null,null,null,null,null,null,null,null,null,null,0,null,null,{"$error":"#N/A"},{"$error":"#N/A"},{"$error":"#N/A"},{"$error":"#N/A"},{"$error":"#N/A"},0,0,0,{"$error":"#N/A"},0,null,null,"2019-02-07",0,0,716,0.98699999999999999]
[null,null,null,null,null,null,null,null,null,null,null,null,null,0,null,null,{"$error":"#N/A"},{"$error":"#N/A"},{"$error":"#N/A"},{"$error":"#N/A"},{"$error":"#N/A"},0,0,0,{"$error":"#N/A"},0,null,null,"2019-02-07",0,0,717,0.99099999999999999]
[null,null,null,null,null,null,null,null,null,null,null,null,null,0,null,null,{"$error":"#N/A"},{"$error":"#N/A"},{"$error":"#N/A"},{"$error":"#N/A"},{"$error":"#N/A"},0,0,0,{"$error":"#N/A"},0,null,null,"2019-02-07",0,0,718,0.995]
[null,null,null,null,null,null,null,null,null,null,null,null,null,0,null,null,{"$error":"#N/A"},{"$error":"#N/A"},{"$error":"#N/A"},{"$error":"#N/A"},{"$error":"#N/A"},0,0,0,{"$error":"#N/A"},0,null,null,"2019-02-07",0,0,719,0.998]
[null,null,null,null,null,null,null,null,null,null,null,null,null,0,null,null,{"$error":"#N/A"},{"$error":"#N/A"},{"$error":"#N/A"},{"$error":"#N/A"},{"$error":"#N/A"},0,0,0,{"$error":"#N/A"},0,null,null,"2019-02-07",0,0,720,1]
[null,null,null,null,null,null,null,null,null,null,null,null,null,0,null,null,{"$error":"#N/A"},{"$error":"#N/A"},{"$error":"#N/A"},{"$error":"#N/A"},{"$error":"#N/A"},0,0,0,{"$error":"#N/A"},0,null,null,"2019-02-07",0,0,721,1]
[null,null,null,null,null,null,null,null,null,null,null,null,null,0,null,null,{"$error":"#N/A"},{"$error":"#N/A"},{"$error":"#N/A"},{"$error":"#N/A"},{"$error":"#N/A"},0,0,0,{"$error":"#N/A"},0,null,null,"2019-02-07",0,0,722,1]
[null,null,null,null,null,null,null,null,null,null,null,null,null,0,null,null,{"$error":"#N/A"},{"$error":"#N/A"},{"$error":"#N/A"},{"$error":"#N/A"},{"$error":"#N/A"},0,0,0,{"$error":"#N/A"},0,null,null,"2019-02-07",0,0,723,1]
[null,null,null,null,null,null,null,null,null,null,null,null,null,0,null,null,{"$error":"#N/A"},{"$error":"#N/A"},{"$error":"#N/A"},{"$error":"#N/A"},{"$error":"#N/A"},0,0,0,{"$error":"#N/A"},0,null,null,"2019-02-07",0,0,724,1]
[null,null,null,null,null,null,null,null,null,null,null,null,null,0,null,null,{"$error":"#N/A"},{"$error":"#N/A"},{"$error":"#N/A"},{"$error":"#N/A"},{"$error":"#N/A"},0,0,0,{"$error":"#N/A"},0,null,null,"2019-02-07",0,0,725,1]
[null,null,null,null,null,null,null,null,null,null,null,null,null,0,null,null,{"$error":"#N/A"},{"$error":"#N/A"},{"$error":"#N/A"},{"$error":"#N/A"},{"$error":"#N/A"},0,0,0,{"$error":"#N/A"},0,null,null,"2019-02-07",0,0,726,1]
[null,null,null,null,null,null,null,null,null,null,null,null,null,0,null,null,{"$error":"#N/A"},{"$error":"#N/A"},{"$error":"#N/A"},{"$error":"#N/A"},{"$error":"#N/A"},0,0,0,{"$error":"#N/A"},0,null,null,"2019-02-07",0,0,727,1]
[null,null,null,null,null,null,null,null,null,null,null,null,null,0,null,null,{"$error":"#N/A"},{"$error":"#N/A"},{"$error":"#N/A"},{"$error":"#N/A"},{"$error":"#N/A"},0,0,0,{"$error":"#N/A"},0,null,null,"2019-02-07",0,0,728,1]
[null,null,null,null,null,null,null,null,null,null,null,null,null,0,null,null,{"$error":"#N/A"},{"$error":"#N/A"},{"$f":"(((K130+(L130/365))*I130)/80)-Q130","v":{"$error":"#N/A"}},{"$error":"#N/A"},{"$error":"#N/A"},0,0,0,{"$error":"#N/A"},0,null,null,"2019-02-07",0,0,729,1]
[null,null,null,null,null,null,null,null,null,null,null,null,null,{"$f":"O131+(P131/365)","v":0},null,null,{"$f":"VLOOKUP(AD131,$AF$1:$AG$241,2,FALSE)*(((K131+(L131/365))*I131)/80)","v":{"$error":"#N/A"}},{"$f":"Q131*3","v":{"$error":"#N/A"}},{"$error":"#N/A"},{"$error":"#N/A"},{"$error":"#N/A"},{"$f":"((O131+(P131/365))*I131)/80","v":0},{"$f":"V131/2","v":0},{"$f":"V131*3","v":0},{"$f":"IF(M131>1,(((VLOOKUP(AE131,$AK$2:$AL$22,2,FALSE)*I131)/80)*N131)+(((VLOOKUP(AE131,$AP$2:$AQ$22,2,FALSE)*I131)/160)*N131),((((VLOOKUP(AE131,$AI$2:$AJ$22,2,FALSE)*I131)/80)*N131))+(((VLOOKUP(AE131,$AN$2:$AO$22,2,FALSE)*I131)/160)*N131))+(((N131*I131)/80)*3)","v":{"$error":"#N/A"}},0,null,null,{"$f":"TODAY()","v":"2019-02-07"},0,{"$f":"(DATEDIF(H131, J131, \"Y\"))","v":0},730,1]
[null,null,null,null,null,null,null,null,null,null,null,null,null,0,null,null,{"$error":"#N/A"},{"$error":"#N/A"},{"$error":"#N/A"},{"$f":"S132*3","v":{"$error":"#N/A"}},{"$f":"IF(M132>1,(((VLOOKUP(AE132, $AK$2:$AL$22,2,FALSE)*S132)))+(S132*3),(((VLOOKUP(AE132,$AI$2:$AJ$22,2,FALSE)*S132)))+(S132*3))","v":{"$error":"#N/A"}},0,0,0,{"$error":"#N/A"},0,null,null,"2019-02-07",0,0,731,1]
[null,null,null,null,null,null,null,null,null,null,null,null,null,0,null,null,{"$error":"#N/A"},{"$error":"#N/A"},{"$error":"#N/A"},{"$error":"#N/A"},{"$error":"#N/A"},0,0,0,{"$error":"#N/A"},0,null,null,"2019-02-07",{"$f":"(DATEDIF(H133, J133, \"M\"))","v":0},0,732,1]
[null,null,null,null,null,null,null,null,null,null,null,null,null,0,null,null,{"$error":"#N/A"},{"$error":"#N/A"},{"$error":"#N/A"},{"$error":"#N/A"},{"$error":"#N/A"},0,0,0,{"$error":"#N/A"},{"$f":"(SUMIF(U134:Y134,\">0\",U134:Y134))-(V134+X134+W134)","v":0},null,null,"2019-02-07",0,0,733,1]
[null,null,null,null,null,null,null,null,null,null,null,null,null,0,null,null,{"$error":"#N/A"},{"$error":"#N/A"},{"$error":"#N/A"},{"$error":"#N/A"},{"$error":"#N/A"},0,0,0,{"$error":"#N/A"},0,null,null,"2019-02-07",0,0,734,1]
[null,null,null,null,null,null,null,null,null,null,null,null,null,0,null,null,{"$error":"#N/A"},{"$error":"#N/A"},{"$error":"#N/A"},{"$error":"#N/A"},{"$error":"#N/A"},0,0,0,{"$error":"#N/A"},0,null,null,"2019-02-07",0,0,735,1]
[null,null,null,null,null,null,null,null,null,null,null,null,null,0,null,null,{"$error":"#N/A"},{"$error":"#N/A"},{"$error":"#N/A"},{"$error":"#N/A"},{"$error":"#N/A"},0,0,0,{"$error":"#N/A"},0,null,null,"2019-02-07",0,0,736,1]
[null,null,null,null,null,null,null,null,null,null,null,null,null,0,null,null,{"$error":"#N/A"},{"$error":"#N/A"},{"$error":"#N/A"},{"$error":"#N/A"},{"$error":"#N/A"},0,0,0,{"$error":"#N/A"},0,null,null,"2019-02-07",0,0,737,1]
[null,null,null,null,null,null,null,null,null,null,null,null,null,0,null,null,{"$error":"#N/A"},{"$error":"#N/A"},{"$error":"#N/A"},{"$error":"#N/A"},{"$error":"#N/A"},0,0,0,{"$error":"#N/A"},0,null,null,"2019-02-07",0,0,738,1]
[null,null,null,null,null,null,null,null,null,null,null,null,null,0,null,null,{"$error":"#N/A"},{"$error":"#N/A"},{"$error":"#N/A"},{"$error":"#N/A"},{"$error":"#N/A"},0,0,0,{"$error":"#N/A"},0,null,null,"2019-02-07",0,0,739,1]
[null,null,null,null,null,null,null,null,null,null,null,null,null,0,null,null,{"$error":"#N/A"},{"$error":"#N/A"},{"$error":"#N/A"},{"$error":"#N/A"},{"$error":"#N/A"},0,0,0,{"$error":"#N/A"},0,null,null,"2019-02-07",0,0,740,1]
[null,null,null,null,null,null,null,null,null,null,null,null,null,0,null,null,{"$error":"#N/A"},{"$error":"#N/A"},{"$error":"#N/A"},{"$error":"#N/A"},{"$error":"#N/A"},0,0,0,{"$error":"#N/A"},0,null,null,"2019-02-07",0,0,741,1]
[null,null,null,null,null,null,null,null,null,null,null,null,null,0,null,null,{"$error":"#N/A"},{"$error":"#N/A"},{"$error":"#N/A"},{"$error":"#N/A"},{"$error":"#N/A"},0,0,0,{"$error":"#N/A"},0,null,null,"2019-02-07",0,0,742,1]
[null,null,null,null,null,null,null,null,null,null,null,null,null,0,null,null,{"$error":"#N/A"},{"$error":"#N/A"},{"$error":"#N/A"},{"$error":"#N/A"},{"$error":"#N/A"},0,0,0,{"$error":"#N/A"},0,null,null,"2019-02-07",0,0,743,1]
[null,null,null,null,null,null,null,null,null,null,null,null,null,0,null,null,{"$error":"#N/A"},{"$error":"#N/A"},{"$error":"#N/A"},{"$error":"#N/A"},{"$error":"#N/A"},0,0,0,{"$error":"#N/A"},0,null,null,"2019-02-07",0,0,744,1]
[null,null,null,null,null,null,null,null,null,null,null,null,null,0,null,null,{"$error":"#N/A"},{"$error":"#N/A"},{"$error":"#N/A"},{"$error":"#N/A"},{"$error":"#N/A"},0,0,0,{"$error":"#N/A"},0,null,null,"2019-02-07",0,0,745,1]
[null,null,null,null,null,null,null,null,null,null,null,null,null,0,null,null,{"$error":"#N/A"},{"$error":"#N/A"},{"$error":"#N/A"},{"$error":"#N/A"},{"$error":"#N/A"},0,0,0,{"$error":"#N/A"},0,null,null,"2019-02-07",0,0,746,1]
[null,null,null,null,null,null,null,null,null,null,null,null,null,0,null,null,{"$error":"#N/A"},{"$error":"#N/A"},{"$error":"#N/A"},{"$error":"#N/A"},{"$error":"#N/A"},0,0,0,{"$error":"#N/A"},0,null,null,"2019-02-07",0,0,747,1]
[null,null,null,null,null,null,null,null,null,null,null,null,null,0,null,null,{"$error":"#N/A"},{"$error":"#N/A"},{"$error":"#N/A"},{"$error":"#N/A"},{"$error":"#N/A"},0,0,0,{"$error":"#N/A"},0,null,null,"2019-02-07",0,0,748,1]
[null,null,null,null,null,null,null,null,null,null,null,null,null,0,null,null,{"$error":"#N/A"},{"$error":"#N/A"},{"$error":"#N/A"},{"$error":"#N/A"},{"$error":"#N/A"},0,0,0,{"$error":"#N/A"},0,null,null,"2019-02-07",0,0,749,1]
[null,null,null,null,null,null,null,null,null,null,null,null,null,0,null,null,{"$error":"#N/A"},{"$error":"#N/A"},{"$error":"#N/A"},{"$error":"#N/A"},{"$error":"#N/A"},0,0,0,{"$error":"#N/A"},0,null,null,"2019-02-07",0,0,750,1]
[null,null,null,null,null,null,null,null,null,null,null,null,null,0,null,null,{"$error":"#N/A"},{"$error":"#N/A"},{"$error":"#N/A"},{"$error":"#N/A"},{"$error":"#N/A"},0,0,0,{"$error":"#N/A"},0,null,null,"2019-02-07",0,0,751,1]
[null,null,null,null,null,null,null,null,null,null,null,null,null,0,null,null,{"$error":"#N/A"},{"$error":"#N/A"},{"$error":"#N/A"},{"$error":"#N/A"},{"$error":"#N/A"},0,0,0,{"$error":"#N/A"},0,null,null,"2019-02-07",0,0,752,1]
[null,null,null,null,null,null,null,null,null,null,null,null,null,0,null,null,{"$error":"#N/A"},{"$error":"#N/A"},{"$error":"#N/A"},{"$error":"#N/A"},{"$error":"#N/A"},0,0,0,{"$error":"#N/A"},0,null,null,"2019-02-07",0,0,753,1]
[null,null,null,null,null,null,null,null,null,null,null,null,null,0,null,null,{"$error":"#N/A"},{"$error":"#N/A"},{"$error":"#N/A"},{"$error":"#N/A"},{"$error":"#N/A"},0,0,0,{"$error":"#N/A"},0,null,null,"2019-02-07",0,0,754,1]
[null,null,null,null,null,null,null,null,null,null,null,null,null,0,null,null,{"$error":"#N/A"},{"$error":"#N/A"},{"$error":"#N/A"},{"$error":"#N/A"},{"$error":"#N/A"},0,0,0,{"$error":"#N/A"},0,null,null,"2019-02-07",0,0,755,1]
[null,null,null,null,null,null,null,null,null,null,null,null,null,0,null,null,{"$error":"#N/A"},{"$error":"#N/A"},{"$error":"#N/A"},{"$error":"#N/A"},{"$error":"#N/A"},0,0,0,{"$error":"#N/A"},0,null,null,"2019-02-07",0,0,756,1]
[null,null,null,null,null,null,null,null,null,null,null,null,null,0,null,null,{"$error":"#N/A"},{"$error":"#N/A"},{"$error":"#N/A"},{"$error":"#N/A"},{"$error":"#N/A"},0,0,0,{"$error":"#N/A"},0,null,null,"2019-02-07",0,0,757,1]
[null,null,null,null,null,null,null,null,null,null,null,null,null,0,null,null,{"$error":"#N/A"},{"$error":"#N/A"},{"$error":"#N/A"},{"$error":"#N/A"},{"$error":"#N/A"},0,0,0,{"$error":"#N/A"},0,null,null,"2019-02-07",0,0,758,1]
[null,null,null,null,null,null,null,null,null,null,null,null,null,0,null,null,{"$error":"#N/A"},{"$error":"#N/A"},{"$error":"#N/A"},{"$error":"#N/A"},{"$error":"#N/A"},0,0,0,{"$error":"#N/A"},0,null,null,"2019-02-07",0,0,759,1]
[null,null,null,null,null,null,null,null,null,null,null,null,null,0,null,null,{"$error":"#N/A"},{"$error":"#N/A"},{"$error":"#N/A"},{"$error":"#N/A"},{"$error":"#N/A"},0,0,0,{"$error":"#N/A"},0,null,null,"2019-02-07",0,0,760,1]
[null,null,null,null,null,null,null,null,null,null,null,null,null,0,null,null,{"$error":"#N/A"},{"$error":"#N/A"},{"$f":"(((K162+(L162/365))*I162)/80)-Q162","v":{"$error":"#N/A"}},{"$error":"#N/A"},{"$error":"#N/A"},0,0,0,{"$error":"#N/A"},0,null,null,"2019-02-07",0,0,761,1]
[null,null,null,null,null,null,null,null,null,null,null,null,null,0,null,null,{"$error":"#N/A"},{"$error":"#N/A"},{"$error":"#N/A"},{"$error":"#N/A"},{"$error":"#N/A"},0,0,0,{"$error":"#N/A"},0,null,null,"2019-02-07",0,0,762,1]
[null,null,null,null,null,null,null,null,null,null,null,null,null,0,null,null,{"$error":"#N/A"},{"$error":"#N/A"},{"$error":"#N/A"},{"$error":"#N/A"},{"$error":"#N/A"},0,0,0,{"$error":"#N/A"},0,null,null,"2019-02-07",0,0,763,1]
[null,null,null,null,null,null,null,null,null,null,null,null,null,0,null,null,{"$error":"#N/A"},{"$error":"#N/A"},{"$error":"#N/A"},{"$error":"#N/A"},{"$error":"#N/A"},0,0,0,{"$error":"#N/A"},0,null,null,"2019-02-07",0,0,764,1]
[null,null,null,null,null,null,null,null,null,null,null,null,null,0,null,null,{"$error":"#N/A"},{"$error":"#N/A"},{"$error":"#N/A"},{"$error":"#N/A"},{"$error":"#N/A"},0,0,0,{"$error":"#N/A"},0,null,null,"2019-02-07",0,0,765,1]
[null,null,null,null,null,null,null,null,null,null,null,null,null,0,null,null,{"$error":"#N/A"},{"$error":"#N/A"},{"$error":"#N/A"},{"$error":"#N/A"},{"$error":"#N/A"},0,0,0,{"$error":"#N/A"},0,null,null,"2019-02-07",0,0,766,1]
[null,null,null,null,null,null,null,null,null,null,null,null,null,0,null,null,{"$error":"#N/A"},{"$error":"#N/A"},{"$error":"#N/A"},{"$error":"#N/A"},{"$error":"#N/A"},0,0,0,{"$error":"#N/A"},0,null,null,"2019-02-07",0,0,767,1]
[null,null,null,null,null,null,null,null,null,null,null,null,null,0,null,null,{"$error":"#N/A"},{"$error":"#N/A"},{"$error":"#N/A"},{"$error":"#N/A"},{"$error":"#N/A"},0,0,0,{"$error":"#N/A"},0,null,null,"2019-02-07",0,0,768,1]
[null,null,null,null,null,null,null,null,null,null,null,null,null,0,null,null,{"$error":"#N/A"},{"$error":"#N/A"},{"$error":"#N/A"},{"$error":"#N/A"},{"$error":"#N/A"},0,0,0,{"$error":"#N/A"},0,null,null,"2019-02-07",0,0,769,1]
[null,null,null,null,null,null,null,null,null,null,null,null,null,0,null,null,{"$error":"#N/A"},{"$error":"#N/A"},{"$error":"#N/A"},{"$error":"#N/A"},{"$error":"#N/A"},0,0,0,{"$error":"#N/A"},0,null,null,"2019-02-07",0,0,770,1]
[null,null,null,null,null,null,null,null,null,null,null,null,null,0,null,null,{"$error":"#N/A"},{"$error":"#N/A"},{"$error":"#N/A"},{"$error":"#N/A"},{"$error":"#N/A"},0,0,0,{"$error":"#N/A"},0,null,null,"2019-02-07",0,0,771,1]
[null,null,null,null,null,null,null,null,null,null,null,null,null,0,null,null,{"$error":"#N/A"},{"$error":"#N/A"},{"$error":"#N/A"},{"$error":"#N/A"},{"$error":"#N/A"},0,0,0,{"$error":"#N/A"},0,null,null,"2019-02-07",0,0,772,1]
[null,null,null,null,null,null,null,null,null,null,null,null,null,0,null,null,{"$error":"#N/A"},{"$error":"#N/A"},{"$error":"#N/A"},{"$error":"#N/A"},{"$error":"#N/A"},0,0,0,{"$error":"#N/A"},0,null,null,"2019-02-07",0,0,773,1]
[null,null,null,null,null,null,null,null,null,null,null,null,null,0,null,null,{"$error":"#N/A"},{"$error":"#N/A"},{"$error":"#N/A"},{"$error":"#N/A"},{"$error":"#N/A"},0,0,0,{"$error":"#N/A"},0,null,null,"2019-02-07",0,0,774,1]
[null,null,null,null,null,null,null,null,null,null,null,null,null,0,null,null,{"$error":"#N/A"},{"$error":"#N/A"},{"$error":"#N/A"},{"$error":"#N/A"},{"$error":"#N/A"},0,0,0,{"$error":"#N/A"},0,null,null,"2019-02-07",0,0,775,1]
[null,null,null,null,null,null,null,null,null,null,null,null,null,0,null,null,{"$error":"#N/A"},{"$error":"#N/A"},{"$error":"#N/A"},{"$error":"#N/A"},{"$error":"#N/A"},0,0,0,{"$error":"#N/A"},0,null,null,"2019-02-07",0,0,776,1]
[null,null,null,null,null,null,null,null,null,null,null,null,null,0,null,null,{"$error":"#N/A"},{"$error":"#N/A"},{"$error":"#N/A"},{"$error":"#N/A"},{"$error":"#N/A"},0,0,0,{"$error":"#N/A"},0,null,null,"2019-02-07",0,0,777,1]
[null,null,null,null,null,null,null,null,null,null,null,null,null,0,null,null,{"$error":"#N/A"},{"$error":"#N/A"},{"$error":"#N/A"},{"$error":"#N/A"},{"$error":"#N/A"},0,0,0,{"$error":"#N/A"},0,null,null,"2019-02-07",0,0,778,1]
[null,null,null,null,null,null,null,null,null,null,null,null,null,0,null,null,{"$error":"#N/A"},{"$error":"#N/A"},{"$error":"#N/A"},{"$error":"#N/A"},{"$error":"#N/A"},0,0,0,{"$error":"#N/A"},0,null,null,"2019-02-07",0,0,779,1]
[null,null,null,null,null,null,null,null,null,null,null,null,null,0,null,null,{"$error":"#N/A"},{"$error":"#N/A"},{"$error":"#N/A"},{"$error":"#N/A"},{"$error":"#N/A"},0,0,0,{"$error":"#N/A"},0,null,null,"2019-02-07",0,0,780,1]
[null,null,null,null,null,null,null,null,null,null,null,null,null,0,null,null,{"$error":"#N/A"},{"$error":"#N/A"},{"$error":"#N/A"},{"$error":"#N/A"},{"$error":"#N/A"},0,0,0,{"$error":"#N/A"},0,null,null,"2019-02-07",0,0,781,1]
[null,null,null,null,null,null,null,null,null,null,null,null,null,0,null,null,{"$error":"#N/A"},{"$error":"#N/A"},{"$error":"#N/A"},{"$error":"#N/A"},{"$error":"#N/A"},0,0,0,{"$error":"#N/A"},0,null,null,"2019-02-07",0,0,782,1]
[null,null,null,null,null,null,null,null,null,null,null,null,null,0,null,null,{"$error":"#N/A"},{"$error":"#N/A"},{"$error":"#N/A"},{"$error":"#N/A"},{"$error":"#N/A"},0,0,0,{"$error":"#N/A"},0,null,null,"2019-02-07",0,0,783,1]
[null,null,null,null,null,null,null,null,null,null,null,null,null,0,null,null,{"$error":"#N/A"},{"$error":"#N/A"},{"$error":"#N/A"},{"$error":"#N/A"},{"$error":"#N/A"},0,0,0,{"$error":"#N/A"},0,null,null,"2019-02-07",0,0,784,1]
[null,null,null,null,null,null,null,null,null,null,null,null,null,0,null,null,{"$error":"#N/A"},{"$error":"#N/A"},{"$error":"#N/A"},{"$error":"#N/A"},{"$error":"#N/A"},0,0,0,{"$error":"#N/A"},0,null,null,"2019-02-07",0,0,785,1]
[null,null,null,null,null,null,null,null,null,null,null,null,null,0,null,null,{"$error":"#N/A"},{"$error":"#N/A"},{"$error":"#N/A"},{"$error":"#N/A"},{"$error":"#N/A"},0,0,0,{"$error":"#N/A"},0,null,null,"2019-02-07",0,0,786,1]
[null,null,null,null,null,null,null,null,null,null,null,null,null,0,null,null,{"$error":"#N/A"},{"$error":"#N/A"},{"$error":"#N/A"},{"$error":"#N/A"},{"$error":"#N/A"},0,0,0,{"$error":"#N/A"},0,null,null,"2019-02-07",0,0,787,1]
[null,null,null,null,null,null,null,null,null,null,null,null,null,0,null,null,{"$error":"#N/A"},{"$error":"#N/A"},{"$error":"#N/A"},{"$error":"#N/A"},{"$error":"#N/A"},0,0,0,{"$error":"#N/A"},0,null,null,"2019-02-07",0,0,788,1]
[null,null,null,null,null,null,null,null,null,null,null,null,null,0,null,null,{"$error":"#N/A"},{"$error":"#N/A"},{"$error":"#N/A"},{"$error":"#N/A"},{"$error":"#N/A"},0,0,0,{"$error":"#N/A"},0,null,null,"2019-02-07",0,0,789,1]
[null,null,null,null,null,null,null,null,null,null,null,null,null,0,null,null,{"$error":"#N/A"},{"$error":"#N/A"},{"$error":"#N/A"},{"$error":"#N/A"},{"$error":"#N/A"},0,0,0,{"$error":"#N/A"},0,null,null,"2019-02-07",0,0,790,1]
[null,null,null,null,null,null,null,null,null,null,null,null,null,0,null,null,{"$error":"#N/A"},{"$error":"#N/A"},{"$error":"#N/A"},{"$error":"#N/A"},{"$error":"#N/A"},0,0,0,{"$error":"#N/A"},0,null,null,"2019-02-07",0,0,791,1]
[null,null,null,null,null,null,null,null,null,null,null,null,null,0,null,null,{"$error":"#N/A"},{"$error":"#N/A"},{"$error":"#N/A"},{"$error":"#N/A"},{"$error":"#N/A"},0,0,0,{"$error":"#N/A"},0,null,null,"2019-02-07",0,0,792,1]
[null,null,null,null,null,null,null,null,null,null,null,null,null,0,null,null,{"$error":"#N/A"},{"$error":"#N/A"},{"$f":"(((K194+(L194/365))*I194)/80)-Q194","v":{"$error":"#N/A"}},{"$error":"#N/A"},{"$error":"#N/A"},0,0,0,{"$error":"#N/A"},0,null,null,"2019-02-07",0,0,793,1]
[null,null,null,null,null,null,null,null,null,null,null,null,null,{"$f":"O195+(P195/365)","v":0},null,null,{"$f":"VLOOKUP(AD195,$AF$1:$AG$241,2,FALSE)*(((K195+(L195/365))*I195)/80)","v":{"$error":"#N/A"}},{"$f":"Q195*3","v":{"$error":"#N/A"}},{"$error":"#N/A"},{"$error":"#N/A"},{"$error":"#N/A"},{"$f":"((O195+(P195/365))*I195)/80","v":0},{"$f":"V195/2","v":0},{"$f":"V195*3","v":0},{"$f":"IF(M195>1,(((VLOOKUP(AE195,$AK$2:$AL$22,2,FALSE)*I195)/80)*N195)+(((VLOOKUP(AE195,$AP$2:$AQ$22,2,FALSE)*I195)/160)*N195),((((VLOOKUP(AE195,$AI$2:$AJ$22,2,FALSE)*I195)/80)*N195))+(((VLOOKUP(AE195,$AN$2:$AO$22,2,FALSE)*I195)/160)*N195))+(((N195*I195)/80)*3)","v":{"$error":"#N/A"}},0,null,null,{"$f":"TODAY()","v":"2019-02-07"},0,{"$f":"(DATEDIF(H195, J195, \"Y\"))","v":0},794,1]
[null,null,null,null,null,null,null,null,null,null,null,null,null,{"$f":"O196+(P196/365)","v":0},null,null,{"$f":"VLOOKUP(AD196,$AF$1:$AG$241,2,FALSE)*(((K196+(L196/365))*I196)/80)","v":{"$error":"#N/A"}},{"$f":"Q196*3","v":{"$error":"#N/A"}},{"$error":"#N/A"},{"$f":"S196*3","v":{"$error":"#N/A"}},{"$f":"IF(M196>1,(((VLOOKUP(AE196, $AK$2:$AL$22,2,FALSE)*S196)))+(S196*3),(((VLOOKUP(AE196,$AI$2:$AJ$22,2,FALSE)*S196)))+(S196*3))","v":{"$error":"#N/A"}},{"$f":"((O196+(P196/365))*I196)/80","v":0},{"$f":"V196/2","v":0},{"$f":"V196*3","v":0},{"$f":"IF(M196>1,(((VLOOKUP(AE196,$AK$2:$AL$22,2,FALSE)*I196)/80)*N196)+(((VLOOKUP(AE196,$AP$2:$AQ$22,2,FALSE)*I196)/160)*N196),((((VLOOKUP(AE196,$AI$2:$AJ$22,2,FALSE)*I196)/80)*N196))+(((VLOOKUP(AE196,$AN$2:$AO$22,2,FALSE)*I196)/160)*N196))+(((N196*I196)/80)*3)","v":{"$error":"#N/A"}},0,null,null,{"$f":"TODAY()","v":"2019-02-07"},0,0,795,1]
[null,null,null,null,null,null,null,null,null,null,null,null,null,{"$f":"O197+(P197/365)","v":0},null,null,{"$f":"VLOOKUP(AD197,$AF$1:$AG$241,2,FALSE)*(((K197+(L197/365))*I197)/80)","v":{"$error":"#N/A"}},{"$f":"Q197*3","v":{"$error":"#N/A"}},{"$error":"#N/A"},{"$f":"S197*3","v":{"$error":"#N/A"}},{"$f":"IF(M197>1,(((VLOOKUP(AE197, $AK$2:$AL$22,2,FALSE)*S197)))+(S197*3),(((VLOOKUP(AE197,$AI$2:$AJ$22,2,FALSE)*S197)))+(S197*3))","v":{"$error":"#N/A"}},{"$f":"((O197+(P197/365))*I197)/80","v":0},{"$f":"V197/2","v":0},{"$f":"V197*3","v":0},{"$f":"IF(M197>1,(((VLOOKUP(AE197,$AK$2:$AL$22,2,FALSE)*I197)/80)*N197)+(((VLOOKUP(AE197,$AP$2:$AQ$22,2,FALSE)*I197)/160)*N197),((((VLOOKUP(AE197,$AI$2:$AJ$22,2,FALSE)*I197)/80)*N197))+(((VLOOKUP(AE197,$AN$2:$AO$22,2,FALSE)*I197)/160)*N197))+(((N197*I197)/80)*3)","v":{"$error":"#N/A"}},0,null,null,{"$f":"TODAY()","v":"2019-02-07"},{"$f":"(DATEDIF(H197, J197, \"M\"))","v":0},0,796,1]
[null,null,null,null,null,null,null,null,null,null,null,null,null,{"$f":"O198+(P198/365)","v":0},null,null,{"$f":"VLOOKUP(AD198,$AF$1:$AG$241,2,FALSE)*(((K198+(L198/365))*I198)/80)","v":{"$error":"#N/A"}},{"$f":"Q198*3","v":{"$error":"#N/A"}},{"$error":"#N/A"},{"$f":"S198*3","v":{"$error":"#N/A"}},{"$f":"IF(M198>1,(((VLOOKUP(AE198, $AK$2:$AL$22,2,FALSE)*S198)))+(S198*3),(((VLOOKUP(AE198,$AI$2:$AJ$22,2,FALSE)*S198)))+(S198*3))","v":{"$error":"#N/A"}},{"$f":"((O198+(P198/365))*I198)/80","v":0},{"$f":"V198/2","v":0},{"$f":"V198*3","v":0},{"$f":"IF(M198>1,(((VLOOKUP(AE198,$AK$2:$AL$22,2,FALSE)*I198)/80)*N198)+(((VLOOKUP(AE198,$AP$2:$AQ$22,2,FALSE)*I198)/160)*N198),((((VLOOKUP(AE198,$AI$2:$AJ$22,2,FALSE)*I198)/80)*N198))+(((VLOOKUP(AE198,$AN$2:$AO$22,2,FALSE)*I198)/160)*N198))+(((N198*I198)/80)*3)","v":{"$error":"#N/A"}},{"$f":"(SUMIF(U198:Y198,\">0\",U198:Y198))-(V198+X198+W198)","v":0},null,null,{"$f":"TODAY()","v":"2019-02-07"},0,0,797,1]
[null,null,null,null,null,null,null,null,null,null,null,null,null,{"$f":"O199+(P199/365)","v":0},null,null,{"$f":"VLOOKUP(AD199,$AF$1:$AG$241,2,FALSE)*(((K199+(L199/365))*I199)/80)","v":{"$error":"#N/A"}},{"$f":"Q199*3","v":{"$error":"#N/A"}},{"$error":"#N/A"},{"$f":"S199*3","v":{"$error":"#N/A"}},{"$f":"IF(M199>1,(((VLOOKUP(AE199, $AK$2:$AL$22,2,FALSE)*S199)))+(S199*3),(((VLOOKUP(AE199,$AI$2:$AJ$22,2,FALSE)*S199)))+(S199*3))","v":{"$error":"#N/A"}},{"$f":"((O199+(P199/365))*I199)/80","v":0},{"$f":"V199/2","v":0},{"$f":"V199*3","v":0},{"$f":"IF(M199>1,(((VLOOKUP(AE199,$AK$2:$AL$22,2,FALSE)*I199)/80)*N199)+(((VLOOKUP(AE199,$AP$2:$AQ$22,2,FALSE)*I199)/160)*N199),((((VLOOKUP(AE199,$AI$2:$AJ$22,2,FALSE)*I199)/80)*N199))+(((VLOOKUP(AE199,$AN$2:$AO$22,2,FALSE)*I199)/160)*N199))+(((N199*I199)/80)*3)","v":{"$error":"#N/A"}},{"$f":"(SUMIF(U199:Y199,\">0\",U199:Y199))-(V199+X199+W199)","v":0},null,null,{"$f":"TODAY()","v":"2019-02-07"},0,0,798,1]
[null,null,null,null,null,null,null,null,null,null,null,null,null,null,null,null,null,null,null,null,null,null,null,null,null,null,null,null,null,0,0,799,1]
[null,null,null,null,null,null,null,null,null,null,null,null,null,null,null,null,null,null,null,null,null,null,null,null,null,null,null,null,null,0,0,800,1]
[null,null,null,null,null,null,null,null,null,null,null,null,null,null,null,null,null,null,null,null,null,null,null,null,null,null,null,null,null,0,0,801,1]
[null,null,null,null,null,null,null,null,null,null,null,null,null,null,null,null,null,null,null,null,null,null,null,null,null,null,null,null,null,0,0,802,1]
[null,null,null,null,null,null,null,null,null,null,null,null,null,null,null,null,null,null,null,null,null,null,null,null,null,null,null,null,null,0,0,803,1]
[null,null,null,null,null,null,null,null,null,null,null,null,null,null,null,null,null,null,null,null,null,null,null,null,null,null,null,null,null,0,0,804,1]
[null,null,null,null,null,null,null,null,null,null,null,null,null,null,null,null,null,null,null,null,null,null,null,null,null,null,null,null,null,0,0,805,1]
[null,null,null,null,null,null,null,null,null,null,null,null,null,null,null,null,null,null,null,null,null,null,null,null,null,null,null,null,null,0,0,806,1]
[null,null,null,null,null,null,null,null,null,null,null,null,null,null,null,null,null,null,null,null,null,null,null,null,null,null,null,null,null,0,0,807,1]
[null,null,null,null,null,null,null,null,null,null,null,null,null,null,null,null,null,null,null,null,null,null,null,null,null,null,null,null,null,0,0,808,1]
[null,null,null,null,null,null,null,null,null,null,null,null,null,null,null,null,null,null,null,null,null,null,null,null,null,null,null,null,null,0,0,809,1]
[null,null,null,null,null,null,null,null,null,null,null,null,null,null,null,null,null,null,null,null,null,null,null,null,null,null,null,null,null,0,0,810,1]
[null,null,null,null,null,null,null,null,null,null,null,null,null,null,null,null,null,null,null,null,null,null,null,null,null,null,null,null,null,0,0,811,1]
[null,null,null,null,null,null,null,null,null,null,null,null,null,null,null,null,null,null,null,null,null,null,null,null,null,null,null,null,null,0,0,812,1]
[null,null,null,null,null,null,null,null,null,null,null,null,null,null,null,null,null,null,null,null,null,null,null,null,null,null,null,null,null,0,0,813,1]
[null,null,null,null,null,null,null,null,null,null,null,null,null,null,null,null,null,null,null,null,null,null,null,null,null,null,null,null,null,0,0,814,1]
[null,null,null,null,null,null,null,null,null,null,null,null,null,null,null,null,null,null,null,null,null,null,null,null,null,null,null,null,null,0,0,815,1]
[null,null,null,null,null,null,null,null,null,null,null,null,null,null,null,null,null,null,null,null,null,null,null,null,null,null,null,null,null,0,0,816,1]
[null,null,null,null,null,null,null,null,null,null,null,null,null,null,null,null,null,null,null,null,null,null,null,null,null,null,null,null,null,0,0,817,1]
[null,null,null,null,null,null,null,null,null,null,null,null,null,null,null,null,null,null,null,null,null,null,null,null,null,null,null,null,null,0,0,818,1]
[null,null,null,null,null,null,null,null,null,null,null,null,null,null,null,null,null,null,null,null,null,null,null,null,null,null,null,null,null,0,0,819,1]
[null,null,null,null,null,null,null,null,null,null,null,null,null,null,null,null,null,null,null,null,null,null,null,null,null,null,null,null,null,0,0,820,1]
[null,null,null,null,null,null,null,null,null,null,null,null,null,null,null,null,null,null,null,null,null,null,null,null,null,null,null,null,null,0,0,821,1]
[null,null,null,null,null,null,null,null,null,null,null,null,null,null,null,null,null,null,null,null,null,null,null,null,null,null,null,null,null,0,0,822,1]
[null,null,null,null,null,null,null,null,null,null,null,null,null,null,null,null,null,null,null,null,null,null,null,null,null,null,null,null,null,0,0,823,1]
[null,null,null,null,null,null,null,null,null,null,null,null,null,null,null,null,null,null,null,null,null,null,null,null,null,null,null,null,null,0,0,824,1]
[null,null,null,null,null,null,null,null,null,null,null,null,null,null,null,null,null,null,null,null,null,null,null,null,null,null,null,null,null,0,0,825,1]
[null,null,null,null,null,null,null,null,null,null,null,null,null,null,null,null,null,null,null,null,null,null,null,null,null,null,null,null,null,0,0,826,1]
[null,null,null,null,null,null,null,null,null,null,null,null,null,null,null,null,null,null,null,null,null,null,null,null,null,null,null,null,null,0,0,827,1]
[null,null,null,null,null,null,null,null,null,null,null,null,null,null,null,null,null,null,null,null,null,null,null,null,null,null,null,null,null,0,0,828,1]
[null,null,null,null,null,null,null,null,null,null,null,null,null,null,null,null,null,null,null,null,null,null,null,null,null,null,null,null,null,0,0,829,1]
[null,null,null,null,null,null,null,null,null,null,null,null,null,null,null,null,null,null,null,null,null,null,null,null,null,null,null,null,null,0,0,830,1]
[null,null,null,null,null,null,null,null,null,null,null,null,null,null,null,null,null,null,null,null,null,null,null,null,null,null,null,null,null,0,0,831,1]
[null,null,null,null,null,null,null,null,null,null,null,null,null,null,null,null,null,null,null,null,null,null,null,null,null,null,null,null,null,0,0,832,1]
[null,null,null,null,null,null,null,null,null,null,null,null,null,null,null,null,null,null,null,null,null,null,null,null,null,null,null,null,null,0,0,833,1]
[null,null,null,null,null,null,null,null,null,null,null,null,null,null,null,null,null,null,null,null,null,null,null,null,null,null,null,null,null,0,0,834,1]
[null,null,null,null,null,null,null,null,null,null,null,null,null,null,null,null,null,null,null,null,null,null,null,null,null,null,null,null,null,0,0,835,1]
[null,null,null,null,null,null,null,null,null,null,null,null,null,null,null,null,null,null,null,null,null,null,null,null,null,null,null,null,null,0,0,836,1]
[null,null,null,null,null,null,null,null,null,null,null,null,null,null,null,null,null,null,null,null,null,null,null,null,null,null,null,null,null,0,0,837,1]
[null,null,null,null,null,null,null,null,null,null,null,null,null,null,null,null,null,null,null,null,null,null,null,null,null,null,null,null,null,0,0,838,1]
[null,null,null,null,null,null,null,null,null,null,null,null,null,null,null,null,null,null,null,null,null,null,null,null,null,null,null,null,null,0,0,839,1]
[null,null,null,null,null,null,null,null,null,null,null,null,null,null,null,null,null,null,null,null,null,null,null,null,null,null,null,null,null,0,0,840,1]
[null,null,null,null,null,null,null,null,null,null,null,null,null,null,null,null,null,null,null,null,null,null,null,null,null,null,null,null,null,0,0]
[null,null,null,null,null,null,null,null,null,null,null,null,null,null,null,null,null,null,null,null,null,null,null,null,null,null,null,null,null,0,0]
[null,null,null,null,null,null,null,null,null,null,null,null,null,null,null,null,null,null,null,null,null,null,null,null,null,null,null,null,null,0,0]
[null,null,null,null,null,null,null,null,null,null,null,null,null,null,null,null,null,null,null,null,null,null,null,null,null,null,null,null,null,0,0]
[null,null,null,null,null,null,null,null,null,null,null,null,null,null,null,null,null,null,null,null,null,null,null,null,null,null,null,null,null,0,0]
[null,null,null,null,null,null,null,null,null,null,null,null,null,null,null,null,null,null,null,null,null,null,null,null,null,null,null,null,null,0,0]
[null,null,null,null,null,null,null,null,null,null,null,null,null,null,null,null,null,null,null,null,null,null,null,null,null,null,null,null,null,0,0]
[null,null,null,null,null,null,null,null,null,null,null,null,null,null,null,null,null,null,null,null,null,null,null,null,null,null,null,null,null,0,0]
[null,null,null,null,null,null,null,null,null,null,null,null,null,null,null,null,null,null,null,null,null,null,null,null,null,null,null,null,null,0,0]
[null,null,null,null,null,null,null,null,null,null,null,null,null,null,null,null,null,null,null,null,null,null,null,null,null,null,null,null,null,0,0]
[null,null,null,null,null,null,null,null,null,null,null,null,null,null,null,null,null,null,null,null,null,null,null,null,null,null,null,null,null,0,0]
[null,null,null,null,null,null,null,null,null,null,null,null,null,null,null,null,null,null,null,null,null,null,null,null,null,null,null,null,null,0,0]
[null,null,null,null,null,null,null,null,null,null,null,null,null,null,null,null,null,null,null,null,null,null,null,null,null,null,null,null,null,0,0]
[null,null,null,null,null,null,null,null,null,null,null,null,null,null,null,null,null,null,null,null,null,null,null,null,null,null,null,null,null,0,0]
[null,null,null,null,null,null,null,null,null,null,null,null,null,null,null,null,null,null,null,null,null,null,null,null,null,null,null,null,null,0,0]
[null,null,null,null,null,null,null,null,null,null,null,null,null,null,null,null,null,null,null,null,null,null,null,null,null,null,null,null,null,0,0]
[null,null,null,null,null,null,null,null,null,null,null,null,null,null,null,null,null,null,null,null,null,null,null,null,null,null,null,null,null,0,0]
[null,null,null,null,null,null,null,null,null,null,null,null,null,null,null,null,null,null,null,null,null,null,null,null,null,null,null,null,null,0,{"$f":"(DATEDIF(H259, J259, \"Y\"))","v":0}]
[null,null,null,null,null,null,null,null,null,null,null,null,null,null,null,null,null,null,null,null,null,null,null,null,null,null,null,null,null,0,{"$f":"(DATEDIF(H260, J260, \"Y\"))","v":0}]
[null,null,null,null,null,null,null,null,null,null,null,null,null,null,null,null,null,null,null,null,null,null,null,null,null,null,null,null,null,{"$f":"(DATEDIF(H261, J261, \"M\"))","v":0},{"$f":"(DATEDIF(H261, J261, \"Y\"))","v":0}]
[null,null,null,null,null,null,null,null,null,null,null,null,null,null,null,null,null,null,null,null,null,null,null,null,null,null,null,null,null,0]
[null,null,null,null,null,null,null,null,null,null,null,null,null,null,null,null,null,null,null,null,null,null,null,null,null,null,null,null,null,0]
[null,null,null,null,null,null,null,null,null,null,null,null,null,null,null,null,null,null,null,null,null,null,null,null,null,null,null,null,null,0]
[null,null,null,null,null,null,null,null,null,null,null,null,null,null,null,null,null,null,null,null,null,null,null,null,null,null,null,null,null,0]
[null,null,null,null,null,null,null,null,null,null,null,null,null,null,null,null,null,null,null,null,null,null,null,null,null,null,null,null,null,0]
[null,null,null,null,null,null,null,null,null,null,null,null,null,null,null,null,null,null,null,null,null,null,null,null,null,null,null,null,null,0]
[null,null,null,null,null,null,null,null,null,null,null,null,null,null,null,null,null,null,null,null,null,null,null,null,null,null,null,null,null,0]
[null,null,null,null,null,null,null,null,null,null,null,null,null,null,null,null,null,null,null,null,null,null,null,null,null,null,null,null,null,0]
[null,null,null,null,null,null,null,null,null,null,null,null,null,null,null,null,null,null,null,null,null,null,null,null,null,null,null,null,null,0]
[null,null,null,null,null,null,null,null,null,null,null,null,null,null,null,null,null,null,null,null,null,null,null,null,null,null,null,null,null,0]
[null,null,null,null,null,null,null,null,null,null,null,null,null,null,null,null,null,null,null,null,null,null,null,null,null,null,null,null,null,0]
[null,null,null,null,null,null,null,null,null,null,null,null,null,null,null,null,null,null,null,null,null,null,null,null,null,null,null,null,null,0]
[null,null,null,null,null,null,null,null,null,null,null,null,null,null,null,null,null,null,null,null,null,null,null,null,null,null,null,null,null,0]
[null,null,null,null,null,null,null,null,null,null,null,null,null,null,null,null,null,null,null,null,null,null,null,null,null,null,null,null,null,0]
[null,null,null,null,null,null,null,null,null,null,null,null,null,null,null,null,null,null,null,null,null,null,null,null,null,null,null,null,null,0]
[null,null,null,null,null,null,null,null,null,null,null,null,null,null,null,null,null,null,null,null,null,null,null,null,null,null,null,null,null,0]
[null,null,null,null,null,null,null,null,null,null,null,null,null,null,null,null,null,null,null,null,null,null,null,null,null,null,null,null,null,0]
[null,null,null,null,null,null,null,null,null,null,null,null,null,null,null,null,null,null,null,null,null,null,null,null,null,null,null,null,null,0]
[null,null,null,null,null,null,null,null,null,null,null,null,null,null,null,null,null,null,null,null,null,null,null,null,null,null,null,null,null,0]
[null,null,null,null,null,null,null,null,null,null,null,null,null,null,null,null,null,null,null,null,null,null,null,null,null,null,null,null,null,0]
[null,null,null,null,null,null,null,null,null,null,null,null,null,null,null,null,null,null,null,null,null,null,null,null,null,null,null,null,null,0]
[null,null,null,null,null,null,null,null,null,null,null,null,null,null,null,null,null,null,null,null,null,null,null,null,null,null,null,null,null,0]
[null,null,null,null,null,null,null,null,null,null,null,null,null,null,null,null,null,null,null,null,null,null,null,null,null,null,null,null,null,0]